{"text_format":"3","workbook":"xlsx","n_sheets":10,"sheets":["企業様へ","確認事項①(閲覧のみ)","確認事項②(閲覧のみ)","「入力シート」こちらで入力","「補足資料」入力","補足資料 (記入例)","予備自衛官制度の概要(閲覧のみ)","■入力不可（合説用）","■入力不可（登録用）","■入力不可（裏）"],"not_rendered":{"images":3,"macros":1,"external_links":8,"defined_names":515},"read":"whole","date_system":"1900"}

{"sheet":"企業様へ","index":0,"n_rows":2,"n_cols":2,"rows_kept":2,"merged":[[1,1,9,1]]}
[]
[null,"退職自衛官の求人をお考えの企業　様\n\n  新たな再就職規制に係る改正自衛隊法が平成２７年１０月１日から施行\nされたことに伴い、再就職結果の公表が義務付けられるとともに、防衛省\nにおける自主規制を受けて、紹介を行う日から遡って２年以内に、役員等\nが贈賄を行うなど刑法に違反する行為を行った営利企業等については、\n退職自衛官を紹介できないこととなりました。併せて、「個人情報の取扱\nい」及び「反社会的勢力の排除」に関する事項につきましても、確認でき\nない場合には退職自衛官を紹介できないこととなっております。\n\n　また、平成２９年４月１日から（即応）予備自衛官希望者の受け入れに\n関する検討の可能性について記入いただくこととなりました。\nこれは、国の施策である予備自衛官制度についてご理解・ご協力を得る\nきっかけとしたく設けたものです。\n　尚、当該欄の記入の有無により登録・紹介等の取扱が異なることはご\nざいません。ご検討を宜しくお願い申し上げます。\n\n　各企業様におかれましては、上記内容につきましてご理解頂き、今後\nとも、退職自衛官の再就職に関しまして、ご理解、ご協力を賜りますよう、\n宜しくお願い申し上げます。\n\n                           ２０２３年４月１日\n\n                                          退職自衛官仙台無料職業紹介所\n　　                                                            所長　佐藤　芳一\n"]

{"sheet":"確認事項①(閲覧のみ)","index":1,"n_rows":57,"n_cols":22,"rows_kept":57,"merged":[[0,28,0,32],[1,1,1,17],[3,0,3,32],[4,0,4,32],[5,0,5,32],[6,0,6,15],[8,21,8,30],[10,0,10,32],[11,0,11,32],[13,0,13,32],[14,0,14,32],[15,0,15,32],[16,0,16,32],[17,0,17,32],[19,0,19,32],[20,0,20,32],[21,0,21,32],[22,0,22,32],[23,0,23,32],[24,0,24,32],[25,0,25,32],[26,0,26,32],[27,0,27,32],[28,0,28,32],[29,0,29,32],[30,0,30,32],[31,0,31,32],[32,0,32,32],[33,0,33,32],[34,0,34,32],[35,0,35,32],[36,0,36,32],[37,0,37,32],[39,0,39,32],[40,0,40,32],[41,0,41,32],[42,0,42,32],[43,0,43,32],[44,0,44,32],[45,0,45,32],[46,0,46,32],[47,0,47,32],[48,0,48,32],[50,0,50,32],[51,0,51,32],[52,0,52,32],[53,0,53,32],[55,0,55,32],[56,0,56,32],[58,24,58,32],[60,28,60,30],[62,0,62,32],[64,0,64,32],[65,0,65,32],[66,0,66,32],[67,0,67,32],[68,0,68,32],[69,0,69,32],[70,0,70,32],[71,0,71,32],[72,0,72,32],[73,0,73,32],[74,0,74,32],[75,0,75,32],[76,0,76,32],[77,0,77,32],[78,0,78,32],[79,0,79,32],[80,0,80,32],[81,0,81,32],[82,0,82,32],[83,0,83,32],[84,0,84,32],[85,0,85,32],[86,0,86,32],[87,0,87,32],[88,0,88,32],[89,0,89,32],[90,0,90,32],[91,0,91,32],[92,0,92,32],[93,0,93,32],[94,0,94,32],[95,0,95,32],[96,0,96,32],[97,0,97,32],[98,0,98,32],[99,0,99,32],[100,0,100,32],[101,0,101,32],[102,0,102,32],[103,0,103,32],[104,0,104,32],[105,0,105,32],[106,0,106,32],[107,0,107,32],[108,0,108,32],[109,0,109,32],[110,0,110,32],[111,0,111,32],[112,0,112,32],[113,0,113,32],[114,0,114,32],[115,0,115,32],[116,0,116,32],[117,0,117,32],[118,0,118,32],[119,0,119,32],[120,0,120,32],[121,0,121,32],[122,0,122,32],[123,0,123,32],[124,0,124,32],[125,0,125,32],[126,0,126,32],[127,0,127,32],[128,0,128,32],[129,0,129,32],[130,0,130,32],[131,0,131,32],[132,0,132,32],[133,0,133,32],[134,0,134,32],[135,0,135,32],[136,0,136,32],[137,0,137,32],[138,0,138,32],[139,0,139,32],[140,0,140,32],[141,0,141,32],[142,0,142,32],[143,0,143,32],[144,0,144,32],[145,0,145,32],[146,0,146,32],[147,0,147,32],[148,0,148,32],[149,0,149,32],[150,0,150,32],[151,0,151,32],[152,0,152,32],[153,0,153,32],[154,0,154,32],[155,0,155,32],[156,0,156,32],[157,0,157,32],[158,0,158,32],[159,0,159,32],[160,0,160,32],[161,0,161,32],[162,0,162,32],[163,0,163,32],[164,0,164,32],[165,0,165,32],[166,0,166,32],[167,0,167,32],[168,0,168,32],[169,0,169,32],[170,0,170,32],[171,0,171,32],[172,0,172,32],[173,0,173,32],[174,0,174,32],[175,0,175,32],[176,0,176,32],[177,0,177,32],[178,0,178,32],[179,0,179,32],[180,0,180,32],[181,0,181,32],[182,0,182,32],[183,0,183,32],[184,0,184,32],[185,0,185,32],[186,0,186,32],[187,0,187,32],[188,0,188,32],[189,0,189,32],[190,0,190,32],[191,0,191,32],[192,0,192,32],[193,0,193,32],[194,0,194,32],[195,0,195,32],[196,0,196,32],[197,0,197,32],[198,0,198,32],[199,0,199,32],[200,0,200,32],[201,0,201,32],[202,0,202,32],[203,0,203,32],[204,0,204,32],[205,0,205,32],[206,0,206,32],[207,0,207,32],[208,0,208,32],[209,0,209,32],[210,0,210,32],[211,0,211,32],[212,0,212,32],[213,0,213,32],[214,0,214,32],[215,0,215,32],[216,0,216,32],[217,0,217,32],[218,0,218,32],[219,0,219,32],[220,0,220,32],[221,0,221,32],[222,0,222,32],[223,0,223,32],[224,0,224,32],[225,0,225,32],[226,0,226,32],[227,0,227,32],[228,0,228,32],[229,0,229,32],[230,0,230,32],[231,0,231,32],[232,0,232,32],[233,0,233,32],[234,0,234,32],[235,0,235,32],[236,0,236,32],[237,0,237,32],[238,0,238,32],[239,0,239,32],[240,0,240,32],[241,0,241,32],[242,0,242,32],[243,0,243,32],[244,0,244,32],[245,0,245,32],[246,0,246,32],[247,0,247,32],[248,0,248,32],[249,0,249,32],[250,0,250,32],[251,0,251,32],[252,0,252,32],[253,0,253,32],[254,0,254,32],[255,0,255,32],[256,0,256,32],[257,0,257,32],[258,0,258,32],[259,0,259,32],[260,0,260,32],[261,0,261,32],[262,0,262,32],[263,0,263,32],[264,0,264,32],[265,0,265,32],[266,0,266,32],[267,0,267,32],[268,0,268,32],[269,1,270,5],[269,6,269,29],[270,6,270,17],[270,18,270,29],[271,1,281,5],[271,6,274,6],[271,7,274,17],[271,18,274,29],[275,6,281,6],[275,7,281,17],[275,18,281,29],[282,1,292,5],[282,6,287,6],[282,7,287,17],[282,18,284,18],[282,19,284,29],[285,18,288,18],[285,19,288,29],[288,6,292,6],[288,7,292,17],[289,18,292,29],[294,0,294,32],[295,0,295,32],[296,0,296,32],[297,0,297,32],[298,0,298,32],[299,0,299,32],[300,2,300,25],[300,26,300,29],[301,2,301,25],[301,26,301,29],[302,0,302,32],[303,0,303,32],[304,0,304,32],[305,0,305,32],[306,0,306,32],[307,0,307,32],[308,0,308,32],[309,0,309,32],[310,0,310,32],[311,0,311,32],[312,0,312,32],[313,0,313,32],[314,0,314,32],[315,0,315,32],[316,0,316,32],[317,0,317,32],[318,0,318,32],[319,0,319,32],[320,0,320,32],[321,0,321,32],[322,0,322,32],[323,0,323,32],[324,0,324,32],[325,0,325,32],[326,0,326,32],[327,0,327,32],[328,0,328,32],[329,0,329,32],[330,0,330,32],[331,0,331,32],[332,0,332,32],[333,0,333,32],[334,0,334,32],[335,0,335,32],[336,0,336,32],[337,0,337,32],[338,0,338,32],[339,0,339,32],[340,0,340,32],[341,0,341,32],[342,0,342,32],[343,0,343,32],[344,0,344,32],[345,0,345,32],[346,0,346,32],[347,0,347,32],[348,0,348,32],[349,0,349,32],[350,0,350,32],[351,0,351,32],[352,0,352,32],[353,0,353,32],[354,0,354,32],[355,0,355,32],[356,0,356,32],[357,0,357,32],[358,0,358,32],[359,0,359,32],[360,0,360,32],[361,0,361,32],[362,0,362,32],[363,0,363,32],[364,0,364,32],[365,0,365,32],[366,0,366,32],[367,0,367,32],[368,0,368,32],[369,0,369,32],[370,0,370,32],[371,0,371,32],[372,0,372,32],[373,0,373,32],[374,0,374,32],[375,0,375,32],[376,0,376,32],[377,0,377,32],[378,0,378,32],[379,0,379,32],[380,0,380,32],[381,0,381,32],[382,0,382,32],[383,0,383,32],[384,0,384,32],[385,0,385,32],[386,0,386,32],[387,0,387,32],[388,0,388,32],[389,0,389,32],[390,0,390,32],[391,0,391,32],[392,0,392,32],[393,0,393,32],[394,0,394,32],[395,0,395,32],[396,0,396,32],[397,0,397,32],[398,0,398,32],[399,0,399,32],[400,0,400,32],[401,0,401,32],[402,0,402,32],[403,0,403,32],[404,0,404,32],[405,0,405,32],[406,0,406,32],[407,0,407,32],[408,0,408,32],[409,0,409,32],[410,0,410,32],[411,0,411,29],[412,0,412,32],[414,3,414,9],[414,10,414,29],[415,3,415,9],[415,10,415,29],[416,3,416,9],[416,10,416,29],[417,3,417,9],[417,10,417,29],[418,3,418,9],[418,10,418,29],[419,3,419,9],[419,10,419,29],[420,3,420,9],[420,10,420,29],[421,3,421,9],[421,10,421,29]]}
[]
[null,"退職自衛官の求人をお考えの企業　　様"]
[]
["　退職自衛官である求職者を紹介するに当たっては、求人企業の皆様から下記について同意等を得"]
["る必要があることから、これをご確認の上、確認事項欄にご記入をお願い致します。"]
["　なお、確認書の内容と事実に相違が確認された場合は、退職自衛官を紹介できない場合がござい"]
["ますので、あらかじめご承知おきください。　　　　　　　　　　　　　　　　　　　　"]
[]
[{"$nulls":21},"一般財団法人自衛隊援護協会"]
[]
[]
["退職自衛官の採用に関する確認事項"]
[]
["１　企業名等の公表に関する確認"]
["　　防衛大臣の就職の援助により、若年定年等隊員（自衛隊法（昭和２９年法律第１６５号）第６"]
["　５条の２第２項第１号に規定する若年定年等隊員をいう。）を採用した場合には、自衛隊法第６"]
["　５条の１３の規定に基づき、貴社名及び採用した当該隊員の貴社における役職・地位等について、"]
["　防衛省令の定めるところにより公表されることについて同意すること。"]
[]
["２　公契約関係競売等妨害罪等に関する確認"]
["（１） 貴社の役員等（取締役、会計参与、監査役、執行役、業務を執行する社員、支配人、理事"]
["　　若しくは監事又はこれらの者であった者をいう。以下同じ。）が、過去２年以内に公契約関"]
["　　係競売等妨害罪（刑法（明治４０年法律第４５号）第９６条の６に規定する罪をいう。）又"]
["　　は贈賄罪（刑法第１９８条に規定する罪をいう。）に当たる事件として、公訴が提起された"]
["　　（無罪の判決等がなされた場合を除く。以下同じ。）又は有罪の判決がなされた（刑の執行"]
["　　が終わった等の場合を除く。以下同じ。）ことがないこと。"]
["（２） 貴社の役員等が過去２年以内に、収賄罪（刑法第１９７条から第１９７条の４に規定する"]
["　　罪をいう。）に当たる事件として、公訴が提起された又は有罪の判決がなされた公務員（公"]
["　　務員であった者を含む。）に対し、賄賂の供与若しくはその約束をしたことがないこと。"]
[]
["3　個人情報の取扱いに関する確認"]
["　　一般財団法人自衛隊援護協会から提供された個人情報の取扱いについて、次に掲げる項目につ"]
["　いて遵守することに同意すること。"]
["（１） 採用選考等に関わらない第三者への個人情報の開示、提供及び漏洩をしない。"]
["　　（個人情報：履歴書、職務経歴書等の個人を特定できる情報）"]
["（２） 選考不採用、又は採用入社に至らなかった応募者の個人情報は、第三者に漏洩しないよう、"]
["　　速やかにデータを削除し、書類はシュレッダー等にて破棄あるいは返却する。"]
["（３） 利用目的の達成に必要な範囲を超えて、個人情報を取り扱わない。"]
[]
["4　反社会的勢力の排除に関する確認"]
["（１）貴社（主要な出資者、役員、及びそれに準ずる者を含む。以下同じ）が暴力団、暴力団員"]
["　　・準構成員、暴力団関係企業、特殊知能暴力集団の関係者その他公益に反する行為をなす者"]
["　　（以下「反社会的勢力」という。）でないこと、過去５年間もそうでなかったこと及び反社"]
["　　会的勢力と資金提供、便宜供与その他いかなる関係も有しないことを表明し、かつ将来にわ"]
["　　たっても反社会的勢力とのいかなる関係も有しないこと。"]
["（２）自ら又は第三者を利用して、暴力的な要求行為、法的な責任を超えた不当な要求行為、取"]
["　　引に関して、脅迫的な言動をし、又は暴力を用いる行為、風説を流布し、偽計を用い又は威"]
["　　力を用いて相手方の信用を毀損し、又は相手方の業務を妨害する行為、及びその他これらに"]
["　　準ずる行為を行わないこと。"]
[]
["５　一定の労働関係法令違反に関する申告"]
["　　職業安定法第５条の5第3号に規定する求人不受理の対象（一定の労働関係法令に関し、　　"]
["　法律に基づく処分等が講じられ一定期間が経過していない）に該当しているか否かの申告"]
["　（対象となる規定等は裏面をご覧ください。）"]
[]
["6　その他の確認"]
["　　確認した内容に変動があった場合は、速やかに通知することに同意すること。"]

{"sheet":"確認事項②(閲覧のみ)","index":2,"n_rows":20,"n_cols":4,"rows_kept":20,"merged":[[2,1,2,3],[5,1,7,1],[5,2,7,2],[5,3,7,3],[8,1,10,1],[8,2,10,2],[8,3,10,3],[11,1,14,1],[11,2,14,2],[11,3,14,3]]}
[]
[]
[null,"求人不受理の対象となる場合と期間"]
[]
[null,"対象となる規定","講じられた措置等","求人不受理期間"]
[null,"労働基準法及び最低賃金法に関する規定","１年間に２回以上、同一の対象条項違反により是正指導を受けた場合","法違反の是正後６か月経過するまで"]
[]
[]
[null,"労働基準法及び最低賃金法に関する規定","対象条項違反により送検され、公表された場合","送検された日から１年経過するまで"]
[]
[]
[null,"職業安定法、男女雇用機会均等法、育児・介護休業法及び労働施策総合推進法に関する規定","対象条項に違反し、法違反の是正を求める勧告に従わず、公表された場合","法違反の是正後６か月経過するまで"]
[]
[]
[]
[]
[]
[null,"職業安定法、男女雇用機会均等法及び育児・介護休業法規定等、詳しくは"]
[null,"求人不受理について（厚生労働省）"]
[null," https://www.mhlw.go.jp/content/ 11600000/000602020.pdf"]

{"sheet":"「入力シート」こちらで入力","index":3,"n_rows":110,"n_cols":13,"rows_kept":110,"merged":[[0,3,0,12],[1,3,1,5],[1,6,1,12],[2,1,3,1],[2,3,2,12],[3,3,3,12],[4,3,4,12],[5,1,7,1],[5,3,5,5],[5,6,5,12],[6,3,6,12],[7,3,7,6],[8,1,10,1],[8,3,8,6],[9,3,9,6],[10,3,10,6],[11,1,18,1],[11,3,11,12],[12,3,12,12],[13,3,13,5],[13,6,13,10],[14,3,14,12],[15,3,15,12],[16,5,16,12],[17,5,17,12],[18,3,18,12],[19,1,26,1],[19,3,19,4],[20,3,20,12],[21,3,21,6],[22,3,22,6],[23,3,23,4],[23,5,23,6],[24,3,24,12],[25,3,25,4],[25,5,25,12],[26,3,26,12],[27,1,28,1],[27,2,28,2],[27,3,28,12],[29,1,30,1],[29,3,29,12],[30,3,30,6],[31,1,37,1],[31,3,31,12],[32,3,32,4],[32,5,32,6],[33,3,33,4],[33,6,33,12],[34,3,34,4],[34,6,34,12],[35,3,35,4],[35,6,35,12],[36,3,36,4],[36,5,36,12],[37,3,37,12],[38,1,40,1],[39,3,39,4],[39,6,39,12],[40,3,40,4],[41,1,47,1],[47,3,47,12],[48,1,53,1],[48,5,48,12],[49,3,49,4],[49,5,49,12],[50,3,50,4],[50,5,50,12],[51,3,51,12],[52,5,52,12],[53,3,53,4],[53,5,53,12],[54,1,59,1],[54,2,55,2],[56,3,56,12],[57,3,57,4],[57,6,57,9],[58,3,58,7],[58,8,58,12],[59,3,59,4],[59,6,59,12],[60,3,60,4],[60,6,60,9],[61,5,61,12],[62,1,64,1],[62,3,62,4],[62,5,62,12],[63,3,63,4],[63,7,63,12],[64,3,64,4],[64,5,64,6],[65,1,72,1],[65,3,65,4],[65,7,65,8],[65,10,65,12],[66,3,66,4],[66,5,66,6],[66,8,66,12],[67,3,67,4],[67,5,67,6],[67,8,67,12],[68,3,68,4],[68,5,68,6],[68,8,68,12],[69,3,69,4],[69,5,69,6],[69,8,69,12],[70,3,70,4],[70,5,70,6],[70,8,70,12],[71,3,71,4],[71,5,71,6],[71,8,71,12],[72,5,72,6],[72,8,72,9],[72,11,72,12],[73,1,83,1],[73,3,73,4],[73,5,73,6],[73,8,73,12],[74,3,74,4],[74,5,74,6],[74,8,74,12],[75,3,75,4],[75,5,75,6],[75,8,75,12],[76,3,76,4],[76,5,76,6],[76,8,76,12],[77,3,77,4],[77,5,77,6],[77,8,77,12],[78,3,78,4],[78,5,78,6],[78,8,78,12],[79,3,79,4],[79,5,79,6],[79,8,79,12],[80,3,80,4],[80,5,80,6],[80,8,80,12],[81,3,81,4],[81,5,81,6],[81,8,81,12],[82,3,82,4],[82,5,82,6],[82,9,82,10],[83,3,83,4],[83,5,83,6],[84,3,84,4],[84,5,84,6],[84,7,84,8],[84,10,84,11],[85,1,86,1],[85,3,85,4],[85,5,85,6],[86,3,86,4],[86,6,86,7],[87,3,87,4],[87,6,87,8],[88,1,90,1],[88,2,90,2],[91,4,91,6],[92,3,92,4],[93,1,94,1],[93,3,93,4],[93,5,93,6],[93,7,93,8],[94,3,94,4],[94,5,94,6],[94,7,94,8],[95,1,96,1],[95,3,95,4],[95,5,95,6],[95,7,95,8],[96,3,96,4],[96,5,96,6],[96,7,96,8],[97,1,99,1],[97,3,97,4],[98,3,98,4],[99,3,99,4],[100,1,101,1],[100,3,100,4],[100,5,100,7],[100,9,100,10],[101,3,101,4],[101,5,101,6],[101,8,101,10],[102,1,104,1],[102,2,103,2],[102,9,103,12],[104,3,104,12],[105,3,105,12],[106,1,107,1],[106,3,106,4],[106,5,106,12],[107,3,107,4],[107,5,107,12],[108,3,108,5],[108,8,108,10],[109,3,109,12]]}
["№","区　分","入　力　項　目","入力欄「赤く塗りつぶした箇所に入力してください。」"]
[1,"定年・任期","定年制「54～57歳での定年退職者」\n任期制「20歳代半ば～30歳前半での任期満了退職者」のいずれか\n又は両方を選択してください。"]
[2,"事業所名","事業所名"]
[3,null,"事業所名のふりがなが違う時は正しいものを記入"]
[4,"代表者役職氏名","代表者の役職氏名　（例）代表取締役社長　○○　○○"]
[5,"所在地","郵便番号　（例）123-4567"]
[6,null,"住所"]
[7,null,"電話番号　（例）12-1234-1234"]
[8,"採用事務担当者","部課名・役職名"]
[9,null,"氏名"]
[10,null,"電話番号　（例）12-1234-1234"]
[11,"職種・年齢等","採用職種　（例）事務員　重機オペレーター　等"]
[12,null,"雇入れ後の職種の「変更の範囲」　　　　　　　　　　　　　　　　　　　　　　　　　\n※「変更の範囲」とは、雇入れ直後にとどまらず、将来の配置転換など今後の見込みも含めた、締結する労働契約の期間中における変更の範囲のことをいいます。"]
[13,null,"雇用形態について"]
[14,null,"上記、正社員以外の雇用形態を記入（例）嘱託社員、契約社員　等"]
[15,null,"役職名について　（例）工場長　総務課長　経理係長　等"]
[16,null,"採用人員数「通勤」　",null,"人"]
[17,null,"採用人員数「住込」　※　なしの場合は、０を記入",null,"人"]
[18,null,"止むを得ない理由による年齢制限がある場合は、その理由を記入\n（注）高年齢者雇用安定法の改正により、16年12月1日から、募集及び採用にあたって「止むを得ない理由により年齢制限」をする場合には、その個別具体的な理由を書面で提示するように義務付けられました。\n（例）対象は５９歳以下（理由：定年が６０歳のため）"]
[19,"就業場所","就業場所が事業所名の下欄の所在地と【同じ】か【異なる】か"]
[20,null,"上記で【異なる】を選択した場合の就業場所の住所"]
[21,null,"最寄りの路線名"]
[22,null,"最寄りの駅名"]
[23,null,"最寄駅から「バス」又は「徒歩」での時間",{"$nulls":4},"分"]
[24,null,"雇入れ後に転勤、配置転換等の可能性がある場合は、その就業場所を記入"]
[25,null,"屋内の受動喫煙対策について"]
[26,null,"受動喫煙対策について追加事項があれば記入"]
[27,"職務内容","仕事の内容を記入"]
[28]
[29,"必須技能等","必要な経験（年数）・技能・知識・免許資格について"]
[30,null,"必要な学歴を記入"]
[31,"事業所の概要","事業所の生産品目・事業内容を記入"]
[32,null,"創立・設立年を記入",{"$nulls":4},"年"]
[33,null,"就業場所における従業員数を記入",null,null,"人"]
[34,null,"会社等全体の従業員数を記入",null,null,"人"]
[35,null,"資本金を記入　　（例）500万円　12,000万円",null,null,"万円"]
[36,null,"労働組合について"]
[37,null,"年商額など最近の業績を記入"]
[38,"就業時間","就業時間を記入",null,"時",null,"分","～",null,"時",null,"分"]
[39,null,"シフトの場合、始業時間、終業時間の間での労働時間\n（例）７．５時間等で記入",null,null,"時間"]
[40,null,"変形労働時間制を採用されている場合は、その単位"]
[41,"交替制","勤務は交替制ですか？"]
[42,null,"①交替制の「時間」を記入　※一例：9時００分　午後の場合　17時００分　等",null,"時",null,"分","～",null,"時",null,"分"]
[43,null,"②交替制の「時間」を記入",null,"時",null,"分","～",null,"時",null,"分"]
[44,null,"③交替制の「時間」を記入",null,"時",null,"分","～",null,"時",null,"分"]
[45,null,"④交替制の「時間」を記入",null,"時",null,"分","～",null,"時",null,"分"]
[46,null,"⑤交替制の「時間」を記入",null,"時",null,"分","～",null,"時",null,"分"]
[47,null,"交代制について特記事項があれば記入"]
[48,"雇用期間\n（正社員以外）\n\n※13番で\n正社員以外\nだった場合","契約期間は何か月ですか？",null,"ヵ月"]
[49,null,"労働契約の更新はありますか？"]
[50,null,"契約の更新期間の上限はありますか？"]
[51,null,"具体的な更新の上限理由を記入"]
[52,null,"具体的な更新の上限回数を記入",null,"回"]
[53,null,"正社員に登用される可能性"]
[54,"休日等","休日について","土曜日",false,null,null,"日曜日",false]
[55,null,null,"祝日",false,null,null,"会社カレンダー",false]
[56,null,"その他、休日について補足があれば記入"]
[57,null,"週休２日制について",{"$nulls":3},{"$f":"IF(D58 = \"月数回\",\"月平均で何回ですか？\",\"\")","v":""},{"$nulls":4},{"$f":"IF(G58=\"\",\"\",IF(F58=\"\",\"回\",\"\"))","v":""}]
[58,null,"その他、補足事項があれば記入（例）月毎に勤務表を作成"]
[59,null,"年間休日数について",null,null,"日"]
[60,"時間外","時間外勤務について",{"$nulls":3},{"$f":"IF(D61 = \"あり\",\"月平均で何時間ですか？\",\"\")","v":""},{"$nulls":4},{"$f":"IF(G61=\"\",\"\",IF(F61=\"\",\"時間\",\"\"))","v":""}]
[61,"休憩時間","休憩時間について",null,"分"]
[62,"賃金支払","賃金形態について"]
[63,null,"賃金の支払日について",{"$nulls":3},"日"]
[64,null,"賃金の締め切り日について",{"$nulls":4},"←「その他」の場合は日等を記入して下さい"]
[65,"定期的に\n支払われる\n賃金","基本給（月額）で記入（最低額～最高額を記入して下さい）全桁算用数字で入力",null,null,"円","～",null,null,"円"]
[66,null,"①「手当名」と「手当金額」を記入（最低額を記入して下さい）",{"$nulls":4},"円",{"$f":"IF(D67=\"\",\"手当\",\"\")","v":"手当"}]
[67,null,"②「手当名」と「手当金額」を記入（最低額を記入して下さい）",{"$nulls":4},"円","手当"]
[68,null,"③「手当名」と「手当金額」を記入（最低額を記入して下さい）",{"$nulls":4},"円","手当"]
[69,null,"④「手当名」と「手当金額」を記入（最低額を記入して下さい）",{"$nulls":4},"円","手当"]
[70,null,"⑤「手当名」と「手当金額」を記入（最低額を記入して下さい）",{"$nulls":4},"円","手当"]
[71,null,"⑥「手当名」と「手当金額」を記入（最低額を記入して下さい）",{"$nulls":4},"円","手当"]
[72,null,"固定残業代について（時間と金額）\n※固定残業代は残業がなくても必ず支払うものです。",null,"時間分",null,null,"円～",null,null,"円"]
[73,"個人の状況に\n応じて支払わ\nれる賃金","①「手当名」と「手当金額」を記入（最低額を記入して下さい）　例：家族　子供",{"$nulls":4},"円"]
[74,null,"②「手当名」と「手当金額」を記入（最低額を記入して下さい）",{"$nulls":4},"円"]
[75,null,"③「手当名」と「手当金額」を記入（最低額を記入して下さい）",{"$nulls":4},"円"]
[76,null,"④「手当名」と「手当金額」を記入（最低額を記入して下さい）",{"$nulls":4},"円"]
[77,null,"⑤「手当名」と「手当金額」を記入（最低額を記入して下さい）",{"$nulls":4},"円"]
[78,null,"⑥「手当名」と「手当金額」を記入（最低額を記入して下さい）",{"$nulls":4},"円"]
[79,null,"⑦「手当名」と「手当金額」を記入（最低額を記入して下さい）",{"$nulls":4},"円"]
[80,null,"⑧「手当名」と「手当金額」を記入（最低額を記入して下さい）",{"$nulls":4},"円"]
[81,null,"⑨「手当名」と「手当金額」を記入（最低額を記入して下さい）",{"$nulls":4},"円"]
[82,null,"時間外手当について（月平均）　　　（例）１０　時間分　20,000～30,000\n※時間外手当は発生した都度支払うもの",{"$nulls":4},"円","～",null,null,"円"]
[83,null,"通勤手当について\n実費の場合の「最高限度額」、定額の場合「支給金額」を記入",{"$nulls":4},"円"]
[84,"昇　給","昇給について",null,null,{"$f":"IF(D85=\"あり\",\"前年度実績の金額\",\"\")","v":""},{"$nulls":3},{"$f":"IF(D85=\"あり\",\"円～\",\"\")","v":""},null,null,{"$f":"IF(D85=\"あり\",\"円\",\"\")","v":""}]
[85,"賞　与","賞与について",null,null,{"$f":"IF(D86=\"あり\",\"前年度実績の回数\",\"\")","v":""},null,null,{"$f":"IF(D86=\"あり\",\"回\",\"\")","v":""}]
[86,null,{"$f":"IF(D86=\"あり\",\"前年度実績の月数分又は金額\",\"\")","v":""},null,null,{"$f":"IF(D86=\"あり\",\"月分又は\",\"\")","v":""},null,null,{"$f":"IF(C87=\"\",\"\",IF(G87=\"\",\"万円\",\"\"))","v":""}]
[87,"年俸制","年俸制であれば「金額」を記入　（単位：※※※万円）",null,null,"～"]
[88,"加入保険","加入保険について","雇用保険",null,false,null,"労災保険",null,false]
[89,null,null,"健康保険",null,false,null,"厚生年金保険",null,false]
[90,null,null,"退職金共済",null,false,null,"財形貯蓄",null,false]
[91,"退職金制度","退職金制度について",null,{"$f":"IF(D92=\"あり\",\"ある場合の最低勤務年数\",\"\")","v":""},null,null,{"$f":"IF(D92=\"あり\",\"（\",\"\")","v":""},null,{"$f":"IF(D92=\"あり\",\"）\",\"\")","v":""},{"$f":"IF(E92=\"\",\"\",IF(I92=\"\",\"年\",\"\"))","v":""}]
[92,"通　学","通学について"]
[93,"定年制","定年について",null,null,{"$f":"IF(D94=\"あり\",\"ある場合の年齢\",\"\")","v":""},{"$nulls":3},{"$f":"IF(F94=\"\",\"\",IF(H94=\"\",\"歳\",\"\"))","v":""}]
[94,null,"再雇用又は勤務延長について",null,null,{"$f":"IF(D95=\"あり\",\"ある場合の年齢\",\"\")","v":""},{"$nulls":3},{"$f":"IF(F95=\"\",\"\",IF(H95=\"\",\"歳\",\"\"))","v":""}]
[95,"住　宅","社宅等について（単身者用）",null,null,{"$f":"IF(D96=\"あり\",\"入居について\",\"\")","v":""}]
[96,null,"社宅等について（世帯者用）",null,null,{"$f":"IF(D97=\"あり\",\"入居について\",\"\")","v":""}]
[97,"採用希望","求人票の有効期限を記入して下さい。  ※2024 「年」 ３ 「月」\n１年未満で入力して下さい。",null,null,"年",null,"月","末日"]
[98,null,"採用を希望する者の自衛隊時の階級の希望がありますか？"]
[99,null,"採用を希望する者の自衛隊時の希望階級を記入してください"]
[100,"試用期間","試用期間はありますか？",null,null,{"$f":"IF(D101=\"あり\",\"ある場合は月数で記入→\",\"\")","v":""},null,null,{"$f":"IF(D101=\"あり\",\"（\",\"\")","v":""},null,null,{"$f":"IF(D101=\"あり\",\"）\",\"\")","v":""}]
[101,null,"試用期間中の労働条件について",null,null,{"$f":"IF(D102=\"異なる\",\"条件を記入→\",\"\")","v":""},null,{"$f":"IF(D102=\"異なる\",\"（\",\"\")","v":""},{"$nulls":3},{"$f":"IF(D102=\"異なる\",\"）\",\"\")","v":""}]
[102,"選考方法","選考方法について",null,"面接",false,null,"書類選考",false]
[103,{"$nulls":3},"筆記試験",false,null,"その他",false]
[104,null,"選考方法が「その他」の場合に記入"]
[105,"その他","採用希望・試用期間・選考方法について上記以外で何かあれば記入"]
[106,"確認事項","本エクセルシート下部のタブ「確認事項①」の内容を確認されましたか？"]
[107,null,"本エクセルシート下部のタブ「確認事項②」の内容を確認されましたか？「求人不受理の対象となる場合と期間」に該当していませんか？"]
[108,"予備自衛官等","本エクセルシート下部のタブ「予備自衛官制度の概要」をクリックしてご一読ください。予備自衛官制度の説明があります。「即応予備自衛官」及び「予備自衛官」を希望する者の採用が可能であればチェックを記入して下さい。いづれか一つでも結構です。","即応予備自衛官",null,null,false,null,"予備自衛官",null,null,false]
[109,"記事欄","本記事欄では、求人票全体の補足事項の記入にお使い下さい。\n右欄に記入して頂くと、求人票の右側の記事欄に反映されます。\n\n例）１日の勤務のパターン例、転勤の可能性のある支店所在地、元自衛官の採用実績、諸手当を含めた場合の平均的な月給額等、求職者の参考となることをお書き下さい。"]

{"sheet":"「補足資料」入力","index":4,"n_rows":12,"n_cols":11,"rows_kept":12,"merged":[[0,1,0,11],[1,2,1,10],[2,1,5,1],[2,2,2,3],[2,4,2,6],[2,7,3,7],[2,9,2,11],[3,2,3,3],[3,4,3,6],[3,9,3,11],[4,2,4,3],[4,4,4,6],[4,7,8,7],[5,2,5,3],[5,4,5,6],[5,9,5,11],[6,1,7,1],[6,2,6,3],[6,4,6,6],[6,9,6,11],[7,2,7,3],[7,4,7,6],[7,9,7,11],[8,1,11,1],[8,2,8,3],[8,4,8,6],[8,9,8,11],[9,2,9,3],[9,4,9,6],[9,9,9,11],[10,2,11,3],[10,9,10,11],[11,9,11,11]]}
[null,"求　　人　　票　　補　　足　　資　　料"]
[null,null,"　　（　企　業　Ｐ　Ｒ　資　料　）"]
[null,"①\n概　要","Ａ\n事業所名",{"$nulls":4},"③\nキャリア\n形成環境\n(将来性)","Ｄ\n昇給・昇進制度"]
[null,null,"Ｂ\n理念・精神",{"$nulls":5},"Ｅ\n３０歳平均年収\n（ボーナスも含む。）"]
[null,null,"Ｃ\n特性・事業内容",{"$nulls":4},"④\n勤務環境","Ａ　\n有給休暇平均取得\n日数",null,"Ｂ\n年間休日数"]
[null,null,"Ｄ\n魅力（社風）\nＰＲポイント",{"$nulls":5},"C\n平均継続勤務年数"]
[null,"②\n職　務","Ａ\n具体的な職務内容",{"$nulls":5},"Ｄ\n時間外労働が多く\nなる時期"]
[null,null,"Ｂ\n求める人物像",{"$nulls":5},"Ｅ\n育児休業取得実績"]
[null,"③\nキャリア\n形成環境\n(将来性)","Ａ\n社員教育",{"$nulls":5},"Ｆ\n福利厚生における\nＰＲポイント"]
[null,null,"Ｂ\nメンター制度",{"$nulls":4},"⑤\n就業体験","Ａ\nｲﾝﾀｰﾝｼｯﾌﾟ及び職\n場見学受入の可否"]
[null,null,"Ｃ\n入社後取得可能な\n資格（会社の補助\nを含む。）",{"$nulls":4},"⑥\n予備\n自衛官","Ａ\n予備自衛官等招集\n訓練出頭への協力"]
[{"$nulls":4},"□全額会社負担\n□一部会社負担\n□会社負担なし","□全額会社負担\n□一部会社負担\n□会社負担なし","□全額会社負担\n□一部会社負担\n□会社負担なし","⑦\n採用試験","Ａ\n採用試験時の選考\n要領"]

{"sheet":"補足資料 (記入例)","index":5,"n_rows":12,"n_cols":12,"rows_kept":12,"merged":[[0,1,0,11],[1,2,1,10],[2,1,5,1],[2,2,2,3],[2,4,2,6],[2,7,3,7],[2,9,2,11],[3,2,3,3],[3,4,3,6],[3,9,3,11],[4,2,4,3],[4,4,4,6],[4,7,8,7],[5,2,5,3],[5,4,5,6],[5,9,5,11],[6,1,7,1],[6,2,6,3],[6,4,6,6],[6,9,6,11],[7,2,7,3],[7,4,7,6],[7,9,7,11],[8,1,11,1],[8,2,8,3],[8,4,8,6],[8,9,8,11],[9,2,9,3],[9,4,9,6],[9,9,9,11],[10,2,11,3],[10,9,10,11],[11,9,11,11]]}
[null,"求　　人　　票　　補　　足　　資　　料"]
[null,null,"　　（　企　業　Ｐ　Ｒ　資　料　）",{"$nulls":8},"見本"]
[null,"①\n概　要","Ａ\n事業所名",null,"　　有限会社　０００００",null,null,"③\nキャリア\n形成環境\n(将来性)","Ｄ\n昇給・昇進制度","　年１回のベースアップ以外に、資格取得した社員に特別昇給（数千円～２万円程度、資格による）として、資格取得を推進しています。昇進は年１回、年齢による制限はありません。"]
[null,null,"Ｂ\n理念・精神",null,"　地域社会を笑顔にする。\n　また、安全第一により、交通事故、休業災害ゼロを宣言しています。",{"$nulls":3},"Ｅ\n３０歳平均年収\n（ボーナスも含む。）","　平均約４００万円\n　ただし、資格取得、勤務成績等により最高４５０万円を超える方もいます。"]
[null,null,"Ｃ\n特性・事業内容",null,"　大手・地元のゼネコンと多数取引があります。\n　高速道路、河川、建築物等の社会基盤の整備事業を行っています。",null,null,"④\n勤務環境","Ａ　\n有給休暇平均取得\n日数","１５日","Ｂ\n年間休日数","１２５日"]
[null,null,"Ｄ\n魅力（社風）\nＰＲポイント",null,"　社員の平均年齢は３０代で若手が多い会社です。\n　建築を通じて、人々の生活をより豊かにします。",{"$nulls":3},"C\n平均継続勤務年数","　平均１５年\n　定年まで勤める方も多数おられます。"]
[null,"②\n職　務","Ａ\n具体的な職務内容",null,"　当初は、現場による土木作業です。\n　将来は、重機オペレーター及び工事管理等となってもらいます。",{"$nulls":3},"Ｄ\n時間外労働が多く\nなる時期","　月末、年度末、決算時期等"]
[null,null,"Ｂ\n求める人物像",null,"　仕事に必要な資格等に意欲があり、長期にわたり仕事にたずさわり、将来指導者としての立場の社員となっていける方",{"$nulls":3},"Ｅ\n育児休業取得実績","　性別に関係なく実績があります。\n　昨年度は、１０人取得しました。"]
[null,"③\nキャリア\n形成環境\n(将来性)","Ａ\n社員教育",null,"　教育担当者を配置し、マンツーマンにより教育します。初心者でも、早期に戦力化します。　",{"$nulls":3},"Ｆ\n福利厚生における\nＰＲポイント","　宿舎を完備しています。\n　また、年１回事業所で事業所で団体慰安旅行があります。（この日は出勤扱いあり、費用は会社持ちです。）"]
[null,null,"Ｂ\nメンター制度",null,"　メンター制度を取り入れています。配属部署に関係なく、上司とは別に指導・相談役となる先輩隊員をつけます。",null,null,"⑤\n就業体験","Ａ\nｲﾝﾀｰﾝｼｯﾌﾟ及び職\n場見学受入の可否","　逐次受入を実施しています。時期等相談してください。現場における作業見学のほか、本社において、作業管理等のシミュレーションを実施してもらいます。"]
[null,null,"Ｃ\n入社後取得可能な\n資格（会社の補助\nを含む。）",null,"車両系建設機械","大型免許","大型２種","⑥\n予備\n自衛官","Ａ\n予備自衛官等招集\n訓練出頭への協力","　予備自衛官の招集訓練に出頭しやすいように、チームで支援体制を組んでいます。"]
[{"$nulls":4},"☑全額会社負担\n□一部会社負担\n□会社負担なし","□全額会社負担\n☑一部会社負担\n□会社負担なし","□全額会社負担\n□一部会社負担\n☑会社負担なし","⑦\n採用試験","Ａ\n採用試験時の選考\n要領","　筆記試験を実施します。\n　合格された方に対し、面接及び健康診断を実施します。"]

{"sheet":"予備自衛官制度の概要(閲覧のみ)","index":6,"n_rows":0,"n_cols":0,"rows_kept":0}

{"sheet":"■入力不可（合説用）","index":7,"n_rows":171,"n_cols":235,"rows_kept":171,"merged":[[4,14,6,24],[4,29,6,66],[4,69,5,93],[4,94,5,204],[4,206,5,235],[5,11,5,12],[6,69,9,73],[6,74,9,76],[6,77,9,81],[6,82,9,84],[6,85,9,89],[6,90,9,92],[6,117,7,125],[6,139,7,149],[6,161,7,175],[6,183,7,197],[6,206,11,209],[7,14,9,24],[7,29,9,66],[7,96,8,98],[7,101,8,103],[7,107,8,109],[7,112,8,114],[7,211,10,234],[8,11,8,12],[8,117,9,138],[8,139,9,160],[8,161,9,168],[8,169,9,172],[8,173,9,182],[8,183,9,190],[8,191,9,194],[8,195,9,204],[10,1,101,1],[10,2,101,2],[10,3,101,3],[10,4,101,4],[10,5,101,5],[10,6,101,6],[10,7,101,7],[10,8,10,172],[11,8,12,21],[11,22,12,84],[11,85,31,89],[11,90,25,93],[11,95,12,99],[11,100,12,102],[11,105,12,108],[11,109,12,115],[11,117,14,120],[11,150,25,153],[12,123,13,126],[12,127,13,129],[12,130,13,131],[12,132,13,134],[12,135,13,136],[12,137,13,138],[12,139,13,141],[12,142,13,143],[12,144,13,146],[12,147,13,148],[12,155,12,156],[12,158,12,178],[12,206,24,209],[12,210,18,235],[13,8,17,21],[13,22,17,84],[14,95,16,99],[14,100,16,102],[14,105,16,108],[14,109,16,115],[14,123,16,126],[14,127,16,129],[14,130,16,131],[14,132,16,134],[14,135,16,136],[14,137,16,138],[14,139,16,141],[14,142,16,143],[14,144,16,146],[14,147,16,148],[14,155,14,156],[14,180,14,187],[16,118,16,119],[16,155,16,176],[17,94,18,116],[17,123,18,126],[17,127,18,129],[17,130,18,131],[17,132,18,134],[17,135,18,136],[17,137,18,138],[17,139,18,141],[17,142,18,143],[17,144,18,146],[17,147,18,148],[18,8,21,21],[18,22,21,84],[18,118,18,119],[18,155,18,156],[18,164,18,165],[18,174,18,175],[18,191,18,192],[20,94,21,95],[20,96,21,103],[20,104,21,110],[20,111,21,114],[20,115,21,116],[20,123,21,126],[20,127,21,129],[20,130,21,131],[20,132,21,134],[20,135,21,136],[20,137,21,138],[20,139,21,141],[20,142,21,143],[20,144,21,146],[20,147,21,148],[20,155,20,171],[20,174,20,175],[20,191,20,192],[21,171,21,172],[21,173,21,201],[21,202,21,203],[21,211,23,216],[21,217,23,219],[21,220,23,222],[21,223,23,225],[21,226,23,228],[21,229,23,231],[21,232,23,235],[22,8,28,21],[22,22,23,24],[22,26,23,49],[22,94,23,116],[22,118,22,119],[22,123,23,126],[22,127,23,129],[22,130,23,131],[22,132,23,134],[22,135,23,136],[22,137,23,138],[22,139,23,141],[22,142,23,143],[22,144,23,146],[22,147,23,148],[22,171,22,172],[22,173,22,201],[22,202,22,203],[23,118,23,119],[23,155,23,199],[24,23,26,84],[24,94,25,95],[24,96,25,103],[24,104,25,113],[24,114,25,116],[24,126,25,148],[24,157,24,166],[24,168,24,169],[24,184,24,185],[25,206,29,209],[25,210,29,215],[25,216,29,218],[25,219,29,225],[25,226,29,228],[25,229,29,235],[26,90,28,101],[26,156,28,158],[26,159,28,173],[26,174,28,176],[26,177,31,179],[26,195,31,197],[27,51,28,53],[27,54,28,82],[27,103,27,104],[27,110,27,111],[27,117,27,118],[27,124,27,125],[27,146,27,147],[27,181,27,182],[27,188,27,189],[28,198,29,202],[29,8,33,21],[29,22,30,28],[29,29,33,44],[29,45,30,50],[29,51,30,83],[29,90,31,101],[29,147,31,154],[29,157,31,167],[30,103,30,104],[30,110,30,111],[30,117,30,118],[30,124,30,125],[30,131,30,132],[30,136,30,137],[30,145,30,146],[30,155,30,156],[30,168,30,173],[30,174,30,176],[30,183,30,187],[30,202,31,204],[30,206,35,209],[30,210,33,235],[31,51,33,53],[31,54,33,83],[32,85,71,89],[32,90,34,101],[32,167,34,169],[32,170,34,201],[32,202,34,204],[33,103,33,104],[33,113,33,114],[33,123,33,124],[33,136,33,137],[33,146,33,147],[33,158,33,159],[34,8,52,11],[34,12,36,21],[34,22,36,64],[34,65,41,70],[34,72,35,80],[34,210,35,212],[34,213,35,215],[34,216,35,233],[34,234,35,235],[35,90,37,101],[35,192,37,201],[36,72,37,80],[36,81,37,83],[36,112,36,113],[36,119,36,124],[36,129,36,130],[36,136,36,141],[36,164,36,165],[36,166,36,173],[36,181,36,182],[37,12,38,21],[37,22,38,64],[37,206,38,235],[38,72,39,80],[38,90,63,92],[38,93,52,101],[38,102,38,137],[39,12,47,21],[39,25,40,25],[39,26,41,32],[39,37,41,46],[39,47,41,48],[39,63,41,64],[39,102,40,125],[39,126,40,130],[39,131,40,154],[39,155,40,157],[39,206,102,235],[40,23,40,24],[40,34,40,35],[40,49,40,62],[40,72,41,80],[40,81,41,83],[41,102,48,105],[41,106,42,125],[41,126,42,130],[41,131,42,149],[41,150,42,155],[41,156,42,175],[41,176,42,180],[41,181,42,199],[41,200,42,204],[42,26,44,42],[42,49,44,63],[42,69,44,81],[43,23,43,24],[43,46,43,47],[43,66,43,67],[43,106,44,125],[43,126,44,130],[43,131,44,149],[43,150,44,155],[43,156,44,175],[43,176,44,180],[43,181,44,199],[43,200,44,204],[45,26,47,63],[45,106,46,125],[45,126,46,130],[45,131,46,149],[45,150,46,155],[45,156,46,175],[45,176,46,180],[45,181,46,199],[45,200,46,204],[46,23,46,24],[47,106,48,120],[47,121,48,126],[47,127,48,135],[47,137,48,145],[47,146,48,151],[47,152,48,160],[47,161,48,164],[48,12,49,21],[48,22,49,84],[49,102,50,108],[49,109,50,131],[49,132,50,137],[49,138,50,164],[49,165,50,168],[50,12,50,84],[51,12,52,84],[51,102,52,204],[53,8,78,11],[53,12,66,15],[53,93,63,101],[53,103,54,116],[53,117,54,121],[53,122,54,134],[53,135,54,139],[53,140,54,152],[53,153,54,157],[53,158,54,170],[53,171,54,174],[53,175,54,188],[53,189,54,193],[53,194,54,200],[53,201,54,204],[54,18,54,19],[54,39,54,40],[55,17,57,83],[55,103,56,116],[55,117,56,121],[55,122,56,134],[55,135,56,139],[55,140,56,152],[55,153,56,157],[55,158,56,170],[55,171,56,174],[55,175,56,188],[55,189,56,193],[55,194,56,200],[55,201,56,204],[57,103,58,116],[57,117,58,121],[57,122,58,134],[57,135,58,139],[57,140,58,152],[57,153,58,157],[57,158,58,170],[57,171,58,174],[57,175,58,188],[57,189,58,193],[57,194,58,200],[57,201,58,204],[58,16,59,18],[58,19,59,32],[58,33,59,39],[58,40,59,55],[58,56,59,60],[58,73,58,78],[59,73,59,78],[59,102,60,119],[59,120,60,124],[59,125,60,138],[59,139,60,151],[59,152,60,156],[59,161,60,175],[59,176,60,179],[60,16,62,24],[60,25,62,84],[61,102,63,110],[62,112,62,113],[62,125,62,139],[62,150,62,151],[62,159,62,173],[63,16,66,24],[64,27,64,28],[64,37,64,38],[64,45,64,46],[64,60,64,61],[64,90,66,95],[64,96,66,101],[65,25,66,34],[65,35,66,84],[65,103,65,104],[65,109,65,110],[65,148,65,161],[65,168,65,181],[67,12,67,84],[67,90,69,95],[67,96,69,101],[68,12,78,84],[68,103,68,104],[68,109,68,110],[68,131,68,136],[68,145,68,152],[68,163,68,174],[70,90,71,112],[70,113,71,128],[70,130,71,136],[70,137,71,154],[70,156,71,159],[72,85,83,89],[72,90,74,101],[73,103,73,104],[73,105,73,109],[73,112,73,113],[73,114,73,118],[73,121,73,122],[73,123,73,127],[73,130,73,131],[73,132,73,141],[73,143,73,144],[73,145,73,156],[73,158,73,159],[73,160,73,165],[75,90,77,101],[75,152,77,160],[76,110,76,111],[76,121,76,126],[76,140,76,141],[76,163,76,164],[76,174,76,175],[78,90,80,101],[78,133,80,154],[79,8,86,11],[79,12,80,84],[79,104,79,105],[79,111,79,115],[79,123,79,124],[79,157,79,158],[79,165,79,169],[79,182,79,183],[81,12,84,84],[81,90,83,101],[81,102,83,113],[81,151,83,162],[82,115,82,116],[82,122,82,123],[82,124,82,130],[82,132,82,133],[82,134,82,140],[82,143,82,144],[82,164,82,165],[82,171,82,172],[82,173,82,179],[82,181,82,182],[82,183,82,189],[82,192,82,193],[84,85,94,89],[85,12,86,21],[85,23,86,83],[85,90,85,106],[85,107,85,114],[85,115,85,117],[85,118,85,122],[85,123,85,125],[85,126,85,130],[85,131,85,133],[85,136,85,183],[87,8,102,11],[87,12,90,21],[87,22,90,64],[87,65,90,70],[87,72,88,76],[87,90,87,126],[87,129,87,130],[87,131,87,139],[87,143,87,144],[87,145,87,148],[87,151,87,153],[87,155,87,177],[87,178,87,181],[88,169,90,171],[88,172,90,196],[88,197,90,199],[89,73,90,80],[89,90,89,106],[89,107,89,108],[89,109,89,113],[89,114,89,119],[89,120,89,124],[89,126,89,127],[89,139,89,148],[89,151,89,152],[89,160,89,161],[91,12,93,21],[91,22,93,36],[91,37,93,40],[91,41,94,47],[91,65,94,70],[91,90,91,106],[91,107,91,108],[91,109,91,115],[91,117,91,118],[91,119,91,128],[91,131,91,132],[91,133,91,142],[91,143,91,144],[91,145,91,152],[91,154,91,155],[91,156,91,201],[92,48,93,60],[92,61,93,64],[92,75,93,79],[93,90,93,99],[93,101,94,203],[94,12,94,21],[94,22,94,36],[94,37,94,40],[95,85,98,89],[95,90,96,129],[95,132,96,181],[96,13,101,83],[97,92,98,117],[97,118,97,119],[97,128,98,143],[97,145,97,146],[97,147,98,151],[97,156,97,157],[97,158,98,168],[99,85,100,199],[101,95,101,96],[101,120,101,121]]}
[]
[]
[]
[]
[{"$nulls":14},"定年制",{"$nulls":14},"求　人　票",{"$nulls":39},"紹　介　期　限",{"$nulls":24},"紹　　介　　所　　専　　用　　整　　理　　欄",{"$nulls":111},"受付機関整理欄"]
[{"$nulls":11},{"$f":"IF(OR(O5=「入力シート」こちらで入力!D2,\"両方\"=「入力シート」こちらで入力!D2),\"■\",\"\")","v":""}]
[{"$nulls":69},7,{"$nulls":4},"年",null,null,3,{"$nulls":4},"月",null,null,31,{"$nulls":4},"日",{"$nulls":26},"受理番号",{"$nulls":21},"受理年月日",{"$nulls":21},"産業分類番号",{"$nulls":21},"職業分類番号",{"$nulls":22},"番号"]
[{"$nulls":14},"任期制",{"$nulls":14},"退職自衛官仙台無料職業紹介所",{"$nulls":66},"A",{"$nulls":4},"B",{"$nulls":5},"C",{"$nulls":4},"D"]
[{"$nulls":11},{"$f":"IF(OR(O8=「入力シート」こちらで入力!D2,\"両方\"=「入力シート」こちらで入力!D2),\"■\",\"\")","v":""},{"$nulls":149},{"$f":"'■入力不可（登録用）'!FE8","v":0},{"$nulls":7},"―",{"$nulls":3},{"$f":"'■入力不可（登録用）'!FQ8","v":0},{"$nulls":9},{"$f":"'■入力不可（登録用）'!GA8","v":0},{"$nulls":7},"―",{"$nulls":3},{"$f":"'■入力不可（登録用）'!GM8","v":0}]
[]
[null,"［個人情報苦情及び相談窓口］一般財団法人自衛隊援護協会　事務局総務課（03‐5227‐5400）","　ては、左記にご連絡ください。遅滞なく回答いたします。  ","　はありません。なお、所定の項目にご記入いただけない場合には、適切な対応ができない場合があります。開示対象個人情報につい","　場合があります。求職者への提供、本人の同意がある場合又は法令に基づく場合を除き、取得した個人情報を第三者に提供すること","　ご記入いただいた個人情報は、求人者に適切な人材を紹介するために利用いたします。上記利用目的達成のため一部業務を委託する","［個人情報のお取扱いについて］個人情報保護管理者 事務局長","（記入上の注意）太線枠内を記入してください。"]
[{"$nulls":8},"ふりがな",{"$nulls":13},{"$f":"IF(「入力シート」こちらで入力!D4 = \"\",PHONETIC(「入力シート」こちらで入力!D3),「入力シート」こちらで入力!D4)","v":""},{"$nulls":62},"就　業　時　間",{"$nulls":4},"就業時間",{"$nulls":4},{"$f":"「入力シート」こちらで入力!D39","v":0},{"$nulls":4},"時",{"$nulls":4},{"$f":"「入力シート」こちらで入力!F39","v":0},{"$nulls":3},"分から",{"$nulls":7},"交替制",{"$nulls":32},"雇用期間"]
[{"$nulls":123},"①",{"$nulls":3},{"$f":"「入力シート」こちらで入力!D43","v":0},null,null,"時",null,{"$f":"「入力シート」こちらで入力!F43","v":0},null,null,"分",null,"～",null,{"$f":"「入力シート」こちらで入力!I43","v":0},null,null,"時",null,{"$f":"「入力シート」こちらで入力!K43","v":0},null,null,"分",{"$nulls":7},{"$f":"IF(「入力シート」こちらで入力!D14=\"正社員\",\"■\",\"\")","v":""},null,null,"雇用期間の定め 無",{"$nulls":47},"機　関　名",{"$nulls":3},"山　形"]
[{"$nulls":8},"事業所名",{"$nulls":13},{"$f":"「入力シート」こちらで入力!D3","v":0}]
[{"$nulls":95},{"$f":"「入力シート」こちらで入力!I39","v":0},{"$nulls":4},"時",{"$nulls":4},{"$f":"「入力シート」こちらで入力!K39","v":0},{"$nulls":3},"分まで",{"$nulls":13},"②",{"$nulls":3},{"$f":"「入力シート」こちらで入力!D44","v":0},null,null,"時",null,{"$f":"「入力シート」こちらで入力!F44","v":0},null,null,"分",null,"～",null,{"$f":"「入力シート」こちらで入力!I44","v":0},null,null,"時",null,{"$f":"「入力シート」こちらで入力!K44","v":0},null,null,"分",{"$nulls":7},{"$f":"IF(「入力シート」こちらで入力!D14=\"正社員以外\",\"■\",\"\")","v":""},null,null,"雇用期間の定め 有",{"$nulls":18},"（",null,null,{"$f":"「入力シート」こちらで入力!D49","v":0},{"$nulls":7},"）",null,"ヵ月"]
[]
[{"$nulls":22},{"$f":"#REF!","v":{"$error":"#REF!"}},{"$nulls":95},{"$f":"IF(「入力シート」こちらで入力!D42=\"有\",\"■\",\"\")","v":""},{"$nulls":36},"・更新の有無"]
[{"$nulls":94},"※シフト制の場合　　　　　　　",{"$nulls":28},"③",{"$nulls":3},{"$f":"「入力シート」こちらで入力!D45","v":0},null,null,"時",null,{"$f":"「入力シート」こちらで入力!F45","v":0},null,null,"分",null,"～",null,{"$f":"「入力シート」こちらで入力!I45","v":0},null,null,"時",null,{"$f":"「入力シート」こちらで入力!K45","v":0},null,null,"分"]
[{"$nulls":8},"代表者\n役職・氏名",{"$nulls":13},{"$f":"「入力シート」こちらで入力!D5","v":0},{"$nulls":95},"有",{"$nulls":36},{"$f":"IF(FI19=\"\",IF(FS19=\"\",\"\",\"■\"),\"■\")","v":""},null,null,"有",{"$nulls":3},"（",null,{"$f":"IF(「入力シート」こちらで入力!D50=\"条件あり\",\"■\",\"\")","v":""},null,"条件有",{"$nulls":7},{"$f":"IF(「入力シート」こちらで入力!D50=\"原則更新\",\"■\",\"\")","v":""},null,"原則更新",{"$nulls":8},"）",{"$nulls":5},{"$f":"IF(「入力シート」こちらで入力!D50=\"なし\",\"■\",\"\")","v":""},null,null,"無"]
[]
[{"$nulls":94},"(",null,"この間の",{"$nulls":7},{"$f":"「入力シート」こちらで入力!D40","v":0},{"$nulls":6},"時間",{"$nulls":3},")",{"$nulls":7},"④",{"$nulls":3},{"$f":"「入力シート」こちらで入力!D46","v":0},null,null,"時",null,{"$f":"「入力シート」こちらで入力!F46","v":0},null,null,"分",null,"～",null,{"$f":"「入力シート」こちらで入力!I46","v":0},null,null,"時",null,{"$f":"「入力シート」こちらで入力!K46","v":0},null,null,"分",{"$nulls":7},"・更新の上限",{"$nulls":18},{"$f":"IF(「入力シート」こちらで入力!D51=\"あり\",\"■\",\"\")","v":""},null,null,"有",{"$nulls":13},{"$f":"IF(「入力シート」こちらで入力!D51=\"なし\",\"■\",\"\")","v":""},null,null,"無"]
[{"$nulls":155},"※具体的な上限",{"$nulls":15},"（",null,{"$f":"「入力シート」こちらで入力!E52","v":0},{"$nulls":28},"）",{"$nulls":8},"地本",{"$nulls":5},"・",null,null,"陸",null,null,"・",null,null,"海",null,null,"・",null,null,"空"]
[{"$nulls":8},"所在地",{"$nulls":13},"〒",{"$nulls":3},{"$f":"「入力シート」こちらで入力!D6","v":0},{"$nulls":67},"※変形労働時間制の場合　　　　　　　",{"$nulls":23},{"$f":"IF(「入力シート」こちらで入力!D42=\"無\",\"■\",\"\")","v":""},{"$nulls":4},"⑤",{"$nulls":3},{"$f":"「入力シート」こちらで入力!D47","v":0},null,null,"時",null,{"$f":"「入力シート」こちらで入力!F47","v":0},null,null,"分",null,"～",null,{"$f":"「入力シート」こちらで入力!I47","v":0},null,null,"時",null,{"$f":"「入力シート」こちらで入力!K47","v":0},null,null,"分",{"$nulls":7},"※更新の回数　　（",{"$nulls":15},"（",null,{"$f":"「入力シート」こちらで入力!D53","v":0},{"$nulls":28},"）"]
[{"$nulls":118},"無",{"$nulls":36},"・雇用期間経過後に正社員（期間の定め無）登用"]
[{"$nulls":23},{"$f":"「入力シート」こちらで入力!D7","v":0},{"$nulls":70},"(",null,"単位等：",{"$nulls":7},{"$f":"「入力シート」こちらで入力!D41","v":0},{"$nulls":9},")",{"$nulls":6},"特記",{"$nulls":4},{"$f":"「入力シート」こちらで入力!D48","v":0},{"$nulls":30},"の可能性",{"$nulls":10},{"$f":"IF(「入力シート」こちらで入力!D54=\"あり\",\"■\",\"\")","v":""},null,null,"有",{"$nulls":12},{"$f":"IF(「入力シート」こちらで入力!D54=\"なし\",\"■\",\"\")","v":""},null,null,"無"]
[{"$nulls":121},"事項",{"$nulls":84},"年月日",{"$nulls":3},6,{"$nulls":5},"・",null,null,{"$f":"'■入力不可（登録用）'!HK25","v":0},{"$nulls":6},"・",null,null,{"$f":"'■入力不可（登録用）'!HU25","v":0}]
[{"$nulls":90},"休日",{"$nulls":65},"（",null,null,{"$f":"「入力シート」こちらで入力!D57","v":0},{"$nulls":14},"）",null,null,"時間外",{"$nulls":17},"休憩時間",{"$nulls":6},"\n\n\n分"]
[{"$nulls":51},"☎",null,null,{"$f":"「入力シート」こちらで入力!D8","v":0},{"$nulls":48},{"$f":"IF(「入力シート」こちらで入力!E55=TRUE,\"■\",\"\")","v":""},null,"土曜",{"$nulls":4},{"$f":"IF(「入力シート」こちらで入力!I55=TRUE,\"■\",\"\")","v":""},null,"日曜",{"$nulls":4},{"$f":"IF(「入力シート」こちらで入力!E56=TRUE,\"■\",\"\")","v":""},null,"祝日",{"$nulls":4},{"$f":"IF(「入力シート」こちらで入力!I56=TRUE,\"■\",\"\")","v":""},null,"会社カレンダーによる",{"$nulls":19},{"$f":"IF(「入力シート」こちらで入力!D57 = \"\",\"\",\"■\")","v":""},null,null,"その他",{"$nulls":31},{"$f":"IF(「入力シート」こちらで入力!D61=\"あり\",\"■\",\"\")","v":""},null,"有",{"$nulls":4},{"$f":"IF(「入力シート」こちらで入力!D61=\"なし\",\"■\",\"\")","v":""},null,"無"]
[{"$nulls":182},"　",{"$nulls":5},"　",{"$nulls":9},{"$f":"「入力シート」こちらで入力!D62","v":0}]
[{"$nulls":8},"採用事務\n担　当　者",{"$nulls":13},"部課名",{"$nulls":6},{"$f":"「入力シート」こちらで入力!D9","v":0},{"$nulls":15},"氏名",{"$nulls":5},{"$f":"「入力シート」こちらで入力!D10","v":0},{"$nulls":38},"週休２日制",{"$nulls":56},{"$f":"「入力シート」こちらで入力!D59","v":0},{"$nulls":9},"年間休日数",{"$nulls":23},"月平均時間",{"$nulls":16},{"$f":"「入力シート」こちらで入力!#REF!","v":{"$error":"#REF!"}}]
[{"$nulls":103},{"$f":"IF(「入力シート」こちらで入力!D58=\"完全週休２日\",\"■\",\"\")","v":""},null,"完全",{"$nulls":4},{"$f":"IF(「入力シート」こちらで入力!D58=\"隔週週休２日\",\"■\",\"\")","v":""},null,"隔週",{"$nulls":4},{"$f":"IF(「入力シート」こちらで入力!D58=\"月数回\",\"■\",\"\")","v":""},null,"月（",{"$nulls":4},{"$f":"「入力シート」こちらで入力!K58","v":0},null,"）回",{"$nulls":4},{"$f":"IF(「入力シート」こちらで入力!D58=\"なし\",\"■\",\"\")","v":""},null,"無",null,null,{"$f":"IF(「入力シート」こちらで入力!D58=\"その他\",\"■\",\"\")","v":""},null,"その他 ",{"$nulls":6},"（",{"$nulls":9},"）",{"$nulls":12},{"$f":"「入力シート」こちらで入力!D60","v":0},{"$nulls":5},"日",{"$nulls":6},"（",null,{"$f":"「入力シート」こちらで入力!K61","v":0},{"$nulls":4},"）",null,"時間",{"$nulls":11},"分",{"$nulls":3},"担当者",{"$nulls":3},{"$f":"'■入力不可（登録用）'!HB30","v":0}]
[{"$nulls":51},"☎",null,null,{"$f":"「入力シート」こちらで入力!D11","v":0},{"$nulls":48},"　",{"$nulls":6},"　",{"$nulls":6},"　",{"$nulls":13},"　",{"$nulls":6},"　"]
[{"$nulls":85},"賃金",{"$nulls":4},"賃金形態",{"$nulls":76},"（",null,null,{"$f":"「入力シート」こちらで入力!F63","v":0},{"$nulls":31},"）"]
[{"$nulls":103},{"$f":"IF(DB34 =「入力シート」こちらで入力!D63,\"■\",\"\")","v":""},null,"年俸制",{"$nulls":7},{"$f":"IF(DL34 =「入力シート」こちらで入力!D63,\"■\",\"\")","v":""},null,"月給制",{"$nulls":7},{"$f":"IF(DV34 =「入力シート」こちらで入力!D63,\"■\",\"\")","v":""},null,"日給月給制",{"$nulls":10},{"$f":"IF(EI34 =「入力シート」こちらで入力!D63,\"■\",\"\")","v":""},null,"日給制",{"$nulls":7},{"$f":"IF(ES34 =「入力シート」こちらで入力!D63,\"■\",\"\")","v":""},null,"時間給制",{"$nulls":9},{"$f":"IF(FE34 =「入力シート」こちらで入力!D63,\"■\",\"\")","v":""},null,"その他"]
[{"$nulls":8},"職種・年齢等",{"$nulls":3},"職　　種\n（雇入れ直後）",{"$nulls":9},{"$f":"「入力シート」こちらで入力!D12","v":0},{"$nulls":42},"採用　人員　",{"$nulls":6},"通勤",{"$nulls":30},"　",{"$nulls":106},"（",null,null,"(",null,null,"5496・5497",{"$nulls":17},"）"]
[{"$nulls":90},"賃金支払",{"$nulls":12},"　",{"$nulls":9},"　",{"$nulls":9},"　",{"$nulls":14},"　",{"$nulls":20},"　",{"$nulls":32},{"$f":"IF(「入力シート」こちらで入力!D65 = \"その他\",「入力シート」こちらで入力!F65,\"\")","v":""}]
[{"$nulls":72},{"$f":"「入力シート」こちらで入力!D17","v":0},{"$nulls":8},"人",{"$nulls":21},"支払日",{"$nulls":8},{"$f":"IF(「入力シート」こちらで入力!D64 = \"毎月\",\"■\",\"\")","v":""},null,"毎月",{"$nulls":4},{"$f":"IF(「入力シート」こちらで入力!D64 = \"毎月\",「入力シート」こちらで入力!F64,\"\")","v":""},{"$nulls":5},"日",{"$nulls":3},{"$f":"IF(「入力シート」こちらで入力!D64 = \"翌月\",\"■\",\"\")","v":""},null,"翌月",{"$nulls":4},{"$f":"IF(「入力シート」こちらで入力!D64 = \"翌月\",「入力シート」こちらで入力!F64,\"\")","v":""},{"$nulls":5},"日",{"$nulls":10},"賃金締切日",{"$nulls":10},{"$f":"IF(「入力シート」こちらで入力!D65 = \"毎月末\",\"■\",\"\")","v":""},null,"毎月末　",{"$nulls":14},{"$f":"IF(「入力シート」こちらで入力!D65 = \"その他\",\"■\",\"\")","v":""},null,"その他（",{"$nulls":18},"）"]
[{"$nulls":12},"（雇入れ後：変更の範囲）",{"$nulls":9},{"$f":"「入力シート」こちらで入力!D13","v":0},{"$nulls":183},"記　　　　　事"]
[{"$nulls":72},"住込",{"$nulls":17},"毎月の賃金（税込み）",null,null,"定期的に支払われる賃金",{"$nulls":8},"ａ基本給＜月額で表記＞"]
[{"$nulls":12},"雇用形態",{"$nulls":13},"正社員",{"$nulls":10},"正社員以外",{"$nulls":9},"（",{"$nulls":15},"）",{"$nulls":38},{"$f":"「入力シート」こちらで入力!D66","v":0},{"$nulls":23},"円～",{"$nulls":4},{"$f":"「入力シート」こちらで入力!H66","v":0},{"$nulls":23},"円",{"$nulls":50},{"$f":"「入力シート」こちらで入力!D110","v":0}]
[{"$nulls":23},{"$f":"IF(AA40=「入力シート」こちらで入力!D14,\"■\",\"\")","v":""},{"$nulls":10},{"$f":"IF(AL40=「入力シート」こちらで入力!D14,\"■\",\"\")","v":""},{"$nulls":14},{"$f":"「入力シート」こちらで入力!D15","v":0},{"$nulls":22},{"$f":"「入力シート」こちらで入力!D18","v":0},{"$nulls":8},"人"]
[{"$nulls":102},"ｂ手当",{"$nulls":3},{"$f":"「入力シート」こちらで入力!D67","v":{"v":0,"d":"0 "}},{"$nulls":19},"手当",{"$nulls":4},{"$f":"「入力シート」こちらで入力!F67","v":{"v":0,"d":"0 "}},{"$nulls":18},"円",{"$nulls":5},{"$f":"「入力シート」こちらで入力!D70","v":{"v":0,"d":"0 "}},{"$nulls":19},"手当",{"$nulls":4},{"$f":"「入力シート」こちらで入力!F70","v":{"v":0,"d":"0 "}},{"$nulls":18},"円"]
[{"$nulls":22},"　",{"$nulls":3},"派遣・請負でない",{"$nulls":22},"有期雇用派遣",{"$nulls":19},"無期雇用派遣"]
[{"$nulls":23},{"$f":"IF(AA43=「入力シート」こちらで入力!G14,\"■\",\"\")","v":""},{"$nulls":22},{"$f":"IF(AX43=「入力シート」こちらで入力!G14,\"■\",\"\")","v":""},{"$nulls":19},{"$f":"IF(BR43=「入力シート」こちらで入力!G14,\"■\",\"\")","v":""},{"$nulls":39},{"$f":"「入力シート」こちらで入力!D68","v":{"v":0,"d":"0 "}},{"$nulls":19},"手当",{"$nulls":4},{"$f":"「入力シート」こちらで入力!F68","v":{"v":0,"d":"0 "}},{"$nulls":18},"円",{"$nulls":5},{"$f":"「入力シート」こちらで入力!D71","v":{"v":0,"d":"0 "}},{"$nulls":19},"手当",{"$nulls":4},{"$f":"「入力シート」こちらで入力!F71","v":{"v":0,"d":"0 "}},{"$nulls":18},"円"]
[]
[{"$nulls":22},"　   ",{"$nulls":3},"請負（他の事業所で就業する仕事の場合）",{"$nulls":79},{"$f":"「入力シート」こちらで入力!D69","v":{"v":0,"d":"0 "}},{"$nulls":19},"手当",{"$nulls":4},{"$f":"「入力シート」こちらで入力!F69","v":{"v":0,"d":"0 "}},{"$nulls":18},"円",{"$nulls":5},{"$f":"「入力シート」こちらで入力!D72","v":{"v":0,"d":"0 "}},{"$nulls":19},"手当",{"$nulls":4},{"$f":"「入力シート」こちらで入力!F72","v":{"v":0,"d":"0 "}},{"$nulls":18},"円"]
[{"$nulls":23},{"$f":"IF(AA46=「入力シート」こちらで入力!G14,\"■\",\"\")","v":""}]
[{"$nulls":106},"（固定残業代：",{"$nulls":14},{"$f":"IF(「入力シート」こちらで入力!D73=\"\",\"\",「入力シート」こちらで入力!D73)","v":""},{"$nulls":5},"時間分）",{"$nulls":9},{"$f":"「入力シート」こちらで入力!F73","v":{"v":0,"d":"0 "}},{"$nulls":8},"円～",{"$nulls":5},{"$f":"「入力シート」こちらで入力!I73","v":{"v":0,"d":"0 "}},{"$nulls":8},"円"]
[{"$nulls":12},"役 職 名",{"$nulls":9},{"$f":"「入力シート」こちらで入力!D16","v":0}]
[{"$nulls":102},"ａ+ｂ",{"$nulls":6},{"$f":"CY40+EB42+EB44+EB46+FZ42+FZ44+FZ46+EH48","v":{"v":0,"d":"0 "}},{"$nulls":22},"円～",{"$nulls":5},{"$f":"EB40+EB42+EB44+EB46+FZ42+FZ44+FZ46+EW48","v":{"v":0,"d":"0 "}},{"$nulls":26},"円"]
[{"$nulls":12},"(雇用対策法施行規則第１条の３第１項に該当する場合）"]
[{"$nulls":12},{"$f":"「入力シート」こちらで入力!D19","v":0},{"$nulls":89},"※ 固定残業代を採用する場合、固定残業代相当時間を超える時間外労働分は追加で支給"]
[]
[{"$nulls":8},"職務内容",{"$nulls":3},"就業場所",{"$nulls":80},"個人の状態に応じて支払われる賃金",{"$nulls":9},{"$f":"「入力シート」こちらで入力!D74","v":0},{"$nulls":13},"手当",{"$nulls":4},{"$f":"「入力シート」こちらで入力!F74","v":0},{"$nulls":12},"円",{"$nulls":4},{"$f":"「入力シート」こちらで入力!D77","v":0},{"$nulls":12},"手当",{"$nulls":4},{"$f":"「入力シート」こちらで入力!F77","v":0},{"$nulls":12},"円",{"$nulls":3},{"$f":"「入力シート」こちらで入力!D80","v":0},{"$nulls":13},"手当",{"$nulls":4},{"$f":"「入力シート」こちらで入力!F80","v":0},{"$nulls":6},"円"]
[{"$nulls":17},"　",{"$f":"IF(「入力シート」こちらで入力!D20 = \"同じ\",\"■\",\"\")","v":""},null,"事業所に同じ。",{"$nulls":18},{"$f":"IF(「入力シート」こちらで入力!D20 = \"異なる\",\"■\",\"\")","v":""},null,"同じではない。下記のとおり。"]
[{"$nulls":17},{"$f":"「入力シート」こちらで入力!D21","v":0},{"$nulls":85},{"$f":"「入力シート」こちらで入力!D75","v":0},{"$nulls":13},"手当",{"$nulls":4},{"$f":"「入力シート」こちらで入力!F75","v":0},{"$nulls":12},"円",{"$nulls":4},{"$f":"「入力シート」こちらで入力!D78","v":0},{"$nulls":12},"手当",{"$nulls":4},{"$f":"「入力シート」こちらで入力!F78","v":0},{"$nulls":12},"円",{"$nulls":3},{"$f":"「入力シート」こちらで入力!D81","v":0},{"$nulls":13},"手当",{"$nulls":4},{"$f":"「入力シート」こちらで入力!F81","v":0},{"$nulls":6},"円"]
[]
[{"$nulls":103},{"$f":"「入力シート」こちらで入力!D76","v":0},{"$nulls":13},"手当",{"$nulls":4},{"$f":"「入力シート」こちらで入力!F76","v":0},{"$nulls":12},"円",{"$nulls":4},{"$f":"「入力シート」こちらで入力!D79","v":0},{"$nulls":12},"手当",{"$nulls":4},{"$f":"「入力シート」こちらで入力!F79","v":0},{"$nulls":12},"円",{"$nulls":3},{"$f":"「入力シート」こちらで入力!D82","v":0},{"$nulls":13},"手当",{"$nulls":4},{"$f":"「入力シート」こちらで入力!F82","v":0},{"$nulls":6},"円"]
[{"$nulls":16},"（",null,null,{"$f":"「入力シート」こちらで入力!D22","v":0},{"$nulls":13},"）線（",{"$nulls":6},{"$f":"「入力シート」こちらで入力!D23","v":0},{"$nulls":15},"駅）",{"$nulls":5},"から",{"$nulls":3},"バス",{"$nulls":4},"（",null,{"$f":"IF(BO59 =「入力シート」こちらで入力!D24,「入力シート」こちらで入力!F24,\"\")","v":""},{"$nulls":5},"）分"]
[{"$nulls":62},"から",{"$nulls":3},"徒歩",{"$nulls":4},"（",null,{"$f":"IF(BO60 =「入力シート」こちらで入力!D24,「入力シート」こちらで入力!F24,\"\")","v":""},{"$nulls":5},"）分",{"$nulls":22},"時間外手当（月平均",{"$nulls":17},{"$f":"「入力シート」こちらで入力!D83","v":0},{"$nulls":4},"時間相当分）",{"$nulls":13},{"$f":"「入力シート」こちらで入力!F83","v":0},{"$nulls":12},"円～",{"$nulls":8},{"$f":"「入力シート」こちらで入力!J83","v":0},{"$nulls":14},"円"]
[{"$nulls":16},"雇入れ後：変更の範囲",{"$nulls":8},{"$f":"「入力シート」こちらで入力!D25","v":0}]
[{"$nulls":102},"通勤手当"]
[{"$nulls":112},{"$f":"IF(「入力シート」こちらで入力!D84 = \"実費\",\"■\",\"\")","v":""},null,"実費（最高",{"$nulls":10},{"$f":"IF(「入力シート」こちらで入力!D84 = \"実費\",「入力シート」こちらで入力!F84,\"\")","v":""},{"$nulls":14},"円まで）",{"$nulls":9},{"$f":"IF(「入力シート」こちらで入力!D84 = \"定額\",\"■\",\"\")","v":""},null,"定額（",{"$nulls":6},{"$f":"IF(「入力シート」こちらで入力!D84 = \"定額\",「入力シート」こちらで入力!F84,\"\")","v":""},{"$nulls":14},"円）"]
[{"$nulls":16},"屋内の受動喫煙対策",{"$nulls":95},"　",{"$nulls":37},"　"]
[{"$nulls":27},{"$f":"IF(「入力シート」こちらで入力!D26 = \"\",\"\",\"■\")","v":""},null,"あり",{"$nulls":4},"（",null,null,{"$f":"IF(AN65=「入力シート」こちらで入力!D26,\"■\",\"\")","v":""},null,"禁煙",{"$nulls":5},{"$f":"IF(AV65=「入力シート」こちらで入力!D26,\"■\",\"\")","v":""},null,"喫煙室あり",{"$nulls":9},"）",null,null,{"$f":"IF(BK65=「入力シート」こちらで入力!D26,\"■\",\"\")","v":""},null,"その他",{"$nulls":27},"昇給",{"$nulls":5},"制度"]
[{"$nulls":25},"特記事項：",{"$nulls":9},{"$f":"「入力シート」こちらで入力!D27","v":0},{"$nulls":67},{"$f":"IF(「入力シート」こちらで入力!D85 = \"あり\",\"■\",\"\")","v":""},null,"有",{"$nulls":3},{"$f":"IF(「入力シート」こちらで入力!D85 = \"なし\",\"■\",\"\")","v":""},null,"無",{"$nulls":5},"ベースアップ込みの前年度実績",{"$nulls":30},{"$f":"IF(「入力シート」こちらで入力!D85 = \"あり\",「入力シート」こちらで入力!H85,\"\")","v":""},{"$nulls":13},"円～",{"$nulls":5},{"$f":"IF(「入力シート」こちらで入力!D85 = \"あり\",「入力シート」こちらで入力!K85,\"\")","v":""},{"$nulls":13},"円"]
[]
[{"$nulls":12},"【仕事内容】",{"$nulls":77},"賞与",{"$nulls":5},"制度"]
[{"$nulls":12},{"$f":"「入力シート」こちらで入力!D28","v":0},{"$nulls":90},{"$f":"IF(「入力シート」こちらで入力!D86 = \"あり\",\"■\",\"\")","v":""},null,"有",{"$nulls":3},{"$f":"IF(「入力シート」こちらで入力!D86 = \"なし\",\"■\",\"\")","v":""},null,"無",{"$nulls":5},"前年度実績 年",{"$nulls":13},{"$f":"IF(「入力シート」こちらで入力!D86 = \"あり\",「入力シート」こちらで入力!H86,\"\")","v":""},{"$nulls":5},"回",{"$nulls":3},"（",{"$nulls":3},{"$f":"IF(「入力シート」こちらで入力!D86 = \"あり\",「入力シート」こちらで入力!D87,\"\")","v":""},{"$nulls":7},"月分又は",{"$nulls":9},{"$f":"IF(「入力シート」こちらで入力!D86 = \"あり\",「入力シート」こちらで入力!G87,\"\")","v":""},{"$nulls":11},"万円）"]
[]
[{"$nulls":90},"年俸制の場合の金額",{"$nulls":22},{"$f":"「入力シート」こちらで入力!D88","v":0},{"$nulls":16},"万円～",{"$nulls":6},{"$f":"「入力シート」こちらで入力!G88","v":0},{"$nulls":18},"万円"]
[]
[{"$nulls":85},"福利厚生等",{"$nulls":4},"加入保険"]
[{"$nulls":103},{"$f":"IF(「入力シート」こちらで入力!F89 = TRUE,\"■\",\"\")","v":""},null,"雇用",{"$nulls":6},{"$f":"IF(「入力シート」こちらで入力!J89 = TRUE,\"■\",\"\")","v":""},null,"労災",{"$nulls":6},{"$f":"IF(「入力シート」こちらで入力!F90 = TRUE,\"■\",\"\")","v":""},null,"健康",{"$nulls":6},{"$f":"IF(「入力シート」こちらで入力!J90 = TRUE,\"■\",\"\")","v":""},null,"厚生年金",{"$nulls":10},{"$f":"IF(「入力シート」こちらで入力!F91 = TRUE,\"■\",\"\")","v":""},null,"退職金共済",{"$nulls":12},{"$f":"IF(「入力シート」こちらで入力!J91 = TRUE,\"■\",\"\")","v":""},null,"財形"]
[{"$nulls":103},"　",{"$nulls":17},"　",{"$nulls":9},"　",{"$nulls":12},"　",{"$nulls":16},"　"]
[{"$nulls":90},"退職金制度",{"$nulls":61},"通　学"]
[{"$nulls":103},"制度",{"$nulls":6},{"$f":"IF(「入力シート」こちらで入力!D92 = \"あり\",\"■\",\"\")","v":""},null,"有（最低",{"$nulls":8},{"$f":"IF(「入力シート」こちらで入力!D92 = \"あり\",「入力シート」こちらで入力!I92,\"\")","v":""},{"$nulls":5},"年勤続）",{"$nulls":7},"・",{"$nulls":4},{"$f":"IF(「入力シート」こちらで入力!D92 = \"なし\",\"■\",\"\")","v":""},null,"無",{"$nulls":20},{"$f":"IF(「入力シート」こちらで入力!D93 = \"可能\",\"■\",\"\")","v":""},null,"可",{"$nulls":8},{"$f":"IF(「入力シート」こちらで入力!D93 = \"否\",\"■\",\"\")","v":""},null,"否"]
[{"$nulls":109},"　",{"$nulls":30},"　",{"$nulls":20},"　",{"$nulls":15},"　"]
[{"$nulls":90},"定年制",{"$nulls":18},"　",{"$nulls":23},"再雇用又は勤務延長　",{"$nulls":27},"　",{"$nulls":15},"　"]
[{"$nulls":8},"必須技能等",{"$nulls":3},"必要な経験（年数）・技能・知識・免許資格",{"$nulls":91},{"$f":"IF(「入力シート」こちらで入力!D94 = \"あり\",\"■\",\"\")","v":""},null,"有（",{"$nulls":4},{"$f":"IF(「入力シート」こちらで入力!D94 = \"あり\",「入力シート」こちらで入力!H94,\"\")","v":""},{"$nulls":4},"歳）",{"$nulls":6},{"$f":"IF(「入力シート」こちらで入力!D94 = \"なし\",\"■\",\"\")","v":""},null,"無",{"$nulls":31},{"$f":"IF(「入力シート」こちらで入力!D95 = \"あり\",\"■\",\"\")","v":""},null,"有（",{"$nulls":5},{"$f":"IF(「入力シート」こちらで入力!D95 = \"あり\",「入力シート」こちらで入力!H95,\"\")","v":""},{"$nulls":5},"歳）",{"$nulls":10},{"$f":"IF(「入力シート」こちらで入力!D95 = \"なし\",\"■\",\"\")","v":""},null,"無",{"$nulls":3},"　"]
[]
[{"$nulls":12},{"$f":"「入力シート」こちらで入力!D30","v":0},{"$nulls":77},"住宅",{"$nulls":11},"単身者用",{"$nulls":48},"世帯用"]
[{"$nulls":115},{"$f":"IF(「入力シート」こちらで入力!D96 = \"あり\",\"■\",\"\")","v":""},null,"有（",{"$nulls":4},{"$f":"IF(「入力シート」こちらで入力!H96 = \"可能\",\"■\",\"\")","v":""},null,"入居可",{"$nulls":7},{"$f":"IF(「入力シート」こちらで入力!H96 = \"不可\",\"■\",\"\")","v":""},null,"不可）",{"$nulls":8},{"$f":"IF(「入力シート」こちらで入力!D96 = \"なし\",\"■\",\"\")","v":""},null,"無",{"$nulls":18},{"$f":"IF(「入力シート」こちらで入力!D97 = \"あり\",\"■\",\"\")","v":""},null,"有（",{"$nulls":4},{"$f":"IF(「入力シート」こちらで入力!H97 = \"可能\",\"■\",\"\")","v":""},null,"入居可",{"$nulls":7},{"$f":"IF(「入力シート」こちらで入力!H96 = \"不可\",\"■\",\"\")","v":""},null,"不可）",{"$nulls":8},{"$f":"IF(「入力シート」こちらで入力!D97 = \"なし\",\"■\",\"\")","v":""},null,"無"]
[]
[{"$nulls":85},"備　　考"]
[{"$nulls":12},"学　　歴",{"$nulls":10},{"$f":"「入力シート」こちらで入力!D31","v":0},{"$nulls":66},"・求人票有効期限",{"$nulls":16},{"$f":"(「入力シート」こちらで入力!D98)","v":0},{"$nulls":7},"年",null,null,{"$f":"(「入力シート」こちらで入力!G98)","v":0},{"$nulls":4},"月",null,null,"末",{"$nulls":4},"日",{"$nulls":4},"指定のない場合の有効期間は３か月間です。"]
[]
[{"$nulls":8},"事業所の概要",{"$nulls":3},"生産品目　　事業内容",{"$nulls":9},{"$f":"「入力シート」こちらで入力!D32","v":0},{"$nulls":42},"創立設立",{"$nulls":6},{"$f":"「入力シート」こちらで入力!D33","v":0},{"$nulls":17},"・採用を希望する者の自衛隊時の階級",{"$nulls":38},{"$f":"IF(「入力シート」こちらで入力!D99 = \"特になし\",\"■\",\"\")","v":""},null,"特になし",{"$nulls":11},{"$f":"IF(「入力シート」こちらで入力!D99 = \"あり\",\"■\",\"\")","v":""},null,"あり",{"$nulls":5},"（",{"$nulls":3},{"$f":"「入力シート」こちらで入力!D100","v":0},{"$nulls":22},"）"]
[{"$nulls":129},"　","　","　","　",{"$nulls":36},"（",null,null,{"$f":"IF(「入力シート」こちらで入力!D102 = \"異なる\",「入力シート」こちらで入力!I102,\"\")","v":""},{"$nulls":24},"）"]
[{"$nulls":73},{"$f":"「入力シート」こちらで入力!F33","v":0},{"$nulls":16},"・試用期間",{"$nulls":16},{"$f":"IF(「入力シート」こちらで入力!D101 = \"あり\",\"■\",\"\")","v":""},null,"有（",{"$nulls":4},{"$f":"IF(「入力シート」こちらで入力!D101 = \"あり\",「入力シート」こちらで入力!J101,\"\")","v":""},{"$nulls":5},"）",{"$nulls":5},{"$f":"IF(「入力シート」こちらで入力!D101 = \"なし\",\"■\",\"\")","v":""},null,"無",{"$nulls":10},"労働条件",{"$nulls":11},{"$f":"IF(「入力シート」こちらで入力!D102 = \"同じ\",\"■\",\"\")","v":""},null,"同じ",{"$nulls":6},{"$f":"IF(「入力シート」こちらで入力!D102 = \"異なる\",\"■\",\"\")","v":""},null,"異なる"]
[{"$nulls":81},"年"]
[{"$nulls":12},"就業場所での従業員数",{"$nulls":9},{"$f":"「入力シート」こちらで入力!D34","v":0},{"$nulls":14},"人",{"$nulls":3},"資本金",{"$nulls":23},"労働\n組合",{"$nulls":24},"・選考方法",{"$nulls":16},{"$f":"IF(「入力シート」こちらで入力!F103 = TRUE,\"■\",\"\")","v":""},null,"面　接",{"$nulls":7},{"$f":"IF(「入力シート」こちらで入力!I103 = TRUE,\"■\",\"\")","v":""},null,"書類選考",{"$nulls":11},{"$f":"IF(「入力シート」こちらで入力!F104 = TRUE,\"■\",\"\")","v":""},null,"筆記試験",{"$nulls":9},{"$f":"IF(「入力シート」こちらで入力!I104 =TRUE,\"■\",\"\")","v":""},null,"その他",{"$nulls":7},"（","（",null,{"$f":"IF(「入力シート」こちらで入力!D105 = \"\",\"\",「入力シート」こちらで入力!D105)","v":""},{"$nulls":45},"）"]
[{"$nulls":48},{"$f":"「入力シート」こちらで入力!D36","v":0},{"$nulls":12},"万円",{"$nulls":13},{"$f":"「入力シート」こちらで入力!D37","v":0}]
[{"$nulls":90},"・その他",{"$nulls":10},{"$f":"「入力シート」こちらで入力!D106","v":0}]
[{"$nulls":12},"全社従業員数",{"$nulls":9},{"$f":"「入力シート」こちらで入力!D35","v":0},{"$nulls":14},"人"]
[{"$nulls":13},"（年商額など最近の業績）",{"$nulls":71},"確認事項",{"$nulls":4},"・退職自衛官の採用に関する確認事項",{"$nulls":41},"（確認した場合は□を黒塗りして下さい。）"]
[{"$nulls":13},{"$f":"「入力シート」こちらで入力!D38","v":0}]
[{"$nulls":92},"○第１項～第４項、第６項",{"$nulls":25},{"$f":"IF(「入力シート」こちらで入力!D107 =\"はい\",\"■\",\"\")","v":""},{"$nulls":9},"○第5項に該当（",{"$nulls":16},{"$f":"IF(「入力シート」こちらで入力!D108 =\"いいえ\",\"■\",\"\")","v":""},null,"する",{"$nulls":8},{"$f":"IF(「入力シート」こちらで入力!D108 =\"はい\",\"■\",\"\")","v":""},null,"しない　）"]
[]
[{"$nulls":85},"予備自衛官等希望者の採用（採用をご検討いただける場合は□を黒塗りして下さい。両方を選択いただくことも可能です。）"]
[]
[{"$nulls":95},{"$f":"IF(「入力シート」こちらで入力!G109 = TRUE,\"■\",\"\")","v":""},null,"即応予備自衛官",{"$nulls":22},{"$f":"IF(「入力シート」こちらで入力!L109 = TRUE,\"■\",\"\")","v":""},null,"予備自衛官"]
[]
[{"$nulls":84},"　　　　　　"]
[]
[{"$nulls":84},"　"]
[]
[{"$nulls":217},"T","A","定","三浦1尉","雇用協","継続","【 有 】"]
[{"$nulls":217},"N","B","任","三浦曹長","一般","新規","【 無 】"]
[{"$nulls":218},"C",null,"長瀬非常勤","雇用協・新"]
[{"$nulls":218},"D",null,"小関非常勤","一般・新"]
[{"$nulls":218},"E",null,"真坂非常勤"]
[{"$nulls":218},"F",null,"伊豆田非常勤"]
[{"$nulls":218},"G",null,"佐藤非常勤"]
[{"$nulls":218},"H",null,"栁町非常勤"]
[{"$nulls":218},"I"]
[{"$nulls":218},"J"]
[{"$nulls":218},"K"]
[{"$nulls":218},"L"]
[{"$nulls":218},"M"]
[{"$nulls":218},"N"]
[{"$nulls":218},"O"]
[{"$nulls":218},"P"]
[{"$nulls":218},"Q"]
[{"$nulls":218},"R"]
[{"$nulls":218},"S"]
[{"$nulls":218},"T"]
{"$rows_empty":42}
[null,null,"■",null,null,2,2]
[{"$nulls":5},2,2]

{"sheet":"■入力不可（登録用）","index":8,"n_rows":170,"n_cols":234,"rows_kept":170,"merged":[[3,13,5,23],[3,28,5,65],[3,68,4,92],[3,93,4,203],[3,205,4,234],[4,10,4,11],[5,68,8,72],[5,73,8,75],[5,76,8,80],[5,81,8,83],[5,84,8,88],[5,89,8,91],[5,116,6,124],[5,138,6,148],[5,160,6,174],[5,182,6,196],[5,205,10,208],[6,13,8,23],[6,28,8,65],[6,95,7,97],[6,100,7,102],[6,106,7,108],[6,111,7,113],[6,210,9,214],[6,215,9,220],[6,221,9,224],[6,225,9,234],[7,10,7,11],[7,116,8,122],[7,123,8,126],[7,127,8,137],[7,138,8,142],[7,143,8,145],[7,146,8,150],[7,151,8,153],[7,154,8,159],[7,160,8,167],[7,168,8,171],[7,172,8,181],[7,182,8,189],[7,190,8,193],[7,194,8,203],[9,0,100,0],[9,1,100,1],[9,2,100,2],[9,3,100,3],[9,4,100,4],[9,5,100,5],[9,6,100,6],[9,7,9,171],[10,7,11,20],[10,21,11,83],[10,84,30,88],[10,89,24,92],[10,94,11,98],[10,99,11,101],[10,104,11,107],[10,108,11,114],[10,116,13,119],[10,149,24,152],[11,122,12,125],[11,126,12,128],[11,129,12,130],[11,131,12,133],[11,134,12,135],[11,136,12,137],[11,138,12,140],[11,141,12,142],[11,143,12,145],[11,146,12,147],[11,154,11,155],[11,157,11,177],[11,205,23,208],[11,209,17,234],[12,7,16,20],[12,21,16,83],[13,94,15,98],[13,99,15,101],[13,104,15,107],[13,108,15,114],[13,122,15,125],[13,126,15,128],[13,129,15,130],[13,131,15,133],[13,134,15,135],[13,136,15,137],[13,138,15,140],[13,141,15,142],[13,143,15,145],[13,146,15,147],[13,154,13,155],[13,179,13,186],[15,117,15,118],[15,154,15,175],[16,93,17,115],[16,122,17,125],[16,126,17,128],[16,129,17,130],[16,131,17,133],[16,134,17,135],[16,136,17,137],[16,138,17,140],[16,141,17,142],[16,143,17,145],[16,146,17,147],[17,7,20,20],[17,21,20,83],[17,117,17,118],[17,154,17,155],[17,163,17,164],[17,173,17,174],[17,190,17,191],[19,93,20,94],[19,95,20,102],[19,103,20,109],[19,110,20,113],[19,114,20,115],[19,122,20,125],[19,126,20,128],[19,129,20,130],[19,131,20,133],[19,134,20,135],[19,136,20,137],[19,138,20,140],[19,141,20,142],[19,143,20,145],[19,146,20,147],[19,154,19,170],[19,173,19,174],[19,190,19,191],[20,170,20,171],[20,172,20,200],[20,201,20,202],[20,210,22,215],[20,216,22,218],[20,219,22,221],[20,222,22,224],[20,225,22,227],[20,228,22,230],[20,231,22,234],[21,7,27,20],[21,21,22,23],[21,25,22,48],[21,93,22,115],[21,117,21,118],[21,122,22,125],[21,126,22,128],[21,129,22,130],[21,131,22,133],[21,134,22,135],[21,136,22,137],[21,138,22,140],[21,141,22,142],[21,143,22,145],[21,146,22,147],[21,170,21,171],[21,172,21,200],[21,201,21,202],[22,117,22,118],[22,154,22,198],[23,21,25,83],[23,93,24,94],[23,95,24,102],[23,103,24,112],[23,113,24,115],[23,125,24,147],[23,156,23,165],[23,167,23,168],[23,183,23,184],[24,205,28,208],[24,209,28,214],[24,215,28,217],[24,218,28,224],[24,225,28,227],[24,228,28,234],[25,89,27,100],[25,155,27,157],[25,158,27,172],[25,173,27,175],[25,176,30,178],[25,194,30,196],[26,50,27,52],[26,53,27,81],[26,102,26,103],[26,109,26,110],[26,116,26,117],[26,123,26,124],[26,145,26,146],[26,180,26,181],[26,187,26,188],[27,197,28,201],[28,7,32,20],[28,21,29,27],[28,28,32,43],[28,44,29,49],[28,50,29,82],[28,89,30,100],[28,146,30,153],[28,156,30,166],[29,102,29,103],[29,109,29,110],[29,116,29,117],[29,123,29,124],[29,130,29,131],[29,135,29,136],[29,144,29,145],[29,154,29,155],[29,167,29,172],[29,173,29,175],[29,182,29,186],[29,201,30,203],[29,205,34,208],[29,209,32,234],[30,50,32,52],[30,53,32,82],[31,84,70,88],[31,89,33,100],[31,166,33,168],[31,169,33,200],[31,201,33,203],[32,102,32,103],[32,112,32,113],[32,122,32,123],[32,135,32,136],[32,145,32,146],[32,157,32,158],[33,7,51,10],[33,11,35,20],[33,21,35,63],[33,64,40,69],[33,71,34,79],[33,209,34,211],[33,212,34,214],[33,215,34,232],[33,233,34,234],[34,89,36,100],[34,191,36,200],[35,71,36,79],[35,80,36,82],[35,111,35,112],[35,118,35,123],[35,128,35,129],[35,135,35,140],[35,163,35,164],[35,165,35,172],[35,180,35,181],[36,11,37,20],[36,21,37,63],[36,205,37,234],[37,71,38,79],[37,89,62,91],[37,92,51,100],[37,101,37,136],[38,11,46,20],[38,24,39,24],[38,25,40,31],[38,36,40,45],[38,46,40,47],[38,62,40,63],[38,101,39,124],[38,125,39,129],[38,130,39,153],[38,154,39,156],[38,205,39,225],[38,226,39,234],[39,22,39,23],[39,33,39,34],[39,48,39,61],[39,71,40,79],[39,80,40,82],[40,101,47,104],[40,105,41,124],[40,125,41,129],[40,130,41,148],[40,149,41,154],[40,155,41,174],[40,175,41,179],[40,180,41,198],[40,199,41,203],[41,25,43,41],[41,48,43,62],[41,68,43,80],[41,205,93,234],[42,22,42,23],[42,45,42,46],[42,65,42,66],[42,105,43,124],[42,125,43,129],[42,130,43,148],[42,149,43,154],[42,155,43,174],[42,175,43,179],[42,180,43,198],[42,199,43,203],[44,25,46,62],[44,105,45,124],[44,125,45,129],[44,130,45,148],[44,149,45,154],[44,155,45,174],[44,175,45,179],[44,180,45,198],[44,199,45,203],[45,22,45,23],[46,105,47,119],[46,120,47,125],[46,126,47,134],[46,136,47,144],[46,145,47,150],[46,151,47,159],[46,160,47,163],[47,11,48,20],[47,21,48,83],[48,101,49,107],[48,108,49,130],[48,131,49,136],[48,137,49,163],[48,164,49,167],[49,11,49,83],[50,11,51,83],[50,101,51,203],[52,7,77,10],[52,11,65,14],[52,92,62,100],[52,102,53,115],[52,116,53,120],[52,121,53,133],[52,134,53,138],[52,139,53,151],[52,152,53,156],[52,157,53,169],[52,170,53,173],[52,174,53,187],[52,188,53,192],[52,193,53,199],[52,200,53,203],[53,17,53,18],[53,38,53,39],[54,16,56,82],[54,102,55,115],[54,116,55,120],[54,121,55,133],[54,134,55,138],[54,139,55,151],[54,152,55,156],[54,157,55,169],[54,170,55,173],[54,174,55,187],[54,188,55,192],[54,193,55,199],[54,200,55,203],[56,102,57,115],[56,116,57,120],[56,121,57,133],[56,134,57,138],[56,139,57,151],[56,152,57,156],[56,157,57,169],[56,170,57,173],[56,174,57,187],[56,188,57,192],[56,193,57,199],[56,200,57,203],[57,15,58,17],[57,18,58,31],[57,32,58,38],[57,39,58,54],[57,55,58,59],[57,72,57,77],[58,72,58,77],[58,101,59,118],[58,119,59,123],[58,124,59,137],[58,138,59,150],[58,151,59,155],[58,160,59,174],[58,175,59,178],[59,15,61,23],[59,24,61,83],[60,101,62,109],[61,111,61,112],[61,124,61,138],[61,149,61,150],[61,158,61,172],[62,15,65,23],[63,26,63,27],[63,36,63,37],[63,44,63,45],[63,59,63,60],[63,89,65,94],[63,95,65,100],[64,24,65,33],[64,34,65,83],[64,102,64,103],[64,108,64,109],[64,147,64,160],[64,167,64,180],[66,11,66,83],[66,89,68,94],[66,95,68,100],[67,11,77,83],[67,102,67,103],[67,108,67,109],[67,130,67,135],[67,144,67,151],[67,162,67,173],[69,89,70,111],[69,112,70,127],[69,129,70,135],[69,136,70,153],[69,155,70,158],[71,84,82,88],[71,89,73,100],[72,102,72,103],[72,104,72,108],[72,111,72,112],[72,113,72,117],[72,120,72,121],[72,122,72,126],[72,129,72,130],[72,131,72,140],[72,142,72,143],[72,144,72,155],[72,157,72,158],[72,159,72,164],[74,89,76,100],[74,151,76,159],[75,109,75,110],[75,120,75,125],[75,139,75,140],[75,162,75,163],[75,173,75,174],[77,89,79,100],[77,132,79,153],[78,7,85,10],[78,11,79,83],[78,103,78,104],[78,110,78,114],[78,122,78,123],[78,156,78,157],[78,164,78,168],[78,181,78,182],[80,11,83,83],[80,89,82,100],[80,101,82,112],[80,150,82,161],[81,114,81,115],[81,121,81,122],[81,123,81,129],[81,131,81,132],[81,133,81,139],[81,142,81,143],[81,163,81,164],[81,170,81,171],[81,172,81,178],[81,180,81,181],[81,182,81,188],[81,191,81,192],[83,84,93,88],[84,11,85,20],[84,22,85,82],[84,89,84,105],[84,106,84,113],[84,114,84,116],[84,117,84,121],[84,122,84,124],[84,125,84,129],[84,130,84,132],[84,135,84,182],[86,7,101,10],[86,11,89,20],[86,21,89,63],[86,64,89,69],[86,71,87,75],[86,89,86,125],[86,128,86,129],[86,130,86,138],[86,142,86,143],[86,144,86,147],[86,150,86,152],[86,154,86,176],[86,177,86,180],[87,168,89,170],[87,171,89,195],[87,196,89,198],[88,72,89,79],[88,89,88,105],[88,106,88,107],[88,108,88,112],[88,113,88,118],[88,119,88,123],[88,125,88,126],[88,138,88,147],[88,150,88,151],[88,159,88,160],[90,11,92,20],[90,21,92,35],[90,36,92,39],[90,40,93,46],[90,64,93,69],[90,89,90,105],[90,106,90,107],[90,108,90,114],[90,116,90,117],[90,118,90,127],[90,130,90,131],[90,132,90,141],[90,142,90,143],[90,144,90,151],[90,153,90,154],[90,155,90,200],[91,47,92,59],[91,60,92,63],[91,74,92,78],[92,89,92,98],[92,100,93,202],[93,11,93,20],[93,21,93,35],[93,36,93,39],[94,84,97,88],[94,89,95,128],[94,131,95,180],[94,205,95,219],[94,220,95,234],[95,12,100,82],[96,91,97,116],[96,117,96,118],[96,127,97,142],[96,144,96,145],[96,146,97,150],[96,155,96,156],[96,157,97,167],[96,205,97,234],[98,84,99,198],[98,205,101,210],[98,211,101,216],[98,217,101,222],[98,223,101,228],[98,229,101,234],[100,94,100,95],[100,119,100,120]]}
[]
[]
[]
[{"$nulls":13},"定年制",{"$nulls":14},"求　人　票",{"$nulls":39},"紹　介　期　限",{"$nulls":24},"紹　　介　　所　　専　　用　　整　　理　　欄",{"$nulls":111},"受付機関整理欄"]
[{"$nulls":10},{"$f":"IF(OR(N4=「入力シート」こちらで入力!D2,\"両方\"=「入力シート」こちらで入力!D2),\"■\",\"\")","v":""}]
[{"$nulls":68},7,{"$nulls":4},"年",null,null,3,{"$nulls":4},"月",null,null,31,{"$nulls":4},"日",{"$nulls":26},"受理番号",{"$nulls":21},"受理年月日",{"$nulls":21},"産業分類番号",{"$nulls":21},"職業分類番号",{"$nulls":22},"番号"]
[{"$nulls":13},"任期制",{"$nulls":14},"退職自衛官仙台無料職業紹介所",{"$nulls":66},"A",{"$nulls":4},"B",{"$nulls":5},"C",{"$nulls":4},"D",{"$nulls":103},"R 6",{"$nulls":5},"―"]
[{"$nulls":10},{"$f":"IF(OR(N7=「入力シート」こちらで入力!D2,\"両方\"=「入力シート」こちらで入力!D2),\"■\",\"\")","v":""},{"$nulls":112},"―",{"$nulls":14},"6",{"$nulls":4},"・",{"$nulls":7},"・",{"$nulls":16},"―",{"$nulls":21},"―"]
[]
["［個人情報苦情及び相談窓口］一般財団法人自衛隊援護協会　事務局総務課（03‐5227‐5400）","　ては、左記にご連絡ください。遅滞なく回答いたします。  ","　はありません。なお、所定の項目にご記入いただけない場合には、適切な対応ができない場合があります。開示対象個人情報につい","　場合があります。求職者への提供、本人の同意がある場合又は法令に基づく場合を除き、取得した個人情報を第三者に提供すること","　ご記入いただいた個人情報は、求人者に適切な人材を紹介するために利用いたします。上記利用目的達成のため一部業務を委託する","［個人情報のお取扱いについて］個人情報保護管理者 事務局長","（記入上の注意）太線枠内を記入してください。"]
[{"$nulls":7},"ふりがな",{"$nulls":13},{"$f":"IF(「入力シート」こちらで入力!D4 = \"\",PHONETIC(「入力シート」こちらで入力!D3),「入力シート」こちらで入力!D4)","v":""},{"$nulls":62},"就　業　時　間",{"$nulls":4},"就業時間",{"$nulls":4},{"$f":"「入力シート」こちらで入力!D39","v":0},{"$nulls":4},"時",{"$nulls":4},{"$f":"「入力シート」こちらで入力!F39","v":0},{"$nulls":3},"分から",{"$nulls":7},"交替制",{"$nulls":32},"雇用期間"]
[{"$nulls":122},"①",{"$nulls":3},{"$f":"「入力シート」こちらで入力!D43","v":0},null,null,"時",null,{"$f":"「入力シート」こちらで入力!F43","v":0},null,null,"分",null,"～",null,{"$f":"「入力シート」こちらで入力!I43","v":0},null,null,"時",null,{"$f":"「入力シート」こちらで入力!K43","v":0},null,null,"分",{"$nulls":7},{"$f":"IF(「入力シート」こちらで入力!D14=\"正社員\",\"■\",\"\")","v":""},null,null,"雇用期間の定め 無",{"$nulls":47},"機　関　名",{"$nulls":3},"山　形"]
[{"$nulls":7},"事業所名",{"$nulls":13},{"$f":"「入力シート」こちらで入力!D3","v":0}]
[{"$nulls":94},{"$f":"「入力シート」こちらで入力!I39","v":0},{"$nulls":4},"時",{"$nulls":4},{"$f":"「入力シート」こちらで入力!K39","v":0},{"$nulls":3},"分まで",{"$nulls":13},"②",{"$nulls":3},{"$f":"「入力シート」こちらで入力!D44","v":0},null,null,"時",null,{"$f":"「入力シート」こちらで入力!F44","v":0},null,null,"分",null,"～",null,{"$f":"「入力シート」こちらで入力!I44","v":0},null,null,"時",null,{"$f":"「入力シート」こちらで入力!K44","v":0},null,null,"分",{"$nulls":7},{"$f":"IF(「入力シート」こちらで入力!D14=\"正社員以外\",\"■\",\"\")","v":""},null,null,"雇用期間の定め 有",{"$nulls":18},"（",null,null,{"$f":"「入力シート」こちらで入力!D49","v":0},{"$nulls":7},"）",null,"ヵ月"]
[]
[{"$nulls":21},{"$f":"#REF!","v":{"$error":"#REF!"}},{"$nulls":95},{"$f":"IF(「入力シート」こちらで入力!D42=\"有\",\"■\",\"\")","v":""},{"$nulls":36},"・更新の有無"]
[{"$nulls":93},"※シフト制の場合　　　　　　　",{"$nulls":28},"③",{"$nulls":3},{"$f":"「入力シート」こちらで入力!D45","v":0},null,null,"時",null,{"$f":"「入力シート」こちらで入力!F45","v":0},null,null,"分",null,"～",null,{"$f":"「入力シート」こちらで入力!I45","v":0},null,null,"時",null,{"$f":"「入力シート」こちらで入力!K45","v":0},null,null,"分"]
[{"$nulls":7},"代表者\n役職・氏名",{"$nulls":13},{"$f":"「入力シート」こちらで入力!D5","v":0},{"$nulls":95},"有",{"$nulls":36},{"$f":"IF(FH18=\"\",IF(FR18=\"\",\"\",\"■\"),\"■\")","v":""},null,null,"有",{"$nulls":3},"（",null,{"$f":"IF(「入力シート」こちらで入力!D50=\"条件あり\",\"■\",\"\")","v":""},null,"条件有",{"$nulls":7},{"$f":"IF(「入力シート」こちらで入力!D50=\"原則更新\",\"■\",\"\")","v":""},null,"原則更新",{"$nulls":8},"）",{"$nulls":5},{"$f":"IF(「入力シート」こちらで入力!D50=\"なし\",\"■\",\"\")","v":""},null,null,"無"]
[]
[{"$nulls":93},"(",null,"この間の",{"$nulls":7},{"$f":"「入力シート」こちらで入力!D40","v":0},{"$nulls":6},"時間",{"$nulls":3},")",{"$nulls":7},"④",{"$nulls":3},{"$f":"「入力シート」こちらで入力!D46","v":0},null,null,"時",null,{"$f":"「入力シート」こちらで入力!F46","v":0},null,null,"分",null,"～",null,{"$f":"「入力シート」こちらで入力!I46","v":0},null,null,"時",null,{"$f":"「入力シート」こちらで入力!K46","v":0},null,null,"分",{"$nulls":7},"・更新の上限",{"$nulls":18},{"$f":"IF(「入力シート」こちらで入力!D51=\"あり\",\"■\",\"\")","v":""},null,null,"有",{"$nulls":13},{"$f":"IF(「入力シート」こちらで入力!D51=\"なし\",\"■\",\"\")","v":""},null,null,"無"]
[{"$nulls":154},"※具体的な上限",{"$nulls":15},"（",null,{"$f":"「入力シート」こちらで入力!D52","v":0},{"$nulls":28},"）",{"$nulls":8},"地本",{"$nulls":5},"・",null,null,"陸",null,null,"・",null,null,"海",null,null,"・",null,null,"空"]
[{"$nulls":7},"所在地",{"$nulls":13},"〒",{"$nulls":3},{"$f":"「入力シート」こちらで入力!D6","v":0},{"$nulls":67},"※変形労働時間制の場合　　　　　　　",{"$nulls":23},{"$f":"IF(「入力シート」こちらで入力!D42=\"無\",\"■\",\"\")","v":""},{"$nulls":4},"⑤",{"$nulls":3},{"$f":"「入力シート」こちらで入力!D47","v":0},null,null,"時",null,{"$f":"「入力シート」こちらで入力!F47","v":0},null,null,"分",null,"～",null,{"$f":"「入力シート」こちらで入力!I47","v":0},null,null,"時",null,{"$f":"「入力シート」こちらで入力!K47","v":0},null,null,"分",{"$nulls":7},"※更新の回数　　（",{"$nulls":15},"（",null,{"$f":"「入力シート」こちらで入力!D53","v":0},{"$nulls":28},"）"]
[{"$nulls":117},"無",{"$nulls":36},"・雇用期間経過後に正社員（期間の定め無）登用"]
[{"$nulls":21},{"$f":"「入力シート」こちらで入力!D7","v":0},{"$nulls":71},"(",null,"単位等：",{"$nulls":7},{"$f":"「入力シート」こちらで入力!D41","v":0},{"$nulls":9},")",{"$nulls":6},"特記",{"$nulls":4},{"$f":"「入力シート」こちらで入力!D48","v":0},{"$nulls":30},"の可能性",{"$nulls":10},{"$f":"IF(「入力シート」こちらで入力!D54=\"あり\",\"■\",\"\")","v":""},null,null,"有",{"$nulls":12},{"$f":"IF(「入力シート」こちらで入力!D54=\"なし\",\"■\",\"\")","v":""},null,null,"無"]
[{"$nulls":120},"事項",{"$nulls":84},"年月日",{"$nulls":3},6,{"$nulls":5},"・",{"$nulls":9},"・"]
[{"$nulls":89},"休日",{"$nulls":65},"（",null,null,{"$f":"「入力シート」こちらで入力!D57","v":0},{"$nulls":14},"）",null,null,"時間外",{"$nulls":17},"休憩時間",{"$nulls":6},"\n\n\n分"]
[{"$nulls":50},"☎",null,null,{"$f":"「入力シート」こちらで入力!D8","v":0},{"$nulls":48},{"$f":"IF(「入力シート」こちらで入力!E55=TRUE,\"■\",\"\")","v":""},null,"土曜",{"$nulls":4},{"$f":"IF(「入力シート」こちらで入力!I55=TRUE,\"■\",\"\")","v":""},null,"日曜",{"$nulls":4},{"$f":"IF(「入力シート」こちらで入力!E56=TRUE,\"■\",\"\")","v":""},null,"祝日",{"$nulls":4},{"$f":"IF(「入力シート」こちらで入力!I56=TRUE,\"■\",\"\")","v":""},null,"会社カレンダーによる",{"$nulls":19},{"$f":"IF(「入力シート」こちらで入力!D57 = \"\",\"\",\"■\")","v":""},null,null,"その他",{"$nulls":31},{"$f":"IF(「入力シート」こちらで入力!D61=\"あり\",\"■\",\"\")","v":""},null,"有",{"$nulls":4},{"$f":"IF(「入力シート」こちらで入力!D61=\"なし\",\"■\",\"\")","v":""},null,"無"]
[{"$nulls":181},"　",{"$nulls":5},"　",{"$nulls":9},{"$f":"「入力シート」こちらで入力!D62","v":0}]
[{"$nulls":7},"採用事務\n担　当　者",{"$nulls":13},"部課名",{"$nulls":6},{"$f":"「入力シート」こちらで入力!D9","v":0},{"$nulls":15},"氏名",{"$nulls":5},{"$f":"「入力シート」こちらで入力!D10","v":0},{"$nulls":38},"週休２日制",{"$nulls":56},{"$f":"「入力シート」こちらで入力!D59","v":0},{"$nulls":9},"年間休日数",{"$nulls":23},"月平均時間",{"$nulls":16},{"$f":"「入力シート」こちらで入力!#REF!","v":{"$error":"#REF!"}}]
[{"$nulls":102},{"$f":"IF(「入力シート」こちらで入力!D58=\"完全週休２日\",\"■\",\"\")","v":""},null,"完全",{"$nulls":4},{"$f":"IF(「入力シート」こちらで入力!D58=\"隔週週休２日\",\"■\",\"\")","v":""},null,"隔週",{"$nulls":4},{"$f":"IF(「入力シート」こちらで入力!D58=\"月数回\",\"■\",\"\")","v":""},null,"月（",{"$nulls":4},{"$f":"「入力シート」こちらで入力!K58","v":0},null,"）回",{"$nulls":4},{"$f":"IF(「入力シート」こちらで入力!D58=\"なし\",\"■\",\"\")","v":""},null,"無",null,null,{"$f":"IF(「入力シート」こちらで入力!D58=\"その他\",\"■\",\"\")","v":""},null,"その他 ",{"$nulls":6},"（",{"$nulls":9},"）",{"$nulls":12},{"$f":"「入力シート」こちらで入力!D60","v":0},{"$nulls":5},"日",{"$nulls":6},"（",null,{"$f":"「入力シート」こちらで入力!K61","v":0},{"$nulls":4},"）",null,"時間",{"$nulls":11},"分",{"$nulls":3},"担当者"]
[{"$nulls":50},"☎",null,null,{"$f":"「入力シート」こちらで入力!D11","v":0},{"$nulls":48},"　",{"$nulls":6},"　",{"$nulls":6},"　",{"$nulls":13},"　",{"$nulls":6},"　"]
[{"$nulls":84},"賃金",{"$nulls":4},"賃金形態",{"$nulls":76},"（",null,null,{"$f":"「入力シート」こちらで入力!F63","v":0},{"$nulls":31},"）"]
[{"$nulls":102},{"$f":"IF(DA33 =「入力シート」こちらで入力!D63,\"■\",\"\")","v":""},null,"年俸制",{"$nulls":7},{"$f":"IF(DK33 =「入力シート」こちらで入力!D63,\"■\",\"\")","v":""},null,"月給制",{"$nulls":7},{"$f":"IF(DU33 =「入力シート」こちらで入力!D63,\"■\",\"\")","v":""},null,"日給月給制",{"$nulls":10},{"$f":"IF(EH33 =「入力シート」こちらで入力!D63,\"■\",\"\")","v":""},null,"日給制",{"$nulls":7},{"$f":"IF(ER33 =「入力シート」こちらで入力!D63,\"■\",\"\")","v":""},null,"時間給制",{"$nulls":9},{"$f":"IF(FD33 =「入力シート」こちらで入力!D63,\"■\",\"\")","v":""},null,"その他"]
[{"$nulls":7},"職種・年齢等",{"$nulls":3},"職　　種\n（雇入れ直後）",{"$nulls":9},{"$f":"「入力シート」こちらで入力!D12","v":0},{"$nulls":42},"採用　人員　",{"$nulls":6},"通勤",{"$nulls":30},"　",{"$nulls":106},"（",null,null,"(",null,null,"5496・5497",{"$nulls":17},"）"]
[{"$nulls":89},"賃金支払",{"$nulls":12},"　",{"$nulls":9},"　",{"$nulls":9},"　",{"$nulls":14},"　",{"$nulls":20},"　",{"$nulls":32},{"$f":"IF(「入力シート」こちらで入力!D65 = \"その他\",「入力シート」こちらで入力!F65,\"\")","v":""}]
[{"$nulls":71},{"$f":"「入力シート」こちらで入力!D17","v":0},{"$nulls":8},"人",{"$nulls":21},"支払日",{"$nulls":8},{"$f":"IF(「入力シート」こちらで入力!D64 = \"毎月\",\"■\",\"\")","v":""},null,"毎月",{"$nulls":4},{"$f":"IF(「入力シート」こちらで入力!D64 = \"毎月\",「入力シート」こちらで入力!F64,\"\")","v":""},{"$nulls":5},"日",{"$nulls":3},{"$f":"IF(「入力シート」こちらで入力!D64 = \"翌月\",\"■\",\"\")","v":""},null,"翌月",{"$nulls":4},{"$f":"IF(「入力シート」こちらで入力!D64 = \"翌月\",「入力シート」こちらで入力!F64,\"\")","v":""},{"$nulls":5},"日",{"$nulls":10},"賃金締切日",{"$nulls":10},{"$f":"IF(「入力シート」こちらで入力!D65 = \"毎月末\",\"■\",\"\")","v":""},null,"毎月末　",{"$nulls":14},{"$f":"IF(「入力シート」こちらで入力!D65 = \"その他\",\"■\",\"\")","v":""},null,"その他（",{"$nulls":18},"）"]
[{"$nulls":11},"（雇入れ後：変更の範囲）",{"$nulls":9},{"$f":"「入力シート」こちらで入力!D13","v":0},{"$nulls":183},"記　　　　　事"]
[{"$nulls":71},"住込",{"$nulls":17},"毎月の賃金（税込み）",null,null,"定期的に支払われる賃金",{"$nulls":8},"ａ基本給＜月額で表記＞"]
[{"$nulls":11},"雇用形態",{"$nulls":13},"正社員",{"$nulls":10},"正社員以外",{"$nulls":9},"（",{"$nulls":15},"）",{"$nulls":38},{"$f":"「入力シート」こちらで入力!D66","v":0},{"$nulls":23},"円～",{"$nulls":4},{"$f":"「入力シート」こちらで入力!H66","v":0},{"$nulls":23},"円",{"$nulls":50},"ハローワークへの登録"]
[{"$nulls":22},{"$f":"IF(Z39=「入力シート」こちらで入力!D14,\"■\",\"\")","v":""},{"$nulls":10},{"$f":"IF(AK39=「入力シート」こちらで入力!D14,\"■\",\"\")","v":""},{"$nulls":14},{"$f":"「入力シート」こちらで入力!D15","v":0},{"$nulls":22},{"$f":"「入力シート」こちらで入力!D18","v":0},{"$nulls":8},"人"]
[{"$nulls":101},"ｂ手当",{"$nulls":3},{"$f":"「入力シート」こちらで入力!D67","v":{"v":0,"d":"0 "}},{"$nulls":19},"手当",{"$nulls":4},{"$f":"「入力シート」こちらで入力!F67","v":{"v":0,"d":"0 "}},{"$nulls":18},"円",{"$nulls":5},{"$f":"「入力シート」こちらで入力!D70","v":{"v":0,"d":"0 "}},{"$nulls":19},"手当",{"$nulls":4},{"$f":"「入力シート」こちらで入力!F70","v":{"v":0,"d":"0 "}},{"$nulls":18},"円"]
[{"$nulls":21},"　",{"$nulls":3},"派遣・請負でない",{"$nulls":22},"有期雇用派遣",{"$nulls":19},"無期雇用派遣",{"$nulls":136},{"$f":"「入力シート」こちらで入力!D110","v":0}]
[{"$nulls":22},{"$f":"IF(Z42=「入力シート」こちらで入力!G14,\"■\",\"\")","v":""},{"$nulls":22},{"$f":"IF(AW42=「入力シート」こちらで入力!G14,\"■\",\"\")","v":""},{"$nulls":19},{"$f":"IF(BQ42=「入力シート」こちらで入力!G14,\"■\",\"\")","v":""},{"$nulls":39},{"$f":"「入力シート」こちらで入力!D68","v":{"v":0,"d":"0 "}},{"$nulls":19},"手当",{"$nulls":4},{"$f":"「入力シート」こちらで入力!F68","v":{"v":0,"d":"0 "}},{"$nulls":18},"円",{"$nulls":5},{"$f":"「入力シート」こちらで入力!D71","v":{"v":0,"d":"0 "}},{"$nulls":19},"手当",{"$nulls":4},{"$f":"「入力シート」こちらで入力!F71","v":{"v":0,"d":"0 "}},{"$nulls":18},"円"]
[]
[{"$nulls":21},"　   ",{"$nulls":3},"請負（他の事業所で就業する仕事の場合）",{"$nulls":79},{"$f":"「入力シート」こちらで入力!D69","v":{"v":0,"d":"0 "}},{"$nulls":19},"手当",{"$nulls":4},{"$f":"「入力シート」こちらで入力!F69","v":{"v":0,"d":"0 "}},{"$nulls":18},"円",{"$nulls":5},{"$f":"「入力シート」こちらで入力!D72","v":{"v":0,"d":"0 "}},{"$nulls":19},"手当",{"$nulls":4},{"$f":"「入力シート」こちらで入力!F72","v":{"v":0,"d":"0 "}},{"$nulls":18},"円"]
[{"$nulls":22},{"$f":"IF(Z45=「入力シート」こちらで入力!G14,\"■\",\"\")","v":""}]
[{"$nulls":105},"（固定残業代：",{"$nulls":14},{"$f":"IF(「入力シート」こちらで入力!D73=\"\",\"\",「入力シート」こちらで入力!D73)","v":""},{"$nulls":5},"時間分）",{"$nulls":9},{"$f":"「入力シート」こちらで入力!F73","v":{"v":0,"d":"0 "}},{"$nulls":8},"円～",{"$nulls":5},{"$f":"「入力シート」こちらで入力!I73","v":{"v":0,"d":"0 "}},{"$nulls":8},"円"]
[{"$nulls":11},"役 職 名",{"$nulls":9},{"$f":"「入力シート」こちらで入力!D16","v":0}]
[{"$nulls":101},"ａ+ｂ",{"$nulls":6},{"$f":"CX39+EA41+EA43+EA45+FY41+FY43+FY45+EG47","v":{"v":0,"d":"0 "}},{"$nulls":22},"円～",{"$nulls":5},{"$f":"EA39+EA41+EA43+EA45+FY41+FY43+FY45+EV47","v":{"v":0,"d":"0 "}},{"$nulls":26},"円"]
[{"$nulls":11},"(雇用対策法施行規則第１条の３第１項に該当する場合）"]
[{"$nulls":11},{"$f":"「入力シート」こちらで入力!D19","v":0},{"$nulls":89},"※ 固定残業代を採用する場合、固定残業代相当時間を超える時間外労働分は追加で支給"]
[]
[{"$nulls":7},"職務内容",{"$nulls":3},"就業場所",{"$nulls":80},"個人の状態に応じて支払われる賃金",{"$nulls":9},{"$f":"「入力シート」こちらで入力!D74","v":0},{"$nulls":13},"手当",{"$nulls":4},{"$f":"「入力シート」こちらで入力!F74","v":0},{"$nulls":12},"円",{"$nulls":4},{"$f":"「入力シート」こちらで入力!D77","v":0},{"$nulls":12},"手当",{"$nulls":4},{"$f":"「入力シート」こちらで入力!F77","v":0},{"$nulls":12},"円",{"$nulls":3},{"$f":"「入力シート」こちらで入力!D80","v":0},{"$nulls":13},"手当",{"$nulls":4},{"$f":"「入力シート」こちらで入力!F80","v":0},{"$nulls":6},"円"]
[{"$nulls":16},"　",{"$f":"IF(「入力シート」こちらで入力!D20 = \"同じ\",\"■\",\"\")","v":""},null,"事業所に同じ。",{"$nulls":18},{"$f":"IF(「入力シート」こちらで入力!D20 = \"異なる\",\"■\",\"\")","v":""},null,"同じではない。下記のとおり。"]
[{"$nulls":16},{"$f":"「入力シート」こちらで入力!D21","v":0},{"$nulls":85},{"$f":"「入力シート」こちらで入力!D75","v":0},{"$nulls":13},"手当",{"$nulls":4},{"$f":"「入力シート」こちらで入力!F75","v":0},{"$nulls":12},"円",{"$nulls":4},{"$f":"「入力シート」こちらで入力!D78","v":0},{"$nulls":12},"手当",{"$nulls":4},{"$f":"「入力シート」こちらで入力!F78","v":0},{"$nulls":12},"円",{"$nulls":3},{"$f":"「入力シート」こちらで入力!D81","v":0},{"$nulls":13},"手当",{"$nulls":4},{"$f":"「入力シート」こちらで入力!F81","v":0},{"$nulls":6},"円"]
[]
[{"$nulls":102},{"$f":"「入力シート」こちらで入力!D76","v":0},{"$nulls":13},"手当",{"$nulls":4},{"$f":"「入力シート」こちらで入力!F76","v":0},{"$nulls":12},"円",{"$nulls":4},{"$f":"「入力シート」こちらで入力!D79","v":0},{"$nulls":12},"手当",{"$nulls":4},{"$f":"「入力シート」こちらで入力!F79","v":0},{"$nulls":12},"円",{"$nulls":3},{"$f":"「入力シート」こちらで入力!D82","v":0},{"$nulls":13},"手当",{"$nulls":4},{"$f":"「入力シート」こちらで入力!F82","v":0},{"$nulls":6},"円"]
[{"$nulls":15},"（",null,null,{"$f":"「入力シート」こちらで入力!D22","v":0},{"$nulls":13},"）線（",{"$nulls":6},{"$f":"「入力シート」こちらで入力!D23","v":0},{"$nulls":15},"駅）",{"$nulls":5},"から",{"$nulls":3},"バス",{"$nulls":4},"（",null,{"$f":"IF(BN58 =「入力シート」こちらで入力!D24,「入力シート」こちらで入力!F24,\"\")","v":""},{"$nulls":5},"）分"]
[{"$nulls":61},"から",{"$nulls":3},"徒歩",{"$nulls":4},"（",null,{"$f":"IF(BN59 =「入力シート」こちらで入力!D24,「入力シート」こちらで入力!F24,\"\")","v":""},{"$nulls":5},"）分",{"$nulls":22},"時間外手当（月平均",{"$nulls":17},{"$f":"「入力シート」こちらで入力!D83","v":0},{"$nulls":4},"時間相当分）",{"$nulls":13},{"$f":"「入力シート」こちらで入力!F83","v":0},{"$nulls":12},"円～",{"$nulls":8},{"$f":"「入力シート」こちらで入力!J83","v":0},{"$nulls":14},"円"]
[{"$nulls":15},"雇入れ後：変更の範囲",{"$nulls":8},{"$f":"「入力シート」こちらで入力!D25","v":0}]
[{"$nulls":101},"通勤手当"]
[{"$nulls":111},{"$f":"IF(「入力シート」こちらで入力!D84 = \"実費\",\"■\",\"\")","v":""},null,"実費（最高",{"$nulls":10},{"$f":"IF(「入力シート」こちらで入力!D84 = \"実費\",「入力シート」こちらで入力!F84,\"\")","v":""},{"$nulls":14},"円まで）",{"$nulls":9},{"$f":"IF(「入力シート」こちらで入力!D84 = \"定額\",\"■\",\"\")","v":""},null,"定額（",{"$nulls":6},{"$f":"IF(「入力シート」こちらで入力!D84 = \"定額\",「入力シート」こちらで入力!F84,\"\")","v":""},{"$nulls":14},"円）"]
[{"$nulls":15},"屋内の受動喫煙対策",{"$nulls":95},"　",{"$nulls":37},"　"]
[{"$nulls":26},{"$f":"IF(「入力シート」こちらで入力!D26 = \"\",\"\",\"■\")","v":""},null,"あり",{"$nulls":4},"（",null,null,{"$f":"IF(AM64=「入力シート」こちらで入力!D26,\"■\",\"\")","v":""},null,"禁煙",{"$nulls":5},{"$f":"IF(AU64=「入力シート」こちらで入力!D26,\"■\",\"\")","v":""},null,"喫煙室あり",{"$nulls":9},"）",null,null,{"$f":"IF(BJ64=「入力シート」こちらで入力!D26,\"■\",\"\")","v":""},null,"その他",{"$nulls":27},"昇給",{"$nulls":5},"制度"]
[{"$nulls":24},"特記事項：",{"$nulls":9},{"$f":"「入力シート」こちらで入力!D27","v":0},{"$nulls":67},{"$f":"IF(「入力シート」こちらで入力!D85 = \"あり\",\"■\",\"\")","v":""},null,"有",{"$nulls":3},{"$f":"IF(「入力シート」こちらで入力!D85 = \"なし\",\"■\",\"\")","v":""},null,"無",{"$nulls":5},"ベースアップ込みの前年度実績",{"$nulls":30},{"$f":"IF(「入力シート」こちらで入力!D85 = \"あり\",「入力シート」こちらで入力!H85,\"\")","v":""},{"$nulls":13},"円～",{"$nulls":5},{"$f":"IF(「入力シート」こちらで入力!D85 = \"あり\",「入力シート」こちらで入力!K85,\"\")","v":""},{"$nulls":13},"円"]
[]
[{"$nulls":11},"【仕事内容】",{"$nulls":77},"賞与",{"$nulls":5},"制度"]
[{"$nulls":11},{"$f":"「入力シート」こちらで入力!D28","v":0},{"$nulls":90},{"$f":"IF(「入力シート」こちらで入力!D86 = \"あり\",\"■\",\"\")","v":""},null,"有",{"$nulls":3},{"$f":"IF(「入力シート」こちらで入力!D86 = \"なし\",\"■\",\"\")","v":""},null,"無",{"$nulls":5},"前年度実績 年",{"$nulls":13},{"$f":"IF(「入力シート」こちらで入力!D86 = \"あり\",「入力シート」こちらで入力!H86,\"\")","v":""},{"$nulls":5},"回",{"$nulls":3},"（",{"$nulls":3},{"$f":"IF(「入力シート」こちらで入力!D86 = \"あり\",「入力シート」こちらで入力!D87,\"\")","v":""},{"$nulls":7},"月分又は",{"$nulls":9},{"$f":"IF(「入力シート」こちらで入力!D86 = \"あり\",「入力シート」こちらで入力!G87,\"\")","v":""},{"$nulls":11},"万円）"]
[]
[{"$nulls":89},"年俸制の場合の金額",{"$nulls":22},{"$f":"「入力シート」こちらで入力!D88","v":0},{"$nulls":16},"万円～",{"$nulls":6},{"$f":"「入力シート」こちらで入力!G88","v":0},{"$nulls":18},"万円"]
[]
[{"$nulls":84},"福利厚生等",{"$nulls":4},"加入保険"]
[{"$nulls":102},{"$f":"IF(「入力シート」こちらで入力!F89 = TRUE,\"■\",\"\")","v":""},null,"雇用",{"$nulls":6},{"$f":"IF(「入力シート」こちらで入力!J89 = TRUE,\"■\",\"\")","v":""},null,"労災",{"$nulls":6},{"$f":"IF(「入力シート」こちらで入力!F90 = TRUE,\"■\",\"\")","v":""},null,"健康",{"$nulls":6},{"$f":"IF(「入力シート」こちらで入力!J90 = TRUE,\"■\",\"\")","v":""},null,"厚生年金",{"$nulls":10},{"$f":"IF(「入力シート」こちらで入力!F91 = TRUE,\"■\",\"\")","v":""},null,"退職金共済",{"$nulls":12},{"$f":"IF(「入力シート」こちらで入力!J91 = TRUE,\"■\",\"\")","v":""},null,"財形"]
[{"$nulls":102},"　",{"$nulls":17},"　",{"$nulls":9},"　",{"$nulls":12},"　",{"$nulls":16},"　"]
[{"$nulls":89},"退職金制度",{"$nulls":61},"通　学"]
[{"$nulls":102},"制度",{"$nulls":6},{"$f":"IF(「入力シート」こちらで入力!D92 = \"あり\",\"■\",\"\")","v":""},null,"有（最低",{"$nulls":8},{"$f":"IF(「入力シート」こちらで入力!D92 = \"あり\",「入力シート」こちらで入力!I92,\"\")","v":""},{"$nulls":5},"年勤続）",{"$nulls":7},"・",{"$nulls":4},{"$f":"IF(「入力シート」こちらで入力!D92 = \"なし\",\"■\",\"\")","v":""},null,"無",{"$nulls":20},{"$f":"IF(「入力シート」こちらで入力!D93 = \"可能\",\"■\",\"\")","v":""},null,"可",{"$nulls":8},{"$f":"IF(「入力シート」こちらで入力!D93 = \"否\",\"■\",\"\")","v":""},null,"否"]
[{"$nulls":108},"　",{"$nulls":30},"　",{"$nulls":20},"　",{"$nulls":15},"　"]
[{"$nulls":89},"定年制",{"$nulls":18},"　",{"$nulls":23},"再雇用又は勤務延長　",{"$nulls":27},"　",{"$nulls":15},"　"]
[{"$nulls":7},"必須技能等",{"$nulls":3},"必要な経験（年数）・技能・知識・免許資格",{"$nulls":91},{"$f":"IF(「入力シート」こちらで入力!D94 = \"あり\",\"■\",\"\")","v":""},null,"有（",{"$nulls":4},{"$f":"IF(「入力シート」こちらで入力!D94 = \"あり\",「入力シート」こちらで入力!H94,\"\")","v":""},{"$nulls":4},"歳）",{"$nulls":6},{"$f":"IF(「入力シート」こちらで入力!D94 = \"なし\",\"■\",\"\")","v":""},null,"無",{"$nulls":31},{"$f":"IF(「入力シート」こちらで入力!D95 = \"あり\",\"■\",\"\")","v":""},null,"有（",{"$nulls":5},{"$f":"IF(「入力シート」こちらで入力!D95 = \"あり\",「入力シート」こちらで入力!H95,\"\")","v":""},{"$nulls":5},"歳）",{"$nulls":10},{"$f":"IF(「入力シート」こちらで入力!D95 = \"なし\",\"■\",\"\")","v":""},null,"無",{"$nulls":3},"　"]
[]
[{"$nulls":11},{"$f":"「入力シート」こちらで入力!D30","v":0},{"$nulls":77},"住宅",{"$nulls":11},"単身者用",{"$nulls":48},"世帯用"]
[{"$nulls":114},{"$f":"IF(「入力シート」こちらで入力!D96 = \"あり\",\"■\",\"\")","v":""},null,"有（",{"$nulls":4},{"$f":"IF(「入力シート」こちらで入力!H96 = \"可能\",\"■\",\"\")","v":""},null,"入居可",{"$nulls":7},{"$f":"IF(「入力シート」こちらで入力!H96 = \"不可\",\"■\",\"\")","v":""},null,"不可）",{"$nulls":8},{"$f":"IF(「入力シート」こちらで入力!D96 = \"なし\",\"■\",\"\")","v":""},null,"無",{"$nulls":18},{"$f":"IF(「入力シート」こちらで入力!D97 = \"あり\",\"■\",\"\")","v":""},null,"有（",{"$nulls":4},{"$f":"IF(「入力シート」こちらで入力!H97 = \"可能\",\"■\",\"\")","v":""},null,"入居可",{"$nulls":7},{"$f":"IF(「入力シート」こちらで入力!H96 = \"不可\",\"■\",\"\")","v":""},null,"不可）",{"$nulls":8},{"$f":"IF(「入力シート」こちらで入力!D97 = \"なし\",\"■\",\"\")","v":""},null,"無"]
[]
[{"$nulls":84},"備　　考"]
[{"$nulls":11},"学　　歴",{"$nulls":10},{"$f":"「入力シート」こちらで入力!D31","v":0},{"$nulls":66},"・求人票有効期限",{"$nulls":16},{"$f":"(「入力シート」こちらで入力!D98)","v":0},{"$nulls":7},"年",null,null,{"$f":"(「入力シート」こちらで入力!G98)","v":0},{"$nulls":4},"月",null,null,"末",{"$nulls":4},"日",{"$nulls":4},"指定のない場合の有効期間は３か月間です。"]
[]
[{"$nulls":7},"事業所の概要",{"$nulls":3},"生産品目　　事業内容",{"$nulls":9},{"$f":"「入力シート」こちらで入力!D32","v":0},{"$nulls":42},"創立設立",{"$nulls":6},{"$f":"「入力シート」こちらで入力!D33","v":0},{"$nulls":17},"・採用を希望する者の自衛隊時の階級",{"$nulls":38},{"$f":"IF(「入力シート」こちらで入力!D99 = \"特になし\",\"■\",\"\")","v":""},null,"特になし",{"$nulls":11},{"$f":"IF(「入力シート」こちらで入力!D99 = \"あり\",\"■\",\"\")","v":""},null,"あり",{"$nulls":5},"（",{"$nulls":3},{"$f":"「入力シート」こちらで入力!D100","v":0},{"$nulls":22},"）"]
[{"$nulls":128},"　","　","　","　",{"$nulls":36},"（",null,null,{"$f":"IF(「入力シート」こちらで入力!D102 = \"異なる\",「入力シート」こちらで入力!I102,\"\")","v":""},{"$nulls":24},"）"]
[{"$nulls":72},{"$f":"「入力シート」こちらで入力!F33","v":0},{"$nulls":16},"・試用期間",{"$nulls":16},{"$f":"IF(「入力シート」こちらで入力!D101 = \"あり\",\"■\",\"\")","v":""},null,"有（",{"$nulls":4},{"$f":"IF(「入力シート」こちらで入力!D101 = \"あり\",「入力シート」こちらで入力!J101,\"\")","v":""},{"$nulls":5},"）",{"$nulls":5},{"$f":"IF(「入力シート」こちらで入力!D101 = \"なし\",\"■\",\"\")","v":""},null,"無",{"$nulls":10},"労働条件",{"$nulls":11},{"$f":"IF(「入力シート」こちらで入力!D102 = \"同じ\",\"■\",\"\")","v":""},null,"同じ",{"$nulls":6},{"$f":"IF(「入力シート」こちらで入力!D102 = \"異なる\",\"■\",\"\")","v":""},null,"異なる"]
[{"$nulls":80},"年"]
[{"$nulls":11},"就業場所での従業員数",{"$nulls":9},{"$f":"「入力シート」こちらで入力!D34","v":0},{"$nulls":14},"人",{"$nulls":3},"資本金",{"$nulls":23},"労働\n組合",{"$nulls":24},"・選考方法",{"$nulls":16},{"$f":"IF(「入力シート」こちらで入力!F103 = TRUE,\"■\",\"\")","v":""},null,"面　接",{"$nulls":7},{"$f":"IF(「入力シート」こちらで入力!I103 = TRUE,\"■\",\"\")","v":""},null,"書類選考",{"$nulls":11},{"$f":"IF(「入力シート」こちらで入力!F104 = TRUE,\"■\",\"\")","v":""},null,"筆記試験",{"$nulls":9},{"$f":"IF(「入力シート」こちらで入力!I104 =TRUE,\"■\",\"\")","v":""},null,"その他",{"$nulls":7},"（","（",null,{"$f":"IF(「入力シート」こちらで入力!D105 = \"\",\"\",「入力シート」こちらで入力!D105)","v":""},{"$nulls":45},"）"]
[{"$nulls":47},{"$f":"「入力シート」こちらで入力!D36","v":0},{"$nulls":12},"万円",{"$nulls":13},{"$f":"「入力シート」こちらで入力!D37","v":0}]
[{"$nulls":89},"・その他",{"$nulls":10},{"$f":"「入力シート」こちらで入力!D106","v":0}]
[{"$nulls":11},"全社従業員数",{"$nulls":9},{"$f":"「入力シート」こちらで入力!D35","v":0},{"$nulls":14},"人"]
[{"$nulls":12},"（年商額など最近の業績）",{"$nulls":71},"確認事項",{"$nulls":4},"・退職自衛官の採用に関する確認事項",{"$nulls":41},"（確認した場合は□を黒塗りして下さい。）"]
[{"$nulls":12},{"$f":"「入力シート」こちらで入力!D38","v":0}]
[{"$nulls":91},"○第１項～第４項、第６項",{"$nulls":25},{"$f":"IF(「入力シート」こちらで入力!D107 =\"はい\",\"■\",\"\")","v":""},{"$nulls":9},"○第5項に該当（",{"$nulls":16},{"$f":"IF(「入力シート」こちらで入力!D108 =\"いいえ\",\"■\",\"\")","v":""},null,"する",{"$nulls":8},{"$f":"IF(「入力シート」こちらで入力!D108 =\"はい\",\"■\",\"\")","v":""},null,"しない　）",{"$nulls":47},"【求職者援護開始年月日】"]
[]
[{"$nulls":84},"予備自衛官等希望者の採用（採用をご検討いただける場合は□を黒塗りして下さい。両方を選択いただくことも可能です。）",{"$nulls":126},"・",{"$nulls":11},"・"]
[]
[{"$nulls":94},{"$f":"IF(「入力シート」こちらで入力!G109 = TRUE,\"■\",\"\")","v":""},null,"即応予備自衛官",{"$nulls":22},{"$f":"IF(「入力シート」こちらで入力!L109 = TRUE,\"■\",\"\")","v":""},null,"予備自衛官"]
[]
[{"$nulls":83},"　　　　　　"]
[]
[{"$nulls":83},"　"]
[]
[]
[]
[{"$nulls":12},"T","A","定","三浦1尉","雇用協","継続","【 有 】"]
[{"$nulls":12},"N","B","任","三浦曹長","一般","新規","【 無 】"]
[{"$nulls":13},"C",null,"長瀬非常勤","雇用協・新"]
[{"$nulls":13},"D",null,"小関非常勤","一般・新"]
[{"$nulls":13},"E",null,"真坂非常勤"]
[{"$nulls":13},"F",null,"伊豆田非常勤"]
[{"$nulls":13},"G",null,"栁町非常勤"]
[{"$nulls":13},"H",null,"五十嵐非常勤"]
[{"$nulls":13},"I"]
[{"$nulls":13},"J"]
[{"$nulls":13},"K"]
[{"$nulls":13},"L"]
[{"$nulls":13},"M"]
[{"$nulls":13},"N"]
[{"$nulls":13},"O"]
[{"$nulls":13},"P"]
[{"$nulls":13},"Q"]
[{"$nulls":13},"R"]
[{"$nulls":13},"S"]
[{"$nulls":13},"T"]
{"$rows_empty":40}
[null,"■",null,null,2,2]
[{"$nulls":4},2,2]

{"sheet":"■入力不可（裏）","index":9,"n_rows":40,"n_cols":20,"rows_kept":40,"merged":[[1,1,1,5],[1,6,1,11],[2,1,3,5],[2,6,3,11],[5,1,10,1],[5,2,6,5],[5,6,6,17],[5,19,6,24],[11,1,38,1],[11,2,12,4],[11,5,12,7],[11,8,12,10],[11,11,12,14],[11,16,12,17],[11,18,12,18],[12,15,13,15],[13,2,14,4],[13,5,14,7],[13,8,14,10],[13,12,14,14],[13,16,14,17],[13,18,14,18],[15,2,16,4],[15,5,15,7],[15,11,16,14],[15,16,16,17],[15,18,16,18],[16,5,17,7],[16,15,17,15],[17,2,18,4],[17,13,18,14],[17,16,18,17],[17,18,18,18],[18,5,18,7],[19,2,20,4],[19,5,19,7],[19,11,20,14],[19,16,20,17],[19,18,20,18],[20,5,21,7],[20,15,21,15],[21,2,22,4],[21,13,22,14],[21,16,22,17],[21,18,22,18],[22,5,22,7],[23,2,24,4],[23,5,23,7],[23,11,24,14],[23,16,24,17],[23,18,24,18],[24,5,25,7],[24,15,25,15],[25,2,26,4],[25,13,26,14],[25,16,26,17],[25,18,26,18],[26,5,26,7],[27,2,28,4],[27,5,27,7],[27,11,28,14],[27,16,28,17],[27,18,28,18],[28,5,29,7],[28,15,29,15],[29,2,30,4],[29,13,30,14],[29,16,30,17],[29,18,30,18],[30,5,30,7],[31,2,32,4],[31,5,31,7],[31,11,32,14],[31,16,32,17],[31,18,32,18],[32,5,33,7],[32,15,33,15],[33,2,34,4],[33,13,34,14],[33,16,34,17],[33,18,34,18],[34,5,34,7],[35,2,36,4],[35,5,35,7],[35,11,36,14],[35,16,36,17],[35,18,36,18],[36,5,37,7],[36,15,37,15],[37,2,38,4],[37,13,38,14],[37,16,38,17],[37,18,38,18],[38,5,38,7],[39,2,39,24]]}
[]
[null,"事業所名",{"$nulls":4},"紹介所整理番号"]
[]
[]
[]
[null,"情 報 処 置 欄","年月日",{"$nulls":3},"処　　　置　　　概　　　要",{"$nulls":11},"取扱者","備考"]
[{"$nulls":18},"㊞"]
[]
[]
[]
[]
[null,"紹 　介　 状　 況　 欄","紹介年月日",null,null,"自 衛 隊",null,null,"所　　属",null,null,"氏　　　　　　　名",{"$nulls":3},"採","採用年月日",null,"採否結果"]
[{"$nulls":15},"否"]
[null,null,"確認事項",null,null,"区　  分",null,null,"階　　級",{"$nulls":3},"（年　　　令）",{"$nulls":3},"不調理由等",null,"確 認  ㊞"]
[{"$nulls":15},"別"]
[{"$nulls":5},"陸",{"$nulls":9},"採"]
[{"$nulls":5},"海",{"$nulls":9},"・"]
[null,null,"確認済",{"$nulls":10},"　　　　（　　　　　）"]
[{"$nulls":5},"空",{"$nulls":9},"否"]
[{"$nulls":5},"陸",{"$nulls":9},"採"]
[{"$nulls":5},"海",{"$nulls":9},"・"]
[null,null,"確認済",{"$nulls":10},"　　　　（　　　　　）"]
[{"$nulls":5},"空",{"$nulls":9},"否"]
[{"$nulls":5},"陸",{"$nulls":9},"採"]
[{"$nulls":5},"海",{"$nulls":9},"・"]
[null,null,"確認済",{"$nulls":10},"　　　　（　　　　　）"]
[{"$nulls":5},"空",{"$nulls":9},"否"]
[{"$nulls":5},"陸",{"$nulls":9},"採"]
[{"$nulls":5},"海",{"$nulls":9},"・"]
[null,null,"確認済",{"$nulls":10},"　　　　（　　　　　）"]
[{"$nulls":5},"空",{"$nulls":9},"否"]
[{"$nulls":5},"陸",{"$nulls":9},"採"]
[{"$nulls":5},"海",{"$nulls":9},"・"]
[null,null,"確認済",{"$nulls":10},"　　　　（　　　　　）"]
[{"$nulls":5},"空",{"$nulls":9},"否"]
[{"$nulls":5},"陸",{"$nulls":9},"採"]
[{"$nulls":5},"海",{"$nulls":9},"・"]
[null,null,"確認済",{"$nulls":10},"　　　　（　　　　　）"]
[{"$nulls":5},"空",{"$nulls":9},"否"]
[null,null,"※紹介年月日において、退職自衛官の採用に関する確認事項に変動がないことを確認し、当該確認が取れた場合には「確認済」を○で囲むこと。"]