{"text_format":"3","workbook":"xlsx","n_sheets":8,"sheets":["企業様へ（最初にご覧ください。）","「入力シート」こちらで入力","求人票(入力不可)","確認事項 (表面）","確認事項(裏面)","予備自衛官制度の概要","求人票(裏)(入力不可）","援護機関等入力シート"],"not_rendered":{"images":3,"macros":1,"external_links":8,"defined_names":370},"read":"whole","date_system":"1900"}

{"sheet":"企業様へ（最初にご覧ください。）","index":0,"n_rows":2,"n_cols":2,"rows_kept":2,"merged":[[1,1,9,1],[10,1,18,1],[19,1,27,1]]}
[]
[null,"退職自衛官の求人をお考えの企業　様\n\n  新たな再就職規制に係る改正自衛隊法が平成２７年１０月１日から施行\nされたことに伴い、再就職結果の公表が義務付けられるとともに、防衛省\nにおける自主規制を受けて、紹介を行う日から遡って２年以内に、役員等\nが贈賄を行うなど刑法に違反する行為を行った営利企業等については、\n退職自衛官を紹介できないこととなりました。併せて、「個人情報の取扱\nい」及び「反社会的勢力の排除」に関する事項につきましても、確認でき\nない場合には退職自衛官を紹介できないこととなっております。\n\n　また、平成２９年４月１日から（即応）予備自衛官希望者の受け入れに\n関する検討の可能性について記入いただくこととなりました。\nこれは、国の施策である予備自衛官制度についてご理解・ご協力を得る\nきっかけとしたく設けたものです。\n　尚、当該欄の記入の有無により登録・紹介等の取扱が異なることはご\nざいません。ご検討を宜しくお願い申し上げます。\n\n　各企業様におかれましては、上記内容につきましてご理解頂き、今後\nとも、退職自衛官の再就職に関しまして、ご理解、ご協力を賜りますよう、\n宜しくお願い申し上げます。\n\n                           ２０２３年４月１日\n\n                                          退職自衛官広島無料職業紹介所\n　　                                                            所長　深谷　克郎\n"]

{"sheet":"「入力シート」こちらで入力","index":1,"n_rows":111,"n_cols":13,"rows_kept":111,"merged":[[0,3,0,12],[1,3,1,5],[1,6,1,12],[2,1,3,1],[2,3,2,12],[3,3,3,12],[4,0,5,0],[4,1,5,1],[4,3,4,5],[4,6,4,12],[5,3,5,5],[6,1,8,1],[6,3,6,5],[6,6,6,12],[7,3,7,12],[8,3,8,6],[9,1,11,1],[9,3,9,6],[10,3,10,6],[11,3,11,6],[12,1,19,1],[12,3,12,12],[13,3,13,12],[14,3,14,5],[14,6,14,10],[15,3,15,12],[16,3,16,12],[17,5,17,12],[18,5,18,12],[19,3,19,12],[20,1,27,1],[20,3,20,4],[21,3,21,12],[22,3,22,6],[23,3,23,6],[24,3,24,4],[24,5,24,6],[25,3,25,12],[26,3,26,4],[26,5,26,12],[27,3,27,12],[28,1,29,1],[28,3,28,12],[29,3,29,12],[30,1,31,1],[30,3,30,12],[31,3,31,6],[32,1,38,1],[32,3,32,12],[33,3,33,4],[33,6,33,12],[34,3,34,4],[34,6,34,12],[35,3,35,4],[35,6,35,12],[36,3,36,4],[36,6,36,12],[37,3,37,4],[37,5,37,12],[38,3,38,12],[39,1,41,1],[40,3,40,4],[40,6,40,12],[41,3,41,4],[42,1,48,1],[48,3,48,12],[49,1,54,1],[49,5,49,12],[50,3,50,4],[50,5,50,12],[51,3,51,4],[51,5,51,12],[52,3,52,12],[53,5,53,12],[54,3,54,4],[54,5,54,12],[55,1,60,1],[55,2,56,2],[57,3,57,12],[58,3,58,4],[58,6,58,9],[59,3,59,7],[59,8,59,12],[60,3,60,4],[60,6,60,12],[61,3,61,4],[61,6,61,9],[62,5,62,12],[63,1,65,1],[63,3,63,4],[63,5,63,12],[64,3,64,4],[64,7,64,12],[65,3,65,4],[65,5,65,6],[66,1,73,1],[66,3,66,4],[66,7,66,8],[66,10,66,12],[67,3,67,4],[67,5,67,6],[67,8,67,12],[68,3,68,4],[68,5,68,6],[68,8,68,12],[69,3,69,4],[69,5,69,6],[69,8,69,12],[70,3,70,4],[70,5,70,6],[70,8,70,12],[71,3,71,4],[71,5,71,6],[71,8,71,12],[72,3,72,4],[72,5,72,6],[72,8,72,12],[73,5,73,6],[73,8,73,9],[73,11,73,12],[74,1,84,1],[74,3,74,4],[74,5,74,6],[74,8,74,12],[75,3,75,4],[75,5,75,6],[75,8,75,12],[76,3,76,4],[76,5,76,6],[76,8,76,12],[77,3,77,4],[77,5,77,6],[77,8,77,12],[78,3,78,4],[78,5,78,6],[78,8,78,12],[79,3,79,4],[79,5,79,6],[79,8,79,12],[80,3,80,4],[80,5,80,6],[80,8,80,12],[81,3,81,4],[81,5,81,6],[81,8,81,12],[82,3,82,4],[82,5,82,6],[82,8,82,12],[83,3,83,4],[83,5,83,6],[83,9,83,10],[84,3,84,4],[84,5,84,6],[85,3,85,4],[85,5,85,6],[85,7,85,8],[85,10,85,11],[86,1,87,1],[86,3,86,4],[86,5,86,6],[87,3,87,4],[87,6,87,7],[88,3,88,4],[88,6,88,8],[89,1,91,1],[89,2,91,2],[92,4,92,6],[93,3,93,4],[94,1,95,1],[94,3,94,4],[94,5,94,6],[94,7,94,8],[95,3,95,4],[95,5,95,6],[95,7,95,8],[96,1,97,1],[96,3,96,4],[96,5,96,6],[96,7,96,8],[97,3,97,4],[97,5,97,6],[97,7,97,8],[98,1,100,1],[98,3,98,4],[99,3,99,4],[100,3,100,4],[101,1,102,1],[101,3,101,4],[101,5,101,7],[101,9,101,10],[102,3,102,4],[102,5,102,6],[102,8,102,10],[103,1,105,1],[103,2,104,2],[103,9,104,12],[105,3,105,12],[106,3,106,12],[107,1,108,1],[107,3,107,4],[107,5,107,12],[108,3,108,4],[108,5,108,12],[109,3,109,5],[109,8,109,10],[110,3,110,12]]}
["№","区　分","入　力　項　目","入力欄「赤く塗りつぶした箇所に入力してください。」"]
[1,"定年・任期","定年制「54～57歳での定年退職者」、任期制「20歳代半ば～30歳前半での任期満了退職者」のいずれかを選択してください。定年制、任期制の両方の求人票を出される場合は、別々で2枚お願いします。"]
[2,"事業所名","事業所名"]
[3,null,"事業所名のふりがなが違う時は正しいものを記入"]
[4,"代表者","代表者の職名"]
[null,null,"代表者の氏名"]
[5,"所在地","郵便番号　（例）123-4567"]
[6,null,"住所"]
[7,null,"電話番号　（例）082-234-1234"]
[8,"採用事務担当者","部課名"]
[9,null,"氏名"]
[10,null,"電話番号　（例）082-1234-1234"]
[11,"職種・年齢等","採用職種（入社直後）　（例）事務員　重機オペレーター　等"]
[12,null,"雇入れ後の職種の「変更の範囲」　　　　　　　　　　　　　　　　　　　　　　　　　※「変更の範囲」とは、雇入れ直後にとどまらず、将来の配置転換など今後の見込みも含めた、締結する労働契約の期間中における変更の範囲のことをいいます。"]
[13,null,"雇用形態について（次の2項目をそれぞれ記入してください。）　\n　D15セル：正社員／正社員以外の別\n　G15セル：派遣・請負でない／有期雇用派遣／無期雇用派遣／請負　等の別"]
[14,null,"上記、正社員以外の雇用形態を記入（例）嘱託社員、契約社員　等"]
[15,null,"役職名について　（例）工場長　総務課長　経理係長　等"]
[16,null,"採用人員数「通勤」　",null,"人"]
[17,null,"採用人員数「住込」　※　なしの場合は、０を記入",null,"人"]
[18,null,"止むを得ない理由による年齢制限がある場合は、その理由を記入\n（注）高年齢者雇用安定法の改正により、16年12月1日から、募集及び採用にあたって「止むを得ない理由により年齢制限」をする場合には、その個別具体的な理由を書面で提示するように義務付けられました。\n（例）対象は５９歳以下（理由：定年が６０歳のため）"]
[19,"就業場所","就業場所が事業所名の下欄の所在地と「同じ」か「異なる」か"]
[20,null,"上記で「異なる」を選択した場合の就業場所の住所"]
[21,null,"最寄りの路線名"]
[22,null,"最寄りの駅名"]
[23,null,"最寄駅から「バス」又は「徒歩」での時間",{"$nulls":4},"分"]
[24,null,"雇入れ後に転勤、配置転換等の可能性がある場合は、その就業場所を記入"]
[25,null,"屋内の受動喫煙対策について"]
[26,null,"受動喫煙対策について追加事項があれば記入"]
[27,"職務内容","雇入れ直後の、仕事の内容を記入"]
[28,null,"雇入れ後に変更の可能性がある場合は、その可能性のある仕事の内容を記入"]
[29,"必須技能等","必要な経験（年数）・技能・知識・免許資格について"]
[30,null,"必要な学歴を記入"]
[31,"事業所の概要","事業所の生産品目・事業内容を記入"]
[32,null,"創立・設立年を西暦で記入",null,null,"年"]
[33,null,"就業場所における従業員数を記入",null,null,"人"]
[34,null,"会社等全体の従業員数を記入",null,null,"人"]
[35,null,"資本金を記入　　（例）500万円　12,000万円",null,null,"万円"]
[36,null,"労働組合について"]
[37,null,"年商額など最近の業績を記入"]
[38,"就業時間","就業時間を記入",null,"時",null,"分","～",null,"時",null,"分"]
[39,null,"シフトの場合、始業時間、終業時間の間での労働時間\n（例）７．５時間等で記入",null,null,"時間"]
[40,null,"変形労働時間制を採用されている場合は、その単位"]
[41,"交替制","勤務は交替制ですか？"]
[42,null,"①交替制の「時間」を記入　※一例：9時００分　午後の場合　17時００分　等",null,"時",null,"分","～",null,"時",null,"分"]
[43,null,"②交替制の「時間」を記入",null,"時",null,"分","～",null,"時",null,"分"]
[44,null,"③交替制の「時間」を記入",null,"時",null,"分","～",null,"時",null,"分"]
[45,null,"④交替制の「時間」を記入",null,"時",null,"分","～",null,"時",null,"分"]
[46,null,"⑤交替制の「時間」を記入",null,"時",null,"分","～",null,"時",null,"分"]
[47,null,"交代制について特記事項があれば記入"]
[48,"雇用期間\n（正社員以外）\n\n※13番で正社員以外だった場合","契約期間は何か月ですか？",null,"ヵ月"]
[49,null,"労働契約の更新はありますか？"]
[50,null,"契約の更新期間の上限はありますか？"]
[51,null,"具体的な更新の上限理由を記入"]
[52,null,"具体的な更新の上限回数を記入",null,"回"]
[53,null,"正社員に登用される可能性"]
[54,"休日等","休日について","土曜日",false,null,null,"日曜日",false]
[55,null,null,"祝日",false,null,null,"会社カレンダー",false]
[56,null,"その他、休日について補足があれば記入"]
[57,null,"週休２日制について",{"$nulls":3},{"$f":"IF(D59 = \"月数回\",\"月平均で何回ですか？\",\"\")","v":""},{"$nulls":4},{"$f":"IF(G59=\"\",\"\",IF(F59=\"\",\"回\",\"\"))","v":""}]
[58,null,"その他、補足事項があれば記入（例）月毎に勤務表を作成"]
[59,null,"年間休日数について",null,null,"日"]
[60,"時間外","時間外勤務について",{"$nulls":3},{"$f":"IF(D62 = \"あり\",\"月平均で何時間ですか？\",\"\")","v":""},{"$nulls":4},{"$f":"IF(G62=\"\",\"\",IF(F62=\"\",\"時間\",\"\"))","v":""}]
[61,"休憩時間","休憩時間について",null,"分"]
[62,"賃金支払","賃金形態について"]
[63,null,"賃金の支払日について",{"$nulls":3},"日"]
[64,null,"賃金の締め切り日について",{"$nulls":4},"←「その他」の場合は日等を記入して下さい"]
[65,"定期的に支払われる賃金","基本給（月額）で記入（最低額～最高額を記入して下さい）",null,null,"円","～",null,null,"円"]
[66,null,"①「手当名」と「手当金額」を記入（最低額を記入して下さい）",{"$nulls":4},"円",{"$f":"IF(D68=\"\",\"手当\",\"\")","v":"手当"}]
[67,null,"②「手当名」と「手当金額」を記入（最低額を記入して下さい）",{"$nulls":4},"円","手当"]
[68,null,"③「手当名」と「手当金額」を記入（最低額を記入して下さい）",{"$nulls":4},"円","手当"]
[69,null,"④「手当名」と「手当金額」を記入（最低額を記入して下さい）",{"$nulls":4},"円","手当"]
[70,null,"⑤「手当名」と「手当金額」を記入（最低額を記入して下さい）",{"$nulls":4},"円","手当"]
[71,null,"⑥「手当名」と「手当金額」を記入（最低額を記入して下さい）",{"$nulls":4},"円","手当"]
[72,null,"固定残業代について（時間と金額）　※固定残業代は残業がなくても必ず支払うものです。",null,"時間分",null,null,"円～",null,null,"円"]
[73,"個人の状況に応じて支払われる賃金","①「手当名」と「手当金額」を記入（最低額を記入して下さい）　例：家族手当　子供手当",{"$nulls":4},"円","手当金額に大きな幅がある場合は、記事欄に記入して下さい。"]
[74,null,"②「手当名」と「手当金額」を記入（最低額を記入して下さい）",{"$nulls":4},"円"]
[75,null,"③「手当名」と「手当金額」を記入（最低額を記入して下さい）",{"$nulls":4},"円"]
[76,null,"④「手当名」と「手当金額」を記入（最低額を記入して下さい）",{"$nulls":4},"円"]
[77,null,"⑤「手当名」と「手当金額」を記入（最低額を記入して下さい）",{"$nulls":4},"円"]
[78,null,"⑥「手当名」と「手当金額」を記入（最低額を記入して下さい）",{"$nulls":4},"円"]
[79,null,"⑦「手当名」と「手当金額」を記入（最低額を記入して下さい）",{"$nulls":4},"円"]
[80,null,"⑧「手当名」と「手当金額」を記入（最低額を記入して下さい）",{"$nulls":4},"円"]
[81,null,"⑨「手当名」と「手当金額」を記入（最低額を記入して下さい）",{"$nulls":4},"円"]
[82,null,"時間外手当について（月平均）　　　（例）１０　時間分　20,000～30,000\n※時間外手当は発生した都度支払うもの",{"$nulls":4},"円","～",null,null,"円"]
[83,null,"通勤手当について\n実費の場合の「最高限度額」、定額の場合「支給金額」を記入",{"$nulls":4},"円"]
[84,"昇　給","昇給について（",null,null,{"$f":"IF(D86=\"あり\",\"前年度実績の金額\",\"\")","v":""},{"$nulls":3},{"$f":"IF(D86=\"あり\",\"円～\",\"\")","v":""},null,null,{"$f":"IF(D86=\"あり\",\"円\",\"\")","v":""}]
[85,"賞　与","賞与について",null,null,{"$f":"IF(D87=\"あり\",\"前年度実績の回数\",\"\")","v":""},null,null,{"$f":"IF(D87=\"あり\",\"回\",\"\")","v":""}]
[86,null,{"$f":"IF(D87=\"あり\",\"前年度実績の月数分又は金額\",\"\")","v":""},null,null,"又は",null,null,{"$f":"IF(C88=\"\",\"\",IF(G88=\"\",\"万円\",\"\"))","v":""}]
[87,"年俸制","年俸制であれば「金額」を記入　（単位：※※※万円）",null,null,"～"]
[88,"加入保険","加入保険について","雇用保険",null,false,null,"労災保険",null,false]
[89,null,null,"健康保険",null,false,null,"厚生年金保険",null,false]
[90,null,null,"退職金共済",null,false,null,"財形貯蓄",null,false]
[91,"退職金制度","退職金制度について",null,{"$f":"IF(D93=\"あり\",\"ある場合の最低勤務年数\",\"\")","v":""},null,null,{"$f":"IF(D93=\"あり\",\"（\",\"\")","v":""},null,{"$f":"IF(D93=\"あり\",\"）\",\"\")","v":""},{"$f":"IF(E93=\"\",\"\",IF(I93=\"\",\"年\",\"\"))","v":""}]
[92,"通　学","通学について"]
[93,"定年制","定年について",null,null,{"$f":"IF(D95=\"あり\",\"ある場合の年齢\",\"\")","v":""},{"$nulls":3},{"$f":"IF(F95=\"\",\"\",IF(H95=\"\",\"歳\",\"\"))","v":""}]
[94,null,"再雇用又は勤務延長について",null,null,{"$f":"IF(D96=\"あり\",\"ある場合の年齢\",\"\")","v":""},{"$nulls":3},{"$f":"IF(F96=\"\",\"\",IF(H96=\"\",\"歳\",\"\"))","v":""}]
[95,"住　宅","社宅等について（単身者用）",null,null,{"$f":"IF(D97=\"あり\",\"入居について\",\"\")","v":""}]
[96,null,"社宅等について（世帯者用）",null,null,{"$f":"IF(D98=\"あり\",\"入居について\",\"\")","v":""}]
[97,"採用希望","採用希望期限を記入して下さい。  ※2024 「年」 ３ 「月」\n※「任期制」は申込年度末（３月末）まで、「定年制」は１年以内で入力して下さい。",null,null,"年",null,"月","末日"]
[98,null,"採用を希望する者の自衛隊時の階級の希望がありますか？"]
[99,null,"採用を希望する者の自衛隊時の希望階級を記入してください"]
[100,"試用期間","試用期間はありますか？",null,null,{"$f":"IF(D102=\"あり\",\"ある場合は月数で記入→\",\"\")","v":""},null,null,{"$f":"IF(D102=\"あり\",\"（\",\"\")","v":""},null,null,{"$f":"IF(D102=\"あり\",\"）\",\"\")","v":""}]
[101,null,"試用期間中の労働条件について",null,null,{"$f":"IF(D103=\"異なる\",\"条件を記入→\",\"\")","v":""},null,{"$f":"IF(D103=\"異なる\",\"（\",\"\")","v":""},{"$nulls":3},{"$f":"IF(D103=\"異なる\",\"）\",\"\")","v":""}]
[102,"選考方法","選考方法について",null,"面接",false,null,"書類選考",false]
[103,{"$nulls":3},"筆記試験",false,null,"その他",false]
[104,null,"選考方法が「その他」の場合に記入"]
[105,"その他","採用希望・使用期間・選考方法について上記以外で何かあれば記入"]
[106,"確認事項","本エクセルシート下部のタブ「確認事項①」の内容を確認されましたか？"]
[107,null,"本エクセルシート下部のタブ「確認事項②」の内容を確認されましたか？「求人不受理の対象となる場合と期間」に該当していませんか？"]
[108,"予備自衛官等","本エクセルシート下部のタブ「予備自衛官制度の概要」をクリックしてご一読ください。予備自衛官制度の説明があります。「即応予備自衛官」及び「予備自衛官」を希望する者の採用が可能であればチェックを記入して下さい。いづれか一つでも結構です。","即応予備自衛官",null,null,false,null,"予備自衛官",null,null,false]
[109,"記事欄","本記事欄では、求人票全体の補足事項の記入にお使い下さい。右欄に記入して頂くと、求人票の右側の記事欄に反映されます。\n例）１日の勤務のパターン例、転勤の可能性のある支店所在地、元自衛官の採用実績、諸手当を含めた場合の平均的な月給額等、求職者の参考となることをお書き下さい。"]

{"sheet":"求人票(入力不可)","index":2,"n_rows":171,"n_cols":234,"rows_kept":171,"merged":[[4,13,6,23],[4,28,6,65],[4,68,5,92],[4,93,5,203],[4,205,5,234],[5,10,5,11],[6,68,9,92],[6,93,9,115],[6,116,7,124],[6,138,7,148],[6,160,7,174],[6,182,7,196],[6,205,11,208],[7,13,9,23],[7,28,9,65],[7,210,10,233],[8,10,8,11],[8,116,9,137],[8,138,9,159],[8,160,9,181],[8,182,9,203],[10,0,101,0],[10,1,101,1],[10,2,101,2],[10,3,101,3],[10,4,101,4],[10,5,101,5],[10,6,101,6],[10,7,10,171],[11,7,12,20],[11,21,12,83],[11,84,31,88],[11,89,25,92],[11,94,12,98],[11,99,12,101],[11,104,12,107],[11,108,12,114],[11,116,14,119],[11,149,25,152],[12,122,13,125],[12,126,13,128],[12,129,13,130],[12,131,13,133],[12,134,13,135],[12,136,13,137],[12,138,13,140],[12,141,13,142],[12,143,13,145],[12,146,13,147],[12,154,12,155],[12,157,12,177],[12,205,24,208],[12,209,18,234],[13,7,17,20],[13,21,17,83],[14,94,16,98],[14,99,16,101],[14,104,16,107],[14,108,16,114],[14,122,16,125],[14,126,16,128],[14,129,16,130],[14,131,16,133],[14,134,16,135],[14,136,16,137],[14,138,16,140],[14,141,16,142],[14,143,16,145],[14,146,16,147],[14,154,14,155],[14,179,14,186],[16,117,16,118],[16,154,16,175],[17,93,18,115],[17,122,18,125],[17,126,18,128],[17,129,18,130],[17,131,18,133],[17,134,18,135],[17,136,18,137],[17,138,18,140],[17,141,18,142],[17,143,18,145],[17,146,18,147],[18,7,21,20],[18,21,21,51],[18,52,21,83],[18,117,18,118],[18,154,18,155],[18,163,18,164],[18,173,18,174],[18,190,18,191],[20,93,21,94],[20,95,21,102],[20,103,21,109],[20,110,21,113],[20,114,21,115],[20,122,21,125],[20,126,21,128],[20,129,21,130],[20,131,21,133],[20,134,21,135],[20,136,21,137],[20,138,21,140],[20,141,21,142],[20,143,21,145],[20,146,21,147],[20,154,20,170],[20,173,20,174],[20,190,20,191],[20,209,24,234],[21,154,21,171],[21,172,21,200],[21,201,21,202],[22,7,28,20],[22,21,23,23],[22,25,23,48],[22,50,23,52],[22,53,23,81],[22,93,23,115],[22,117,22,118],[22,122,23,125],[22,126,23,128],[22,129,23,130],[22,131,23,133],[22,134,23,135],[22,136,23,137],[22,138,23,140],[22,141,23,142],[22,143,23,145],[22,146,23,147],[22,154,22,171],[22,172,22,200],[22,201,22,202],[23,117,23,118],[23,154,23,198],[24,22,28,82],[24,93,25,94],[24,95,25,102],[24,103,25,112],[24,113,25,115],[24,125,25,147],[24,156,24,165],[24,167,24,168],[24,183,24,184],[25,205,29,208],[25,209,29,234],[26,89,28,100],[26,155,28,157],[26,158,28,172],[26,173,28,175],[26,176,31,178],[26,194,31,196],[27,102,27,103],[27,109,27,110],[27,116,27,117],[27,123,27,124],[27,145,27,146],[27,180,27,181],[27,187,27,188],[28,197,29,202],[29,7,33,20],[29,21,30,27],[29,28,33,43],[29,44,30,49],[29,50,30,82],[29,89,31,100],[29,146,31,153],[29,156,31,166],[30,102,30,103],[30,109,30,110],[30,116,30,117],[30,123,30,124],[30,130,30,131],[30,135,30,136],[30,144,30,145],[30,154,30,155],[30,167,30,173],[30,174,30,175],[30,182,30,186],[30,201,31,203],[30,205,35,208],[30,209,33,234],[31,50,33,52],[31,53,33,82],[32,84,71,88],[32,89,34,100],[32,166,34,168],[32,169,34,200],[32,201,34,203],[33,102,33,103],[33,112,33,113],[33,122,33,123],[33,135,33,136],[33,145,33,146],[33,157,33,158],[34,7,52,10],[34,11,36,20],[34,21,36,63],[34,64,41,69],[34,71,35,79],[34,209,35,211],[34,212,35,214],[34,215,35,232],[34,233,35,234],[35,89,37,100],[35,139,37,147],[35,191,37,200],[36,71,37,79],[36,80,37,82],[36,111,36,112],[36,118,36,123],[36,128,36,129],[36,163,36,164],[36,165,36,172],[36,180,36,181],[37,11,38,20],[37,21,38,63],[37,205,38,234],[38,71,39,79],[38,89,63,91],[38,92,52,100],[38,101,38,136],[39,11,47,20],[39,24,40,24],[39,25,41,31],[39,36,41,45],[39,46,41,47],[39,62,41,63],[39,101,40,124],[39,125,40,129],[39,130,40,153],[39,154,40,156],[39,205,102,234],[40,22,40,23],[40,33,40,34],[40,48,40,61],[40,71,41,79],[40,80,41,82],[41,101,48,104],[41,105,42,134],[41,135,42,139],[41,140,42,148],[41,149,42,154],[41,155,42,183],[41,184,42,188],[41,189,42,198],[41,199,42,203],[42,25,44,41],[42,48,44,62],[42,68,44,80],[43,22,43,23],[43,45,43,46],[43,65,43,66],[43,105,44,134],[43,135,44,139],[43,140,44,148],[43,149,44,154],[43,155,44,183],[43,184,44,188],[43,189,44,198],[43,199,44,203],[45,25,47,62],[45,105,46,134],[45,135,46,139],[45,140,46,148],[45,149,46,154],[45,155,46,183],[45,184,46,188],[45,189,46,198],[45,199,46,203],[46,22,46,23],[47,105,48,119],[47,120,48,125],[47,126,48,134],[47,136,48,144],[47,145,48,150],[47,151,48,159],[47,160,48,163],[48,11,49,20],[48,21,49,83],[49,101,50,107],[49,108,50,130],[49,131,50,136],[49,137,50,163],[49,164,50,167],[50,11,50,83],[51,11,52,83],[51,101,52,203],[53,7,78,10],[53,11,66,14],[53,92,63,100],[53,102,54,115],[53,116,54,120],[53,121,54,133],[53,134,54,138],[53,139,54,151],[53,152,54,156],[53,157,54,169],[53,170,54,173],[53,174,54,187],[53,188,54,192],[53,193,54,199],[53,200,54,203],[54,17,54,18],[54,38,54,39],[55,16,57,82],[55,102,56,115],[55,116,56,120],[55,121,56,133],[55,134,56,138],[55,139,56,151],[55,152,56,156],[55,157,56,169],[55,170,56,173],[55,174,56,187],[55,188,56,192],[55,193,56,199],[55,200,56,203],[57,102,58,115],[57,116,58,120],[57,121,58,133],[57,134,58,138],[57,139,58,151],[57,152,58,156],[57,157,58,169],[57,170,58,173],[57,174,58,187],[57,188,58,192],[57,193,58,199],[57,200,58,203],[58,15,59,17],[58,18,59,31],[58,32,59,38],[58,39,59,54],[58,55,59,59],[58,72,58,77],[59,72,59,77],[59,101,60,118],[59,119,60,123],[59,124,60,137],[59,138,60,150],[59,151,60,155],[59,160,60,174],[59,175,60,178],[60,15,62,23],[60,24,62,83],[61,101,63,109],[62,111,62,112],[62,124,62,138],[62,149,62,150],[62,158,62,172],[63,15,66,23],[64,26,64,27],[64,36,64,37],[64,38,64,43],[64,44,64,45],[64,59,64,60],[64,89,66,94],[64,95,66,100],[65,24,66,33],[65,34,66,83],[65,102,65,103],[65,108,65,109],[65,147,65,160],[65,167,65,180],[67,11,78,14],[67,89,69,94],[67,95,69,100],[68,15,73,83],[68,102,68,103],[68,108,68,109],[68,130,68,135],[68,144,68,151],[68,162,68,173],[70,89,71,111],[70,112,71,127],[70,129,71,135],[70,136,71,153],[70,155,71,158],[72,84,83,88],[72,89,74,100],[73,102,73,103],[73,104,73,108],[73,111,73,112],[73,113,73,117],[73,120,73,121],[73,122,73,126],[73,129,73,130],[73,131,73,140],[73,142,73,143],[73,144,73,155],[73,157,73,158],[73,159,73,164],[75,15,78,83],[75,89,77,100],[75,151,77,159],[76,109,76,110],[76,120,76,125],[76,139,76,140],[76,162,76,163],[76,173,76,174],[78,89,80,100],[78,132,80,153],[79,7,86,10],[79,11,80,83],[79,103,79,104],[79,110,79,114],[79,122,79,123],[79,156,79,157],[79,164,79,168],[79,181,79,182],[81,11,84,83],[81,89,83,100],[81,101,83,112],[81,150,83,161],[82,114,82,115],[82,121,82,122],[82,123,82,129],[82,131,82,132],[82,133,82,139],[82,142,82,143],[82,163,82,164],[82,170,82,171],[82,172,82,178],[82,180,82,181],[82,182,82,188],[82,191,82,192],[84,84,94,88],[85,11,86,20],[85,22,86,82],[85,89,85,105],[85,106,85,113],[85,114,85,116],[85,117,85,121],[85,122,85,124],[85,125,85,129],[85,130,85,132],[85,135,85,182],[87,7,102,10],[87,11,90,20],[87,21,90,63],[87,64,90,69],[87,71,88,75],[87,89,87,125],[87,128,87,129],[87,130,87,138],[87,142,87,143],[87,144,87,149],[87,150,87,152],[87,154,87,176],[87,177,87,180],[88,168,90,170],[88,171,90,195],[88,196,90,198],[89,72,90,79],[89,89,89,105],[89,106,89,107],[89,108,89,112],[89,113,89,118],[89,119,89,123],[89,125,89,126],[89,138,89,147],[89,150,89,151],[89,159,89,160],[91,11,93,20],[91,21,93,35],[91,36,93,39],[91,40,94,46],[91,64,94,69],[91,89,91,105],[91,106,91,107],[91,108,91,114],[91,116,91,117],[91,118,91,127],[91,130,91,131],[91,132,91,141],[91,142,91,143],[91,144,91,151],[91,153,91,154],[91,155,91,200],[92,47,93,59],[92,60,93,63],[92,74,93,78],[93,89,93,98],[93,100,94,202],[94,11,94,20],[94,21,94,35],[94,36,94,39],[95,12,95,39],[95,84,98,88],[95,89,96,128],[95,131,96,180],[96,12,101,82],[97,91,98,116],[97,117,97,118],[97,127,98,142],[97,144,97,145],[97,146,98,150],[97,155,97,156],[97,157,98,167],[99,84,100,198],[101,94,101,95],[101,96,101,115],[101,119,101,120],[101,121,101,136]]}
[]
[]
[]
[]
[{"$nulls":13},"定年制",{"$nulls":14},"求　人　票",{"$nulls":39},"紹　介　期　限",{"$nulls":24},"紹　　介　　所　　専　　用　　整　　理　　欄",{"$nulls":111},"受付機関整理欄"]
[{"$nulls":10},{"$f":"IF(N5=「入力シート」こちらで入力!D2,\"■\",\"\")","v":""}]
[{"$nulls":68},{"$f":"援護機関等入力シート!B3","v":"2025-03-31"},{"$nulls":24},{"$f":"援護機関等入力シート!B4","v":0},{"$nulls":22},"受理番号",{"$nulls":21},"受理年月日",{"$nulls":21},"産業分類番号",{"$nulls":21},"職業分類番号",{"$nulls":22},"番号"]
[{"$nulls":13},"任期制",{"$nulls":14},"退職自衛官広島無料職業紹介所",{"$nulls":181},{"$f":"援護機関等入力シート!B10","v":0}]
[{"$nulls":10},{"$f":"IF(N8=「入力シート」こちらで入力!D2,\"■\",\"\")","v":""},{"$nulls":105},{"$f":"援護機関等入力シート!B5","v":0},{"$nulls":21},{"$f":"援護機関等入力シート!B6","v":"00:00:00"},{"$nulls":21},{"$f":"援護機関等入力シート!B7","v":0},{"$nulls":21},{"$f":"援護機関等入力シート!B8","v":0}]
[]
["［個人情報苦情及び相談窓口］一般財団法人自衛隊援護協会　事務局総務課（03‐5227‐5400）","　ては、左記にご連絡ください。遅滞なく回答いたします。  ","　はありません。なお、所定の項目にご記入いただけない場合には、適切な対応ができない場合があります。開示対象個人情報につい","　場合があります。求職者への提供、本人の同意がある場合又は法令に基づく場合を除き、取得した個人情報を第三者に提供すること","　ご記入いただいた個人情報は、求人者に適切な人材を紹介するために利用いたします。上記利用目的達成のため一部業務を委託する","［個人情報のお取扱いについて］個人情報保護管理者 事務局長","（記入上の注意）太線枠内を記入してください。"]
[{"$nulls":7},"ふりがな",{"$nulls":13},{"$f":"IF(「入力シート」こちらで入力!D4 = \"\",PHONETIC(「入力シート」こちらで入力!D3),「入力シート」こちらで入力!D4)","v":""},{"$nulls":62},"就　業　時　間",{"$nulls":4},"就業時間",{"$nulls":4},{"$f":"「入力シート」こちらで入力!D40","v":0},{"$nulls":4},"時",{"$nulls":4},{"$f":"「入力シート」こちらで入力!F40","v":0},{"$nulls":3},"分から",{"$nulls":7},"交替制",{"$nulls":32},"雇用期間"]
[{"$nulls":122},"①",{"$nulls":3},{"$f":"「入力シート」こちらで入力!D44","v":0},null,null,"時",null,{"$f":"「入力シート」こちらで入力!F44","v":0},null,null,"分",null,"～",null,{"$f":"「入力シート」こちらで入力!I44","v":0},null,null,"時",null,{"$f":"「入力シート」こちらで入力!K44","v":0},null,null,"分",{"$nulls":7},{"$f":"IF(「入力シート」こちらで入力!D15=\"正社員\",\"■\",\"\")","v":""},null,null,"雇用期間の定め 無",{"$nulls":47},"機　関　名",{"$nulls":3},{"$f":"援護機関等入力シート!B11","v":0}]
[{"$nulls":7},"事業所名",{"$nulls":13},{"$f":"「入力シート」こちらで入力!D3","v":0}]
[{"$nulls":94},{"$f":"「入力シート」こちらで入力!I40","v":0},{"$nulls":4},"時",{"$nulls":4},{"$f":"「入力シート」こちらで入力!K40","v":0},{"$nulls":3},"分まで",{"$nulls":13},"②",{"$nulls":3},{"$f":"「入力シート」こちらで入力!D45","v":0},null,null,"時",null,{"$f":"「入力シート」こちらで入力!F45","v":0},null,null,"分",null,"～",null,{"$f":"「入力シート」こちらで入力!I45","v":0},null,null,"時",null,{"$f":"「入力シート」こちらで入力!K45","v":0},null,null,"分",{"$nulls":7},{"$f":"IF(「入力シート」こちらで入力!D15=\"正社員以外\",\"■\",\"\")","v":""},null,null,"雇用期間の定め 有",{"$nulls":18},"（",null,null,{"$f":"「入力シート」こちらで入力!D50","v":0},{"$nulls":7},"）",null,"ヵ月"]
[]
[{"$nulls":21},{"$f":"#REF!","v":{"$error":"#REF!"}},{"$nulls":95},{"$f":"IF(「入力シート」こちらで入力!D43=\"有\",\"■\",\"\")","v":""},{"$nulls":36},"・更新の有無"]
[{"$nulls":93},"※シフト制の場合　　　　　　　",{"$nulls":28},"③",{"$nulls":3},{"$f":"「入力シート」こちらで入力!D46","v":0},null,null,"時",null,{"$f":"「入力シート」こちらで入力!F46","v":0},null,null,"分",null,"～",null,{"$f":"「入力シート」こちらで入力!I46","v":0},null,null,"時",null,{"$f":"「入力シート」こちらで入力!K46","v":0},null,null,"分"]
[{"$nulls":7},"代表者\n氏　　名",{"$nulls":13},{"$f":"「入力シート」こちらで入力!D5","v":0},{"$nulls":30},{"$f":"「入力シート」こちらで入力!D6","v":0},{"$nulls":64},"有",{"$nulls":36},{"$f":"IF(FH19=\"\",IF(FR19=\"\",\"\",\"■\"),\"■\")","v":""},null,null,"有",{"$nulls":3},"（",null,{"$f":"IF(「入力シート」こちらで入力!D51=\"条件あり\",\"■\",\"\")","v":""},null,"条件有",{"$nulls":7},{"$f":"IF(「入力シート」こちらで入力!D51=\"原則更新\",\"■\",\"\")","v":""},null,"原則更新",{"$nulls":8},"）",{"$nulls":5},{"$f":"IF(「入力シート」こちらで入力!D51=\"なし\",\"■\",\"\")","v":""},null,null,"無"]
[]
[{"$nulls":93},"(",null,"この間の",{"$nulls":7},{"$f":"「入力シート」こちらで入力!D41","v":0},{"$nulls":6},"時間",{"$nulls":3},")",{"$nulls":7},"④",{"$nulls":3},{"$f":"「入力シート」こちらで入力!D47","v":0},null,null,"時",null,{"$f":"「入力シート」こちらで入力!F47","v":0},null,null,"分",null,"～",null,{"$f":"「入力シート」こちらで入力!I47","v":0},null,null,"時",null,{"$f":"「入力シート」こちらで入力!K47","v":0},null,null,"分",{"$nulls":7},"・更新の上限",{"$nulls":18},{"$f":"IF(「入力シート」こちらで入力!D52=\"あり\",\"■\",\"\")","v":""},null,null,"有",{"$nulls":13},{"$f":"IF(「入力シート」こちらで入力!D52=\"なし\",\"■\",\"\")","v":""},null,null,"無",{"$nulls":15},"地本 ・ 陸 ・ 海 ・ 空"]
[{"$nulls":154},"※具体的な上限　（",{"$nulls":17},{"$f":"「入力シート」こちらで入力!D53","v":0},{"$nulls":28},"）"]
[{"$nulls":7},"所在地",{"$nulls":13},"〒",{"$nulls":3},{"$f":"「入力シート」こちらで入力!D7","v":0},{"$nulls":24},"☎",null,null,{"$f":"「入力シート」こちらで入力!D9","v":0},{"$nulls":39},"※変形労働時間制の場合　　　　　　　",{"$nulls":23},{"$f":"IF(「入力シート」こちらで入力!D43=\"無\",\"■\",\"\")","v":""},{"$nulls":4},"⑤",{"$nulls":3},{"$f":"「入力シート」こちらで入力!D48","v":0},null,null,"時",null,{"$f":"「入力シート」こちらで入力!F48","v":0},null,null,"分",null,"～",null,{"$f":"「入力シート」こちらで入力!I48","v":0},null,null,"時",null,{"$f":"「入力シート」こちらで入力!K48","v":0},null,null,"分",{"$nulls":7},"※更新の回数　　（",{"$nulls":17},{"$f":"「入力シート」こちらで入力!D54","v":0},{"$nulls":28},"）"]
[{"$nulls":117},"無",{"$nulls":36},"・雇用期間経過後に正社員（期間の定め無）登用"]
[{"$nulls":22},{"$f":"「入力シート」こちらで入力!D8","v":0},{"$nulls":70},"(",null,"単位等：",{"$nulls":7},{"$f":"「入力シート」こちらで入力!D42","v":0},{"$nulls":9},")",{"$nulls":6},"特記",{"$nulls":4},{"$f":"「入力シート」こちらで入力!D49","v":0},{"$nulls":30},"の可能性",{"$nulls":10},{"$f":"IF(「入力シート」こちらで入力!D55=\"あり\",\"■\",\"\")","v":""},null,null,"有",{"$nulls":12},{"$f":"IF(「入力シート」こちらで入力!D55=\"なし\",\"■\",\"\")","v":""},null,null,"無"]
[{"$nulls":120},"事項",{"$nulls":84},"年月日",{"$nulls":3},{"$f":"援護機関等入力シート!B12","v":"00:00:00"}]
[{"$nulls":89},"休日",{"$nulls":65},"（",null,null,{"$f":"「入力シート」こちらで入力!D58","v":0},{"$nulls":14},"）",null,null,"時間外",{"$nulls":17},"休憩時間",{"$nulls":6},"\n\n\n分"]
[{"$nulls":102},{"$f":"IF(「入力シート」こちらで入力!E56=TRUE,\"■\",\"\")","v":""},null,"土曜",{"$nulls":4},{"$f":"IF(「入力シート」こちらで入力!I56=TRUE,\"■\",\"\")","v":""},null,"日曜",{"$nulls":4},{"$f":"IF(「入力シート」こちらで入力!E57=TRUE,\"■\",\"\")","v":""},null,"祝日",{"$nulls":4},{"$f":"IF(「入力シート」こちらで入力!I57=TRUE,\"■\",\"\")","v":""},null,"会社カレンダーによる",{"$nulls":19},{"$f":"IF(「入力シート」こちらで入力!D58 = \"\",\"\",\"■\")","v":""},null,null,"その他",{"$nulls":31},{"$f":"IF(「入力シート」こちらで入力!D62=\"あり\",\"■\",\"\")","v":""},null,"有",{"$nulls":4},{"$f":"IF(「入力シート」こちらで入力!D62=\"なし\",\"■\",\"\")","v":""},null,"無"]
[{"$nulls":181},"　",{"$nulls":5},"　",{"$nulls":9},{"$f":"「入力シート」こちらで入力!D63","v":0}]
[{"$nulls":7},"採用事務\n担　当　者",{"$nulls":13},"部課名",{"$nulls":6},{"$f":"「入力シート」こちらで入力!D10","v":0},{"$nulls":15},"氏名",{"$nulls":5},{"$f":"「入力シート」こちらで入力!D11","v":0},{"$nulls":38},"週休２日制",{"$nulls":56},{"$f":"「入力シート」こちらで入力!D60","v":0},{"$nulls":9},"年間休日数",{"$nulls":23},"月平均時間"]
[{"$nulls":102},{"$f":"IF(「入力シート」こちらで入力!D59=\"完全週休２日\",\"■\",\"\")","v":""},null,"完全",{"$nulls":4},{"$f":"IF(「入力シート」こちらで入力!D59=\"隔週週休２日\",\"■\",\"\")","v":""},null,"隔週",{"$nulls":4},{"$f":"IF(「入力シート」こちらで入力!D59=\"月数回\",\"■\",\"\")","v":""},null,"月（",{"$nulls":4},{"$f":"「入力シート」こちらで入力!K59","v":0},null,"）回",{"$nulls":4},{"$f":"IF(「入力シート」こちらで入力!D59=\"なし\",\"■\",\"\")","v":""},null,"無",null,null,{"$f":"IF(「入力シート」こちらで入力!D59=\"その他\",\"■\",\"\")","v":""},null,"その他 ",{"$nulls":6},"（",{"$nulls":9},"）",{"$nulls":12},{"$f":"「入力シート」こちらで入力!D61","v":0},{"$nulls":6},"日",{"$nulls":5},"（",null,{"$f":"「入力シート」こちらで入力!K62","v":0},{"$nulls":4},"）",null,"時間",{"$nulls":11},"分",{"$nulls":3},"担当者",{"$nulls":3},{"$f":"援護機関等入力シート!B13","v":0}]
[{"$nulls":50},"☎",null,null,{"$f":"「入力シート」こちらで入力!D12","v":0},{"$nulls":48},"　",{"$nulls":6},"　",{"$nulls":6},"　",{"$nulls":13},"　",{"$nulls":6},"　"]
[{"$nulls":84},"賃金",{"$nulls":4},"賃金形態",{"$nulls":76},"（",null,null,{"$f":"「入力シート」こちらで入力!F64","v":0},{"$nulls":31},"）"]
[{"$nulls":102},{"$f":"IF(DA34 =「入力シート」こちらで入力!D64,\"■\",\"\")","v":""},null,"年俸制",{"$nulls":7},{"$f":"IF(DK34 =「入力シート」こちらで入力!D64,\"■\",\"\")","v":""},null,"月給制",{"$nulls":7},{"$f":"IF(DU34 =「入力シート」こちらで入力!D64,\"■\",\"\")","v":""},null,"日給月給制",{"$nulls":10},{"$f":"IF(EH34 =「入力シート」こちらで入力!D64,\"■\",\"\")","v":""},null,"日給制",{"$nulls":7},{"$f":"IF(ER34 =「入力シート」こちらで入力!D64,\"■\",\"\")","v":""},null,"時間給制",{"$nulls":9},{"$f":"IF(FD34 =「入力シート」こちらで入力!D64,\"■\",\"\")","v":""},null,"その他"]
[{"$nulls":7},"職種・年齢等",{"$nulls":3},"職　　種\n（雇入れ直後）",{"$nulls":9},{"$f":"「入力シート」こちらで入力!D13","v":0},{"$nulls":42},"採用　人員　",{"$nulls":6},"通勤",{"$nulls":30},"　",{"$nulls":106},"（",null,null,"(",null,null,{"$f":"援護機関等入力シート!B14","v":0},{"$nulls":17},"）"]
[{"$nulls":89},"賃金支払",{"$nulls":12},"　",{"$nulls":9},"　",{"$nulls":9},"　",{"$nulls":14},"　",null,{"$f":"IF(「入力シート」こちらで入力!D65 = \"その他\",「入力シート」こちらで入力!F65,\"\")","v":""},{"$nulls":18},"　",{"$nulls":32},{"$f":"IF(「入力シート」こちらで入力!D66 = \"その他\",「入力シート」こちらで入力!F66,\"\")","v":""}]
[{"$nulls":71},{"$f":"「入力シート」こちらで入力!D18","v":0},{"$nulls":8},"人",{"$nulls":21},"支払日",{"$nulls":8},{"$f":"IF(「入力シート」こちらで入力!D65 = \"毎月\",\"■\",\"\")","v":""},null,"毎月",{"$nulls":4},{"$f":"IF(「入力シート」こちらで入力!D65 = \"毎月\",「入力シート」こちらで入力!F65,\"\")","v":""},{"$nulls":5},"日",{"$nulls":3},{"$f":"IF(「入力シート」こちらで入力!D65 = \"その他\",\"■\",\"\")","v":""},null,"その他（",{"$nulls":17},"）",{"$nulls":3},"賃金締切日",{"$nulls":10},{"$f":"IF(「入力シート」こちらで入力!D66 = \"毎月末\",\"■\",\"\")","v":""},null,"毎月末　",{"$nulls":14},{"$f":"IF(「入力シート」こちらで入力!D66 = \"その他\",\"■\",\"\")","v":""},null,"その他（",{"$nulls":18},"）"]
[{"$nulls":11},"（雇入れ後：変更の範囲）",{"$nulls":9},{"$f":"「入力シート」こちらで入力!D14","v":0},{"$nulls":183},"記　　　　　事"]
[{"$nulls":71},"住込",{"$nulls":17},"毎月の賃金（税込み）",null,null,"定期的に支払われる賃金",{"$nulls":8},"ａ基本給＜月額で表記＞"]
[{"$nulls":11},"雇用形態",{"$nulls":13},"正社員",{"$nulls":10},"正社員以外",{"$nulls":9},"（",{"$nulls":15},"）",{"$nulls":38},{"$f":"「入力シート」こちらで入力!D67","v":0},{"$nulls":23},"円～",{"$nulls":4},{"$f":"「入力シート」こちらで入力!H67","v":0},{"$nulls":23},"円",{"$nulls":50},{"$f":"「入力シート」こちらで入力!D111","v":0}]
[{"$nulls":22},{"$f":"IF(Z40=「入力シート」こちらで入力!D15,\"■\",\"\")","v":""},{"$nulls":10},{"$f":"IF(AK40=「入力シート」こちらで入力!D15,\"■\",\"\")","v":""},{"$nulls":14},{"$f":"「入力シート」こちらで入力!D16","v":0},{"$nulls":22},{"$f":"「入力シート」こちらで入力!D19","v":0},{"$nulls":8},"人"]
[{"$nulls":101},"ｂ手当",{"$nulls":3},{"$f":"「入力シート」こちらで入力!D68","v":{"v":0,"d":"0 "}},{"$nulls":29},"手当",{"$nulls":4},{"$f":"「入力シート」こちらで入力!F68","v":{"v":0,"d":"0 "}},{"$nulls":8},"円",{"$nulls":5},{"$f":"「入力シート」こちらで入力!D71","v":{"v":0,"d":"0 "}},{"$nulls":28},"手当",{"$nulls":4},{"$f":"「入力シート」こちらで入力!F71","v":{"v":0,"d":"0 "}},{"$nulls":9},"円"]
[{"$nulls":21},"　",{"$nulls":3},"派遣・請負でない",{"$nulls":22},"有期雇用派遣",{"$nulls":19},"無期雇用派遣"]
[{"$nulls":22},{"$f":"IF(Z43=「入力シート」こちらで入力!G15,\"■\",\"\")","v":""},{"$nulls":22},{"$f":"IF(AW43=「入力シート」こちらで入力!G15,\"■\",\"\")","v":""},{"$nulls":19},{"$f":"IF(BQ43=「入力シート」こちらで入力!G15,\"■\",\"\")","v":""},{"$nulls":39},{"$f":"「入力シート」こちらで入力!D69","v":{"v":0,"d":"0 "}},{"$nulls":29},"手当",{"$nulls":4},{"$f":"「入力シート」こちらで入力!F69","v":{"v":0,"d":"0 "}},{"$nulls":8},"円",{"$nulls":5},{"$f":"「入力シート」こちらで入力!D72","v":{"v":0,"d":"0 "}},{"$nulls":28},"手当",{"$nulls":4},{"$f":"「入力シート」こちらで入力!F72","v":{"v":0,"d":"0 "}},{"$nulls":9},"円"]
[]
[{"$nulls":21},"　   ",{"$nulls":3},"請負（他の事業所で就業する仕事の場合）",{"$nulls":79},{"$f":"「入力シート」こちらで入力!D70","v":{"v":0,"d":"0 "}},{"$nulls":29},"手当",{"$nulls":4},{"$f":"「入力シート」こちらで入力!F70","v":{"v":0,"d":"0 "}},{"$nulls":8},"円",{"$nulls":5},{"$f":"「入力シート」こちらで入力!D73","v":{"v":0,"d":"0 "}},{"$nulls":28},"手当",{"$nulls":4},{"$f":"「入力シート」こちらで入力!F73","v":{"v":0,"d":"0 "}},{"$nulls":9},"円"]
[{"$nulls":22},{"$f":"IF(Z46=「入力シート」こちらで入力!G15,\"■\",\"\")","v":""}]
[{"$nulls":105},"（固定残業代：",{"$nulls":14},{"$f":"IF(「入力シート」こちらで入力!D74=\"\",\"\",「入力シート」こちらで入力!D74)","v":""},{"$nulls":5},"時間分）",{"$nulls":9},{"$f":"「入力シート」こちらで入力!F74","v":{"v":0,"d":"0 "}},{"$nulls":8},"円～",{"$nulls":5},{"$f":"「入力シート」こちらで入力!I74","v":{"v":0,"d":"0 "}},{"$nulls":8},"円"]
[{"$nulls":11},"役 職 名",{"$nulls":9},{"$f":"「入力シート」こちらで入力!D17","v":0}]
[{"$nulls":101},"ａ+ｂ",{"$nulls":6},{"$f":"CX40+EK42+EK44+EK46+GH42+GH44+GH46+EG48","v":{"v":0,"d":"0 "}},{"$nulls":22},"円～",{"$nulls":5},{"$f":"EA40+EK42+EK44+EK46+GH42+GH44+GH46+EV48","v":{"v":0,"d":"0 "}},{"$nulls":26},"円"]
[{"$nulls":11},"(雇用対策法施行規則第１条の３第１項に該当する場合）"]
[{"$nulls":11},{"$f":"「入力シート」こちらで入力!D20","v":0},{"$nulls":89},"※ 固定残業代を採用する場合、固定残業代相当時間を超える時間外労働分は追加で支給"]
[]
[{"$nulls":7},"職務内容",{"$nulls":3},"就業場所",{"$nulls":80},"個人の状態に応じて支払われる賃金",{"$nulls":9},{"$f":"「入力シート」こちらで入力!D75","v":0},{"$nulls":13},"手当",{"$nulls":4},{"$f":"「入力シート」こちらで入力!F75","v":0},{"$nulls":12},"円",{"$nulls":4},{"$f":"「入力シート」こちらで入力!D78","v":0},{"$nulls":12},"手当",{"$nulls":4},{"$f":"「入力シート」こちらで入力!F78","v":0},{"$nulls":12},"円",{"$nulls":3},{"$f":"「入力シート」こちらで入力!D81","v":0},{"$nulls":13},"手当",{"$nulls":4},{"$f":"「入力シート」こちらで入力!F81","v":0},{"$nulls":6},"円"]
[{"$nulls":16},"　",{"$f":"IF(「入力シート」こちらで入力!D21 = \"同じ\",\"■\",\"\")","v":""},null,"事業所に同じ。",{"$nulls":18},{"$f":"IF(「入力シート」こちらで入力!D21 = \"異なる\",\"■\",\"\")","v":""},null,"同じではない。下記のとおり。"]
[{"$nulls":16},{"$f":"「入力シート」こちらで入力!D22","v":0},{"$nulls":85},{"$f":"「入力シート」こちらで入力!D76","v":0},{"$nulls":13},"手当",{"$nulls":4},{"$f":"「入力シート」こちらで入力!F76","v":0},{"$nulls":12},"円",{"$nulls":4},{"$f":"「入力シート」こちらで入力!D79","v":0},{"$nulls":12},"手当",{"$nulls":4},{"$f":"「入力シート」こちらで入力!F79","v":0},{"$nulls":12},"円",{"$nulls":3},{"$f":"「入力シート」こちらで入力!D82","v":0},{"$nulls":13},"手当",{"$nulls":4},{"$f":"「入力シート」こちらで入力!F82","v":0},{"$nulls":6},"円"]
[]
[{"$nulls":102},{"$f":"「入力シート」こちらで入力!D77","v":0},{"$nulls":13},"手当",{"$nulls":4},{"$f":"「入力シート」こちらで入力!F77","v":0},{"$nulls":12},"円",{"$nulls":4},{"$f":"「入力シート」こちらで入力!D80","v":0},{"$nulls":12},"手当",{"$nulls":4},{"$f":"「入力シート」こちらで入力!F80","v":0},{"$nulls":12},"円",{"$nulls":3},{"$f":"「入力シート」こちらで入力!D83","v":0},{"$nulls":13},"手当",{"$nulls":4},{"$f":"「入力シート」こちらで入力!F83","v":0},{"$nulls":6},"円"]
[{"$nulls":15},"（",null,null,{"$f":"「入力シート」こちらで入力!D23","v":0},{"$nulls":13},"）線（",{"$nulls":6},{"$f":"「入力シート」こちらで入力!D24","v":0},{"$nulls":15},"駅）",{"$nulls":5},"から",{"$nulls":3},"バス",{"$nulls":4},"（",null,{"$f":"IF(BN59 =「入力シート」こちらで入力!D25,「入力シート」こちらで入力!F25,\"\")","v":""},{"$nulls":5},"）分"]
[{"$nulls":61},"から",{"$nulls":3},"徒歩",{"$nulls":4},"（",null,{"$f":"IF(BN60 =「入力シート」こちらで入力!D25,「入力シート」こちらで入力!F25,\"\")","v":""},{"$nulls":5},"）分",{"$nulls":22},"時間外手当（月平均",{"$nulls":17},{"$f":"「入力シート」こちらで入力!D84","v":0},{"$nulls":4},"時間相当分）",{"$nulls":13},{"$f":"「入力シート」こちらで入力!F84","v":0},{"$nulls":12},"円～",{"$nulls":8},{"$f":"「入力シート」こちらで入力!J84","v":0},{"$nulls":14},"円"]
[{"$nulls":15},"雇入れ後：変更の範囲",{"$nulls":8},{"$f":"「入力シート」こちらで入力!D26","v":0}]
[{"$nulls":101},"通勤手当"]
[{"$nulls":111},{"$f":"IF(「入力シート」こちらで入力!D85 = \"実費\",\"■\",\"\")","v":""},null,"実費（最高",{"$nulls":10},{"$f":"IF(「入力シート」こちらで入力!D85 = \"実費\",「入力シート」こちらで入力!F85,\"\")","v":""},{"$nulls":14},"円まで）",{"$nulls":9},{"$f":"IF(「入力シート」こちらで入力!D85 = \"定額\",\"■\",\"\")","v":""},null,"定額（",{"$nulls":6},{"$f":"IF(「入力シート」こちらで入力!D85 = \"定額\",「入力シート」こちらで入力!F85,\"\")","v":""},{"$nulls":14},"円）"]
[{"$nulls":15},"屋内の受動喫煙対策",{"$nulls":95},"　",{"$nulls":37},"　"]
[{"$nulls":26},{"$f":"IF(「入力シート」こちらで入力!D27 = \"\",\"\",\"■\")","v":""},null,"あり",{"$nulls":4},"（",null,null,{"$f":"IF(AM65=「入力シート」こちらで入力!D27,\"■\",\"\")","v":""},null,"禁煙",{"$nulls":5},{"$f":"IF(AU65=「入力シート」こちらで入力!D27,\"■\",\"\")","v":""},null,"喫煙室あり",{"$nulls":9},"）",null,null,{"$f":"IF(BJ65=「入力シート」こちらで入力!D27,\"■\",\"\")","v":""},null,"その他",{"$nulls":27},"昇給",{"$nulls":5},"制度"]
[{"$nulls":24},"特記事項：",{"$nulls":9},{"$f":"「入力シート」こちらで入力!D28","v":0},{"$nulls":67},{"$f":"IF(「入力シート」こちらで入力!D86 = \"あり\",\"■\",\"\")","v":""},null,"有",{"$nulls":3},{"$f":"IF(「入力シート」こちらで入力!D86 = \"なし\",\"■\",\"\")","v":""},null,"無",{"$nulls":5},"ベースアップ込みの前年度実績",{"$nulls":30},{"$f":"IF(「入力シート」こちらで入力!D86 = \"あり\",「入力シート」こちらで入力!H86,\"\")","v":""},{"$nulls":13},"円～",{"$nulls":5},{"$f":"IF(「入力シート」こちらで入力!D86 = \"あり\",「入力シート」こちらで入力!K86,\"\")","v":""},{"$nulls":13},"円"]
[]
[{"$nulls":11},"仕事の内容",{"$nulls":3},"（雇入れ直後）",{"$nulls":73},"賞与",{"$nulls":5},"制度"]
[{"$nulls":15},{"$f":"「入力シート」こちらで入力!D29","v":0},{"$nulls":86},{"$f":"IF(「入力シート」こちらで入力!D87 = \"あり\",\"■\",\"\")","v":""},null,"有",{"$nulls":3},{"$f":"IF(「入力シート」こちらで入力!D87 = \"なし\",\"■\",\"\")","v":""},null,"無",{"$nulls":5},"前年度実績 年",{"$nulls":13},{"$f":"IF(「入力シート」こちらで入力!D87 = \"あり\",「入力シート」こちらで入力!H87,\"\")","v":""},{"$nulls":5},"回",{"$nulls":3},"（",{"$nulls":3},{"$f":"IF(「入力シート」こちらで入力!D87 = \"あり\",「入力シート」こちらで入力!D88,\"\")","v":""},{"$nulls":7},"月分又は",{"$nulls":9},{"$f":"IF(「入力シート」こちらで入力!D87 = \"あり\",「入力シート」こちらで入力!G88,\"\")","v":""},{"$nulls":11},"万円）"]
[]
[{"$nulls":89},"年俸制の場合の金額",{"$nulls":22},{"$f":"「入力シート」こちらで入力!D89","v":0},{"$nulls":16},"万円～",{"$nulls":6},{"$f":"「入力シート」こちらで入力!G89","v":0},{"$nulls":18},"万円"]
[]
[{"$nulls":84},"福利厚生等",{"$nulls":4},"加入保険"]
[{"$nulls":102},{"$f":"IF(「入力シート」こちらで入力!F90 = TRUE,\"■\",\"\")","v":""},null,"雇用",{"$nulls":6},{"$f":"IF(「入力シート」こちらで入力!J90 = TRUE,\"■\",\"\")","v":""},null,"労災",{"$nulls":6},{"$f":"IF(「入力シート」こちらで入力!F91 = TRUE,\"■\",\"\")","v":""},null,"健康",{"$nulls":6},{"$f":"IF(「入力シート」こちらで入力!J91 = TRUE,\"■\",\"\")","v":""},null,"厚生年金",{"$nulls":10},{"$f":"IF(「入力シート」こちらで入力!F92 = TRUE,\"■\",\"\")","v":""},null,"退職金共済",{"$nulls":12},{"$f":"IF(「入力シート」こちらで入力!J92 = TRUE,\"■\",\"\")","v":""},null,"財形"]
[{"$nulls":15},"（雇入れ後：変更の範囲）",{"$nulls":86},"　",{"$nulls":17},"　",{"$nulls":9},"　",{"$nulls":12},"　",{"$nulls":16},"　"]
[{"$nulls":15},{"$f":"「入力シート」こちらで入力!D30","v":0},{"$nulls":73},"退職金制度",{"$nulls":61},"通　学"]
[{"$nulls":102},"制度",{"$nulls":6},{"$f":"IF(「入力シート」こちらで入力!D93 = \"あり\",\"■\",\"\")","v":""},null,"有（最低",{"$nulls":8},{"$f":"IF(「入力シート」こちらで入力!D93 = \"あり\",「入力シート」こちらで入力!I93,\"\")","v":""},{"$nulls":5},"年勤続）",{"$nulls":7},"・",{"$nulls":4},{"$f":"IF(「入力シート」こちらで入力!D93 = \"なし\",\"■\",\"\")","v":""},null,"無",{"$nulls":20},{"$f":"IF(「入力シート」こちらで入力!D94 = \"可能\",\"■\",\"\")","v":""},null,"可",{"$nulls":8},{"$f":"IF(「入力シート」こちらで入力!D94 = \"否\",\"■\",\"\")","v":""},null,"否"]
[{"$nulls":108},"　",{"$nulls":30},"　",{"$nulls":20},"　",{"$nulls":15},"　"]
[{"$nulls":89},"定年制",{"$nulls":18},"　",{"$nulls":23},"再雇用又は勤務延長　",{"$nulls":27},"　",{"$nulls":15},"　"]
[{"$nulls":7},"必須技能等",{"$nulls":3},"必要な経験（年数）・技能・知識・免許資格",{"$nulls":91},{"$f":"IF(「入力シート」こちらで入力!D95 = \"あり\",\"■\",\"\")","v":""},null,"有（",{"$nulls":4},{"$f":"IF(「入力シート」こちらで入力!D95 = \"あり\",「入力シート」こちらで入力!H95,\"\")","v":""},{"$nulls":4},"歳）",{"$nulls":6},{"$f":"IF(「入力シート」こちらで入力!D95 = \"なし\",\"■\",\"\")","v":""},null,"無",{"$nulls":31},{"$f":"IF(「入力シート」こちらで入力!D96 = \"あり\",\"■\",\"\")","v":""},null,"有（",{"$nulls":5},{"$f":"IF(「入力シート」こちらで入力!D96 = \"あり\",「入力シート」こちらで入力!H96,\"\")","v":""},{"$nulls":5},"歳）",{"$nulls":10},{"$f":"IF(「入力シート」こちらで入力!D96 = \"なし\",\"■\",\"\")","v":""},null,"無",{"$nulls":3},"　"]
[]
[{"$nulls":11},{"$f":"「入力シート」こちらで入力!D31","v":0},{"$nulls":77},"住宅",{"$nulls":11},"単身者用",{"$nulls":48},"世帯用"]
[{"$nulls":114},{"$f":"IF(「入力シート」こちらで入力!D97 = \"あり\",\"■\",\"\")","v":""},null,"有（",{"$nulls":4},{"$f":"IF(「入力シート」こちらで入力!H97 = \"可能\",\"■\",\"\")","v":""},null,"入居可",{"$nulls":7},{"$f":"IF(「入力シート」こちらで入力!H97 = \"不可\",\"■\",\"\")","v":""},null,"不可）",{"$nulls":8},{"$f":"IF(「入力シート」こちらで入力!D97 = \"なし\",\"■\",\"\")","v":""},null,"無",{"$nulls":18},{"$f":"IF(「入力シート」こちらで入力!D98 = \"あり\",\"■\",\"\")","v":""},null,"有（",{"$nulls":4},{"$f":"IF(「入力シート」こちらで入力!H98 = \"可能\",\"■\",\"\")","v":""},null,"入居可",{"$nulls":7},{"$f":"IF(「入力シート」こちらで入力!H97 = \"不可\",\"■\",\"\")","v":""},null,"不可）",{"$nulls":8},{"$f":"IF(「入力シート」こちらで入力!D98 = \"なし\",\"■\",\"\")","v":""},null,"無"]
[]
[{"$nulls":84},"備　　考"]
[{"$nulls":11},"学　　歴",{"$nulls":10},{"$f":"「入力シート」こちらで入力!D32","v":0},{"$nulls":66},"・採用希望期限",{"$nulls":16},{"$f":"(「入力シート」こちらで入力!D99)","v":0},{"$nulls":7},"年",null,null,{"$f":"(「入力シート」こちらで入力!G99)","v":0},{"$nulls":4},"月",null,null,"末",{"$nulls":4},"日",{"$nulls":4},"指定のない場合の有効期間は３か月間です。"]
[]
[{"$nulls":7},"事業所の概要",{"$nulls":3},"生産品目　　事業内容",{"$nulls":9},{"$f":"「入力シート」こちらで入力!D33","v":0},{"$nulls":42},"創立設立",{"$nulls":6},"西暦",{"$nulls":17},"・採用を希望する者の自衛隊時の階級",{"$nulls":38},{"$f":"IF(「入力シート」こちらで入力!D100 = \"特になし\",\"■\",\"\")","v":""},null,"特になし",{"$nulls":11},{"$f":"IF(「入力シート」こちらで入力!D100 = \"あり\",\"■\",\"\")","v":""},null,"あり",{"$nulls":5},"（",{"$nulls":3},{"$f":"「入力シート」こちらで入力!D101","v":0},{"$nulls":22},"）"]
[{"$nulls":128},"　","　","　","　",{"$nulls":36},"（",null,null,{"$f":"IF(「入力シート」こちらで入力!D103 = \"異なる\",「入力シート」こちらで入力!I103,\"\")","v":""},{"$nulls":24},"）"]
[{"$nulls":72},{"$f":"「入力シート」こちらで入力!D34","v":0},{"$nulls":16},"・試用期間",{"$nulls":16},{"$f":"IF(「入力シート」こちらで入力!D102 = \"あり\",\"■\",\"\")","v":""},null,"有（",{"$nulls":4},{"$f":"IF(「入力シート」こちらで入力!D102 = \"あり\",「入力シート」こちらで入力!J102,\"\")","v":""},{"$nulls":5},"月）",{"$nulls":5},{"$f":"IF(「入力シート」こちらで入力!D102 = \"なし\",\"■\",\"\")","v":""},null,"無",{"$nulls":10},"・労働条件",{"$nulls":11},{"$f":"IF(「入力シート」こちらで入力!D103 = \"同じ\",\"■\",\"\")","v":""},null,"同じ",{"$nulls":6},{"$f":"IF(「入力シート」こちらで入力!D103 = \"異なる\",\"■\",\"\")","v":""},null,"異なる"]
[{"$nulls":80},"年"]
[{"$nulls":11},"就業場所での従業員数",{"$nulls":9},{"$f":"「入力シート」こちらで入力!D35","v":0},{"$nulls":14},"人",{"$nulls":3},"資本金",{"$nulls":23},"労働\n組合",{"$nulls":24},"・選考方法",{"$nulls":16},{"$f":"IF(「入力シート」こちらで入力!F104 = TRUE,\"■\",\"\")","v":""},null,"面　接",{"$nulls":7},{"$f":"IF(「入力シート」こちらで入力!I104 = TRUE,\"■\",\"\")","v":""},null,"書類選考",{"$nulls":11},{"$f":"IF(「入力シート」こちらで入力!F105 = TRUE,\"■\",\"\")","v":""},null,"筆記試験",{"$nulls":9},{"$f":"IF(「入力シート」こちらで入力!I105 =TRUE,\"■\",\"\")","v":""},null,"その他",{"$nulls":7},"（","（",null,{"$f":"IF(「入力シート」こちらで入力!D106 = \"\",\"\",「入力シート」こちらで入力!D106)","v":""},{"$nulls":45},"）"]
[{"$nulls":47},{"$f":"「入力シート」こちらで入力!D37","v":0},{"$nulls":12},"万円",{"$nulls":13},{"$f":"「入力シート」こちらで入力!D38","v":0}]
[{"$nulls":89},"・その他",{"$nulls":10},{"$f":"「入力シート」こちらで入力!D107","v":0}]
[{"$nulls":11},"全社従業員数",{"$nulls":9},{"$f":"「入力シート」こちらで入力!D36","v":0},{"$nulls":14},"人"]
[{"$nulls":12},"（年商額など最近の業績）",{"$nulls":71},"確認事項",{"$nulls":4},"・退職自衛官の採用に関する確認事項",{"$nulls":41},"（確認した場合は□を黒塗りして下さい。）"]
[{"$nulls":12},{"$f":"「入力シート」こちらで入力!D39","v":0}]
[{"$nulls":91},"○第１項～第４項、第６項",{"$nulls":25},{"$f":"IF(「入力シート」こちらで入力!D108 =\"はい\",\"■\",\"\")","v":""},{"$nulls":9},"○第5項に該当（",{"$nulls":16},{"$f":"IF(「入力シート」こちらで入力!D109 =\"いいえ\",\"■\",\"\")","v":""},null,"する",{"$nulls":8},{"$f":"IF(「入力シート」こちらで入力!D109 =\"はい\",\"■\",\"\")","v":""},null,"しない　）"]
[]
[{"$nulls":84},"予備自衛官等希望者の採用（採用をご検討いただける場合は□を黒塗りして下さい。両方を選択いただくことも可能です。）"]
[]
[{"$nulls":94},{"$f":"IF(「入力シート」こちらで入力!G110 = TRUE,\"■\",\"\")","v":""},null,"即応予備自衛官",{"$nulls":22},{"$f":"IF(「入力シート」こちらで入力!L110 = TRUE,\"■\",\"\")","v":""},null,"予備自衛官"]
[]
[{"$nulls":83},"　　　　　　"]
[]
[{"$nulls":83},"　"]
{"$rows_empty":63}
[null,"■",null,null,2,2]
[{"$nulls":4},2,2]

{"sheet":"確認事項 (表面）","index":3,"n_rows":57,"n_cols":22,"rows_kept":57,"merged":[[0,28,0,32],[1,1,1,17],[3,0,3,32],[4,0,4,32],[5,0,5,32],[6,0,6,15],[8,21,8,30],[10,0,10,32],[11,0,11,32],[13,0,13,32],[14,0,14,32],[15,0,15,32],[16,0,16,32],[17,0,17,32],[19,0,19,32],[20,0,20,32],[21,0,21,32],[22,0,22,32],[23,0,23,32],[24,0,24,32],[25,0,25,32],[26,0,26,32],[27,0,27,32],[28,0,28,32],[29,0,29,32],[30,0,30,32],[31,0,31,32],[32,0,32,32],[33,0,33,32],[34,0,34,32],[35,0,35,32],[36,0,36,32],[37,0,37,32],[39,0,39,32],[40,0,40,32],[41,0,41,32],[42,0,42,32],[43,0,43,32],[44,0,44,32],[45,0,45,32],[46,0,46,32],[47,0,47,32],[48,0,48,32],[50,0,50,32],[51,0,51,32],[52,0,52,32],[53,0,53,32],[55,0,55,32],[56,0,56,32],[58,24,58,32],[60,28,60,30],[62,0,62,32],[64,0,64,32],[65,0,65,32],[66,0,66,32],[67,0,67,32],[68,0,68,32],[69,0,69,32],[70,0,70,32],[71,0,71,32],[72,0,72,32],[73,0,73,32],[74,0,74,32],[75,0,75,32],[76,0,76,32],[77,0,77,32],[78,0,78,32],[79,0,79,32],[80,0,80,32],[81,0,81,32],[82,0,82,32],[83,0,83,32],[84,0,84,32],[85,0,85,32],[86,0,86,32],[87,0,87,32],[88,0,88,32],[89,0,89,32],[90,0,90,32],[91,0,91,32],[92,0,92,32],[93,0,93,32],[94,0,94,32],[95,0,95,32],[96,0,96,32],[97,0,97,32],[98,0,98,32],[99,0,99,32],[100,0,100,32],[101,0,101,32],[102,0,102,32],[103,0,103,32],[104,0,104,32],[105,0,105,32],[106,0,106,32],[107,0,107,32],[108,0,108,32],[109,0,109,32],[110,0,110,32],[111,0,111,32],[112,0,112,32],[113,0,113,32],[114,0,114,32],[115,0,115,32],[116,0,116,32],[117,0,117,32],[118,0,118,32],[119,0,119,32],[120,0,120,32],[121,0,121,32],[122,0,122,32],[123,0,123,32],[124,0,124,32],[125,0,125,32],[126,0,126,32],[127,0,127,32],[128,0,128,32],[129,0,129,32],[130,0,130,32],[131,0,131,32],[132,0,132,32],[133,0,133,32],[134,0,134,32],[135,0,135,32],[136,0,136,32],[137,0,137,32],[138,0,138,32],[139,0,139,32],[140,0,140,32],[141,0,141,32],[142,0,142,32],[143,0,143,32],[144,0,144,32],[145,0,145,32],[146,0,146,32],[147,0,147,32],[148,0,148,32],[149,0,149,32],[150,0,150,32],[151,0,151,32],[152,0,152,32],[153,0,153,32],[154,0,154,32],[155,0,155,32],[156,0,156,32],[157,0,157,32],[158,0,158,32],[159,0,159,32],[160,0,160,32],[161,0,161,32],[162,0,162,32],[163,0,163,32],[164,0,164,32],[165,0,165,32],[166,0,166,32],[167,0,167,32],[168,0,168,32],[169,0,169,32],[170,0,170,32],[171,0,171,32],[172,0,172,32],[173,0,173,32],[174,0,174,32],[175,0,175,32],[176,0,176,32],[177,0,177,32],[178,0,178,32],[179,0,179,32],[180,0,180,32],[181,0,181,32],[182,0,182,32],[183,0,183,32],[184,0,184,32],[185,0,185,32],[186,0,186,32],[187,0,187,32],[188,0,188,32],[189,0,189,32],[190,0,190,32],[191,0,191,32],[192,0,192,32],[193,0,193,32],[194,0,194,32],[195,0,195,32],[196,0,196,32],[197,0,197,32],[198,0,198,32],[199,0,199,32],[200,0,200,32],[201,0,201,32],[202,0,202,32],[203,0,203,32],[204,0,204,32],[205,0,205,32],[206,0,206,32],[207,0,207,32],[208,0,208,32],[209,0,209,32],[210,0,210,32],[211,0,211,32],[212,0,212,32],[213,0,213,32],[214,0,214,32],[215,0,215,32],[216,0,216,32],[217,0,217,32],[218,0,218,32],[219,0,219,32],[220,0,220,32],[221,0,221,32],[222,0,222,32],[223,0,223,32],[224,0,224,32],[225,0,225,32],[226,0,226,32],[227,0,227,32],[228,0,228,32],[229,0,229,32],[230,0,230,32],[231,0,231,32],[232,0,232,32],[233,0,233,32],[234,0,234,32],[235,0,235,32],[236,0,236,32],[237,0,237,32],[238,0,238,32],[239,0,239,32],[240,0,240,32],[241,0,241,32],[242,0,242,32],[243,0,243,32],[244,0,244,32],[245,0,245,32],[246,0,246,32],[247,0,247,32],[248,0,248,32],[249,0,249,32],[250,0,250,32],[251,0,251,32],[252,0,252,32],[253,0,253,32],[254,0,254,32],[255,0,255,32],[256,0,256,32],[257,0,257,32],[258,0,258,32],[259,0,259,32],[260,0,260,32],[261,0,261,32],[262,0,262,32],[263,0,263,32],[264,0,264,32],[265,0,265,32],[266,0,266,32],[267,0,267,32],[268,0,268,32],[269,1,270,5],[269,6,269,29],[270,6,270,17],[270,18,270,29],[271,1,281,5],[271,6,274,6],[271,7,274,17],[271,18,274,29],[275,6,281,6],[275,7,281,17],[275,18,281,29],[282,1,292,5],[282,6,287,6],[282,7,287,17],[282,18,284,18],[282,19,284,29],[285,18,288,18],[285,19,288,29],[288,6,292,6],[288,7,292,17],[289,18,292,29],[294,0,294,32],[295,0,295,32],[296,0,296,32],[297,0,297,32],[298,0,298,32],[299,0,299,32],[300,2,300,25],[300,26,300,29],[301,2,301,25],[301,26,301,29],[302,0,302,32],[303,0,303,32],[304,0,304,32],[305,0,305,32],[306,0,306,32],[307,0,307,32],[308,0,308,32],[309,0,309,32],[310,0,310,32],[311,0,311,32],[312,0,312,32],[313,0,313,32],[314,0,314,32],[315,0,315,32],[316,0,316,32],[317,0,317,32],[318,0,318,32],[319,0,319,32],[320,0,320,32],[321,0,321,32],[322,0,322,32],[323,0,323,32],[324,0,324,32],[325,0,325,32],[326,0,326,32],[327,0,327,32],[328,0,328,32],[329,0,329,32],[330,0,330,32],[331,0,331,32],[332,0,332,32],[333,0,333,32],[334,0,334,32],[335,0,335,32],[336,0,336,32],[337,0,337,32],[338,0,338,32],[339,0,339,32],[340,0,340,32],[341,0,341,32],[342,0,342,32],[343,0,343,32],[344,0,344,32],[345,0,345,32],[346,0,346,32],[347,0,347,32],[348,0,348,32],[349,0,349,32],[350,0,350,32],[351,0,351,32],[352,0,352,32],[353,0,353,32],[354,0,354,32],[355,0,355,32],[356,0,356,32],[357,0,357,32],[358,0,358,32],[359,0,359,32],[360,0,360,32],[361,0,361,32],[362,0,362,32],[363,0,363,32],[364,0,364,32],[365,0,365,32],[366,0,366,32],[367,0,367,32],[368,0,368,32],[369,0,369,32],[370,0,370,32],[371,0,371,32],[372,0,372,32],[373,0,373,32],[374,0,374,32],[375,0,375,32],[376,0,376,32],[377,0,377,32],[378,0,378,32],[379,0,379,32],[380,0,380,32],[381,0,381,32],[382,0,382,32],[383,0,383,32],[384,0,384,32],[385,0,385,32],[386,0,386,32],[387,0,387,32],[388,0,388,32],[389,0,389,32],[390,0,390,32],[391,0,391,32],[392,0,392,32],[393,0,393,32],[394,0,394,32],[395,0,395,32],[396,0,396,32],[397,0,397,32],[398,0,398,32],[399,0,399,32],[400,0,400,32],[401,0,401,32],[402,0,402,32],[403,0,403,32],[404,0,404,32],[405,0,405,32],[406,0,406,32],[407,0,407,32],[408,0,408,32],[409,0,409,32],[410,0,410,32],[411,0,411,29],[412,0,412,32],[414,3,414,9],[414,10,414,29],[415,3,415,9],[415,10,415,29],[416,3,416,9],[416,10,416,29],[417,3,417,9],[417,10,417,29],[418,3,418,9],[418,10,418,29],[419,3,419,9],[419,10,419,29],[420,3,420,9],[420,10,420,29],[421,3,421,9],[421,10,421,29]]}
[]
[null,"退職自衛官の求人をお考えの企業　　様"]
[]
["　退職自衛官である求職者を紹介するに当たっては、求人企業の皆様から下記について同意等を得"]
["る必要があることから、これをご確認の上、確認事項欄にご記入をお願い致します。"]
["　なお、確認書の内容と事実に相違が確認された場合は、退職自衛官を紹介できない場合がござい"]
["ますので、あらかじめご承知おきください。　　　　　　　　　　　　　　　　　　　　"]
[]
[{"$nulls":21},"一般財団法人自衛隊援護協会"]
[]
[]
["退職自衛官の採用に関する確認事項"]
[]
["１　企業名等の公表に関する確認"]
["　　防衛大臣の就職の援助により、若年定年等隊員（自衛隊法（昭和２９年法律第１６５号）第６"]
["　５条の２第２項第１号に規定する若年定年等隊員をいう。）を採用した場合には、自衛隊法第６"]
["　５条の１３の規定に基づき、貴社名及び採用した当該隊員の貴社における役職・地位等について、"]
["　防衛省令の定めるところにより公表されることについて同意すること。"]
[]
["２　公契約関係競売等妨害罪等に関する確認"]
["（１） 貴社の役員等（取締役、会計参与、監査役、執行役、業務を執行する社員、支配人、理事"]
["　　若しくは監事又はこれらの者であった者をいう。以下同じ。）が、過去２年以内に公契約関"]
["　　係競売等妨害罪（刑法（明治４０年法律第４５号）第９６条の６に規定する罪をいう。）又"]
["　　は贈賄罪（刑法第１９８条に規定する罪をいう。）に当たる事件として、公訴が提起された"]
["　　（無罪の判決等がなされた場合を除く。以下同じ。）又は有罪の判決がなされた（刑の執行"]
["　　が終わった等の場合を除く。以下同じ。）ことがないこと。"]
["（２） 貴社の役員等が過去２年以内に、収賄罪（刑法第１９７条から第１９７条の４に規定する"]
["　　罪をいう。）に当たる事件として、公訴が提起された又は有罪の判決がなされた公務員（公"]
["　　務員であった者を含む。）に対し、賄賂の供与若しくはその約束をしたことがないこと。"]
[]
["3　個人情報の取扱いに関する確認"]
["　　一般財団法人自衛隊援護協会から提供された個人情報の取扱いについて、次に掲げる項目につ"]
["　いて遵守することに同意すること。"]
["（１） 採用選考等に関わらない第三者への個人情報の開示、提供及び漏洩をしない。"]
["　　（個人情報：履歴書、職務経歴書等の個人を特定できる情報）"]
["（２） 選考不採用、又は採用入社に至らなかった応募者の個人情報は、第三者に漏洩しないよう、"]
["　　速やかにデータを削除し、書類はシュレッダー等にて破棄あるいは返却する。"]
["（３） 利用目的の達成に必要な範囲を超えて、個人情報を取り扱わない。"]
[]
["4　反社会的勢力の排除に関する確認"]
["（１）貴社（主要な出資者、役員、及びそれに準ずる者を含む。以下同じ）が暴力団、暴力団員"]
["　　・準構成員、暴力団関係企業、特殊知能暴力集団の関係者その他公益に反する行為をなす者"]
["　　（以下「反社会的勢力」という。）でないこと、過去５年間もそうでなかったこと及び反社"]
["　　会的勢力と資金提供、便宜供与その他いかなる関係も有しないことを表明し、かつ将来にわ"]
["　　たっても反社会的勢力とのいかなる関係も有しないこと。"]
["（２）自ら又は第三者を利用して、暴力的な要求行為、法的な責任を超えた不当な要求行為、取"]
["　　引に関して、脅迫的な言動をし、又は暴力を用いる行為、風説を流布し、偽計を用い又は威"]
["　　力を用いて相手方の信用を毀損し、又は相手方の業務を妨害する行為、及びその他これらに"]
["　　準ずる行為を行わないこと。"]
[]
["５　一定の労働関係法令違反に関する申告"]
["　　職業安定法第５条の６第3号に規定する求人不受理の対象（一定の労働関係法令に関し、　　"]
["　法律に基づく処分等が講じられ一定期間が経過していない）に該当しているか否かの申告"]
["　（対象となる規定等は裏面をご覧ください。）"]
[]
["6　その他の確認"]
["　　確認した内容に変動があった場合は、速やかに通知することに同意すること。"]

{"sheet":"確認事項(裏面)","index":4,"n_rows":20,"n_cols":4,"rows_kept":20,"merged":[[2,1,2,3],[5,1,7,1],[5,2,7,2],[5,3,7,3],[8,1,10,1],[8,2,10,2],[8,3,10,3],[11,1,14,1],[11,2,14,2],[11,3,14,3]]}
[]
[]
[null,"求人不受理の対象となる場合と期間"]
[]
[null,"対象となる規定","講じられた措置等","求人不受理期間"]
[null,"労働基準法及び最低賃金法に関する規定","１年間に２回以上、同一の対象条項違反により是正指導を受けた場合","法違反の是正後６か月経過するまで"]
[]
[]
[null,"労働基準法及び最低賃金法に関する規定","対象条項違反により送検され、公表された場合","送検された日から１年経過するまで"]
[]
[]
[null,"職業安定法、男女雇用機会均等法、育児・介護休業法及び労働施策総合推進法に関する規定","対象条項に違反し、法違反の是正を求める勧告に従わず、公表された場合","法違反の是正後６か月経過するまで"]
[]
[]
[]
[]
[]
[null,"職業安定法、男女雇用機会均等法及び育児・介護休業法規定等、詳しくは"]
[null,"求人不受理について（厚生労働省）"]
[null," https://www.mhlw.go.jp/content/ 11600000/000602020.pdf"]

{"sheet":"予備自衛官制度の概要","index":5,"n_rows":0,"n_cols":0,"rows_kept":0}

{"sheet":"求人票(裏)(入力不可）","index":6,"n_rows":40,"n_cols":20,"rows_kept":40,"merged":[[1,1,1,5],[1,6,1,11],[2,1,3,5],[2,6,3,11],[5,1,10,1],[5,2,6,5],[5,6,6,17],[5,19,6,24],[11,1,38,1],[11,2,12,4],[11,5,12,7],[11,8,12,10],[11,11,12,14],[11,16,12,17],[11,18,12,18],[12,15,13,15],[13,2,14,4],[13,5,14,7],[13,8,14,10],[13,12,14,14],[13,16,14,17],[13,18,14,18],[15,2,16,4],[15,5,15,7],[15,11,16,14],[15,16,16,17],[15,18,16,18],[16,5,17,7],[16,15,17,15],[17,2,18,4],[17,13,18,14],[17,16,18,17],[17,18,18,18],[18,5,18,7],[19,2,20,4],[19,5,19,7],[19,11,20,14],[19,16,20,17],[19,18,20,18],[20,5,21,7],[20,15,21,15],[21,2,22,4],[21,13,22,14],[21,16,22,17],[21,18,22,18],[22,5,22,7],[23,2,24,4],[23,5,23,7],[23,11,24,14],[23,16,24,17],[23,18,24,18],[24,5,25,7],[24,15,25,15],[25,2,26,4],[25,13,26,14],[25,16,26,17],[25,18,26,18],[26,5,26,7],[27,2,28,4],[27,5,27,7],[27,11,28,14],[27,16,28,17],[27,18,28,18],[28,5,29,7],[28,15,29,15],[29,2,30,4],[29,13,30,14],[29,16,30,17],[29,18,30,18],[30,5,30,7],[31,2,32,4],[31,5,31,7],[31,11,32,14],[31,16,32,17],[31,18,32,18],[32,5,33,7],[32,15,33,15],[33,2,34,4],[33,13,34,14],[33,16,34,17],[33,18,34,18],[34,5,34,7],[35,2,36,4],[35,5,35,7],[35,11,36,14],[35,16,36,17],[35,18,36,18],[36,5,37,7],[36,15,37,15],[37,2,38,4],[37,13,38,14],[37,16,38,17],[37,18,38,18],[38,5,38,7],[39,2,39,24]]}
[]
[null,"事業所名",{"$nulls":4},"紹介所整理番号"]
[]
[]
[]
[null,"情 報 処 置 欄","年月日",{"$nulls":3},"処　　　置　　　概　　　要",{"$nulls":11},"取扱者","備考"]
[{"$nulls":18},"㊞"]
[]
[]
[]
[]
[null,"紹 　介　 状　 況　 欄","紹介年月日",null,null,"自 衛 隊",null,null,"所　　属",null,null,"氏　　　　　　　名",{"$nulls":3},"採","採用年月日",null,"採否結果"]
[{"$nulls":15},"否"]
[null,null,"確認事項",null,null,"区　  分",null,null,"階　　級",{"$nulls":3},"（年　　　令）",{"$nulls":3},"不調理由等",null,"確 認  ㊞"]
[{"$nulls":15},"別"]
[{"$nulls":5},"陸",{"$nulls":9},"採"]
[{"$nulls":5},"海",{"$nulls":9},"・"]
[null,null,"確認済",{"$nulls":10},"　　　　（　　　　　）"]
[{"$nulls":5},"空",{"$nulls":9},"否"]
[{"$nulls":5},"陸",{"$nulls":9},"採"]
[{"$nulls":5},"海",{"$nulls":9},"・"]
[null,null,"確認済",{"$nulls":10},"　　　　（　　　　　）"]
[{"$nulls":5},"空",{"$nulls":9},"否"]
[{"$nulls":5},"陸",{"$nulls":9},"採"]
[{"$nulls":5},"海",{"$nulls":9},"・"]
[null,null,"確認済",{"$nulls":10},"　　　　（　　　　　）"]
[{"$nulls":5},"空",{"$nulls":9},"否"]
[{"$nulls":5},"陸",{"$nulls":9},"採"]
[{"$nulls":5},"海",{"$nulls":9},"・"]
[null,null,"確認済",{"$nulls":10},"　　　　（　　　　　）"]
[{"$nulls":5},"空",{"$nulls":9},"否"]
[{"$nulls":5},"陸",{"$nulls":9},"採"]
[{"$nulls":5},"海",{"$nulls":9},"・"]
[null,null,"確認済",{"$nulls":10},"　　　　（　　　　　）"]
[{"$nulls":5},"空",{"$nulls":9},"否"]
[{"$nulls":5},"陸",{"$nulls":9},"採"]
[{"$nulls":5},"海",{"$nulls":9},"・"]
[null,null,"確認済",{"$nulls":10},"　　　　（　　　　　）"]
[{"$nulls":5},"空",{"$nulls":9},"否"]
[null,null,"※紹介年月日において、退職自衛官の採用に関する確認事項に変動がないことを確認し、当該確認が取れた場合には「確認済」を○で囲むこと。"]

{"sheet":"援護機関等入力シート","index":7,"n_rows":101,"n_cols":10,"rows_kept":101,"merged":[[69,3,71,3],[72,3,75,3],[76,3,78,3],[79,3,81,3],[82,3,83,3],[84,3,86,3],[87,3,88,3],[89,3,97,3],[98,3,99,3]]}
["職業紹介所・援護機関記入欄（赤枠内を記入してください。）",{"$nulls":4},"＿＿＿＿＿",null,"＿＿＿＿＿",null,"＿＿＿＿"]
[{"$nulls":5},"A01 農業",null,"001 法人・団体役員",null,"援協広島"]
["紹介期限","2025-03-31","記入例",null,null,"A02 林業",null,"002 法人・団体管理職員",null,"鳥取"]
["求人の区分",null,"援護協会で記入します。",null,null,"B03 漁業",null,"003 その他の管理的職業",null,"島根"]
["受理番号",null,"援護協会で記入します。",null,null,"B04 水産養殖業",null,"004 研究者",null,"岡山"]
["受理年月日",null,"援護協会で記入します。",null,null,"C05 鉱業 採石 砂利採取",null,"005 農林水産技術者",null,"広島地本"]
["産業分類番号",null,"選択してください。",null,null,"D06 総合工事",null,"006 開発技術者",null,"山口"]
["職業分類番号",null,"選択してください。",null,null,"D07 識別工事",null,"007 製造技術者",null,"徳島"]
[{"$nulls":5},"D08 設備工事",null,"008 建築・土木・測量技術者",null,"香川"]
["受付機関分類番号",null,"各援護機関の付与基準による",null,null,"E09 食料品製造",null,"009 情報処理・通信技術者（ソフトウェア開発）",null,"愛媛"]
["受付機関",null,"選択してください。",null,null,"E10 飲料 たばこ  飼料",null,"010 情報処理・通信技術者（ソフトウェア開発を除く）",null,"高知"]
["受付年月日",null,"入力してください。例：2024/1/1"]
["担当者",null,"入力してください。",null,null,"E11 繊維",null,"011 その他の技術の職業",null,"呉"]
["電話番号",null,"入力してください。",null,null,"E12 木材  木製品",null,"012 法務の職業",null,"岩国"]
[{"$nulls":5},"E13 家具  装備品",null,"013 経営・金融・保険の専門的職業",null,"小月"]
[{"$nulls":5},"E14 パルプ  紙",null,"014 宗教家",null,"防府南"]
[{"$nulls":5},"E15 印刷",null,"015 著述家、記者、編集者",null,"美保"]
[{"$nulls":5},"E16 化学工業",null,"016 美術家、写真家、映像撮影者",null,"徳空基"]
[{"$nulls":5},"E17 石油  石炭製品",null,"017 デザイナー",null,"２４空"]
[{"$nulls":5},"E18 プラスチック",null,"018 音楽家、舞台芸術家"]
[{"$nulls":5},"E19 ゴム製品",null,"019 図書館司書、学芸員、カウンセラー（医療・福祉施設を除く）"]
[{"$nulls":5},"E20 なめし革  毛皮",null,"020 その他の法務・経営・文化芸術等の専門的職業"]
[{"$nulls":5},"E21 窯業  土石製品",null,"021 医師、歯科医師、獣医師、薬剤師   "]
[{"$nulls":5},"E22 鉄鋼業",null,"022 保健師、助産師"]
[{"$nulls":5},"E23 非鉄金属",null,"023 看護師、准看護師"]
[{"$nulls":5},"E24 金属製品",null,"024 医療技術者 "]
[{"$nulls":5},"E25 はん用機械器具",null,"025 栄養士、管理栄養士"]
[{"$nulls":5},"E26 生産用機械器具",null,"026 あん摩マッサージ指圧師、はり師、きゅう師、柔道整復師"]
[{"$nulls":5},"E27 業務用機械器具",null,"027 その他の医療・看護・保健の専門的職業 "]
[{"$nulls":5},"E28 電子部品 デバイス",null,"028 保健医療関係助手"]
[{"$nulls":5},"E29 電気機械器具",null,"029 保育士、幼稚園教員 "]
[{"$nulls":5},"E30 情報通信機械器具",null,"030 学童保育等指導員、保育補助者、家庭的保育者 "]
[{"$nulls":5},"E31 輸送用機械器具",null,"031 学校等教員 "]
[{"$nulls":5},"E32 その他の製造業",null,"032 習い事指導等教育関連の職業"]
[{"$nulls":5},"F33 電気業",null,"033 総務・人事・企画事務の職業  "]
[{"$nulls":5},"F34 ガス業",null,"034 一般事務・秘書・受付の職業 "]
[{"$nulls":5},"F35 熱供給業",null,"035 その他の総務等事務の職業 "]
[{"$nulls":5},"F36 水道業",null,"036 電話・インターネットによる応接事務の職業"]
[{"$nulls":5},"G37 通信業",null,"037 医療・介護事務の職業 "]
[{"$nulls":5},"G38 放送業",null,"038 会計事務の職業 "]
[{"$nulls":5},"G39 情報サービス",null,"039 生産関連事務の職業 "]
[{"$nulls":5},"G40 インターネット付随",null,"040 営業・販売関連事務の職業 "]
[{"$nulls":5},"G41 映像 音声 文字情報",null,"041 外勤事務の職業 "]
[{"$nulls":5},"H42 鉄道業",null,"042 運輸・郵便事務の職業 "]
[{"$nulls":5},"H43 道路旅客運送業",null,"043 コンピュータ等事務用機器操作の職業"]
[{"$nulls":5},"H44 道路貨物運送業",null,"044 小売店・卸売店店長 "]
[{"$nulls":5},"H45 水運業",null,"045 販売員 "]
[{"$nulls":5},"H46 航空運輸",null,"046 商品仕入・再生資源卸売の職業 "]
[{"$nulls":5},"H47 倉庫業",null,"047 販売類似の職業 "]
[{"$nulls":5},"H48 運輸附帯サービス",null,"048 営業の職業"]
[{"$nulls":5},"H49 郵便業",null,"049 福祉・介護の専門的職業 "]
[{"$nulls":5},"I50 各種商品卸売業",null,"050 施設介護の職業 "]
[{"$nulls":5},"I51 繊維  衣服",null,"051 訪問介護の職業"]
[{"$nulls":5},"I52 飲食料品卸",null,"052 家庭生活支援サービスの職業 "]
[{"$nulls":5},"I53 建築材料 鉱物 金属材料",null,"053 理容師、美容師、美容関連サービスの職業 "]
[{"$nulls":5},"I54 機械器具",null,"054 浴場・クリーニングの職業 "]
[{"$nulls":5},"I55 その他の卸売",null,"055 飲食物調理の職業 "]
[{"$nulls":5},"I56 各種商品小売業",null,"056 接客・給仕の職業 "]
[{"$nulls":5},"I57 織物 衣服 身回品",null,"057 居住施設・ビル等の管理の職業"]
[{"$nulls":5},"I58 飲食料品小売",null,"058 その他のサービスの職業"]
[{"$nulls":5},"I59 機械器具小売",null,"059 警備員 "]
[{"$nulls":5},"I60 その他の小売",null,"060 自衛官 "]
[{"$nulls":5},"I61 無店舗小売業",null,"061 司法警察職員 "]
[{"$nulls":5},"J62 銀行",null,"062 看守、消防員 "]
[{"$nulls":5},"J63 協同組織金融業",null,"063 その他の保安の職業"]
[{"$nulls":5},"J64 貸金 クレジット",null,"064 農業の職業（養畜・動物飼育・植木・造園を含む） "]
[{"$nulls":5},"J65 金融商品取引",null,"065 林業の職業 "]
[{"$nulls":5},"J66 補助的金融業",null,"066 漁業の職業"]
[{"$nulls":5},"J67 保険",null,"067 生産設備オペレーター（金属製品）"]
[{"$nulls":5},"K68 不動産取引",null,"068 生産設備オペレーター（食料品等）"]
[{"$nulls":5},"K69 不動産賃貸 管理",null,"069 生産設備オペレーター（金属製品・食料品等を除く）"]
[{"$nulls":5},"K70 物品賃貸",null,"070 機械組立設備オペレーター"]
[{"$nulls":5},"L71 学術 開発研究機関",null,"071 製品製造・加工処理工（金属製品）"]
[{"$nulls":5},"L72 専門サービス",null,"072 製品製造・加工処理工（食料品等）"]
[{"$nulls":5},"L73 広告業",null,"073 製品製造・加工処理工（金属製品・食料品等を除く）"]
[{"$nulls":5},"L74 技術サービス",null,"074 機械組立工"]
[{"$nulls":5},"M75 宿泊業",null,"075 機械整備・修理工"]
[{"$nulls":5},"M76 飲食店",null,"076 製品検査工（金属製品）"]
[{"$nulls":5},"N77 持ち帰り 配達飲食",null,"077 製品検査工（食料品等）"]
[{"$nulls":5},"N78 洗濯 理美容 浴場",null,"078 製品検査工（金属製品・食料品等を除く）"]
[{"$nulls":5},"N79 その他生活関連",null,"079 機械検査工"]
[{"$nulls":5},"N80 娯楽",null,"080 生産関連の職業（塗装・製図を含む）"]
[{"$nulls":5},"O81 学校教育",null,"081 生産類似の職業"]
[{"$nulls":5},"O82 その他教育 学習支援",null,"082 配送・集荷の職業"]
[{"$nulls":5},"P83 医療業",null,"083 貨物自動車運転の職業"]
[{"$nulls":5},"P84 保健衛生",null,"084 バス運転の職業"]
[{"$nulls":5},"P85 社会保険 福祉 介護",null,"085 乗用車運転の職業"]
[{"$nulls":5},"Q86 郵便局",null,"086 その他の自動車運転の職業"]
[{"$nulls":5},"Q87 協同組合",null,"087 鉄道・船舶・航空機運転の職業"]
[{"$nulls":5},"R88 廃棄物処理",null,"088 その他の輸送の職業"]
[{"$nulls":5},"R89 自動車整備",null,"089 施設機械設備操作・建設機械運転の職業"]
[{"$nulls":5},"R90 機械等修理",null,"090 建設躯体工事の職業"]
[{"$nulls":5},"R91 職業紹介 人材派遣",null,"091 建設の職業（建設躯体工事の職業を除く）"]
[{"$nulls":5},"R92 その他事業サービス",null,"092 土木の職業"]
[{"$nulls":5},"R93 政治 経済 文化団体",null,"093 採掘の職業"]
[{"$nulls":5},"R94 宗教",null,"094 電気・通信工事の職業"]
[{"$nulls":5},"R95 その他のサービス",null,"095 荷役・運搬作業員"]
[{"$nulls":5},"R96 外国公務",null,"096 清掃・洗浄作業員"]
[{"$nulls":5},"S97 国家公務",null,"097 包装作業員"]
[{"$nulls":5},"S98 地方公務",null,"098 選別・ピッキング作業員"]
[{"$nulls":5},"T99 分類不能",null,"099 その他の運搬・清掃・包装・選別等の職業"]