{"text_format":"3","workbook":"xlsx","n_sheets":3,"sheets":["取扱者名簿","一枚紙","RFIリスト"],"not_rendered":{"macros":1},"read":"whole","date_system":"1900"}

{"sheet":"取扱者名簿","index":0,"n_rows":145,"n_cols":6,"rows_kept":145,"merged":[[1,1,1,2],[2,1,2,2],[3,1,3,2]]}
[]
["社名","株式会社○○"]
["代表者名","会社　太郎"]
["情報提案要求書","陸上自衛隊の情報収集・警戒監視・偵察・ターゲティングに供するＶＴＯＬ型無人航空機"]
[]
["氏名","フリガナ","生年月日","部署","役職","国籍"]
["防衛　太郎",{"$f":"PHONETIC(A7)","v":"ボウエイ　タロウ"},"1983-01-01","○○課","課長","日本"]
[null,{"$f":"PHONETIC(A8)","v":""}]
[null,{"$f":"PHONETIC(A9)","v":""}]
[null,""]
[null,""]
[null,""]
[null,""]
[null,""]
[null,""]
[null,""]
[null,""]
[null,""]
[null,""]
[null,""]
[null,""]
[null,""]
[null,""]
[null,""]
[null,""]
[null,""]
[null,""]
[null,""]
[null,""]
[null,""]
[null,""]
[null,""]
[null,""]
[null,""]
[null,""]
[null,""]
[null,""]
[null,""]
[null,""]
[null,""]
[null,""]
[null,""]
[null,""]
[null,""]
[null,""]
[null,""]
[null,""]
[null,""]
[null,""]
[null,""]
[null,""]
[null,""]
[null,""]
[null,""]
[null,""]
[null,""]
[null,""]
[null,""]
[null,""]
[null,""]
[null,""]
[null,""]
[null,""]
[null,""]
[null,""]
[null,""]
[null,""]
[null,""]
[null,""]
[null,""]
[null,""]
[null,{"$f":"PHONETIC(A72)","v":""}]
[null,""]
[null,""]
[null,""]
[null,""]
[null,""]
[null,""]
[null,""]
[null,""]
[null,""]
[null,""]
[null,""]
[null,""]
[null,""]
[null,""]
[null,""]
[null,""]
[null,""]
[null,""]
[null,""]
[null,""]
[null,""]
[null,""]
[null,""]
[null,""]
[null,""]
[null,""]
[null,""]
[null,""]
[null,""]
[null,""]
[null,""]
[null,""]
[null,""]
[null,""]
[null,""]
[null,""]
[null,""]
[null,""]
[null,""]
[null,""]
[null,""]
[null,""]
[null,""]
[null,""]
[null,""]
[null,""]
[null,""]
[null,""]
[null,""]
[null,""]
[null,""]
[null,""]
[null,""]
[null,""]
[null,""]
[null,""]
[null,""]
[null,""]
[null,""]
[null,""]
[null,""]
[null,""]
[null,""]
[null,{"$f":"PHONETIC(A136)","v":""}]
[null,""]
[null,""]
[null,""]
[null,""]
[null,""]
[null,""]
[null,""]
[null,""]
[null,""]

{"sheet":"一枚紙","index":1,"n_rows":50,"n_cols":7,"rows_kept":50,"merged":[[1,1,1,6],[3,4,3,6],[4,4,4,6],[6,1,6,6]]}
[]
[null,"資料取扱者名簿"]
[]
[{"$nulls":4},{"$f":"\"社名：\" & 取扱者名簿!B2","v":"社名：株式会社○○"}]
[{"$nulls":4},{"$f":"\"代表者名：\" & 取扱者名簿!B3","v":"代表者名：会社　太郎"}]
[]
[null,{"$f":"取扱者名簿!B4 & \"に関する資料を取り扱う社員は、以下の通りです。\"","v":"陸上自衛隊の情報収集・警戒監視・偵察・ターゲティングに供するＶＴＯＬ型無人航空機に関する資料を取り扱う社員は、以下の通りです。"}]
[]
[null,{"$f":"IF(取扱者名簿!A6=\"\",\"\",取扱者名簿!A6)","v":"氏名"},{"$f":"IF(取扱者名簿!B6=\"\",\"\",取扱者名簿!B6)","v":"フリガナ"},{"$f":"IF(取扱者名簿!C6=\"\",\"\",取扱者名簿!C6)","v":"生年月日"},{"$f":"IF(取扱者名簿!D6=\"\",\"\",取扱者名簿!D6)","v":"部署"},{"$f":"IF(取扱者名簿!E6=\"\",\"\",取扱者名簿!E6)","v":"役職"},{"$f":"IF(取扱者名簿!F6=\"\",\"\",取扱者名簿!F6)","v":"国籍"}]
[null,{"$f":"IF(取扱者名簿!A7=\"\",\"\",取扱者名簿!A7)","v":"防衛　太郎"},{"$f":"IF(取扱者名簿!B7=\"\",\"\",取扱者名簿!B7)","v":"ボウエイ　タロウ"},{"$f":"IF(取扱者名簿!C7=\"\",\"\",取扱者名簿!C7)","v":"1983-01-01"},{"$f":"IF(取扱者名簿!D7=\"\",\"\",取扱者名簿!D7)","v":"○○課"},{"$f":"IF(取扱者名簿!E7=\"\",\"\",取扱者名簿!E7)","v":"課長"},{"$f":"IF(取扱者名簿!F7=\"\",\"\",取扱者名簿!F7)","v":"日本"}]
[null,{"$f":"IF(取扱者名簿!A8=\"\",\"\",取扱者名簿!A8)","v":""},{"$f":"IF(取扱者名簿!B8=\"\",\"\",取扱者名簿!B8)","v":""},{"$f":"IF(取扱者名簿!C8=\"\",\"\",取扱者名簿!C8)","v":""},{"$f":"IF(取扱者名簿!D8=\"\",\"\",取扱者名簿!D8)","v":""},{"$f":"IF(取扱者名簿!E8=\"\",\"\",取扱者名簿!E8)","v":""},{"$f":"IF(取扱者名簿!F8=\"\",\"\",取扱者名簿!F8)","v":""}]
[null,{"$f":"IF(取扱者名簿!A9=\"\",\"\",取扱者名簿!A9)","v":""},{"$f":"IF(取扱者名簿!B9=\"\",\"\",取扱者名簿!B9)","v":""},{"$f":"IF(取扱者名簿!C9=\"\",\"\",取扱者名簿!C9)","v":""},{"$f":"IF(取扱者名簿!D9=\"\",\"\",取扱者名簿!D9)","v":""},{"$f":"IF(取扱者名簿!E9=\"\",\"\",取扱者名簿!E9)","v":""},{"$f":"IF(取扱者名簿!F9=\"\",\"\",取扱者名簿!F9)","v":""}]
[null,{"$f":"IF(取扱者名簿!A10=\"\",\"\",取扱者名簿!A10)","v":""},{"$f":"IF(取扱者名簿!B10=\"\",\"\",取扱者名簿!B10)","v":""},{"$f":"IF(取扱者名簿!C10=\"\",\"\",取扱者名簿!C10)","v":""},{"$f":"IF(取扱者名簿!D10=\"\",\"\",取扱者名簿!D10)","v":""},{"$f":"IF(取扱者名簿!E10=\"\",\"\",取扱者名簿!E10)","v":""},{"$f":"IF(取扱者名簿!F10=\"\",\"\",取扱者名簿!F10)","v":""}]
[null,{"$f":"IF(取扱者名簿!A11=\"\",\"\",取扱者名簿!A11)","v":""},{"$f":"IF(取扱者名簿!B11=\"\",\"\",取扱者名簿!B11)","v":""},{"$f":"IF(取扱者名簿!C11=\"\",\"\",取扱者名簿!C11)","v":""},{"$f":"IF(取扱者名簿!D11=\"\",\"\",取扱者名簿!D11)","v":""},{"$f":"IF(取扱者名簿!E11=\"\",\"\",取扱者名簿!E11)","v":""},{"$f":"IF(取扱者名簿!F11=\"\",\"\",取扱者名簿!F11)","v":""}]
[null,{"$f":"IF(取扱者名簿!A12=\"\",\"\",取扱者名簿!A12)","v":""},{"$f":"IF(取扱者名簿!B12=\"\",\"\",取扱者名簿!B12)","v":""},{"$f":"IF(取扱者名簿!C12=\"\",\"\",取扱者名簿!C12)","v":""},{"$f":"IF(取扱者名簿!D12=\"\",\"\",取扱者名簿!D12)","v":""},{"$f":"IF(取扱者名簿!E12=\"\",\"\",取扱者名簿!E12)","v":""},{"$f":"IF(取扱者名簿!F12=\"\",\"\",取扱者名簿!F12)","v":""}]
[null,{"$f":"IF(取扱者名簿!A13=\"\",\"\",取扱者名簿!A13)","v":""},{"$f":"IF(取扱者名簿!B13=\"\",\"\",取扱者名簿!B13)","v":""},{"$f":"IF(取扱者名簿!C13=\"\",\"\",取扱者名簿!C13)","v":""},{"$f":"IF(取扱者名簿!D13=\"\",\"\",取扱者名簿!D13)","v":""},{"$f":"IF(取扱者名簿!E13=\"\",\"\",取扱者名簿!E13)","v":""},{"$f":"IF(取扱者名簿!F13=\"\",\"\",取扱者名簿!F13)","v":""}]
[null,{"$f":"IF(取扱者名簿!A14=\"\",\"\",取扱者名簿!A14)","v":""},{"$f":"IF(取扱者名簿!B14=\"\",\"\",取扱者名簿!B14)","v":""},{"$f":"IF(取扱者名簿!C14=\"\",\"\",取扱者名簿!C14)","v":""},{"$f":"IF(取扱者名簿!D14=\"\",\"\",取扱者名簿!D14)","v":""},{"$f":"IF(取扱者名簿!E14=\"\",\"\",取扱者名簿!E14)","v":""},{"$f":"IF(取扱者名簿!F14=\"\",\"\",取扱者名簿!F14)","v":""}]
[null,{"$f":"IF(取扱者名簿!A15=\"\",\"\",取扱者名簿!A15)","v":""},{"$f":"IF(取扱者名簿!B15=\"\",\"\",取扱者名簿!B15)","v":""},{"$f":"IF(取扱者名簿!C15=\"\",\"\",取扱者名簿!C15)","v":""},{"$f":"IF(取扱者名簿!D15=\"\",\"\",取扱者名簿!D15)","v":""},{"$f":"IF(取扱者名簿!E15=\"\",\"\",取扱者名簿!E15)","v":""},{"$f":"IF(取扱者名簿!F15=\"\",\"\",取扱者名簿!F15)","v":""}]
[null,{"$f":"IF(取扱者名簿!A16=\"\",\"\",取扱者名簿!A16)","v":""},{"$f":"IF(取扱者名簿!B16=\"\",\"\",取扱者名簿!B16)","v":""},{"$f":"IF(取扱者名簿!C16=\"\",\"\",取扱者名簿!C16)","v":""},{"$f":"IF(取扱者名簿!D16=\"\",\"\",取扱者名簿!D16)","v":""},{"$f":"IF(取扱者名簿!E16=\"\",\"\",取扱者名簿!E16)","v":""},{"$f":"IF(取扱者名簿!F16=\"\",\"\",取扱者名簿!F16)","v":""}]
[null,{"$f":"IF(取扱者名簿!A17=\"\",\"\",取扱者名簿!A17)","v":""},{"$f":"IF(取扱者名簿!B17=\"\",\"\",取扱者名簿!B17)","v":""},{"$f":"IF(取扱者名簿!C17=\"\",\"\",取扱者名簿!C17)","v":""},{"$f":"IF(取扱者名簿!D17=\"\",\"\",取扱者名簿!D17)","v":""},{"$f":"IF(取扱者名簿!E17=\"\",\"\",取扱者名簿!E17)","v":""},{"$f":"IF(取扱者名簿!F17=\"\",\"\",取扱者名簿!F17)","v":""}]
[null,{"$f":"IF(取扱者名簿!A18=\"\",\"\",取扱者名簿!A18)","v":""},{"$f":"IF(取扱者名簿!B18=\"\",\"\",取扱者名簿!B18)","v":""},{"$f":"IF(取扱者名簿!C18=\"\",\"\",取扱者名簿!C18)","v":""},{"$f":"IF(取扱者名簿!D18=\"\",\"\",取扱者名簿!D18)","v":""},{"$f":"IF(取扱者名簿!E18=\"\",\"\",取扱者名簿!E18)","v":""},{"$f":"IF(取扱者名簿!F18=\"\",\"\",取扱者名簿!F18)","v":""}]
[null,{"$f":"IF(取扱者名簿!A19=\"\",\"\",取扱者名簿!A19)","v":""},{"$f":"IF(取扱者名簿!B19=\"\",\"\",取扱者名簿!B19)","v":""},{"$f":"IF(取扱者名簿!C19=\"\",\"\",取扱者名簿!C19)","v":""},{"$f":"IF(取扱者名簿!D19=\"\",\"\",取扱者名簿!D19)","v":""},{"$f":"IF(取扱者名簿!E19=\"\",\"\",取扱者名簿!E19)","v":""},{"$f":"IF(取扱者名簿!F19=\"\",\"\",取扱者名簿!F19)","v":""}]
[null,{"$f":"IF(取扱者名簿!A20=\"\",\"\",取扱者名簿!A20)","v":""},{"$f":"IF(取扱者名簿!B20=\"\",\"\",取扱者名簿!B20)","v":""},{"$f":"IF(取扱者名簿!C20=\"\",\"\",取扱者名簿!C20)","v":""},{"$f":"IF(取扱者名簿!D20=\"\",\"\",取扱者名簿!D20)","v":""},{"$f":"IF(取扱者名簿!E20=\"\",\"\",取扱者名簿!E20)","v":""},{"$f":"IF(取扱者名簿!F20=\"\",\"\",取扱者名簿!F20)","v":""}]
[null,{"$f":"IF(取扱者名簿!A21=\"\",\"\",取扱者名簿!A21)","v":""},{"$f":"IF(取扱者名簿!B21=\"\",\"\",取扱者名簿!B21)","v":""},{"$f":"IF(取扱者名簿!C21=\"\",\"\",取扱者名簿!C21)","v":""},{"$f":"IF(取扱者名簿!D21=\"\",\"\",取扱者名簿!D21)","v":""},{"$f":"IF(取扱者名簿!E21=\"\",\"\",取扱者名簿!E21)","v":""},{"$f":"IF(取扱者名簿!F21=\"\",\"\",取扱者名簿!F21)","v":""}]
[null,{"$f":"IF(取扱者名簿!A22=\"\",\"\",取扱者名簿!A22)","v":""},{"$f":"IF(取扱者名簿!B22=\"\",\"\",取扱者名簿!B22)","v":""},{"$f":"IF(取扱者名簿!C22=\"\",\"\",取扱者名簿!C22)","v":""},{"$f":"IF(取扱者名簿!D22=\"\",\"\",取扱者名簿!D22)","v":""},{"$f":"IF(取扱者名簿!E22=\"\",\"\",取扱者名簿!E22)","v":""},{"$f":"IF(取扱者名簿!F22=\"\",\"\",取扱者名簿!F22)","v":""}]
[null,{"$f":"IF(取扱者名簿!A23=\"\",\"\",取扱者名簿!A23)","v":""},{"$f":"IF(取扱者名簿!B23=\"\",\"\",取扱者名簿!B23)","v":""},{"$f":"IF(取扱者名簿!C23=\"\",\"\",取扱者名簿!C23)","v":""},{"$f":"IF(取扱者名簿!D23=\"\",\"\",取扱者名簿!D23)","v":""},{"$f":"IF(取扱者名簿!E23=\"\",\"\",取扱者名簿!E23)","v":""},{"$f":"IF(取扱者名簿!F23=\"\",\"\",取扱者名簿!F23)","v":""}]
[null,{"$f":"IF(取扱者名簿!A24=\"\",\"\",取扱者名簿!A24)","v":""},{"$f":"IF(取扱者名簿!B24=\"\",\"\",取扱者名簿!B24)","v":""},{"$f":"IF(取扱者名簿!C24=\"\",\"\",取扱者名簿!C24)","v":""},{"$f":"IF(取扱者名簿!D24=\"\",\"\",取扱者名簿!D24)","v":""},{"$f":"IF(取扱者名簿!E24=\"\",\"\",取扱者名簿!E24)","v":""},{"$f":"IF(取扱者名簿!F24=\"\",\"\",取扱者名簿!F24)","v":""}]
[null,{"$f":"IF(取扱者名簿!A25=\"\",\"\",取扱者名簿!A25)","v":""},{"$f":"IF(取扱者名簿!B25=\"\",\"\",取扱者名簿!B25)","v":""},{"$f":"IF(取扱者名簿!C25=\"\",\"\",取扱者名簿!C25)","v":""},{"$f":"IF(取扱者名簿!D25=\"\",\"\",取扱者名簿!D25)","v":""},{"$f":"IF(取扱者名簿!E25=\"\",\"\",取扱者名簿!E25)","v":""},{"$f":"IF(取扱者名簿!F25=\"\",\"\",取扱者名簿!F25)","v":""}]
[null,{"$f":"IF(取扱者名簿!A26=\"\",\"\",取扱者名簿!A26)","v":""},{"$f":"IF(取扱者名簿!B26=\"\",\"\",取扱者名簿!B26)","v":""},{"$f":"IF(取扱者名簿!C26=\"\",\"\",取扱者名簿!C26)","v":""},{"$f":"IF(取扱者名簿!D26=\"\",\"\",取扱者名簿!D26)","v":""},{"$f":"IF(取扱者名簿!E26=\"\",\"\",取扱者名簿!E26)","v":""},{"$f":"IF(取扱者名簿!F26=\"\",\"\",取扱者名簿!F26)","v":""}]
[null,{"$f":"IF(取扱者名簿!A27=\"\",\"\",取扱者名簿!A27)","v":""},{"$f":"IF(取扱者名簿!B27=\"\",\"\",取扱者名簿!B27)","v":""},{"$f":"IF(取扱者名簿!C27=\"\",\"\",取扱者名簿!C27)","v":""},{"$f":"IF(取扱者名簿!D27=\"\",\"\",取扱者名簿!D27)","v":""},{"$f":"IF(取扱者名簿!E27=\"\",\"\",取扱者名簿!E27)","v":""},{"$f":"IF(取扱者名簿!F27=\"\",\"\",取扱者名簿!F27)","v":""}]
[null,{"$f":"IF(取扱者名簿!A28=\"\",\"\",取扱者名簿!A28)","v":""},{"$f":"IF(取扱者名簿!B28=\"\",\"\",取扱者名簿!B28)","v":""},{"$f":"IF(取扱者名簿!C28=\"\",\"\",取扱者名簿!C28)","v":""},{"$f":"IF(取扱者名簿!D28=\"\",\"\",取扱者名簿!D28)","v":""},{"$f":"IF(取扱者名簿!E28=\"\",\"\",取扱者名簿!E28)","v":""},{"$f":"IF(取扱者名簿!F28=\"\",\"\",取扱者名簿!F28)","v":""}]
[null,{"$f":"IF(取扱者名簿!A29=\"\",\"\",取扱者名簿!A29)","v":""},{"$f":"IF(取扱者名簿!B29=\"\",\"\",取扱者名簿!B29)","v":""},{"$f":"IF(取扱者名簿!C29=\"\",\"\",取扱者名簿!C29)","v":""},{"$f":"IF(取扱者名簿!D29=\"\",\"\",取扱者名簿!D29)","v":""},{"$f":"IF(取扱者名簿!E29=\"\",\"\",取扱者名簿!E29)","v":""},{"$f":"IF(取扱者名簿!F29=\"\",\"\",取扱者名簿!F29)","v":""}]
[null,{"$f":"IF(取扱者名簿!A30=\"\",\"\",取扱者名簿!A30)","v":""},{"$f":"IF(取扱者名簿!B30=\"\",\"\",取扱者名簿!B30)","v":""},{"$f":"IF(取扱者名簿!C30=\"\",\"\",取扱者名簿!C30)","v":""},{"$f":"IF(取扱者名簿!D30=\"\",\"\",取扱者名簿!D30)","v":""},{"$f":"IF(取扱者名簿!E30=\"\",\"\",取扱者名簿!E30)","v":""},{"$f":"IF(取扱者名簿!F30=\"\",\"\",取扱者名簿!F30)","v":""}]
[null,{"$f":"IF(取扱者名簿!A31=\"\",\"\",取扱者名簿!A31)","v":""},{"$f":"IF(取扱者名簿!B31=\"\",\"\",取扱者名簿!B31)","v":""},{"$f":"IF(取扱者名簿!C31=\"\",\"\",取扱者名簿!C31)","v":""},{"$f":"IF(取扱者名簿!D31=\"\",\"\",取扱者名簿!D31)","v":""},{"$f":"IF(取扱者名簿!E31=\"\",\"\",取扱者名簿!E31)","v":""},{"$f":"IF(取扱者名簿!F31=\"\",\"\",取扱者名簿!F31)","v":""}]
[null,{"$f":"IF(取扱者名簿!A32=\"\",\"\",取扱者名簿!A32)","v":""},{"$f":"IF(取扱者名簿!B32=\"\",\"\",取扱者名簿!B32)","v":""},{"$f":"IF(取扱者名簿!C32=\"\",\"\",取扱者名簿!C32)","v":""},{"$f":"IF(取扱者名簿!D32=\"\",\"\",取扱者名簿!D32)","v":""},{"$f":"IF(取扱者名簿!E32=\"\",\"\",取扱者名簿!E32)","v":""},{"$f":"IF(取扱者名簿!F32=\"\",\"\",取扱者名簿!F32)","v":""}]
[null,{"$f":"IF(取扱者名簿!A33=\"\",\"\",取扱者名簿!A33)","v":""},{"$f":"IF(取扱者名簿!B33=\"\",\"\",取扱者名簿!B33)","v":""},{"$f":"IF(取扱者名簿!C33=\"\",\"\",取扱者名簿!C33)","v":""},{"$f":"IF(取扱者名簿!D33=\"\",\"\",取扱者名簿!D33)","v":""},{"$f":"IF(取扱者名簿!E33=\"\",\"\",取扱者名簿!E33)","v":""},{"$f":"IF(取扱者名簿!F33=\"\",\"\",取扱者名簿!F33)","v":""}]
[null,{"$f":"IF(取扱者名簿!A34=\"\",\"\",取扱者名簿!A34)","v":""},{"$f":"IF(取扱者名簿!B34=\"\",\"\",取扱者名簿!B34)","v":""},{"$f":"IF(取扱者名簿!C34=\"\",\"\",取扱者名簿!C34)","v":""},{"$f":"IF(取扱者名簿!D34=\"\",\"\",取扱者名簿!D34)","v":""},{"$f":"IF(取扱者名簿!E34=\"\",\"\",取扱者名簿!E34)","v":""},{"$f":"IF(取扱者名簿!F34=\"\",\"\",取扱者名簿!F34)","v":""}]
[null,{"$f":"IF(取扱者名簿!A35=\"\",\"\",取扱者名簿!A35)","v":""},{"$f":"IF(取扱者名簿!B35=\"\",\"\",取扱者名簿!B35)","v":""},{"$f":"IF(取扱者名簿!C35=\"\",\"\",取扱者名簿!C35)","v":""},{"$f":"IF(取扱者名簿!D35=\"\",\"\",取扱者名簿!D35)","v":""},{"$f":"IF(取扱者名簿!E35=\"\",\"\",取扱者名簿!E35)","v":""},{"$f":"IF(取扱者名簿!F35=\"\",\"\",取扱者名簿!F35)","v":""}]
[null,{"$f":"IF(取扱者名簿!A36=\"\",\"\",取扱者名簿!A36)","v":""},{"$f":"IF(取扱者名簿!B36=\"\",\"\",取扱者名簿!B36)","v":""},{"$f":"IF(取扱者名簿!C36=\"\",\"\",取扱者名簿!C36)","v":""},{"$f":"IF(取扱者名簿!D36=\"\",\"\",取扱者名簿!D36)","v":""},{"$f":"IF(取扱者名簿!E36=\"\",\"\",取扱者名簿!E36)","v":""},{"$f":"IF(取扱者名簿!F36=\"\",\"\",取扱者名簿!F36)","v":""}]
[null,{"$f":"IF(取扱者名簿!A37=\"\",\"\",取扱者名簿!A37)","v":""},{"$f":"IF(取扱者名簿!B37=\"\",\"\",取扱者名簿!B37)","v":""},{"$f":"IF(取扱者名簿!C37=\"\",\"\",取扱者名簿!C37)","v":""},{"$f":"IF(取扱者名簿!D37=\"\",\"\",取扱者名簿!D37)","v":""},{"$f":"IF(取扱者名簿!E37=\"\",\"\",取扱者名簿!E37)","v":""},{"$f":"IF(取扱者名簿!F37=\"\",\"\",取扱者名簿!F37)","v":""}]
[null,{"$f":"IF(取扱者名簿!A38=\"\",\"\",取扱者名簿!A38)","v":""},{"$f":"IF(取扱者名簿!B38=\"\",\"\",取扱者名簿!B38)","v":""},{"$f":"IF(取扱者名簿!C38=\"\",\"\",取扱者名簿!C38)","v":""},{"$f":"IF(取扱者名簿!D38=\"\",\"\",取扱者名簿!D38)","v":""},{"$f":"IF(取扱者名簿!E38=\"\",\"\",取扱者名簿!E38)","v":""},{"$f":"IF(取扱者名簿!F38=\"\",\"\",取扱者名簿!F38)","v":""}]
[null,{"$f":"IF(取扱者名簿!A39=\"\",\"\",取扱者名簿!A39)","v":""},{"$f":"IF(取扱者名簿!B39=\"\",\"\",取扱者名簿!B39)","v":""},{"$f":"IF(取扱者名簿!C39=\"\",\"\",取扱者名簿!C39)","v":""},{"$f":"IF(取扱者名簿!D39=\"\",\"\",取扱者名簿!D39)","v":""},{"$f":"IF(取扱者名簿!E39=\"\",\"\",取扱者名簿!E39)","v":""},{"$f":"IF(取扱者名簿!F39=\"\",\"\",取扱者名簿!F39)","v":""}]
[null,{"$f":"IF(取扱者名簿!A40=\"\",\"\",取扱者名簿!A40)","v":""},{"$f":"IF(取扱者名簿!B40=\"\",\"\",取扱者名簿!B40)","v":""},{"$f":"IF(取扱者名簿!C40=\"\",\"\",取扱者名簿!C40)","v":""},{"$f":"IF(取扱者名簿!D40=\"\",\"\",取扱者名簿!D40)","v":""},{"$f":"IF(取扱者名簿!E40=\"\",\"\",取扱者名簿!E40)","v":""},{"$f":"IF(取扱者名簿!F40=\"\",\"\",取扱者名簿!F40)","v":""}]
[null,{"$f":"IF(取扱者名簿!A41=\"\",\"\",取扱者名簿!A41)","v":""},{"$f":"IF(取扱者名簿!B41=\"\",\"\",取扱者名簿!B41)","v":""},{"$f":"IF(取扱者名簿!C41=\"\",\"\",取扱者名簿!C41)","v":""},{"$f":"IF(取扱者名簿!D41=\"\",\"\",取扱者名簿!D41)","v":""},{"$f":"IF(取扱者名簿!E41=\"\",\"\",取扱者名簿!E41)","v":""},{"$f":"IF(取扱者名簿!F41=\"\",\"\",取扱者名簿!F41)","v":""}]
[null,{"$f":"IF(取扱者名簿!A42=\"\",\"\",取扱者名簿!A42)","v":""},{"$f":"IF(取扱者名簿!B42=\"\",\"\",取扱者名簿!B42)","v":""},{"$f":"IF(取扱者名簿!C42=\"\",\"\",取扱者名簿!C42)","v":""},{"$f":"IF(取扱者名簿!D42=\"\",\"\",取扱者名簿!D42)","v":""},{"$f":"IF(取扱者名簿!E42=\"\",\"\",取扱者名簿!E42)","v":""},{"$f":"IF(取扱者名簿!F42=\"\",\"\",取扱者名簿!F42)","v":""}]
[null,{"$f":"IF(取扱者名簿!A43=\"\",\"\",取扱者名簿!A43)","v":""},{"$f":"IF(取扱者名簿!B43=\"\",\"\",取扱者名簿!B43)","v":""},{"$f":"IF(取扱者名簿!C43=\"\",\"\",取扱者名簿!C43)","v":""},{"$f":"IF(取扱者名簿!D43=\"\",\"\",取扱者名簿!D43)","v":""},{"$f":"IF(取扱者名簿!E43=\"\",\"\",取扱者名簿!E43)","v":""},{"$f":"IF(取扱者名簿!F43=\"\",\"\",取扱者名簿!F43)","v":""}]
[null,{"$f":"IF(取扱者名簿!A44=\"\",\"\",取扱者名簿!A44)","v":""},{"$f":"IF(取扱者名簿!B44=\"\",\"\",取扱者名簿!B44)","v":""},{"$f":"IF(取扱者名簿!C44=\"\",\"\",取扱者名簿!C44)","v":""},{"$f":"IF(取扱者名簿!D44=\"\",\"\",取扱者名簿!D44)","v":""},{"$f":"IF(取扱者名簿!E44=\"\",\"\",取扱者名簿!E44)","v":""},{"$f":"IF(取扱者名簿!F44=\"\",\"\",取扱者名簿!F44)","v":""}]
[null,{"$f":"IF(取扱者名簿!A45=\"\",\"\",取扱者名簿!A45)","v":""},{"$f":"IF(取扱者名簿!B45=\"\",\"\",取扱者名簿!B45)","v":""},{"$f":"IF(取扱者名簿!C45=\"\",\"\",取扱者名簿!C45)","v":""},{"$f":"IF(取扱者名簿!D45=\"\",\"\",取扱者名簿!D45)","v":""},{"$f":"IF(取扱者名簿!E45=\"\",\"\",取扱者名簿!E45)","v":""},{"$f":"IF(取扱者名簿!F45=\"\",\"\",取扱者名簿!F45)","v":""}]
[null,{"$f":"IF(取扱者名簿!A46=\"\",\"\",取扱者名簿!A46)","v":""},{"$f":"IF(取扱者名簿!B46=\"\",\"\",取扱者名簿!B46)","v":""},{"$f":"IF(取扱者名簿!C46=\"\",\"\",取扱者名簿!C46)","v":""},{"$f":"IF(取扱者名簿!D46=\"\",\"\",取扱者名簿!D46)","v":""},{"$f":"IF(取扱者名簿!E46=\"\",\"\",取扱者名簿!E46)","v":""},{"$f":"IF(取扱者名簿!F46=\"\",\"\",取扱者名簿!F46)","v":""}]
[null,{"$f":"IF(取扱者名簿!A47=\"\",\"\",取扱者名簿!A47)","v":""},{"$f":"IF(取扱者名簿!B47=\"\",\"\",取扱者名簿!B47)","v":""},{"$f":"IF(取扱者名簿!C47=\"\",\"\",取扱者名簿!C47)","v":""},{"$f":"IF(取扱者名簿!D47=\"\",\"\",取扱者名簿!D47)","v":""},{"$f":"IF(取扱者名簿!E47=\"\",\"\",取扱者名簿!E47)","v":""},{"$f":"IF(取扱者名簿!F47=\"\",\"\",取扱者名簿!F47)","v":""}]

{"sheet":"RFIリスト","index":2,"n_rows":2,"n_cols":13,"rows_kept":2,"hidden":true}
[]
[null,"案件","自衛隊の物資輸送に供する無人機","警戒監視や攻撃等に用いる陸上自衛隊の新たな無操縦者航空機","攻撃に用いる飛翔タイプの小型無人プラットフォーム等","指向性エネルギー等を用いたカウンタードローン装備品等","島嶼部の地上部隊に滑空投下して物資を補給する器材等","陸上自衛隊の無人車両等","自衛隊の情報収集・警戒監視・偵察・ターゲティングに供する無人機","分隊用情報ツール","電子妨害機能を有するカウンタードローン装備品等","電波を発射するデコイ","自衛隊のシステム・ネットワーク・サイバー作戦状況図"]