Workbook
Name \0: #REF!
Name \A: [1]A!#REF!
Name \S: [1]A!#REF!
Name DATA: #REF!
Name INMENU_A: #REF!
Name INMENU_B: #REF!
Name INMENU_C: #REF!
Name INMENU_D: #REF!
Name MITU: #REF!
Name NOU: #REF!
Name SEI: #REF!
Name UKE: #REF!
Name ああああああ: [2]A!#REF!
Name ｸﾘｱ: #REF!
Name ｸﾘｱDIALOG: #REF!
Name ｸﾘｱ確認: #REF!
Name ﾃﾞｰﾀ呼込: #REF!
Name ﾃﾞｰﾀ保存: #REF!
Name ﾌｧｲﾙ保護: #REF!
Name ﾌﾟﾛｸﾞﾗﾑ終: #REF!
Name ﾒﾆｭｰ: [1]A!#REF!
Name 印刷: [1]A!#REF!
Name 印刷A1: #REF!
Name 印刷A2: #REF!
Name 印刷A3: #REF!
Name 印刷A4: #REF!
Name 印刷B1: #REF!
Name 印刷B2: #REF!
Name 印刷B3: #REF!
Name 印刷B4: #REF!
Name 印刷C1: #REF!
Name 印刷C2: #REF!
Name 印刷C3: #REF!
Name 印刷D1: #REF!
Name 印刷D2: #REF!
Name 印刷D3: #REF!
Name 印刷DIALOG: #REF!
Name 印刷確認A1: #REF!
Name 印刷確認A2: #REF!
Name 印刷確認A3: #REF!
Name 印刷確認A4: #REF!
Name 印刷確認B1: #REF!
Name 印刷確認B2: #REF!
Name 印刷確認B3: #REF!
Name 印刷確認B4: #REF!
Name 印刷確認C1: #REF!
Name 印刷確認C2: #REF!
Name 印刷確認C3: #REF!
Name 印刷確認D1: #REF!
Name 印刷確認D2: #REF!
Name 印刷確認D3: #REF!
Name 確認: [1]A!#REF!
Name 確認範囲1: #REF!
Name 確認範囲2: #REF!
Name 業者名: #REF!
Name 計算: [1]A!#REF!
Name 結合: [1]A!#REF!
Name 結合A: [1]A!#REF!
Name 再_A: #REF!
Name 再_B: #REF!

Sheet 入札書
M1: ※ 4月6日（月）12：00までにＦＡＸしてください。
D2: 入 札 書 | I2: 社 名 | AD2: 社名 | AG2: 予定価格
C3: 下記内訳の単価をもって入札心得書及び契約条項を承諾のうえ入札します。 | M3: 価 格 調 査 書
C4: また、当社（当団体）は、入札心得に定める暴力団排除に関する事項について誓約致します。
C6: 分任契約担当官 | L6: =C6 -> 分任契約担当官
C7: 自衛隊福岡病院 | L7: 自衛隊福岡病院
C8: 会計課長 小野 浩太郎 殿 | L8: =C8 -> 会計課長 小野 浩太郎 殿
B10: 入札日： | D10: 46120 | L10: 入札日 | M10: =D10 -> 46120
B11: 納 期： | D11: 8．4．30 ～8．5．31 | L11: 納期 | M11: =D11 -> 8．4．30 ～8．5．31
B12: 納 地： | D12: 自衛隊福岡病院給食課 | L12: 納地 | M12: =D12 -> 自衛隊福岡病院給食課 | AD12: 3-1 | AG12: 3-1
B13: 見本 | C13: 番号 | D13: 品 名 | E13: 規 格 | F13: 予定数量 | G13: 単位 | H13: 判定 | I13: 単 価 | L13: 番号 | M13: 品 名 | N13: 規 格 | O13: 予定数量 | P13: 単位 | Q13: 単 価 | AC13: 単価 | AF13: 単価
C14: =[3]市場価格調査一覧表!B3 -> 1 | D14: =[3]市場価格調査一覧表!C3 -> びわホール缶 | E14: =[3]市場価格調査一覧表!D3 -> ２号缶 Ｍサイズ 固形量 ３４０ｇ以上 天狗缶詰同等品以上 | F14: =[3]市場価格調査一覧表!E3 -> 9 | G14: CN | H14: =B14 -> 0 | L14: =C14 -> 1 | M14: =D14 -> びわホール缶 | N14: =E14 -> ２号缶 Ｍサイズ 固形量 ３４０ｇ以上 天狗缶詰同等品以上 | O14: =F14 -> 9 | P14: =G14 -> CN | AF14: =Z14 -> 0 | AG14: 0
C15: =[3]市場価格調査一覧表!B4 -> 2 | D15: =[3]市場価格調査一覧表!C4 -> チンゲンサイ | E15: =[3]市場価格調査一覧表!D4 -> 市販品 Ｍ級以上 国産 | F15: =[3]市場価格調査一覧表!E4 -> 0.78 | G15: KG | H15: =B15 -> 0 | L15: =C15 -> 2 | M15: =D15 -> チンゲンサイ | N15: =E15 -> 市販品 Ｍ級以上 国産 | O15: =F15 -> 0.78 | P15: =G15 -> KG | AF15: =Z15 -> 0 | AG15: 0
C16: =[3]市場価格調査一覧表!B5 -> 3 | D16: =[3]市場価格調査一覧表!C5 -> さつま芋 | E16: =[3]市場価格調査一覧表!D5 -> Ｂ－２４ Ｍ級以上 | F16: =[3]市場価格調査一覧表!E5 -> 10.92 | G16: KG | H16: =B16 -> 0 | L16: =C16 -> 3 | M16: =D16 -> さつま芋 | N16: =E16 -> Ｂ－２４ Ｍ級以上 | O16: =F16 -> 10.92 | P16: =G16 -> KG | AF16: =Z16 -> 0 | AG16: 0
C17: =[3]市場価格調査一覧表!B6 -> 4 | D17: =[3]市場価格調査一覧表!C6 -> 馬鈴薯 | E17: =[3]市場価格調査一覧表!D6 -> Ｂ－１５ | F17: =[3]市場価格調査一覧表!E6 -> 75.38 | G17: KG | H17: =B17 -> 0 | L17: =C17 -> 4 | M17: =D17 -> 馬鈴薯 | N17: =E17 -> Ｂ－１５ | O17: =F17 -> 75.38 | P17: =G17 -> KG | AF17: =Z17 -> 0 | AG17: 0
C18: =[3]市場価格調査一覧表!B7 -> 5 | D18: =[3]市場価格調査一覧表!C7 -> 山芋 | E18: =[3]市場価格調査一覧表!D7 -> Ｂ－５５ | F18: =[3]市場価格調査一覧表!E7 -> 14.5 | G18: KG | H18: =B18 -> 0 | L18: =C18 -> 5 | M18: =D18 -> 山芋 | N18: =E18 -> Ｂ－５５ | O18: =F18 -> 14.5 | P18: =G18 -> KG | AF18: =Z18 -> 0 | AG18: 0
C19: =[3]市場価格調査一覧表!B8 -> 6 | D19: =[3]市場価格調査一覧表!C8 -> 冷凍カップ納豆 | E19: =[3]市場価格調査一覧表!D8 -> １個２０ｇ以上 個食包装 小粒 タレ・辛子付 ５０個単位 | F19: =[3]市場価格調査一覧表!E8 -> 50 | G19: EA | H19: =B19 -> 0 | L19: =C19 -> 6 | M19: =D19 -> 冷凍カップ納豆 | N19: =E19 -> １個２０ｇ以上 個食包装 小粒 タレ・辛子付 ５０個単位 | O19: =F19 -> 50 | P19: =G19 -> EA | AF19: =Z19 -> 0 | AG19: 0
C20: =[3]市場価格調査一覧表!B9 -> 7 | D20: =[3]市場価格調査一覧表!C9 -> アスパラガス | E20: =[3]市場価格調査一覧表!D9 -> 市販品 Ｍ級以上 | F20: =[3]市場価格調査一覧表!E9 -> 1.78 | G20: KG | H20: =B20 -> 0 | L20: =C20 -> 7 | M20: =D20 -> アスパラガス | N20: =E20 -> 市販品 Ｍ級以上 | O20: =F20 -> 1.78 | P20: =G20 -> KG | AF20: =Z20 -> 0 | AG20: 0
C21: =[3]市場価格調査一覧表!B10 -> 8 | D21: =[3]市場価格調査一覧表!C10 -> オクラ | E21: =[3]市場価格調査一覧表!D10 -> Ｂ－１８ | F21: =[3]市場価格調査一覧表!E10 -> 29.56 | G21: BG | H21: =B21 -> 0 | L21: =C21 -> 8 | M21: =D21 -> オクラ | N21: =E21 -> Ｂ－１８ | O21: =F21 -> 29.56 | P21: =G21 -> BG | AF21: =Z21 -> 0 | AG21: 0
C22: =[3]市場価格調査一覧表!B11 -> 9 | D22: =[3]市場価格調査一覧表!C11 -> かぼちゃ | E22: =[3]市場価格調査一覧表!D11 -> Ｂ－２０ | F22: =[3]市場価格調査一覧表!E11 -> 5.12 | G22: KG | H22: =B22 -> 0 | L22: =C22 -> 9 | M22: =D22 -> かぼちゃ | N22: =E22 -> Ｂ－２０ | O22: =F22 -> 5.12 | P22: =G22 -> KG | AF22: =Z22 -> 0 | AG22: 0
C23: =[3]市場価格調査一覧表!B12 -> 10 | D23: =[3]市場価格調査一覧表!C12 -> キャベツ | E23: =[3]市場価格調査一覧表!D12 -> Ｂ－４ | F23: =[3]市場価格調査一覧表!E12 -> 147.11 | G23: KG | H23: =B23 -> 0 | L23: =C23 -> 10 | M23: =D23 -> キャベツ | N23: =E23 -> Ｂ－４ | O23: =F23 -> 147.11 | P23: =G23 -> KG | AF23: =Z23 -> 0 | AG23: 0
C24: =[3]市場価格調査一覧表!B13 -> 11 | D24: =[3]市場価格調査一覧表!C13 -> きゅうり | E24: =[3]市場価格調査一覧表!D13 -> Ｂ－２６ | F24: =[3]市場価格調査一覧表!E13 -> 51.42 | G24: KG | H24: =B24 -> 0 | L24: =C24 -> 11 | M24: =D24 -> きゅうり | N24: =E24 -> Ｂ－２６ | O24: =F24 -> 51.42 | P24: =G24 -> KG | AF24: =Z24 -> 0 | AG24: 0
C25: =[3]市場価格調査一覧表!B14 -> 12 | D25: =[3]市場価格調査一覧表!C14 -> ごぼう | E25: =[3]市場価格調査一覧表!D14 -> Ｂ－２８ | F25: =[3]市場価格調査一覧表!E14 -> 15.8 | G25: KG | H25: =B25 -> 0 | L25: =C25 -> 12 | M25: =D25 -> ごぼう | N25: =E25 -> Ｂ－２８ | O25: =F25 -> 15.8 | P25: =G25 -> KG | AF25: =Z25 -> 0 | AG25: 0
... C75: =[3]市場価格調査一覧表!B64 -> 62 | D75: =[3]市場価格調査一覧表!C64 -> 鶏卵 | E75: =[3]市場価格調査一覧表!D64 -> Ｅ－１０ ５ｋｇ単位 | F75: =[3]市場価格調査一覧表!E64 -> 60 | G75: KG | H75: =B75 -> 0 | L75: =C75 -> 62 | M75: =D75 -> 鶏卵 | N75: =E75 -> Ｅ－１０ ５ｋｇ単位 | O75: =F75 -> 60 | P75: =G75 -> KG | AF75: =Z75 -> 0 | AG75: 0
E76: 以下余白 | H76: =B76 -> 0 | L76: =C76 -> 0 | M76: =D76 -> 0 | N76: =E76 -> 以下余白 | O76: =F76 -> 0 | P76: =G76 -> 0 | AF76: =Z76 -> 0 | AG76: 0
H77: =B77 -> 0 | L77: =C77 -> 0 | M77: =D77 -> 0 | N77: =E77 -> 0 | O77: =F77 -> 0 | P77: =G77 -> 0 | AF77: =Z77 -> 0 | AG77: 0
H78: =B78 -> 0 | L78: =C78 -> 0 | M78: =D78 -> 0 | N78: =E78 -> 0 | O78: =F78 -> 0 | P78: =G78 -> 0 | AF78: =Z78 -> 0 | AG78: 0
H79: =B79 -> 0 | L79: =C79 -> 0 | M79: =D79 -> 0 | N79: =E79 -> 0 | O79: =F79 -> 0 | P79: =G79 -> 0 | AF79: =Z79 -> 0 | AG79: 0
H80: =B80 -> 0 | L80: =C80 -> 0 | M80: =D80 -> 0 | N80: =E80 -> 0 | O80: =F80 -> 0 | P80: =G80 -> 0 | AF80: =Z80 -> 0 | AG80: 0
D81: =[3]市場価格調査一覧表!C70 -> 0 | F81: =[3]市場価格調査一覧表!E70 -> 0 | H81: =B81 -> 0 | L81: =C81 -> 0 | M81: =D81 -> 0 | N81: =E81 -> 0 | O81: =F81 -> 0 | P81: =G81 -> 0 | AF81: =Z81 -> 0 | AG81: 0
D82: =[3]市場価格調査一覧表!C71 -> 0 | E82: =[3]市場価格調査一覧表!D71 -> 0 | F82: =[3]市場価格調査一覧表!E71 -> 0 | H82: =B82 -> 0 | L82: =C82 -> 0 | M82: =D82 -> 0 | N82: =E82 -> 0 | O82: =F82 -> 0 | P82: =G82 -> 0 | AF82: =Z82 -> 0 | AG82: 0
D83: =[3]市場価格調査一覧表!C72 -> 0 | E83: =[3]市場価格調査一覧表!D72 -> 0 | F83: =[3]市場価格調査一覧表!E72 -> 0 | H83: =B83 -> 0 | L83: =C83 -> 0 | M83: =D83 -> 0 | N83: =E83 -> 0 | O83: =F83 -> 0 | P83: =G83 -> 0 | AF83: =Z83 -> 0 | AG83: 0
D84: =[3]市場価格調査一覧表!C73 -> 0 | E84: =[3]市場価格調査一覧表!D73 -> 0 | F84: =[3]市場価格調査一覧表!E73 -> 0 | H84: =B84 -> 0 | L84: =C84 -> 0 | M84: =D84 -> 0 | N84: =E84 -> 0 | O84: =F84 -> 0 | P84: =G84 -> 0 | AF84: =Z84 -> 0 | AG84: 0
D85: =[3]市場価格調査一覧表!C74 -> 0 | E85: =[3]市場価格調査一覧表!D74 -> 0 | F85: =[3]市場価格調査一覧表!E74 -> 0 | H85: =B85 -> 0 | L85: =C85 -> 0 | M85: =D85 -> 0 | N85: =E85 -> 0 | O85: =F85 -> 0 | P85: =G85 -> 0 | AF85: =Z85 -> 0 | AG85: 0
D86: =[3]市場価格調査一覧表!C75 -> 0 | E86: =[3]市場価格調査一覧表!D75 -> 0 | F86: =[3]市場価格調査一覧表!E75 -> 0 | H86: =B86 -> 0 | L86: =C86 -> 0 | M86: =D86 -> 0 | N86: =E86 -> 0 | O86: =F86 -> 0 | P86: =G86 -> 0 | AF86: =Z86 -> 0 | AG86: 0
D87: =[3]市場価格調査一覧表!C76 -> 0 | E87: =[3]市場価格調査一覧表!D76 -> 0 | F87: =[3]市場価格調査一覧表!E76 -> 0 | H87: =B87 -> 0 | L87: =C87 -> 0 | M87: =D87 -> 0 | N87: =E87 -> 0 | O87: =F87 -> 0 | P87: =G87 -> 0 | AF87: =Z87 -> 0 | AG87: 0
D88: =[3]市場価格調査一覧表!C77 -> 0 | F88: =[3]市場価格調査一覧表!E77 -> 0 | H88: =B88 -> 0 | L88: =C88 -> 0 | M88: =D88 -> 0 | N88: =E88 -> 0 | O88: =F88 -> 0 | P88: =G88 -> 0 | AF88: =Z88 -> 0 | AG88: 0
D89: =[3]市場価格調査一覧表!C78 -> 0 | E89: =[3]市場価格調査一覧表!D78 -> 0 | F89: =[3]市場価格調査一覧表!E78 -> 0 | H89: =B89 -> 0 | L89: =C89 -> 0 | M89: =D89 -> 0 | N89: =E89 -> 0 | O89: =F89 -> 0 | P89: =G89 -> 0 | AF89: =Z89 -> 0 | AG89: 0
D90: =[3]市場価格調査一覧表!C79 -> 0 | E90: =[3]市場価格調査一覧表!D79 -> 0 | F90: =[3]市場価格調査一覧表!E79 -> 0 | H90: =B90 -> 0 | L90: =C90 -> 0 | M90: =D90 -> 0 | N90: =E90 -> 0 | O90: =F90 -> 0 | P90: =G90 -> 0 | AF90: =Z90 -> 0 | AG90: 0
D91: =[3]市場価格調査一覧表!C80 -> 0 | E91: =[3]市場価格調査一覧表!D80 -> 0 | F91: =[3]市場価格調査一覧表!E80 -> 0 | H91: =B91 -> 0 | L91: =C91 -> 0 | M91: =D91 -> 0 | N91: =E91 -> 0 | O91: =F91 -> 0 | P91: =G91 -> 0 | AF91: =Z91 -> 0 | AG91: 0
D92: =[3]市場価格調査一覧表!C81 -> 0 | E92: =[3]市場価格調査一覧表!D81 -> 0 | F92: =[3]市場価格調査一覧表!E81 -> 0 | H92: =B92 -> 0 | L92: =C92 -> 0 | M92: =D92 -> 0 | N92: =E92 -> 0 | O92: =F92 -> 0 | P92: =G92 -> 0 | AF92: =Z92 -> 0 | AG92: 0
D93: =[3]市場価格調査一覧表!C82 -> 0 | E93: =[3]市場価格調査一覧表!D82 -> 0 | F93: =[3]市場価格調査一覧表!E82 -> 0 | H93: =B93 -> 0 | L93: =C93 -> 0 | M93: =D93 -> 0 | N93: =E93 -> 0 | O93: =F93 -> 0 | P93: =G93 -> 0 | AF93: =Z93 -> 0 | AG93: 0
D94: =[3]市場価格調査一覧表!C83 -> 0 | E94: =[3]市場価格調査一覧表!D83 -> 0 | F94: =[3]市場価格調査一覧表!E83 -> 0 | H94: =B94 -> 0 | L94: =C94 -> 0 | M94: =D94 -> 0 | N94: =E94 -> 0 | O94: =F94 -> 0 | P94: =G94 -> 0 | AF94: =Z94 -> 0 | AG94: 0
D95: =[3]市場価格調査一覧表!C84 -> 0 | F95: =[3]市場価格調査一覧表!E84 -> 0 | H95: =B95 -> 0 | L95: =C95 -> 0 | M95: =D95 -> 0 | N95: =E95 -> 0 | O95: =F95 -> 0 | P95: =G95 -> 0 | AF95: =Z95 -> 0 | AG95: 0
D96: =[3]市場価格調査一覧表!C85 -> 0 | E96: =[3]市場価格調査一覧表!D85 -> 0 | F96: =[3]市場価格調査一覧表!E85 -> 0 | H96: =B96 -> 0 | L96: =C96 -> 0 | M96: =D96 -> 0 | N96: =E96 -> 0 | O96: =F96 -> 0 | P96: =G96 -> 0 | AF96: =Z96 -> 0 | AG96: 0
D97: =[3]市場価格調査一覧表!C86 -> 0 | E97: =[3]市場価格調査一覧表!D86 -> 0 | F97: =[3]市場価格調査一覧表!E86 -> 0 | H97: =B97 -> 0 | L97: =C97 -> 0 | M97: =D97 -> 0 | N97: =E97 -> 0 | O97: =F97 -> 0 | P97: =G97 -> 0 | AF97: =Z97 -> 0 | AG97: 0
D98: =[3]市場価格調査一覧表!C87 -> 0 | F98: =[3]市場価格調査一覧表!E87 -> 0 | H98: =B98 -> 0 | L98: =C98 -> 0 | M98: =D98 -> 0 | N98: =E98 -> 0 | O98: =F98 -> 0 | P98: =G98 -> 0 | AF98: =Z98 -> 0 | AG98: 0
D99: =[3]市場価格調査一覧表!C88 -> 0 | E99: =[3]市場価格調査一覧表!D88 -> 0 | F99: =[3]市場価格調査一覧表!E88 -> 0 | H99: =B99 -> 0 | L99: =C99 -> 0 | M99: =D99 -> 0 | N99: =E99 -> 0 | O99: =F99 -> 0 | P99: =G99 -> 0 | AF99: =Z99 -> 0 | AG99: 0
C100: =[3]市場価格調査一覧表!B89 -> 0 | D100: =[3]市場価格調査一覧表!C89 -> 0 | E100: =[3]市場価格調査一覧表!D89 -> 0 | F100: =[3]市場価格調査一覧表!E89 -> 0 | H100: =B100 -> 0 | L100: =C100 -> 0 | M100: =D100 -> 0 | N100: =E100 -> 0 | O100: =F100 -> 0 | P100: =G100 -> 0 | AF100: =Z100 -> 0 | AG100: 0
C101: =[3]市場価格調査一覧表!B90 -> 0 | D101: =[3]市場価格調査一覧表!C90 -> 0 | E101: =[3]市場価格調査一覧表!D90 -> 0 | F101: =[3]市場価格調査一覧表!E90 -> 0 | H101: =B101 -> 0 | L101: =C101 -> 0 | M101: =D101 -> 0 | N101: =E101 -> 0 | O101: =F101 -> 0 | P101: =G101 -> 0 | AF101: =Z101 -> 0 | AG101: 0
C102: =[3]市場価格調査一覧表!B91 -> 0 | D102: =[3]市場価格調査一覧表!C91 -> 0 | E102: =[3]市場価格調査一覧表!D91 -> 0 | F102: =[3]市場価格調査一覧表!E91 -> 0 | H102: =B102 -> 0 | L102: =C102 -> 0 | M102: =D102 -> 0 | N102: =E102 -> 0 | O102: =F102 -> 0 | P102: =G102 -> 0 | AF102: =Z102 -> 0 | AG102: 0
C103: =[3]市場価格調査一覧表!B92 -> 0 | D103: =[3]市場価格調査一覧表!C92 -> 0 | E103: =[3]市場価格調査一覧表!D92 -> 0 | F103: =[3]市場価格調査一覧表!E92 -> 0 | H103: =B103 -> 0 | L103: =C103 -> 0 | M103: =D103 -> 0 | N103: =E103 -> 0 | O103: =F103 -> 0 | P103: =G103 -> 0 | AF103: =Z103 -> 0 | AG103: 0
D104: =[3]市場価格調査一覧表!C93 -> 0 | E104: =[3]市場価格調査一覧表!D93 -> 0 | F104: =[3]市場価格調査一覧表!E93 -> 0 | H104: =B104 -> 0 | L104: =C104 -> 0 | M104: =D104 -> 0 | N104: =E104 -> 0 | O104: =F104 -> 0 | P104: =G104 -> 0 | AF104: =Z104 -> 0 | AG104: 0
D105: =[3]市場価格調査一覧表!C94 -> 0 | E105: =[3]市場価格調査一覧表!D94 -> 0 | F105: =[3]市場価格調査一覧表!E94 -> 0 | H105: =B105 -> 0 | L105: =C105 -> 0 | M105: =D105 -> 0 | N105: =E105 -> 0 | O105: =F105 -> 0 | P105: =G105 -> 0 | AF105: =Z105 -> 0 | AG105: 0
D106: =[3]市場価格調査一覧表!C95 -> 0 | E106: =[3]市場価格調査一覧表!D95 -> 0 | F106: =[3]市場価格調査一覧表!E95 -> 0 | H106: =B106 -> 0 | L106: =C106 -> 0 | M106: =D106 -> 0 | N106: =E106 -> 0 | O106: =F106 -> 0 | P106: =G106 -> 0 | AF106: =Z106 -> 0 | AG106: 0
D107: =[3]市場価格調査一覧表!C96 -> 0 | E107: =[3]市場価格調査一覧表!D96 -> 0 | F107: =[3]市場価格調査一覧表!E96 -> 0 | H107: =B107 -> 0 | L107: =C107 -> 0 | M107: =D107 -> 0 | N107: =E107 -> 0 | O107: =F107 -> 0 | P107: =G107 -> 0 | AF107: =Z107 -> 0 | AG107: 0
D108: =[3]市場価格調査一覧表!C97 -> 0 | E108: =[3]市場価格調査一覧表!D97 -> 0 | F108: =[3]市場価格調査一覧表!E97 -> 0 | H108: =B108 -> 0 | L108: =C108 -> 0 | M108: =D108 -> 0 | N108: =E108 -> 0 | O108: =F108 -> 0 | P108: =G108 -> 0 | AF108: =Z108 -> 0 | AG108: 0
D109: =[3]市場価格調査一覧表!C98 -> 0 | E109: =[3]市場価格調査一覧表!D98 -> 0 | F109: =[3]市場価格調査一覧表!E98 -> 0 | H109: =B109 -> 0 | L109: =C109 -> 0 | M109: =D109 -> 0 | N109: =E109 -> 0 | O109: =F109 -> 0 | P109: =G109 -> 0 | AF109: =Z109 -> 0 | AG109: 0
D110: =[3]市場価格調査一覧表!C99 -> 0 | E110: =[3]市場価格調査一覧表!D99 -> 0 | F110: =[3]市場価格調査一覧表!E99 -> 0 | H110: =B110 -> 0 | L110: =C110 -> 0 | M110: =D110 -> 0 | N110: =E110 -> 0 | O110: =F110 -> 0 | P110: =G110 -> 0 | AF110: =Z110 -> 0 | AG110: 0
D111: =[3]市場価格調査一覧表!C100 -> 0 | E111: =[3]市場価格調査一覧表!D100 -> 0 | F111: =[3]市場価格調査一覧表!E100 -> 0 | H111: =B111 -> 0 | L111: =C111 -> 0 | M111: =D111 -> 0 | N111: =E111 -> 0 | O111: =F111 -> 0 | P111: =G111 -> 0 | AF111: =Z111 -> 0 | AG111: 0
D112: =[3]市場価格調査一覧表!C101 -> 0 | E112: =[3]市場価格調査一覧表!D101 -> 0 | F112: =[3]市場価格調査一覧表!E101 -> 0 | H112: =B112 -> 0 | L112: =C112 -> 0 | M112: =D112 -> 0 | N112: =E112 -> 0 | O112: =F112 -> 0 | P112: =G112 -> 0 | AF112: =Z112 -> 0 | AG112: 0
D113: =[3]市場価格調査一覧表!C102 -> 0 | E113: =[3]市場価格調査一覧表!D102 -> 0 | F113: =[3]市場価格調査一覧表!E102 -> 0 | H113: =B113 -> 0 | L113: =C113 -> 0 | M113: =D113 -> 0 | N113: =E113 -> 0 | O113: =F113 -> 0 | P113: =G113 -> 0 | AF113: =Z113 -> 0 | AG113: 0
D114: =[3]市場価格調査一覧表!C103 -> 0 | E114: =[3]市場価格調査一覧表!D103 -> 0 | F114: =[3]市場価格調査一覧表!E103 -> 0 | H114: =B114 -> 0 | L114: =C114 -> 0 | M114: =D114 -> 0 | N114: =E114 -> 0 | O114: =F114 -> 0 | P114: =G114 -> 0 | AF114: =Z114 -> 0 | AG114: 0
D115: =[3]市場価格調査一覧表!C104 -> 0 | E115: =[3]市場価格調査一覧表!D104 -> 0 | F115: =[3]市場価格調査一覧表!E104 -> 0 | H115: =B115 -> 0 | L115: =C115 -> 0 | M115: =D115 -> 0 | N115: =E115 -> 0 | O115: =F115 -> 0 | P115: =G115 -> 0 | AF115: =Z115 -> 0 | AG115: 0
... D158: =[3]市場価格調査一覧表!C147 -> 0 | E158: =[3]市場価格調査一覧表!D147 -> 0 | F158: =[3]市場価格調査一覧表!E147 -> 0 | H158: =B158 -> 0 | L158: =C158 -> 0 | M158: =D158 -> 0 | N158: =E158 -> 0 | O158: =F158 -> 0 | P158: =G158 -> 0 | AF158: =Z158 -> 0 | AG158: 0
C159: =[3]市場価格調査一覧表!B148 -> 146 | D159: =[3]市場価格調査一覧表!C148 -> 0 | E159: =[3]市場価格調査一覧表!D148 -> 0 | F159: =[3]市場価格調査一覧表!E148 -> 0 | H159: =B159 -> 0 | L159: =C159 -> 146 | M159: =D159 -> 0 | N159: =E159 -> 0 | O159: =F159 -> 0 | P159: =G159 -> 0 | AF159: =Z159 -> 0 | AG159: 0
C160: =[3]市場価格調査一覧表!B149 -> 147 | D160: =[3]市場価格調査一覧表!C149 -> 0 | E160: =[3]市場価格調査一覧表!D149 -> 0 | F160: =[3]市場価格調査一覧表!E149 -> 0 | H160: =B160 -> 0 | L160: =C160 -> 147 | M160: =D160 -> 0 | N160: =E160 -> 0 | O160: =F160 -> 0 | P160: =G160 -> 0 | AF160: =Z160 -> 0 | AG160: 0
C161: =[3]市場価格調査一覧表!B150 -> 148 | D161: =[3]市場価格調査一覧表!C150 -> 0 | E161: =[3]市場価格調査一覧表!D150 -> 0 | F161: =[3]市場価格調査一覧表!E150 -> 0 | H161: =B161 -> 0 | L161: =C161 -> 148 | M161: =D161 -> 0 | N161: =E161 -> 0 | O161: =F161 -> 0 | P161: =G161 -> 0 | AF161: =Z161 -> 0 | AG161: 0
C162: =[3]市場価格調査一覧表!B151 -> 149 | D162: =[3]市場価格調査一覧表!C151 -> 0 | E162: =[3]市場価格調査一覧表!D151 -> 0 | F162: =[3]市場価格調査一覧表!E151 -> 0 | H162: =B162 -> 0 | L162: =C162 -> 149 | M162: =D162 -> 0 | N162: =E162 -> 0 | O162: =F162 -> 0 | P162: =G162 -> 0 | AF162: =Z162 -> 0 | AG162: 0
C163: =[3]市場価格調査一覧表!B152 -> 150 | D163: =[3]市場価格調査一覧表!C152 -> 0 | E163: =[3]市場価格調査一覧表!D152 -> 0 | F163: =[3]市場価格調査一覧表!E152 -> 0 | H163: =B163 -> 0 | L163: =C163 -> 150 | M163: =D163 -> 0 | N163: =E163 -> 0 | O163: =F163 -> 0 | P163: =G163 -> 0 | AF163: =Z163 -> 0 | AG163: 0
C164: =[3]市場価格調査一覧表!B153 -> 151 | D164: =[3]市場価格調査一覧表!C153 -> 0 | E164: =[3]市場価格調査一覧表!D153 -> 0 | F164: =[3]市場価格調査一覧表!E153 -> 0 | H164: =B164 -> 0 | L164: =C164 -> 151 | M164: =D164 -> 0 | N164: =E164 -> 0 | O164: =F164 -> 0 | P164: =G164 -> 0 | AF164: =Z164 -> 0 | AG164: 0
C165: =[3]市場価格調査一覧表!B154 -> 152 | D165: =[3]市場価格調査一覧表!C154 -> 0 | E165: =[3]市場価格調査一覧表!D154 -> 0 | F165: =[3]市場価格調査一覧表!E154 -> 0 | H165: =B165 -> 0 | L165: =C165 -> 152 | M165: =D165 -> 0 | N165: =E165 -> 0 | O165: =F165 -> 0 | P165: =G165 -> 0 | AF165: =Z165 -> 0 | AG165: 0
C166: =[3]市場価格調査一覧表!B155 -> 153 | D166: =[3]市場価格調査一覧表!C155 -> 0 | E166: =[3]市場価格調査一覧表!D155 -> 0 | F166: =[3]市場価格調査一覧表!E155 -> 0 | H166: =B166 -> 0 | L166: =C166 -> 153 | M166: =D166 -> 0 | N166: =E166 -> 0 | O166: =F166 -> 0 | P166: =G166 -> 0 | AF166: =Z166 -> 0 | AG166: 0
C167: =[3]市場価格調査一覧表!B156 -> 154 | D167: =[3]市場価格調査一覧表!C156 -> 0 | E167: =[3]市場価格調査一覧表!D156 -> 0 | F167: =[3]市場価格調査一覧表!E156 -> 0 | H167: =B167 -> 0 | L167: =C167 -> 154 | M167: =D167 -> 0 | N167: =E167 -> 0 | O167: =F167 -> 0 | P167: =G167 -> 0 | AF167: =Z167 -> 0 | AG167: 0
C168: =[3]市場価格調査一覧表!B157 -> 155 | D168: =[3]市場価格調査一覧表!C157 -> 0 | E168: =[3]市場価格調査一覧表!D157 -> 0 | F168: =[3]市場価格調査一覧表!E157 -> 0 | H168: =B168 -> 0 | L168: =C168 -> 155 | M168: =D168 -> 0 | N168: =E168 -> 0 | O168: =F168 -> 0 | P168: =G168 -> 0 | AF168: =Z168 -> 0 | AG168: 0
C169: =[3]市場価格調査一覧表!B158 -> 156 | D169: =[3]市場価格調査一覧表!C158 -> 0 | E169: =[3]市場価格調査一覧表!D158 -> 0 | F169: =[3]市場価格調査一覧表!E158 -> 0 | H169: =B169 -> 0 | L169: =C169 -> 156 | M169: =D169 -> 0 | N169: =E169 -> 0 | O169: =F169 -> 0 | P169: =G169 -> 0 | AF169: =Z169 -> 0 | AG169: 0
C170: =[3]市場価格調査一覧表!B159 -> 157 | D170: =[3]市場価格調査一覧表!C159 -> 0 | E170: =[3]市場価格調査一覧表!D159 -> 0 | F170: =[3]市場価格調査一覧表!E159 -> 0 | H170: =B170 -> 0 | L170: =C170 -> 157 | M170: =D170 -> 0 | N170: =E170 -> 0 | O170: =F170 -> 0 | P170: =G170 -> 0 | AF170: =Z170 -> 0 | AG170: 0
... C182: =[3]市場価格調査一覧表!B171 -> 169 | D182: =[3]市場価格調査一覧表!C171 -> 0 | E182: =[3]市場価格調査一覧表!D171 -> 0 | F182: =[3]市場価格調査一覧表!E171 -> 0 | H182: =B182 -> 0 | L182: =C182 -> 169 | M182: =D182 -> 0 | N182: =E182 -> 0 | O182: =F182 -> 0 | P182: =G182 -> 0 | AF182: =Z182 -> 0 | AG182: 0
C183: =[3]市場価格調査一覧表!B172 -> 170 | D183: =[3]市場価格調査一覧表!C172 -> 0 | E183: =[3]市場価格調査一覧表!D172 -> 0 | F183: =[3]市場価格調査一覧表!E172 -> 0 | G183: =[3]市場価格調査一覧表!F172 -> 0 | H183: =B183 -> 0 | L183: =C183 -> 170 | M183: =D183 -> 0 | N183: =E183 -> 0 | O183: =F183 -> 0 | P183: =G183 -> 0 | AF183: =Z183 -> 0 | AG183: 0
C184: =[3]市場価格調査一覧表!B173 -> 171 | D184: =[3]市場価格調査一覧表!C173 -> 0 | E184: =[3]市場価格調査一覧表!D173 -> 0 | F184: =[3]市場価格調査一覧表!E173 -> 0 | G184: =[3]市場価格調査一覧表!F173 -> 0 | H184: =B184 -> 0 | L184: =C184 -> 171 | M184: =D184 -> 0 | N184: =E184 -> 0 | O184: =F184 -> 0 | P184: =G184 -> 0 | AF184: =Z184 -> 0 | AG184: 0
C185: =[3]市場価格調査一覧表!B174 -> 172 | D185: =[3]市場価格調査一覧表!C174 -> 0 | E185: =[3]市場価格調査一覧表!D174 -> 0 | F185: =[3]市場価格調査一覧表!E174 -> 0 | G185: =[3]市場価格調査一覧表!F174 -> 0 | H185: =B185 -> 0 | L185: =C185 -> 172 | M185: =D185 -> 0 | N185: =E185 -> 0 | O185: =F185 -> 0 | P185: =G185 -> 0 | AF185: =Z185 -> 0 | AG185: 0
C186: =[3]市場価格調査一覧表!B175 -> 173 | D186: =[3]市場価格調査一覧表!C175 -> 0 | E186: =[3]市場価格調査一覧表!D175 -> 0 | F186: =[3]市場価格調査一覧表!E175 -> 0 | G186: =[3]市場価格調査一覧表!F175 -> 0 | H186: =B186 -> 0 | L186: =C186 -> 173 | M186: =D186 -> 0 | N186: =E186 -> 0 | O186: =F186 -> 0 | P186: =G186 -> 0 | AF186: =Z186 -> 0 | AG186: 0
C187: =[3]市場価格調査一覧表!B176 -> 174 | D187: =[3]市場価格調査一覧表!C176 -> 0 | E187: =[3]市場価格調査一覧表!D176 -> 0 | F187: =[3]市場価格調査一覧表!E176 -> 0 | G187: =[3]市場価格調査一覧表!F176 -> 0 | H187: =B187 -> 0 | L187: =C187 -> 174 | M187: =D187 -> 0 | N187: =E187 -> 0 | O187: =F187 -> 0 | P187: =G187 -> 0 | AF187: =Z187 -> 0 | AG187: 0
C188: =[3]市場価格調査一覧表!B177 -> 175 | D188: =[3]市場価格調査一覧表!C177 -> 0 | E188: =[3]市場価格調査一覧表!D177 -> 0 | F188: =[3]市場価格調査一覧表!E177 -> 0 | G188: =[3]市場価格調査一覧表!F177 -> 0 | H188: =B188 -> 0 | L188: =C188 -> 175 | M188: =D188 -> 0 | N188: =E188 -> 0 | O188: =F188 -> 0 | P188: =G188 -> 0 | AF188: =Z188 -> 0 | AG188: 0
C189: =[3]市場価格調査一覧表!B178 -> 176 | D189: =[3]市場価格調査一覧表!C178 -> 0 | E189: =[3]市場価格調査一覧表!D178 -> 0 | F189: =[3]市場価格調査一覧表!E178 -> 0 | G189: =[3]市場価格調査一覧表!F178 -> 0 | H189: =B189 -> 0 | L189: =C189 -> 176 | M189: =D189 -> 0 | N189: =E189 -> 0 | O189: =F189 -> 0 | P189: =G189 -> 0 | AF189: =Z189 -> 0 | AG189: 0
C190: =[3]市場価格調査一覧表!B179 -> 177 | D190: =[3]市場価格調査一覧表!C179 -> 0 | E190: =[3]市場価格調査一覧表!D179 -> 0 | F190: =[3]市場価格調査一覧表!E179 -> 0 | G190: =[3]市場価格調査一覧表!F179 -> 0 | H190: =B190 -> 0 | L190: =C190 -> 177 | M190: =D190 -> 0 | N190: =E190 -> 0 | O190: =F190 -> 0 | P190: =G190 -> 0 | AF190: =Z190 -> 0 | AG190: 0
C191: =[3]市場価格調査一覧表!B180 -> 178 | D191: =[3]市場価格調査一覧表!C180 -> 0 | E191: =[3]市場価格調査一覧表!D180 -> 0 | F191: =[3]市場価格調査一覧表!E180 -> 0 | G191: =[3]市場価格調査一覧表!F180 -> 0 | H191: =B191 -> 0 | L191: =C191 -> 178 | M191: =D191 -> 0 | N191: =E191 -> 0 | O191: =F191 -> 0 | P191: =G191 -> 0 | AF191: =Z191 -> 0 | AG191: 0
C192: =[3]市場価格調査一覧表!B181 -> 179 | D192: =[3]市場価格調査一覧表!C181 -> 0 | E192: =[3]市場価格調査一覧表!D181 -> 0 | F192: =[3]市場価格調査一覧表!E181 -> 0 | G192: =[3]市場価格調査一覧表!F181 -> 0 | H192: =B192 -> 0 | L192: =C192 -> 179 | M192: =D192 -> 0 | N192: =E192 -> 0 | O192: =F192 -> 0 | P192: =G192 -> 0 | AF192: =Z192 -> 0 | AG192: 0
C193: =[3]市場価格調査一覧表!B182 -> 180 | D193: =[3]市場価格調査一覧表!C182 -> 0 | E193: =[3]市場価格調査一覧表!D182 -> 0 | F193: =[3]市場価格調査一覧表!E182 -> 0 | G193: =[3]市場価格調査一覧表!F182 -> 0 | H193: =B193 -> 0 | L193: =C193 -> 180 | M193: =D193 -> 0 | N193: =E193 -> 0 | O193: =F193 -> 0 | P193: =G193 -> 0 | AF193: =Z193 -> 0 | AG193: 0
C194: =[3]市場価格調査一覧表!B183 -> 181 | D194: =[3]市場価格調査一覧表!C183 -> 0 | E194: =[3]市場価格調査一覧表!D183 -> 0 | F194: =[3]市場価格調査一覧表!E183 -> 0 | G194: =[3]市場価格調査一覧表!F183 -> 0 | H194: =B194 -> 0 | L194: =C194 -> 181 | M194: =D194 -> 0 | N194: =E194 -> 0 | O194: =F194 -> 0 | P194: =G194 -> 0 | AF194: =Z194 -> 0 | AG194: 0
... C309: =[3]市場価格調査一覧表!B298 -> 296 | D309: =[3]市場価格調査一覧表!C298 -> 0 | E309: =[3]市場価格調査一覧表!D298 -> 0 | F309: =[3]市場価格調査一覧表!E298 -> 0 | G309: =[3]市場価格調査一覧表!F298 -> 0 | H309: =B309 -> 0 | L309: =C309 -> 296 | M309: =D309 -> 0 | N309: =E309 -> 0 | O309: =F309 -> 0 | P309: =G309 -> 0 | AF309: =Z309 -> 0 | AG309: 0
C310: =[3]市場価格調査一覧表!B299 -> 297 | D310: =[3]市場価格調査一覧表!C299 -> 0 | E310: =[3]市場価格調査一覧表!D299 -> 0 | F310: =[3]市場価格調査一覧表!E299 -> 0 | G310: =[3]市場価格調査一覧表!F299 -> 0 | L310: =C310 -> 297 | M310: =D310 -> 0 | N310: =E310 -> 0 | O310: =F310 -> 0 | P310: =G310 -> 0 | AF310: =Z310 -> 0 | AG310: 0
C311: =[3]市場価格調査一覧表!B300 -> 298 | D311: =[3]市場価格調査一覧表!C300 -> 0 | E311: =[3]市場価格調査一覧表!D300 -> 0 | F311: =[3]市場価格調査一覧表!E300 -> 0 | G311: =[3]市場価格調査一覧表!F300 -> 0 | L311: =C311 -> 298 | M311: =D311 -> 0 | N311: =E311 -> 0 | O311: =F311 -> 0 | P311: =G311 -> 0 | AF311: =Z311 -> 0 | AG311: 0
C312: =[3]市場価格調査一覧表!B301 -> 299 | D312: =[3]市場価格調査一覧表!C301 -> 0 | E312: =[3]市場価格調査一覧表!D301 -> 0 | F312: =[3]市場価格調査一覧表!E301 -> 0 | G312: =[3]市場価格調査一覧表!F301 -> 0 | L312: =C312 -> 299 | M312: =D312 -> 0 | N312: =E312 -> 0 | O312: =F312 -> 0 | P312: =G312 -> 0 | AF312: =Z312 -> 0 | AG312: 0
C313: =[3]市場価格調査一覧表!B302 -> 300 | D313: =[3]市場価格調査一覧表!C302 -> 0 | E313: =[3]市場価格調査一覧表!D302 -> 0 | F313: =[3]市場価格調査一覧表!E302 -> 0 | G313: =[3]市場価格調査一覧表!F302 -> 0 | L313: =C313 -> 300 | M313: =D313 -> 0 | N313: =E313 -> 0 | O313: =F313 -> 0 | P313: =G313 -> 0 | AF313: =Z313 -> 0 | AG313: 0
C314: =[3]市場価格調査一覧表!B303 -> 301 | D314: =[3]市場価格調査一覧表!C303 -> 0 | E314: =[3]市場価格調査一覧表!D303 -> 0 | F314: =[3]市場価格調査一覧表!E303 -> 0 | G314: =[3]市場価格調査一覧表!F303 -> 0 | L314: =C314 -> 301 | M314: =D314 -> 0 | N314: =E314 -> 0 | O314: =F314 -> 0 | P314: =G314 -> 0 | AF314: =Z314 -> 0 | AG314: 0
C315: =[3]市場価格調査一覧表!B304 -> 302 | D315: =[3]市場価格調査一覧表!C304 -> 0 | E315: =[3]市場価格調査一覧表!D304 -> 0 | F315: =[3]市場価格調査一覧表!E304 -> 0 | G315: =[3]市場価格調査一覧表!F304 -> 0 | L315: =C315 -> 302 | M315: =D315 -> 0 | N315: =E315 -> 0 | O315: =F315 -> 0 | P315: =G315 -> 0 | AF315: =Z315 -> 0 | AG315: 0
C316: =[3]市場価格調査一覧表!B305 -> 303 | D316: =[3]市場価格調査一覧表!C305 -> 0 | E316: =[3]市場価格調査一覧表!D305 -> 0 | F316: =[3]市場価格調査一覧表!E305 -> 0 | G316: =[3]市場価格調査一覧表!F305 -> 0 | L316: =C316 -> 303 | M316: =D316 -> 0 | N316: =E316 -> 0 | O316: =F316 -> 0 | P316: =G316 -> 0 | AF316: =Z316 -> 0 | AG316: 0
C317: =[3]市場価格調査一覧表!B306 -> 304 | D317: =[3]市場価格調査一覧表!C306 -> 0 | E317: =[3]市場価格調査一覧表!D306 -> 0 | F317: =[3]市場価格調査一覧表!E306 -> 0 | G317: =[3]市場価格調査一覧表!F306 -> 0 | L317: =C317 -> 304 | M317: =D317 -> 0 | N317: =E317 -> 0 | O317: =F317 -> 0 | P317: =G317 -> 0 | AF317: =Z317 -> 0 | AG317: 0
C318: =[3]市場価格調査一覧表!B307 -> 305 | D318: =[3]市場価格調査一覧表!C307 -> 0 | E318: =[3]市場価格調査一覧表!D307 -> 0 | F318: =[3]市場価格調査一覧表!E307 -> 0 | G318: =[3]市場価格調査一覧表!F307 -> 0 | L318: =C318 -> 305 | M318: =D318 -> 0 | N318: =E318 -> 0 | O318: =F318 -> 0 | P318: =G318 -> 0 | AF318: =Z318 -> 0 | AG318: 0
...
