Workbook
Name \0: #REF!
Name \A: [1]A!#REF!
Name \S: [1]A!#REF!
Name DATA: #REF!
Name INMENU_A: #REF!
Name INMENU_B: #REF!
Name INMENU_C: #REF!
Name INMENU_D: #REF!
Name MITU: #REF!
Name NOU: #REF!
Name SEI: #REF!
Name UKE: #REF!
Name ああああああ: [2]A!#REF!
Name ｸﾘｱ: #REF!
Name ｸﾘｱDIALOG: #REF!
Name ｸﾘｱ確認: #REF!
Name ﾃﾞｰﾀ呼込: #REF!
Name ﾃﾞｰﾀ保存: #REF!
Name ﾌｧｲﾙ保護: #REF!
Name ﾌﾟﾛｸﾞﾗﾑ終: #REF!
Name ﾒﾆｭｰ: [1]A!#REF!
Name 印刷: [1]A!#REF!
Name 印刷A1: #REF!
Name 印刷A2: #REF!
Name 印刷A3: #REF!
Name 印刷A4: #REF!
Name 印刷B1: #REF!
Name 印刷B2: #REF!
Name 印刷B3: #REF!
Name 印刷B4: #REF!
Name 印刷C1: #REF!
Name 印刷C2: #REF!
Name 印刷C3: #REF!
Name 印刷D1: #REF!
Name 印刷D2: #REF!
Name 印刷D3: #REF!
Name 印刷DIALOG: #REF!
Name 印刷確認A1: #REF!
Name 印刷確認A2: #REF!
Name 印刷確認A3: #REF!
Name 印刷確認A4: #REF!
Name 印刷確認B1: #REF!
Name 印刷確認B2: #REF!
Name 印刷確認B3: #REF!
Name 印刷確認B4: #REF!
Name 印刷確認C1: #REF!
Name 印刷確認C2: #REF!
Name 印刷確認C3: #REF!
Name 印刷確認D1: #REF!
Name 印刷確認D2: #REF!
Name 印刷確認D3: #REF!
Name 確認: [1]A!#REF!
Name 確認範囲1: #REF!
Name 確認範囲2: #REF!
Name 業者名: #REF!
Name 計算: [1]A!#REF!
Name 結合: [1]A!#REF!
Name 結合A: [1]A!#REF!
Name 再_A: #REF!
Name 再_B: #REF!

Sheet 入札書
M1: ※ 4月6日（月）12：00までにＦＡＸしてください。
D2: 入 札 書 | I2: 社 名 | AD2: 社名 | AG2: 予定価格
C3: 下記内訳の単価をもって入札心得書及び契約条項を承諾のうえ入札します。 | M3: 価 格 調 査 書
C4: また、当社（当団体）は、入札心得に定める暴力団排除に関する事項について誓約致します。
C6: 分任契約担当官 | L6: =C6 -> 分任契約担当官
C7: 自衛隊福岡病院 | L7: 自衛隊福岡病院
C8: 会計課長 小野 浩太郎 殿 | L8: =C8 -> 会計課長 小野 浩太郎 殿
B10: 入札日： | D10: 46120 | L10: 入札日 | M10: =D10 -> 46120
B11: 納 期： | D11: 8．4．30 ～8．5．31 | L11: 納期 | M11: =D11 -> 8．4．30 ～8．5．31
B12: 納 地： | D12: 自衛隊福岡病院給食課 | L12: 納地 | M12: =D12 -> 自衛隊福岡病院給食課 | AD12: 3-1 | AG12: 3-1
B13: 見本 | C13: 番号 | D13: 品 名 | E13: 規 格 | F13: 予定数量 | G13: 単位 | H13: 判定 | I13: 単 価 | L13: 番号 | M13: 品 名 | N13: 規 格 | O13: 予定数量 | P13: 単位 | Q13: 単 価 | AC13: 単価 | AF13: 単価
C14: =[3]市場価格調査一覧表!B3 -> 1 | D14: =[3]市場価格調査一覧表!C3 -> びわホール缶 | E14: =[3]市場価格調査一覧表!D3 -> ２号缶 Ｍサイズ 固形量 ３４０ｇ以上 天狗缶詰同等品以上 | F14: =[3]市場価格調査一覧表!E3 -> 9 | G14: CN | H14: =B14 -> 0 | L14: =C14 -> 1 | M14: =D14 -> びわホール缶 | N14: =E14 -> ２号缶 Ｍサイズ 固形量 ３４０ｇ以上 天狗缶詰同等品以上 | O14: =F14 -> 9 | P14: =G14 -> CN | AF14: =Z14 -> 0 | AG14: 0
C15: =[3]市場価格調査一覧表!B4 -> 2 | D15: =[3]市場価格調査一覧表!C4 -> チンゲンサイ | E15: =[3]市場価格調査一覧表!D4 -> 市販品 Ｍ級以上 国産 | F15: =[3]市場価格調査一覧表!E4 -> 0.78 | G15: KG | H15: =B15 -> 0 | L15: =C15 -> 2 | M15: =D15 -> チンゲンサイ | N15: =E15 -> 市販品 Ｍ級以上 国産 | O15: =F15 -> 0.78 | P15: =G15 -> KG | AF15: =Z15 -> 0 | AG15: 0
C16: =[3]市場価格調査一覧表!B5 -> 3 | D16: =[3]市場価格調査一覧表!C5 -> さつま芋 | E16: =[3]市場価格調査一覧表!D5 -> Ｂ－２４ Ｍ級以上 | F16: =[3]市場価格調査一覧表!E5 -> 10.92 | G16: KG | H16: =B16 -> 0 | L16: =C16 -> 3 | M16: =D16 -> さつま芋 | N16: =E16 -> Ｂ－２４ Ｍ級以上 | O16: =F16 -> 10.92 | P16: =G16 -> KG | AF16: =Z16 -> 0 | AG16: 0
C17: =[3]市場価格調査一覧表!B6 -> 4 | D17: =[3]市場価格調査一覧表!C6 -> 馬鈴薯 | E17: =[3]市場価格調査一覧表!D6 -> Ｂ－１５ | F17: =[3]市場価格調査一覧表!E6 -> 75.38 | G17: KG | H17: =B17 -> 0 | L17: =C17 -> 4 | M17: =D17 -> 馬鈴薯 | N17: =E17 -> Ｂ－１５ | O17: =F17 -> 75.38 | P17: =G17 -> KG | AF17: =Z17 -> 0 | AG17: 0
C18: =[3]市場価格調査一覧表!B7 -> 5 | D18: =[3]市場価格調査一覧表!C7 -> 山芋 | E18: =[3]市場価格調査一覧表!D7 -> Ｂ－５５ | F18: =[3]市場価格調査一覧表!E7 -> 14.5 | G18: KG | H18: =B18 -> 0 | L18: =C18 -> 5 | M18: =D18 -> 山芋 | N18: =E18 -> Ｂ－５５ | O18: =F18 -> 14.5 | P18: =G18 -> KG | AF18: =Z18 -> 0 | AG18: 0
C19: =[3]市場価格調査一覧表!B8 -> 6 | D19: =[3]市場価格調査一覧表!C8 -> 冷凍カップ納豆 | E19: =[3]市場価格調査一覧表!D8 -> １個２０ｇ以上 個食包装 小粒 タレ・辛子付 ５０個単位 | F19: =[3]市場価格調査一覧表!E8 -> 50 | G19: EA | H19: =B19 -> 0 | L19: =C19 -> 6 | M19: =D19 -> 冷凍カップ納豆 | N19: =E19 -> １個２０ｇ以上 個食包装 小粒 タレ・辛子付 ５０個単位 | O19: =F19 -> 50 | P19: =G19 -> EA | AF19: =Z19 -> 0 | AG19: 0
C20: =[3]市場価格調査一覧表!B9 -> 7 | D20: =[3]市場価格調査一覧表!C9 -> アスパラガス | E20: =[3]市場価格調査一覧表!D9 -> 市販品 Ｍ級以上 | F20: =[3]市場価格調査一覧表!E9 -> 1.78 | G20: KG | H20: =B20 -> 0 | L20: =C20 -> 7 | M20: =D20 -> アスパラガス | N20: =E20 -> 市販品 Ｍ級以上 | O20: =F20 -> 1.78 | P20: =G20 -> KG | AF20: =Z20 -> 0 | AG20: 0
C21: =[3]市場価格調査一覧表!B10 -> 8 | D21: =[3]市場価格調査一覧表!C10 -> オクラ | E21: =[3]市場価格調査一覧表!D10 -> Ｂ－１８ | F21: =[3]市場価格調査一覧表!E10 -> 29.56 | G21: BG | H21: =B21 -> 0 | L21: =C21 -> 8 | M21: =D21 -> オクラ | N21: =E21 -> Ｂ－１８ | O21: =F21 -> 29.56 | P21: =G21 -> BG | AF21: =Z21 -> 0 | AG21: 0
C22: =[3]市場価格調査一覧表!B11 -> 9 | D22: =[3]市場価格調査一覧表!C11 -> かぼちゃ | E22: =[3]市場価格調査一覧表!D11 -> Ｂ－２０ | F22: =[3]市場価格調査一覧表!E11 -> 5.12 | G22: KG | H22: =B22 -> 0 | L22: =C22 -> 9 | M22: =D22 -> かぼちゃ | N22: =E22 -> Ｂ－２０ | O22: =F22 -> 5.12 | P22: =G22 -> KG | AF22: =Z22 -> 0 | AG22: 0
C23: =[3]市場価格調査一覧表!B12 -> 10 | D23: =[3]市場価格調査一覧表!C12 -> キャベツ | E23: =[3]市場価格調査一覧表!D12 -> Ｂ－４ | F23: =[3]市場価格調査一覧表!E12 -> 147.11 | G23: KG | H23: =B23 -> 0 | L23: =C23 -> 10 | M23: =D23 -> キャベツ | N23: =E23 -> Ｂ－４ | O23: =F23 -> 147.11 | P23: =G23 -> KG | AF23: =Z23 -> 0 | AG23: 0
C24: =[3]市場価格調査一覧表!B13 -> 11 | D24: =[3]市場価格調査一覧表!C13 -> きゅうり | E24: =[3]市場価格調査一覧表!D13 -> Ｂ－２６ | F24: =[3]市場価格調査一覧表!E13 -> 51.42 | G24: KG | H24: =B24 -> 0 | L24: =C24 -> 11 | M24: =D24 -> きゅうり | N24: =E24 -> Ｂ－２６ | O24: =F24 -> 51.42 | P24: =G24 -> KG | AF24: =Z24 -> 0 | AG24: 0
C25: =[3]市場価格調査一覧表!B14 -> 12 | D25: =[3]市場価格調査一覧表!C14 -> ごぼう | E25: =[3]市場価格調査一覧表!D14 -> Ｂ－２８ | F25: =[3]市場価格調査一覧表!E14 -> 15.8 | G25: KG | H25: =B25 -> 0 | L25: =C25 -> 12 | M25: =D25 -> ごぼう | N25: =E25 -> Ｂ－２８ | O25: =F25 -> 15.8 | P25: =G25 -> KG | AF25: =Z25 -> 0 | AG25: 0
... C75: =[3]市場価格調査一覧表!B64 -> 62 | D75: =[3]市場価格調査一覧表!C64 -> 鶏卵 | E75: =[3]市場価格調査一覧表!D64 -> Ｅ－１０ ５ｋｇ単位 | F75: =[3]市場価格調査一覧表!E64 -> 60 | G75: KG | H75: =B75 -> 0 | L75: =C75 -> 62 | M75: =D75 -> 鶏卵 | N75: =E75 -> Ｅ－１０ ５ｋｇ単位 | O75: =F75 -> 60 | P75: =G75 -> KG | AF75: =Z75 -> 0 | AG75: 0
E76: 以下余白 | H76: =B76 -> 0 | L76: =C76 -> 0 | M76: =D76 -> 0 | N76: =E76 -> 以下余白 | O76: =F76 -> 0 | P76: =G76 -> 0 | AF76: =Z76 -> 0 | AG76: 0
H77: =B77 -> 0 | L77: =C77 -> 0 | M77: =D77 -> 0 | N77: =E77 -> 0 | O77: =F77 -> 0 | P77: =G77 -> 0 | AF77: =Z77 -> 0 | AG77: 0
H78: =B78 -> 0 | L78: =C78 -> 0 | M78: =D78 -> 0 | N78: =E78 -> 0 | O78: =F78 -> 0 | P78: =G78 -> 0 | AF78: =Z78 -> 0 | AG78: 0
H79: =B79 -> 0 | L79: =C79 -> 0 | M79: =D79 -> 0 | N79: =E79 -> 0 | O79: =F79 -> 0 | P79: =G79 -> 0 | AF79: =Z79 -> 0 | AG79: 0
H80: =B80 -> 0 | L80: =C80 -> 0 | M80: =D80 -> 0 | N80: =E80 -> 0 | O80: =F80 -> 0 | P80: =G80 -> 0 | AF80: =Z80 -> 0 | AG80: 0
D81: =[3]市場価格調査一覧表!C70 -> 0 | F81: =[3]市場価格調査一覧表!E70 -> 0 | H81: =B81 -> 0 | L81: =C81 -> 0 | M81: =D81 -> 0 | N81: =E81 -> 0 | O81: =F81 -> 0 | P81: =G81 -> 0 | AF81: =Z81 -> 0 | AG81: 0
D82: =[3]市場価格調査一覧表!C71 -> 0 | E82: =[3]市場価格調査一覧表!D71 -> 0 | F82: =[3]市場価格調査一覧表!E71 -> 0 | H82: =B82 -> 0 | L82: =C82 -> 0 | M82: =D82 -> 0 | N82: =E82 -> 0 | O82: =F82 -> 0 | P82: =G82 -> 0 | AF82: =Z82 -> 0 | AG82: 0
D83: =[3]市場価格調査一覧表!C72 -> 0 | E83: =[3]市場価格調査一覧表!D72 -> 0 | F83: =[3]市場価格調査一覧表!E72 -> 0 | H83: =B83 -> 0 | L83: =C83 -> 0 | M83: =D83 -> 0 | N83: =E83 -> 0 | O83: =F83 -> 0 | P83: =G83 -> 0 | AF83: =Z83 -> 0 | AG83: 0
D84: =[3]市場価格調査一覧表!C73 -> 0 | E84: =[3]市場価格調査一覧表!D73 -> 0 | F84: =[3]市場価格調査一覧表!E73 -> 0 | H84: =B84 -> 0 | L84: =C84 -> 0 | M84: =D84 -> 0 | N84: =E84 -> 0 | O84: =F84 -> 0 | P84: =G84 -> 0 | AF84: =Z84 -> 0 | AG84: 0
D85: =[3]市場価格調査一覧表!C74 -> 0 | E85: =[3]市場価格調査一覧表!D74 -> 0 | F85: =[3]市場価格調査一覧表!E74 -> 0 | H85: =B85 -> 0 | L85: =C85 -> 0 | M85: =D85 -> 0 | N85: =E85 -> 0 | O85: =F85 -> 0 | P85: =G85 -> 0 | AF85: =Z85 -> 0 | AG85: 0
D86: =[3]市場価格調査一覧表!C75 -> 0 | E86: =[3]市場価格調査一覧表!D75 -> 0 | F86: =[3]市場価格調査一覧表!E75 -> 0 | H86: =B86 -> 0 | L86: =C86 -> 0 | M86: =D86 -> 0 | N86: =E86 -> 0 | O86: =F86 -> 0 | P86: =G86 -> 0 | AF86: =Z86 -> 0 | AG86: 0
D87: =[3]市場価格調査一覧表!C76 -> 0 | E87: =[3]市場価格調査一覧表!D76 -> 0 | F87: =[3]市場価格調査一覧表!E76 -> 0 | H87: =B87 -> 0 | L87: =C87 -> 0 | M87: =D87 -> 0 | N87: =E87 -> 0 | O87: =F87 -> 0 | P87: =G87 -> 0 | AF87: =Z87 -> 0 | AG87: 0
D88: =[3]市場価格調査一覧表!C77 -> 0 | F88: =[3]市場価格調査一覧表!E77 -> 0 | H88: =B88 -> 0 | L88: =C88 -> 0 | M88: =D88 -> 0 | N88: =E88 -> 0 | O88: =F88 -> 0 | P88: =G88 -> 0 | AF88: =Z88 -> 0 | AG88: 0
D89: =[3]市場価格調査一覧表!C78 -> 0 | E89: =[3]市場価格調査一覧表!D78 -> 0 | F89: =[3]市場価格調査一覧表!E78 -> 0 | H89: =B89 -> 0 | L89: =C89 -> 0 | M89: =D89 -> 0 | N89: =E89 -> 0 | O89: =F89 -> 0 | P89: =G89 -> 0 | AF89: =Z89 -> 0 | AG89: 0
D90: =[3]市場価格調査一覧表!C79 -> 0 | E90: =[3]市場価格調査一覧表!D79 -> 0 | F90: =[3]市場価格調査一覧表!E79 -> 0 | H90: =B90 -> 0 | L90: =C90 -> 0 | M90: =D90 -> 0 | N90: =E90 -> 0 | O90: =F90 -> 0 | P90: =G90 -> 0 | AF90: =Z90 -> 0 | AG90: 0
D91: =[3]市場価格調査一覧表!C80 -> 0 | E91: =[3]市場価格調査一覧表!D80 -> 0 | F91: =[3]市場価格調査一覧表!E80 -> 0 | H91: =B91 -> 0 | L91: =C91 -> 0 | M91: =D91 -> 0 | N91: =E91 -> 0 | O91: =F91 -> 0 | P91: =G91 -> 0 | AF91: =Z91 -> 0 | AG91: 0
...
