Workbook
Name \0: #REF!
Name DATA: #REF!
Name INMENU_A: #REF!
Name INMENU_B: #REF!
Name INMENU_C: #REF!
Name INMENU_D: #REF!
Name MITU: #REF!
Name NOU: #REF!
Name SEI: #REF!
Name UKE: #REF!
Name ｸﾘｱ: #REF!
Name ｸﾘｱDIALOG: #REF!
Name ｸﾘｱ確認: #REF!
Name ﾃﾞｰﾀ呼込: #REF!
Name ﾃﾞｰﾀ保存: #REF!
Name ﾌｧｲﾙ保護: #REF!
Name ﾌﾟﾛｸﾞﾗﾑ終: #REF!
Name 印刷A1: #REF!
Name 印刷A2: #REF!
Name 印刷A3: #REF!
Name 印刷A4: #REF!
Name 印刷B1: #REF!
Name 印刷B2: #REF!
Name 印刷B3: #REF!
Name 印刷B4: #REF!
Name 印刷C1: #REF!
Name 印刷C2: #REF!
Name 印刷C3: #REF!
Name 印刷D1: #REF!
Name 印刷D2: #REF!
Name 印刷D3: #REF!
Name 印刷DIALOG: #REF!
Name 印刷確認A1: #REF!
Name 印刷確認A2: #REF!
Name 印刷確認A3: #REF!
Name 印刷確認A4: #REF!
Name 印刷確認B1: #REF!
Name 印刷確認B2: #REF!
Name 印刷確認B3: #REF!
Name 印刷確認B4: #REF!
Name 印刷確認C1: #REF!
Name 印刷確認C2: #REF!
Name 印刷確認C3: #REF!
Name 印刷確認D1: #REF!
Name 印刷確認D2: #REF!
Name 印刷確認D3: #REF!
Name 確認範囲1: #REF!
Name 確認範囲2: #REF!
Name 再_A: #REF!
Name 再_B: #REF!
Name 再_C: #REF!
Name 再_D: #REF!
Name 対象月: "ラベル 17"
Name 納品書終: #REF!
Name 保護解除: #REF!
Name 枚数A: #REF!
Name 枚数B: #REF!
Name 枚数C: #REF!

Sheet 市価調査書
A2: 市価調査書
B4: 下記事項について市場価格調査を依頼致します。
D6: 記
A7: 1 | B7: 調査に関する事項
B8: 品 名 | C8: 規 格 | D8: 単 位 | E8: 数量 | F8: 単 価 | G8: 金 額 | H8: 備 考
B9: ＣＥＭＥＤＩＮＥ ５４０（７６Ａ－０５） ほか25件 | C9: 内訳書のとおり | G9: =E9*F9 -> 0
C10: 以下余白
B25: 住 所
B26: 会 社 名
B27: 担 当 者（ご連絡先）
B29: ※消費税を抜いた金額を記入してください
B30: ※その他市場価格算定に必要な項目がありましたら、「品名」「規格」欄等に追記してください。
A32: 2 | B32: 納期（場所）： | C32: 令和８年９月３０日（陸上自衛隊高遊原分屯地）
A33: 3 | B33: 提出期限： | C33: 令和８年５月２６日(火) １２時００分
A34: 4 | B34: 調査書に関する問い合わせ先
C35: 〒８６２-０９０１ 熊本市東区東町１－１－１
C36: ="陸上自衛隊健軍駐屯地 西部方面会計隊本部" -> 陸上自衛隊健軍駐屯地 西部方面会計隊本部
C37: 業務科第１契約班 藤嶋
C38: ＴＥＬ(096)-368-5111(内4436) FAX(096)-368-3579

Sheet 入札書
B3: 入 札 書
C5: ￥ | D5: =G8 -> 0 | G5: （税抜）
B7: 品 名 | C7: 規 格 | D7: 単 位 | E7: 数 量 | F7: 単 価 | G7: 金 額
B8: =市価調査書!B9 -> ＣＥＭＥＤＩＮＥ ５４０（７６Ａ－０５） ほか25件 | C8: =市価調査書!C9 -> 内訳書のとおり
C9: 以 下 余 白
B14: 履行場所 | C14: 陸上自衛隊高遊原分屯地
B15: 納期 | C15: 令和８年９月３０日
B16: ※ 当社（当団体）は、入札等参加者心得に定める暴力団排除に関する事項について誓約いたします。
B17: ※ 「上記の公告又は通知に対して「入札及び契約心得」及び「標準契約書等」の契約条項を承諾のうえ入札見積いたします。」
B19: 令和 ８ 年 ５ 月 ２８ 日
B21: 分任契約担当官 陸上自衛隊健軍駐屯地 西部方面会計隊業務科長 原島 貴男 殿
C23: 住 所：
C24: 会 社 名：
C25: 代表者名：
C26: 担当者名：
C27: 連絡先：
D29: ※押印を省略する場合は、担当者名と連絡先を必ず記載すること

Sheet 内訳書
A1: № | B1: 品 名 | C1: 規 格 | D1: 単位 | E1: 数量 | F1: 単価 | G1: 金額
A2: 1 | B2: =[1]単価入力!C2 -> ＣＥＭＥＤＩＮＥ ５４０（７６Ａ－０５） | C2: =[1]単価入力!D2 -> ＣＥＭＥＤＩＮＥ ５４２（代替品） | D2: =[1]単価入力!E2 -> EA | E2: =[1]単価入力!F2 -> 1
A3: 2 | B3: =[1]単価入力!C3 -> 万能シーリング剤（７６Ａ－３０） | C3: =[1]単価入力!D3 -> ＫＥ４５Ｗ－１００ 白 | D3: =[1]単価入力!E3 -> EA | E3: =[1]単価入力!F3 -> 12
A4: 3 | B4: =[1]単価入力!C4 -> 万能シーリング剤（７６Ａ－３０Ｂ） | C4: =[1]単価入力!D4 -> ＫＥ４５Ｂ－１００ 黒 | D4: =[1]単価入力!E4 -> EA | E4: =[1]単価入力!F4 -> 9 | G4: =E4*F4 -> 0
A5: 4 | B5: =[1]単価入力!C5 -> 万能シーリング剤（７６Ａ－３０Ｃ） | C5: =[1]単価入力!D5 -> ＫＥ４５Ｔ－１００ 透明 | D5: =[1]単価入力!E5 -> EA | E5: =[1]単価入力!F5 -> 8 | G5: =E5*F5 -> 0
A6: 5 | B6: =[1]単価入力!C6 -> ＳＥＡＬＩＮＧ ＣＯＭＰＯＵＮＤ（７６Ａ－６５） | C6: =[1]単価入力!D6 -> ＰＲ－１４２２Ａ－１／２－ＰＴ | D6: =[1]単価入力!E6 -> KT | E6: =[1]単価入力!F6 -> 3 | G6: =E6*F6 -> 0
A7: 6 | B7: =[1]単価入力!C7 -> ＳＥＡＬＩＮＧ ＣＯＭＰＯＵＮＤ（７６Ａ－６６） | C7: =[1]単価入力!D7 -> ＰＲ－１４２２Ａ－２－ＰＴ | D7: =[1]単価入力!E7 -> KT | E7: =[1]単価入力!F7 -> 3 | G7: =E7*F7 -> 0
A8: 7 | B8: =[1]単価入力!C8 -> ＳＥＡＬＩＮＧ ＣＯＭＰＯＵＮＤ（７６Ａ－６７） | C8: =[1]単価入力!D8 -> ＰＲ－１４２２Ｂ－１／２－ＰＴ | D8: =[1]単価入力!E8 -> KT | E8: =[1]単価入力!F8 -> 9 | G8: =E8*F8 -> 0
A9: 8 | B9: =[1]単価入力!C9 -> ＳＥＡＬＩＮＧ ＣＯＭＰＯＵＮＤ（７６Ａ－６８） | C9: =[1]単価入力!D9 -> ＰＲ－１４２２Ｂ－２－ＰＴ | D9: =[1]単価入力!E9 -> KT | E9: =[1]単価入力!F9 -> 6 | G9: =E9*F9 -> 0
A10: 9 | B10: =[1]単価入力!C10 -> ＳＥＡＬＩＮＧ ＣＯＭＰＯＵＮＤ（７６Ａ－７０Ａ） | C10: =[1]単価入力!D10 -> Ｐ／Ｓ－８７０Ｂ－２ | D10: =[1]単価入力!E10 -> KT | E10: =[1]単価入力!F10 -> 3 | G10: =E10*F10 -> 0
A11: 10 | B11: =[1]単価入力!C11 -> ＳＥＡＬＩＮＧ ＣＯＭＰＯＵＮＤ（７６Ａ－７１Ａ） | C11: =[1]単価入力!D11 -> Ｐ／Ｓ－８７０Ｂ－１／２－ＰＴ | D11: =[1]単価入力!E11 -> KT | E11: =[1]単価入力!F11 -> 4 | G11: =E11*F11 -> 0
A12: 11 | B12: =[1]単価入力!C12 -> ＳＥＡＬＩＮＧ ＣＯＭＰＯＵＮＤ（７６Ａ－７６） | C12: =[1]単価入力!D12 -> Ｐ／Ｓ－８９０Ｂ－１／２ | D12: =[1]単価入力!E12 -> KT | E12: =[1]単価入力!F12 -> 6 | G12: =E12*F12 -> 0
A13: 12 | B13: =[1]単価入力!C13 -> ＳＥＡＬＩＮＧ ＣＯＭＰＯＵＮＤ（７６Ａ－１０２） | C13: =[1]単価入力!D13 -> ＰＲ－１４４８Ｂ－１／２ | D13: =[1]単価入力!E13 -> KT | E13: =[1]単価入力!F13 -> 3 | G13: =E13*F13 -> 0
A14: 13 | B14: =[1]単価入力!C14 -> ＣＥＭＥＤＩＮＥ ５７５Ｆ（７６Ａ－１０３） | C14: =[1]単価入力!D14 -> ＣＥＭＥＤＩＮＥ ５７５Ｆ | D14: =[1]単価入力!E14 -> EA | E14: =[1]単価入力!F14 -> 5 | G14: =E14*F14 -> 0
A15: 14 | B15: =[1]単価入力!C15 -> ＳＥＡＬＩＮＧ ＣＯＭＰＯＵＮＤ（７６Ａ－１０９） | C15: =[1]単価入力!D15 -> ＰＲ－１４４０Ｂ－１／２ | D15: =[1]単価入力!E15 -> KT | E15: =[1]単価入力!F15 -> 9 | G15: =E15*F15 -> 0
... A27: 26 | B27: =[1]単価入力!C27 -> ｐｒｉｍｅｒ | C27: =[1]単価入力!D27 -> Ｌ１００７Ｍ | D27: =[1]単価入力!E27 -> EA | E27: =[1]単価入力!F27 -> 1 | G27: =E27*F27 -> 0
B28: =[1]単価入力!C28 -> 0 | C28: =[1]単価入力!D28 -> 0 | D28: =[1]単価入力!E28 -> 0 | E28: =[1]単価入力!F28 -> 0 | G28: =E28*F28 -> 0
C29: =[1]単価入力!D29 -> 0 | D29: =[1]単価入力!E29 -> 0 | E29: =[1]単価入力!F29 -> 0 | G29: =E29*F29 -> 0
B30: =[1]単価入力!C30 -> 0 | C30: =[1]単価入力!D30 -> 0 | D30: =[1]単価入力!E30 -> 0 | E30: =[1]単価入力!F30 -> 0 | G30: =E30*F30 -> 0
B31: =[1]単価入力!C31 -> 0 | C31: =[1]単価入力!D31 -> 0 | D31: =[1]単価入力!E31 -> 0 | E31: =[1]単価入力!F31 -> 0 | G31: =E31*F31 -> 0
G32: =SUM(G2:G31) -> 0
A33: 31 | B33: =[1]単価入力!C32 -> 0 | C33: =[1]単価入力!D32 -> 0 | D33: =[1]単価入力!E32 -> 0 | E33: =[1]単価入力!F32 -> 0 | G33: =E33*F33 -> 0
A34: 32 | B34: =[1]単価入力!C33 -> 0 | C34: =[1]単価入力!D33 -> 0 | D34: =[1]単価入力!E33 -> 0 | E34: =[1]単価入力!F33 -> 0 | G34: =E34*F34 -> 0
A35: 33 | B35: =[1]単価入力!C34 -> 0 | C35: =[1]単価入力!D34 -> 0 | D35: =[1]単価入力!E34 -> 0 | E35: =[1]単価入力!F34 -> 0 | G35: =E35*F35 -> 0
A36: 34 | B36: =[1]単価入力!C35 -> 0 | C36: =[1]単価入力!D35 -> 0 | D36: =[1]単価入力!E35 -> 0 | E36: =[1]単価入力!F35 -> 0 | G36: =E36*F36 -> 0
A37: 35 | B37: =[1]単価入力!C36 -> 0 | C37: =[1]単価入力!D36 -> 0 | D37: =[1]単価入力!E36 -> 0 | E37: =[1]単価入力!F36 -> 0 | G37: =E37*F37 -> 0
A38: 36 | B38: =[1]単価入力!C37 -> 0 | C38: =[1]単価入力!D37 -> 0 | D38: =[1]単価入力!E37 -> 0 | E38: =[1]単価入力!F37 -> 0 | G38: =E38*F38 -> 0
A39: 37 | B39: =[1]単価入力!C38 -> 0 | C39: =[1]単価入力!D38 -> 0 | D39: =[1]単価入力!E38 -> 0 | E39: =[1]単価入力!F38 -> 0 | G39: =E39*F39 -> 0
A40: 38 | B40: =[1]単価入力!C39 -> 0 | C40: =[1]単価入力!D39 -> 0 | D40: =[1]単価入力!E39 -> 0 | E40: =[1]単価入力!F39 -> 0 | G40: =E40*F40 -> 0
A41: 39 | B41: =[1]単価入力!C40 -> 0 | C41: =[1]単価入力!D40 -> 0 | D41: =[1]単価入力!E40 -> 0 | E41: =[1]単価入力!F40 -> 0 | G41: =E41*F41 -> 0
A42: 40 | B42: =[1]単価入力!C41 -> 0 | C42: =[1]単価入力!D41 -> 0 | D42: =[1]単価入力!E41 -> 0 | E42: =[1]単価入力!F41 -> 0 | G42: =E42*F42 -> 0
A43: 41 | B43: =[1]単価入力!C42 -> 0 | C43: =[1]単価入力!D42 -> 0 | D43: =[1]単価入力!E42 -> 0 | E43: =[1]単価入力!F42 -> 0 | G43: =E43*F43 -> 0
A44: 42 | B44: =[1]単価入力!C43 -> 0 | C44: =[1]単価入力!D43 -> 0 | D44: =[1]単価入力!E43 -> 0 | E44: =[1]単価入力!F43 -> 0 | G44: =E44*F44 -> 0
... A62: 60 | B62: =[1]単価入力!C61 -> 0 | C62: =[1]単価入力!D61 -> 0 | D62: =[1]単価入力!E61 -> 0 | E62: =[1]単価入力!F61 -> 0 | G62: =E62*F62 -> 0
B63: 小 計 | G63: =SUM(G33:G62) -> 0
A64: 61 | B64: =[1]単価入力!C62 -> 0 | C64: =[1]単価入力!D62 -> 0 | D64: =[1]単価入力!E62 -> 0 | E64: =[1]単価入力!F62 -> 0 | G64: =E64*F63 -> 0
A65: 62 | B65: =[1]単価入力!C63 -> 0 | C65: =[1]単価入力!D63 -> 0 | D65: =[1]単価入力!E63 -> 0 | E65: =[1]単価入力!F63 -> 0 | G65: =E65*F64 -> 0
A66: 63 | B66: =[1]単価入力!C64 -> 0 | C66: =[1]単価入力!D64 -> 0 | D66: =[1]単価入力!E64 -> 0 | E66: =[1]単価入力!F64 -> 0 | G66: =E66*F65 -> 0
A67: 64 | B67: =[1]単価入力!C65 -> 0 | C67: =[1]単価入力!D65 -> 0 | D67: =[1]単価入力!E65 -> 0 | E67: =[1]単価入力!F65 -> 0 | G67: =E67*F66 -> 0
A68: 65 | B68: =[1]単価入力!C66 -> 0 | C68: =[1]単価入力!D66 -> 0 | D68: =[1]単価入力!E66 -> 0 | E68: =[1]単価入力!F66 -> 0 | G68: =E68*F67 -> 0
A69: 66 | B69: =[1]単価入力!C67 -> 0 | C69: =[1]単価入力!D67 -> 0 | D69: =[1]単価入力!E67 -> 0 | E69: =[1]単価入力!F67 -> 0 | G69: =E69*F68 -> 0
A70: 67 | B70: =[1]単価入力!C68 -> 0 | C70: =[1]単価入力!D68 -> 0 | D70: =[1]単価入力!E68 -> 0 | E70: =[1]単価入力!F68 -> 0 | G70: =E70*F69 -> 0
A71: 68 | B71: =[1]単価入力!C69 -> 0 | C71: =[1]単価入力!D69 -> 0 | D71: =[1]単価入力!E69 -> 0 | E71: =[1]単価入力!F69 -> 0 | G71: =E71*F70 -> 0
A72: 69 | B72: =[1]単価入力!C70 -> 0 | C72: =[1]単価入力!D70 -> 0 | D72: =[1]単価入力!E70 -> 0 | E72: =[1]単価入力!F70 -> 0 | G72: =E72*F71 -> 0
A73: 70 | B73: =[1]単価入力!C71 -> 0 | C73: =[1]単価入力!D71 -> 0 | D73: =[1]単価入力!E71 -> 0 | E73: =[1]単価入力!F71 -> 0 | G73: =E73*F72 -> 0
A74: 71 | B74: =[1]単価入力!C72 -> 0 | C74: =[1]単価入力!D72 -> 0 | D74: =[1]単価入力!E72 -> 0 | E74: =[1]単価入力!F72 -> 0 | G74: =E74*F73 -> 0
A75: 72 | B75: =[1]単価入力!C73 -> 0 | C75: =[1]単価入力!D73 -> 0 | D75: =[1]単価入力!E73 -> 0 | E75: =[1]単価入力!F73 -> 0 | G75: =E75*F74 -> 0
... A93: 90 | B93: =[1]単価入力!C91 -> 0 | C93: =[1]単価入力!D91 -> 0 | D93: =[1]単価入力!E91 -> 0 | E93: =[1]単価入力!F91 -> 0 | G93: =E93*F92 -> 0
B94: 小 計 | G94: =SUM(G64:G93) -> 0
A95: 91 | B95: =[1]単価入力!C92 -> 0 | C95: =[1]単価入力!D92 -> 0 | D95: =[1]単価入力!E92 -> 0 | E95: =[1]単価入力!F92 -> 0 | G95: =E95*F94 -> 0
A96: 92 | B96: =[1]単価入力!C93 -> 0 | C96: =[1]単価入力!D93 -> 0 | D96: =[1]単価入力!E93 -> 0 | E96: =[1]単価入力!F93 -> 0 | G96: =E96*F95 -> 0
A97: 93 | B97: =[1]単価入力!C94 -> 0 | C97: =[1]単価入力!D94 -> 0 | D97: =[1]単価入力!E94 -> 0 | E97: =[1]単価入力!F94 -> 0 | G97: =E97*F96 -> 0
A98: 94 | B98: =[1]単価入力!C95 -> 0 | C98: =[1]単価入力!D95 -> 0 | D98: =[1]単価入力!E95 -> 0 | E98: =[1]単価入力!F95 -> 0 | G98: =E98*F97 -> 0
A99: 95 | B99: =[1]単価入力!C96 -> 0 | C99: =[1]単価入力!D96 -> 0 | D99: =[1]単価入力!E96 -> 0 | E99: =[1]単価入力!F96 -> 0 | G99: =E99*F98 -> 0
A100: 96 | B100: =[1]単価入力!C97 -> 0 | C100: =[1]単価入力!D97 -> 0 | D100: =[1]単価入力!E97 -> 0 | E100: =[1]単価入力!F97 -> 0 | G100: =E100*F99 -> 0
A101: 97 | B101: =[1]単価入力!C98 -> 0 | C101: =[1]単価入力!D98 -> 0 | D101: =[1]単価入力!E98 -> 0 | E101: =[1]単価入力!F98 -> 0 | G101: =E101*F100 -> 0
A102: 98 | B102: =[1]単価入力!C99 -> 0 | C102: =[1]単価入力!D99 -> 0 | D102: =[1]単価入力!E99 -> 0 | E102: =[1]単価入力!F99 -> 0 | G102: =E102*F101 -> 0
A103: 99 | B103: =[1]単価入力!C100 -> 0 | C103: =[1]単価入力!D100 -> 0 | D103: =[1]単価入力!E100 -> 0 | E103: =[1]単価入力!F100 -> 0 | G103: =E103*F102 -> 0
A104: 100 | B104: =[1]単価入力!C101 -> 0 | C104: =[1]単価入力!D101 -> 0 | D104: =[1]単価入力!E101 -> 0 | E104: =[1]単価入力!F101 -> 0 | G104: =E104*F103 -> 0
A105: 101 | B105: =[1]単価入力!C102 -> 0 | C105: =[1]単価入力!D102 -> 0 | D105: =[1]単価入力!E102 -> 0 | E105: =[1]単価入力!F102 -> 0 | G105: =E105*F104 -> 0
A106: 102 | B106: =[1]単価入力!C103 -> 0 | C106: =[1]単価入力!D103 -> 0 | D106: =[1]単価入力!E103 -> 0 | E106: =[1]単価入力!F103 -> 0 | G106: =E106*F105 -> 0
... A124: 120 | B124: =[1]単価入力!C121 -> 0 | C124: =[1]単価入力!D121 -> 0 | D124: =[1]単価入力!E121 -> 0 | E124: =[1]単価入力!F121 -> 0 | G124: =E124*F123 -> 0
B125: 小 計 | G125: =SUM(G95:G124) -> 0
A126: 121 | B126: =[1]単価入力!C122 -> 0 | C126: =[1]単価入力!D122 -> 0 | D126: =[1]単価入力!E122 -> 0 | E126: =[1]単価入力!F122 -> 0 | G126: =E126*F125 -> 0
A127: 122 | B127: =[1]単価入力!C123 -> 0 | C127: =[1]単価入力!D123 -> 0 | D127: =[1]単価入力!E123 -> 0 | E127: =[1]単価入力!F123 -> 0 | G127: =E127*F126 -> 0
A128: 123 | B128: =[1]単価入力!C124 -> 0 | C128: =[1]単価入力!D124 -> 0 | D128: =[1]単価入力!E124 -> 0 | E128: =[1]単価入力!F124 -> 0 | G128: =E128*F127 -> 0
A129: 124 | B129: =[1]単価入力!C125 -> 0 | C129: =[1]単価入力!D125 -> 0 | D129: =[1]単価入力!E125 -> 0 | E129: =[1]単価入力!F125 -> 0 | G129: =E129*F128 -> 0
A130: 125 | B130: =[1]単価入力!C126 -> 0 | C130: =[1]単価入力!D126 -> 0 | D130: =[1]単価入力!E126 -> 0 | E130: =[1]単価入力!F126 -> 0 | G130: =E130*F129 -> 0
A131: 126 | B131: =[1]単価入力!C127 -> 0 | C131: =[1]単価入力!D127 -> 0 | D131: =[1]単価入力!E127 -> 0 | E131: =[1]単価入力!F127 -> 0 | G131: =E131*F130 -> 0
A132: 127 | B132: =[1]単価入力!C128 -> 0 | C132: =[1]単価入力!D128 -> 0 | D132: =[1]単価入力!E128 -> 0 | E132: =[1]単価入力!F128 -> 0 | G132: =E132*F131 -> 0
A133: 128 | B133: =[1]単価入力!C129 -> 0 | C133: =[1]単価入力!D129 -> 0 | D133: =[1]単価入力!E129 -> 0 | E133: =[1]単価入力!F129 -> 0 | G133: =E133*F132 -> 0
A134: 129 | B134: =[1]単価入力!C130 -> 0 | C134: =[1]単価入力!D130 -> 0 | D134: =[1]単価入力!E130 -> 0 | E134: =[1]単価入力!F130 -> 0 | G134: =E134*F133 -> 0
A135: 130 | B135: =[1]単価入力!C131 -> 0 | C135: =[1]単価入力!D131 -> 0 | D135: =[1]単価入力!E131 -> 0 | E135: =[1]単価入力!F131 -> 0 | G135: =E135*F134 -> 0
A136: 131 | B136: =[1]単価入力!C132 -> 0 | C136: =[1]単価入力!D132 -> 0 | D136: =[1]単価入力!E132 -> 0 | E136: =[1]単価入力!F132 -> 0 | G136: =E136*F135 -> 0
A137: 132 | B137: =[1]単価入力!C133 -> 0 | C137: =[1]単価入力!D133 -> 0 | D137: =[1]単価入力!E133 -> 0 | E137: =[1]単価入力!F133 -> 0 | G137: =E137*F136 -> 0
... A155: 150 | B155: =[1]単価入力!C151 -> 0 | C155: =[1]単価入力!D151 -> 0 | D155: =[1]単価入力!E151 -> 0 | E155: =[1]単価入力!F151 -> 0 | G155: =E155*F154 -> 0
B156: 小 計 | G156: =SUM(G126:G155) -> 0
A157: 151 | B157: =[1]単価入力!C152 -> 0 | C157: =[1]単価入力!D152 -> 0 | D157: =[1]単価入力!E152 -> 0 | E157: =[1]単価入力!F152 -> 0 | G157: =E157*F156 -> 0
A158: 152 | B158: =[1]単価入力!C153 -> 0 | C158: =[1]単価入力!D153 -> 0 | D158: =[1]単価入力!E153 -> 0 | E158: =[1]単価入力!F153 -> 0 | G158: =E158*F157 -> 0
A159: 153 | B159: =[1]単価入力!C154 -> 0 | C159: =[1]単価入力!D154 -> 0 | D159: =[1]単価入力!E154 -> 0 | E159: =[1]単価入力!F154 -> 0 | G159: =E159*F158 -> 0
A160: 154 | B160: =[1]単価入力!C155 -> 0 | C160: =[1]単価入力!D155 -> 0 | D160: =[1]単価入力!E155 -> 0 | E160: =[1]単価入力!F155 -> 0 | G160: =E160*F159 -> 0
A161: 155 | B161: =[1]単価入力!C156 -> 0 | C161: =[1]単価入力!D156 -> 0 | D161: =[1]単価入力!E156 -> 0 | E161: =[1]単価入力!F156 -> 0 | G161: =E161*F160 -> 0
A162: 156 | B162: =[1]単価入力!C157 -> 0 | C162: =[1]単価入力!D157 -> 0 | D162: =[1]単価入力!E157 -> 0 | E162: =[1]単価入力!F157 -> 0 | G162: =E162*F161 -> 0
A163: 157 | B163: =[1]単価入力!C158 -> 0 | C163: =[1]単価入力!D158 -> 0 | D163: =[1]単価入力!E158 -> 0 | E163: =[1]単価入力!F158 -> 0 | G163: =E163*F162 -> 0
A164: 158 | B164: =[1]単価入力!C159 -> 0 | C164: =[1]単価入力!D159 -> 0 | D164: =[1]単価入力!E159 -> 0 | E164: =[1]単価入力!F159 -> 0 | G164: =E164*F163 -> 0
A165: 159 | B165: =[1]単価入力!C160 -> 0 | C165: =[1]単価入力!D160 -> 0 | D165: =[1]単価入力!E160 -> 0 | E165: =[1]単価入力!F160 -> 0 | G165: =E165*F164 -> 0
A166: 160 | B166: =[1]単価入力!C161 -> 0 | C166: =[1]単価入力!D161 -> 0 | D166: =[1]単価入力!E161 -> 0 | E166: =[1]単価入力!F161 -> 0 | G166: =E166*F165 -> 0
A167: 161 | B167: =[1]単価入力!C162 -> 0 | C167: =[1]単価入力!D162 -> 0 | D167: =[1]単価入力!E162 -> 0 | E167: =[1]単価入力!F162 -> 0 | G167: =E167*F166 -> 0
A168: 162 | B168: =[1]単価入力!C163 -> 0 | C168: =[1]単価入力!D163 -> 0 | D168: =[1]単価入力!E163 -> 0 | E168: =[1]単価入力!F163 -> 0 | G168: =E168*F167 -> 0
... A186: 180 | B186: =[1]単価入力!C181 -> 0 | C186: =[1]単価入力!D181 -> 0 | D186: =[1]単価入力!E181 -> 0 | E186: =[1]単価入力!F181 -> 0 | G186: =E186*F185 -> 0
B187: 小 計 | G187: =SUM(G157:G186) -> 0
A188: 181 | B188: =[1]単価入力!C182 -> 0 | C188: =[1]単価入力!D182 -> 0 | D188: =[1]単価入力!E182 -> 0 | E188: =[1]単価入力!F182 -> 0 | G188: =E188*F187 -> 0
A189: 182 | B189: =[1]単価入力!C183 -> 0 | C189: =[1]単価入力!D183 -> 0 | D189: =[1]単価入力!E183 -> 0 | E189: =[1]単価入力!F183 -> 0 | G189: =E189*F188 -> 0
A190: 183 | B190: =[1]単価入力!C184 -> 0 | C190: =[1]単価入力!D184 -> 0 | D190: =[1]単価入力!E184 -> 0 | E190: =[1]単価入力!F184 -> 0 | G190: =E190*F189 -> 0
A191: 184 | B191: =[1]単価入力!C185 -> 0 | C191: =[1]単価入力!D185 -> 0 | D191: =[1]単価入力!E185 -> 0 | E191: =[1]単価入力!F185 -> 0 | G191: =E191*F190 -> 0
A192: 185 | B192: =[1]単価入力!C186 -> 0 | C192: =[1]単価入力!D186 -> 0 | D192: =[1]単価入力!E186 -> 0 | E192: =[1]単価入力!F186 -> 0 | G192: =E192*F191 -> 0
A193: 186 | B193: =[1]単価入力!C187 -> 0 | C193: =[1]単価入力!D187 -> 0 | D193: =[1]単価入力!E187 -> 0 | E193: =[1]単価入力!F187 -> 0 | G193: =E193*F192 -> 0
A194: 187 | B194: =[1]単価入力!C188 -> 0 | C194: =[1]単価入力!D188 -> 0 | D194: =[1]単価入力!E188 -> 0 | E194: =[1]単価入力!F188 -> 0 | G194: =E194*F193 -> 0
A195: 188 | B195: =[1]単価入力!C189 -> 0 | C195: =[1]単価入力!D189 -> 0 | D195: =[1]単価入力!E189 -> 0 | E195: =[1]単価入力!F189 -> 0 | G195: =E195*F194 -> 0
A196: 189 | B196: =[1]単価入力!C190 -> 0 | C196: =[1]単価入力!D190 -> 0 | D196: =[1]単価入力!E190 -> 0 | E196: =[1]単価入力!F190 -> 0 | G196: =E196*F195 -> 0
...
