Workbook
Name 科目: #REF!
Name 三四: #REF!
Name 四四: #REF!
Name 総額科目: #REF!

Sheet 依頼
A4: 価 格 調 査 依 頼 （回答） 書
B6: 業者各位
G9: 陸上自衛隊那覇駐屯地第４３０会計隊
G10: 担当 中村
B11: 下記の物品（物件）の価格調査についてご協力ください。 | G11: TEL 098-857-1155 （内線２４０４）
G12: FAX 098-857-1167
B13: 回答日 | C13: =[1]MENU!I26 -> 46100
A14: 1 | B14: 価格調査に関する事項 | D14: 税抜き価格でお願いします。（税込の場合備考欄に「税込」記入）
B15: 品 名 | C15: 規 格 | D15: 単位 | E15: =IF([1]MENU!F26="単価","予定数量","数量") -> 予定数量 | F15: 単 価 | G15: 金 額 | H15: 備 考
B16: =[1]要求入力!G6 -> 産業廃棄物収集処理（繊維屑） | C16: =[1]要求入力!H6 -> 仕様書のとおり | D16: =[1]要求入力!I6 -> KG | E16: =[1]要求入力!J6 -> 30000
B17: =[1]要求入力!G7 -> 0 | C17: =[1]要求入力!H7 -> 以下余白 | D17: =[1]要求入力!I7 -> 0 | E17: =[1]要求入力!J7 -> 0
B18: =[1]要求入力!G8 -> 0 | C18: =[1]要求入力!H8 -> 0 | D18: =[1]要求入力!I8 -> 0 | E18: =[1]要求入力!J8 -> 0
B19: =[1]要求入力!G9 -> 0 | C19: =[1]要求入力!H9 -> 0 | D19: =[1]要求入力!I9 -> 0 | E19: =[1]要求入力!J9 -> 0
B20: =[1]要求入力!G10 -> 0 | C20: =[1]要求入力!H10 -> 0 | D20: =[1]要求入力!I10 -> 0 | E20: =[1]要求入力!J10 -> 0
B21: =[1]要求入力!G11 -> 0 | C21: =[1]要求入力!H11 -> 0 | D21: =[1]要求入力!I11 -> 0 | E21: =[1]要求入力!J11 -> 0
B22: 住所
B23: 会社名
B24: 代 表 者
C26: 担当者名 | F26: 電話番号

Sheet 見積書
B1: 入 札 書 | G1: =[1]依頼!F39 -> 0
A2: 分任契約担当官 | F2: =+[1]MENU!G23 -> 46104
A3: 陸上自衛隊那覇駐屯地
A4: =[1]MENU!F30 -> 第４30会計隊長 岩瀨 淳司
A5: =" 下記のとおり"&[1]MENU!F23&"致します" -> 下記のとおり見積致します | D5: 住 所
D6: 会社名
A7: ￥単価 | D7: 代表者
A8: =[1]MENU!B22 -> 納 期 | B8: =+[1]MENU!B23 -> ８．４．１～９．３.３１ | C8: =+[1]MENU!C23 -> 0 | D8: 担当者
A9: =[1]MENU!B25 -> 納 地 | B9: =[1]依頼!C21 -> 那覇駐屯地 | D9: 連絡先
A10: 品 名 | B10: 規 格 | C10: 単位 | D10: =IF([1]MENU!F26="単価","予定数量","数量") -> 予定数量 | E10: 単 価 | F10: 金 額 | G10: 備 考
A11: =[1]要求入力!G6 -> 産業廃棄物収集処理（繊維屑） | B11: =[1]要求入力!H6 -> 仕様書のとおり | C11: =[1]要求入力!I6 -> KG | D11: =[1]要求入力!J6 -> 30000
A12: =[1]要求入力!G7 -> 0 | B12: =[1]要求入力!H7 -> 以下余白 | C12: =[1]要求入力!I11 -> 0 | D12: =[1]要求入力!J7 -> 0
A13: =[1]要求入力!G8 -> 0 | B13: =[1]要求入力!H8 -> 0 | C13: =[1]要求入力!I8 -> 0 | D13: =[1]要求入力!J8 -> 0
A14: =[1]要求入力!G9 -> 0 | B14: =[1]要求入力!H9 -> 0 | C14: =[1]要求入力!I9 -> 0 | D14: =[1]要求入力!J9 -> 0
A15: =[1]要求入力!G10 -> 0 | B15: =[1]要求入力!H10 -> 0 | C15: =[1]要求入力!I10 -> 0 | D15: =[1]要求入力!J10 -> 0
A16: =[1]要求入力!G11 -> 0 | B16: =[1]要求入力!H11 -> 0 | C16: =[1]要求入力!I11 -> 0 | D16: =[1]要求入力!J11 -> 0
A17: =[1]要求入力!G12 -> 0 | B17: =[1]要求入力!H12 -> 0 | C17: =[1]要求入力!I16 -> 0
A18: =[1]要求入力!G13 -> 0 | B18: =[1]要求入力!H13 -> 0
N32: 当社は、「入札及び契約心得」及び「標準契約書等」の契約条項等を承諾の上見積致します。
N33: また「入札及び契約心得」に定める暴力団排除に関する事項について誓約します。
BL146: パイオニア電設(株) | BN146: 浦添市 | BO146: 877-0101 | BP146: 879-4607 | BQ146: 〒901-2607 浦添市伊祖4丁目21番2号 | BS146: BS装置修理
BL147: (株)川本製作所沖縄営業所 | BN147: 宜野湾市 | BO147: 897-8823 | BP147: 870-2066 | BQ147: 〒901-2226 宜野湾市字嘉数2-18 | BS147: 自動給水装置用ﾓｰﾀｰ
