Workbook
Name rakuhan: #REF!
Name rakuhan: #REF!
Name 契約実施計画番号: #REF!
Name 契約実施計画番号: #REF!

Sheet 入札書・市価調査書
A1: 1 | C1: 1 | H1: =IF(INDEX([1]見市貼!$1:$1048576,$A1*2-1,6)="","",INDEX([1]見市貼!$1:$1048576,$A1*2-1,6)) -> 4028640
D2: 入 札 書 | L2: 市 場 価 格 調 査 書
A4: 令和 年 月 日 | D4: 分任契約担当官 | I4: 令和 年 月 日 | L4: 分任契約担当官 | Q4: 令和 年 月 日 | T4: 令和 年 月 日
D5: 陸上自衛隊湯布院駐屯地 | L5: 陸上自衛隊湯布院駐屯地
D6: 第４０４会計隊湯布院派遣隊長 殿 | L6: 第４０４会計隊湯布院派遣隊長 殿
D8: =IF(I26+I60=0,"金額\",I26+I60) -> 金額\ | E8: 税抜 | L8: =IF(Q26+Q60=0,"金額\",Q26+Q60) -> 金額\ | M8: 税抜
D9: ｢入札及び契約心得」及び「駐屯地用標準契約書」の契約条項等を承諾のうえ見積いたします。
D10: 当社（当団体）は、入札心得に定める暴力団排除に関する事項について誓約いたします。 | L10: ※ 運搬費等諸経費については、各品目の単価内に含める。
C11: 番号 | D11: 品 名 | E11: 規 格 | F11: 単位 | G11: 数量 | H11: 税抜単価 | I11: 金額 | J11: 備 考 | K11: 番号 | L11: 品 名 | M11: 規 格 | N11: 単位 | O11: 数量 | P11: 税抜単価 | Q11: 金額 | R11: 備 考
A12: 1 | C12: 1 | D12: =IF(INDEX([1]見市貼!$1:$1048576,$A12*2-1,2)="","",INDEX([1]見市貼!$1:$1048576,$A12*2-1,2)) -> 再生砕石 | E12: =IF(INDEX([1]見市貼!$1:$1048576,$A12*2-0,2)="","",INDEX([1]見市貼!$1:$1048576,$A12*2-0,2)) -> 仕様書のとおり | F12: =IF(INDEX([1]見市貼!$1:$1048576,$A12*2-0,5)="","",INDEX([1]見市貼!$1:$1048576,$A12*2-0,5)) -> ST | G12: =IF(INDEX([1]見市貼!$1:$1048576,$A12*2-1,5)="","",INDEX([1]見市貼!$1:$1048576,$A12*2-1,5)) -> 1 | I12: =IF(G12="","",G12*H12) -> 0 | K12: 1 | L12: =D12 -> 再生砕石 | M12: =E12 -> 仕様書のとおり | N12: =F12 -> ST | O12: =G12 -> 1 | Q12: =I12 -> 0 | R12: =J12 -> 0
A13: 2 | C13: 2 | D13: =IF(INDEX([1]見市貼!$1:$1048576,$A13*2-1,2)="","",INDEX([1]見市貼!$1:$1048576,$A13*2-1,2)) | E13: =IF(INDEX([1]見市貼!$1:$1048576,$A13*2-1,1)="<<</1移動>>>","以下余白",INDEX([1]見市貼!$1:$1048576,$A13*2-0,2)) -> 以下余白 | F13: =IF(INDEX([1]見市貼!$1:$1048576,$A13*2-0,5)="","",INDEX([1]見市貼!$1:$1048576,$A13*2-0,5)) | G13: =IF(INDEX([1]見市貼!$1:$1048576,$A13*2-1,5)="","",INDEX([1]見市貼!$1:$1048576,$A13*2-1,5)) | I13: =IF(G13="","",G13*H13) | K13: 2 | L13: =D13 | M13: =E13 -> 以下余白 | N13: =F13 | O13: =G13 | P13: =H13 -> 0 | Q13: =I13 | R13: =J13 -> 0
A14: 3 | C14: 3 | D14: =IF(INDEX([1]見市貼!$1:$1048576,$A14*2-1,2)="","",INDEX([1]見市貼!$1:$1048576,$A14*2-1,2)) | E14: =IF(INDEX([1]見市貼!$1:$1048576,$A14*2-1,1)="<<</1移動>>>","以下余白",INDEX([1]見市貼!$1:$1048576,$A14*2-0,2)) -> 0 | F14: =IF(INDEX([1]見市貼!$1:$1048576,$A14*2-0,5)="","",INDEX([1]見市貼!$1:$1048576,$A14*2-0,5)) | G14: =IF(INDEX([1]見市貼!$1:$1048576,$A14*2-1,5)="","",INDEX([1]見市貼!$1:$1048576,$A14*2-1,5)) | I14: =IF(G14="","",G14*H14) | K14: 3 | L14: =D14 | M14: =E14 -> 0 | N14: =F14 | O14: =G14 | P14: =H14 -> 0 | Q14: =I14 | R14: =J14 -> 0
A15: 4 | C15: 4 | D15: =IF(INDEX([1]見市貼!$1:$1048576,$A15*2-1,2)="","",INDEX([1]見市貼!$1:$1048576,$A15*2-1,2)) | E15: =IF(INDEX([1]見市貼!$1:$1048576,$A15*2-1,1)="<<</1移動>>>","以下余白",INDEX([1]見市貼!$1:$1048576,$A15*2-0,2)) -> 0 | F15: =IF(INDEX([1]見市貼!$1:$1048576,$A15*2-0,5)="","",INDEX([1]見市貼!$1:$1048576,$A15*2-0,5)) | G15: =IF(INDEX([1]見市貼!$1:$1048576,$A15*2-1,5)="","",INDEX([1]見市貼!$1:$1048576,$A15*2-1,5)) | I15: =IF(G15="","",G15*H15) | K15: 4 | L15: =D15 | M15: =E15 -> 0 | N15: =F15 | O15: =G15 | P15: =H15 -> 0 | Q15: =I15 | R15: =J15 -> 0
A16: 5 | C16: 5 | D16: =IF(INDEX([1]見市貼!$1:$1048576,$A16*2-1,2)="","",INDEX([1]見市貼!$1:$1048576,$A16*2-1,2)) | E16: =IF(INDEX([1]見市貼!$1:$1048576,$A16*2-1,1)="<<</1移動>>>","以下余白",INDEX([1]見市貼!$1:$1048576,$A16*2-0,2)) -> 0 | F16: =IF(INDEX([1]見市貼!$1:$1048576,$A16*2-0,5)="","",INDEX([1]見市貼!$1:$1048576,$A16*2-0,5)) | G16: =IF(INDEX([1]見市貼!$1:$1048576,$A16*2-1,5)="","",INDEX([1]見市貼!$1:$1048576,$A16*2-1,5)) | I16: =IF(G16="","",G16*H16) | K16: 5 | L16: =D16 | M16: =E16 -> 0 | N16: =F16 | O16: =G16 | P16: =H16 -> 0 | Q16: =I16 | R16: =J16 -> 0
A17: 6 | C17: 6 | D17: =IF(INDEX([1]見市貼!$1:$1048576,$A17*2-1,2)="","",INDEX([1]見市貼!$1:$1048576,$A17*2-1,2)) | E17: =IF(INDEX([1]見市貼!$1:$1048576,$A17*2-1,1)="<<</1移動>>>","以下余白",INDEX([1]見市貼!$1:$1048576,$A17*2-0,2)) -> 0 | F17: =IF(INDEX([1]見市貼!$1:$1048576,$A17*2-0,5)="","",INDEX([1]見市貼!$1:$1048576,$A17*2-0,5)) | G17: =IF(INDEX([1]見市貼!$1:$1048576,$A17*2-1,5)="","",INDEX([1]見市貼!$1:$1048576,$A17*2-1,5)) | I17: =IF(G17="","",G17*H17) | K17: 6 | L17: =D17 | M17: =E17 -> 0 | N17: =F17 | O17: =G17 | P17: =H17 -> 0 | Q17: =I17 | R17: =J17 -> 0
A18: 7 | C18: 7 | D18: =IF(INDEX([1]見市貼!$1:$1048576,$A18*2-1,2)="","",INDEX([1]見市貼!$1:$1048576,$A18*2-1,2)) | E18: =IF(INDEX([1]見市貼!$1:$1048576,$A18*2-1,1)="<<</1移動>>>","以下余白",INDEX([1]見市貼!$1:$1048576,$A18*2-0,2)) -> 0 | F18: =IF(INDEX([1]見市貼!$1:$1048576,$A18*2-0,5)="","",INDEX([1]見市貼!$1:$1048576,$A18*2-0,5)) | G18: =IF(INDEX([1]見市貼!$1:$1048576,$A18*2-1,5)="","",INDEX([1]見市貼!$1:$1048576,$A18*2-1,5)) | I18: =IF(G18="","",G18*H18) | K18: 7 | L18: =D18 | M18: =E18 -> 0 | N18: =F18 | O18: =G18 | P18: =H18 -> 0 | Q18: =I18 | R18: =J18 -> 0
A19: 8 | C19: 8 | D19: =IF(INDEX([1]見市貼!$1:$1048576,$A19*2-1,2)="","",INDEX([1]見市貼!$1:$1048576,$A19*2-1,2)) | E19: =IF(INDEX([1]見市貼!$1:$1048576,$A19*2-1,1)="<<</1移動>>>","以下余白",INDEX([1]見市貼!$1:$1048576,$A19*2-0,2)) -> 0 | F19: =IF(INDEX([1]見市貼!$1:$1048576,$A19*2-0,5)="","",INDEX([1]見市貼!$1:$1048576,$A19*2-0,5)) | G19: =IF(INDEX([1]見市貼!$1:$1048576,$A19*2-1,5)="","",INDEX([1]見市貼!$1:$1048576,$A19*2-1,5)) | I19: =IF(G19="","",G19*H19) | K19: 8 | L19: =D19 | M19: =E19 -> 0 | N19: =F19 | O19: =G19 | P19: =H19 -> 0 | Q19: =I19 | R19: =J19 -> 0
A20: 9 | C20: 9 | D20: =IF(INDEX([1]見市貼!$1:$1048576,$A20*2-1,2)="","",INDEX([1]見市貼!$1:$1048576,$A20*2-1,2)) | E20: =IF(INDEX([1]見市貼!$1:$1048576,$A20*2-1,1)="<<</1移動>>>","以下余白",INDEX([1]見市貼!$1:$1048576,$A20*2-0,2)) -> 0 | F20: =IF(INDEX([1]見市貼!$1:$1048576,$A20*2-0,5)="","",INDEX([1]見市貼!$1:$1048576,$A20*2-0,5)) | G20: =IF(INDEX([1]見市貼!$1:$1048576,$A20*2-1,5)="","",INDEX([1]見市貼!$1:$1048576,$A20*2-1,5)) | I20: =IF(G20="","",G20*H20) | K20: 9 | L20: =D20 | M20: =E20 -> 0 | N20: =F20 | O20: =G20 | P20: =H20 -> 0 | Q20: =I20 | R20: =J20 -> 0
A21: 10 | C21: 10 | D21: =IF(INDEX([1]見市貼!$1:$1048576,$A21*2-1,2)="","",INDEX([1]見市貼!$1:$1048576,$A21*2-1,2)) | E21: =IF(INDEX([1]見市貼!$1:$1048576,$A21*2-1,1)="<<</1移動>>>","以下余白",INDEX([1]見市貼!$1:$1048576,$A21*2-0,2)) -> 0 | F21: =IF(INDEX([1]見市貼!$1:$1048576,$A21*2-0,5)="","",INDEX([1]見市貼!$1:$1048576,$A21*2-0,5)) | G21: =IF(INDEX([1]見市貼!$1:$1048576,$A21*2-1,5)="","",INDEX([1]見市貼!$1:$1048576,$A21*2-1,5)) | I21: =IF(G21="","",G21*H21) | K21: 10 | L21: =D21 | M21: =E21 -> 0 | N21: =F21 | O21: =G21 | P21: =H21 -> 0 | Q21: =I21 | R21: =J21 -> 0
A22: 11 | C22: 11 | D22: =IF(INDEX([1]見市貼!$1:$1048576,$A22*2-1,2)="","",INDEX([1]見市貼!$1:$1048576,$A22*2-1,2)) | E22: =IF(INDEX([1]見市貼!$1:$1048576,$A22*2-1,1)="<<</1移動>>>","以下余白",INDEX([1]見市貼!$1:$1048576,$A22*2-0,2)) -> 0 | F22: =IF(INDEX([1]見市貼!$1:$1048576,$A22*2-0,5)="","",INDEX([1]見市貼!$1:$1048576,$A22*2-0,5)) | G22: =IF(INDEX([1]見市貼!$1:$1048576,$A22*2-1,5)="","",INDEX([1]見市貼!$1:$1048576,$A22*2-1,5)) | I22: =IF(G22="","",G22*H22) | K22: 11 | L22: =D22 | M22: =E22 -> 0 | N22: =F22 | O22: =G22 | P22: =H22 -> 0 | Q22: =I22 | R22: =J22 -> 0
A23: 12 | C23: 12 | D23: =IF(INDEX([1]見市貼!$1:$1048576,$A23*2-1,2)="","",INDEX([1]見市貼!$1:$1048576,$A23*2-1,2)) | E23: =IF(INDEX([1]見市貼!$1:$1048576,$A23*2-1,1)="<<</1移動>>>","以下余白",INDEX([1]見市貼!$1:$1048576,$A23*2-0,2)) -> 0 | F23: =IF(INDEX([1]見市貼!$1:$1048576,$A23*2-0,5)="","",INDEX([1]見市貼!$1:$1048576,$A23*2-0,5)) | G23: =IF(INDEX([1]見市貼!$1:$1048576,$A23*2-1,5)="","",INDEX([1]見市貼!$1:$1048576,$A23*2-1,5)) | I23: =IF(G23="","",G23*H23) | K23: 12 | L23: =D23 | M23: =E23 -> 0 | N23: =F23 | O23: =G23 | P23: =H23 -> 0 | Q23: =I23 | R23: =J23 -> 0
A24: 13 | C24: 13 | D24: =IF(INDEX([1]見市貼!$1:$1048576,$A24*2-1,2)="","",INDEX([1]見市貼!$1:$1048576,$A24*2-1,2)) | E24: =IF(INDEX([1]見市貼!$1:$1048576,$A24*2-1,1)="<<</1移動>>>","以下余白",INDEX([1]見市貼!$1:$1048576,$A24*2-0,2)) -> 0 | F24: =IF(INDEX([1]見市貼!$1:$1048576,$A24*2-0,5)="","",INDEX([1]見市貼!$1:$1048576,$A24*2-0,5)) | G24: =IF(INDEX([1]見市貼!$1:$1048576,$A24*2-1,5)="","",INDEX([1]見市貼!$1:$1048576,$A24*2-1,5)) | I24: =IF(G24="","",G24*H24) | K24: 13 | L24: =D24 | M24: =E24 -> 0 | N24: =F24 | O24: =G24 | P24: =H24 -> 0 | Q24: =I24 | R24: =J24 -> 0
A25: 14 | C25: 14 | D25: =IF(INDEX([1]見市貼!$1:$1048576,$C25*2-1,2)="","",INDEX([1]見市貼!$1:$1048576,$C25*2-1,2)) | E25: =IF(INDEX([1]見市貼!$1:$1048576,$A25*2-1,1)="<<</1移動>>>","以下余白",INDEX([1]見市貼!$1:$1048576,$A25*2-0,2)) -> 0 | F25: =IF(INDEX([1]見市貼!$1:$1048576,$A25*2-0,5)="","",INDEX([1]見市貼!$1:$1048576,$A25*2-0,5)) | G25: =IF(INDEX([1]見市貼!$1:$1048576,$A25*2-1,5)="","",INDEX([1]見市貼!$1:$1048576,$A25*2-1,5)) | I25: =IF(G25="","",G25*H25) | K25: 14 | L25: =D25 | M25: =E25 -> 0 | N25: =F25 | O25: =G25 | P25: =H25 -> 0 | Q25: =I25 | R25: =J25 -> 0
D26: =IF(D36="","合 計","小 計") -> 合 計 | I26: =SUM(I12:I25) -> 0 | L26: =D26 -> 合 計 | Q26: =SUM(Q12:Q23) -> 0
D27: 納入(履行)期間： | E27: =[1]見市貼!H1 -> 46295 | L27: =D27 -> 納入(履行)期間： | M27: =E27 -> 46295
D28: 納入(履行)場所： | E28: =[1]見市貼!G1 -> 日出生台演習場 | L28: =D28 -> 納入(履行)場所： | M28: =E28 -> 日出生台演習場
D29: 上記のとおり見積り致します。 | L29: 上記のとおり見積り致します。
E30: 住 所 | M30: 住 所 | N30: =F30 -> 0
E31: 会社名 | M31: 会社名 | N31: =F31 -> 0
E32: 代表者 | M32: 代表者 | N32: =F32 -> 0 | T32: 速水郡日出町大字藤原２４０６番地の１ | U32: 一般財団法人九州電気保安協会日出事業所 | V32: 事業所長 川野 哲也
C33: 押印省略時署名（担当者名連絡先）： | K33: 押印省略時署名（担当者名連絡先）： | N33: =F33 -> 0
N34: =F34 -> 0
C35: 番号 | D35: 品 名 | E35: 規 格 | F35: 単位 | G35: 数量 | H35: 単価 | I35: 金額 | J35: 備 考 | K35: 番号 | L35: 品 名 | M35: 規 格 | N35: 単位 | O35: 数量 | P35: 単価 | Q35: 金額 | R35: 備 考
A36: 15 | C36: 15 | D36: =IF(INDEX([1]見市貼!$1:$1048576,$A36*2-1,2)="","",INDEX([1]見市貼!$1:$1048576,$A36*2-1,2)) | E36: =IF(INDEX([1]見市貼!$1:$1048576,$A36*2-0,2)="","",INDEX([1]見市貼!$1:$1048576,$A36*2-0,2)) | F36: =IF(INDEX([1]見市貼!$1:$1048576,$A36*2-0,5)="","",INDEX([1]見市貼!$1:$1048576,$A36*2-0,5)) | G36: =IF(INDEX([1]見市貼!$1:$1048576,$A36*2-1,5)="","",INDEX([1]見市貼!$1:$1048576,$A36*2-1,5)) | K36: =C36 -> 15 | L36: =D36 | M36: =E36 | N36: =F36 | O36: =G36 | P36: =H36 -> 0 | Q36: =I36 -> 0 | R36: =J36 -> 0
A37: 16 | C37: 16 | D37: =IF(INDEX([1]見市貼!$1:$1048576,$A37*2-1,2)="","",INDEX([1]見市貼!$1:$1048576,$A37*2-1,2)) | E37: =IF(INDEX([1]見市貼!$1:$1048576,$A37*2-1,1)="<<</1移動>>>","以下余白",INDEX([1]見市貼!$1:$1048576,$A37*2-0,2)) -> 0 | F37: =IF(INDEX([1]見市貼!$1:$1048576,$A37*2-0,5)="","",INDEX([1]見市貼!$1:$1048576,$A37*2-0,5)) | G37: =IF(INDEX([1]見市貼!$1:$1048576,$A37*2-1,5)="","",INDEX([1]見市貼!$1:$1048576,$A37*2-1,5)) | K37: =C37 -> 16 | L37: =D37 | M37: =E37 -> 0 | N37: =F37 | O37: =G37 | P37: =H37 -> 0 | Q37: =I37 -> 0 | R37: =J37 -> 0
A38: 17 | C38: 17 | D38: =IF(INDEX([1]見市貼!$1:$1048576,$A38*2-1,2)="","",INDEX([1]見市貼!$1:$1048576,$A38*2-1,2)) | E38: =IF(INDEX([1]見市貼!$1:$1048576,$A38*2-1,1)="<<</1移動>>>","以下余白",INDEX([1]見市貼!$1:$1048576,$A38*2-0,2)) -> 0 | F38: =IF(INDEX([1]見市貼!$1:$1048576,$A38*2-0,5)="","",INDEX([1]見市貼!$1:$1048576,$A38*2-0,5)) | G38: =IF(INDEX([1]見市貼!$1:$1048576,$A38*2-1,5)="","",INDEX([1]見市貼!$1:$1048576,$A38*2-1,5)) | K38: =C38 -> 17 | L38: =D38 | M38: =E38 -> 0 | N38: =F38 | O38: =G38 | P38: =H38 -> 0 | Q38: =I38 -> 0 | R38: =J38 -> 0
A39: 18 | C39: 18 | D39: =IF(INDEX([1]見市貼!$1:$1048576,$A39*2-1,2)="","",INDEX([1]見市貼!$1:$1048576,$A39*2-1,2)) | E39: =IF(INDEX([1]見市貼!$1:$1048576,$A39*2-1,1)="<<</1移動>>>","以下余白",INDEX([1]見市貼!$1:$1048576,$A39*2-0,2)) -> 0 | F39: =IF(INDEX([1]見市貼!$1:$1048576,$A39*2-0,5)="","",INDEX([1]見市貼!$1:$1048576,$A39*2-0,5)) | G39: =IF(INDEX([1]見市貼!$1:$1048576,$A39*2-1,5)="","",INDEX([1]見市貼!$1:$1048576,$A39*2-1,5)) | K39: =C39 -> 18 | L39: =D39 | M39: =E39 -> 0 | N39: =F39 | O39: =G39 | P39: =H39 -> 0 | Q39: =I39 -> 0 | R39: =J39 -> 0
A40: 19 | C40: 19 | D40: =IF(INDEX([1]見市貼!$1:$1048576,$A40*2-1,2)="","",INDEX([1]見市貼!$1:$1048576,$A40*2-1,2)) | E40: =IF(INDEX([1]見市貼!$1:$1048576,$A40*2-1,1)="<<</1移動>>>","以下余白",INDEX([1]見市貼!$1:$1048576,$A40*2-0,2)) -> 0 | F40: =IF(INDEX([1]見市貼!$1:$1048576,$A40*2-0,5)="","",INDEX([1]見市貼!$1:$1048576,$A40*2-0,5)) | G40: =IF(INDEX([1]見市貼!$1:$1048576,$A40*2-1,5)="","",INDEX([1]見市貼!$1:$1048576,$A40*2-1,5)) | K40: =C40 -> 19 | L40: =D40 | M40: =E40 -> 0 | N40: =F40 | O40: =G40 | P40: =H40 -> 0 | Q40: =I40 -> 0 | R40: =J40 -> 0
A41: 20 | C41: 20 | D41: =IF(INDEX([1]見市貼!$1:$1048576,$A41*2-1,2)="","",INDEX([1]見市貼!$1:$1048576,$A41*2-1,2)) | E41: =IF(INDEX([1]見市貼!$1:$1048576,$A41*2-1,1)="<<</1移動>>>","以下余白",INDEX([1]見市貼!$1:$1048576,$A41*2-0,2)) -> 0 | F41: =IF(INDEX([1]見市貼!$1:$1048576,$A41*2-0,5)="","",INDEX([1]見市貼!$1:$1048576,$A41*2-0,5)) | G41: =IF(INDEX([1]見市貼!$1:$1048576,$A41*2-1,5)="","",INDEX([1]見市貼!$1:$1048576,$A41*2-1,5)) | K41: =C41 -> 20 | L41: =D41 | M41: =E41 -> 0 | N41: =F41 | O41: =G41 | P41: =H41 -> 0 | Q41: =I41 -> 0 | R41: =J41 -> 0
A42: 21 | C42: 21 | D42: =IF(INDEX([1]見市貼!$1:$1048576,$A42*2-1,2)="","",INDEX([1]見市貼!$1:$1048576,$A42*2-1,2)) | E42: =IF(INDEX([1]見市貼!$1:$1048576,$A42*2-1,1)="<<</1移動>>>","以下余白",INDEX([1]見市貼!$1:$1048576,$A42*2-0,2)) -> 0 | F42: =IF(INDEX([1]見市貼!$1:$1048576,$A42*2-0,5)="","",INDEX([1]見市貼!$1:$1048576,$A42*2-0,5)) | G42: =IF(INDEX([1]見市貼!$1:$1048576,$A42*2-1,5)="","",INDEX([1]見市貼!$1:$1048576,$A42*2-1,5)) | K42: =C42 -> 21 | L42: =D42 | M42: =E42 -> 0 | N42: =F42 | O42: =G42 | P42: =H42 -> 0 | Q42: =I42 -> 0 | R42: =J42 -> 0
...
