Workbook
Name rakuhan: #REF!
Name rakuhan: #REF!
Name 契約実施計画番号: #REF!
Name 契約実施計画番号: #REF!

Sheet 入札書・市価調査書
A1: 1 | C1: 1 | H1: =IF(INDEX([1]見市貼!$1:$1048576,$A1*2-1,6)="","",INDEX([1]見市貼!$1:$1048576,$A1*2-1,6)) -> 4028640
D2: 入 札 書 | L2: 市 場 価 格 調 査 書
A4: 令和 年 月 日 | D4: 分任契約担当官 | I4: 令和 年 月 日 | L4: 分任契約担当官 | Q4: 令和 年 月 日 | T4: 令和 年 月 日
D5: 陸上自衛隊湯布院駐屯地 | L5: 陸上自衛隊湯布院駐屯地
D6: 第４０４会計隊湯布院派遣隊長 殿 | L6: 第４０４会計隊湯布院派遣隊長 殿
D8: =IF(I26+I60=0,"金額\",I26+I60) -> 金額\ | E8: 税抜 | L8: =IF(Q26+Q60=0,"金額\",Q26+Q60) -> 金額\ | M8: 税抜
D9: ｢入札及び契約心得」及び「駐屯地用標準契約書」の契約条項等を承諾のうえ見積いたします。
D10: 当社（当団体）は、入札心得に定める暴力団排除に関する事項について誓約いたします。 | L10: ※ 運搬費等諸経費については、各品目の単価内に含める。
C11: 番号 | D11: 品 名 | E11: 規 格 | F11: 単位 | G11: 数量 | H11: 税抜単価 | I11: 金額 | J11: 備 考 | K11: 番号 | L11: 品 名 | M11: 規 格 | N11: 単位 | O11: 数量 | P11: 税抜単価 | Q11: 金額 | R11: 備 考
A12: 1 | C12: 1 | D12: =IF(INDEX([1]見市貼!$1:$1048576,$A12*2-1,2)="","",INDEX([1]見市貼!$1:$1048576,$A12*2-1,2)) -> 再生砕石 | E12: =IF(INDEX([1]見市貼!$1:$1048576,$A12*2-0,2)="","",INDEX([1]見市貼!$1:$1048576,$A12*2-0,2)) -> 仕様書のとおり | F12: =IF(INDEX([1]見市貼!$1:$1048576,$A12*2-0,5)="","",INDEX([1]見市貼!$1:$1048576,$A12*2-0,5)) -> ST | G12: =IF(INDEX([1]見市貼!$1:$1048576,$A12*2-1,5)="","",INDEX([1]見市貼!$1:$1048576,$A12*2-1,5)) -> 1 | I12: =IF(G12="","",G12*H12) -> 0 | K12: 1 | L12: =D12 -> 再生砕石 | M12: =E12 -> 仕様書のとおり | N12: =F12 -> ST | O12: =G12 -> 1 | Q12: =I12 -> 0 | R12: =J12 -> 0
A13: 2 | C13: 2 | D13: =IF(INDEX([1]見市貼!$1:$1048576,$A13*2-1,2)="","",INDEX([1]見市貼!$1:$1048576,$A13*2-1,2)) | E13: =IF(INDEX([1]見市貼!$1:$1048576,$A13*2-1,1)="<<</1移動>>>","以下余白",INDEX([1]見市貼!$1:$1048576,$A13*2-0,2)) -> 以下余白 | F13: =IF(INDEX([1]見市貼!$1:$1048576,$A13*2-0,5)="","",INDEX([1]見市貼!$1:$1048576,$A13*2-0,5)) | G13: =IF(INDEX([1]見市貼!$1:$1048576,$A13*2-1,5)="","",INDEX([1]見市貼!$1:$1048576,$A13*2-1,5)) | I13: =IF(G13="","",G13*H13) | K13: 2 | L13: =D13 | M13: =E13 -> 以下余白 | N13: =F13 | O13: =G13 | P13: =H13 -> 0 | Q13: =I13 | R13: =J13 -> 0
A14: 3 | C14: 3 | D14: =IF(INDEX([1]見市貼!$1:$1048576,$A14*2-1,2)="","",INDEX([1]見市貼!$1:$1048576,$A14*2-1,2)) | E14: =IF(INDEX([1]見市貼!$1:$1048576,$A14*2-1,1)="<<</1移動>>>","以下余白",INDEX([1]見市貼!$1:$1048576,$A14*2-0,2)) -> 0 | F14: =IF(INDEX([1]見市貼!$1:$1048576,$A14*2-0,5)="","",INDEX([1]見市貼!$1:$1048576,$A14*2-0,5)) | G14: =IF(INDEX([1]見市貼!$1:$1048576,$A14*2-1,5)="","",INDEX([1]見市貼!$1:$1048576,$A14*2-1,5)) | I14: =IF(G14="","",G14*H14) | K14: 3 | L14: =D14 | M14: =E14 -> 0 | N14: =F14 | O14: =G14 | P14: =H14 -> 0 | Q14: =I14 | R14: =J14 -> 0
A15: 4 | C15: 4 | D15: =IF(INDEX([1]見市貼!$1:$1048576,$A15*2-1,2)="","",INDEX([1]見市貼!$1:$1048576,$A15*2-1,2)) | E15: =IF(INDEX([1]見市貼!$1:$1048576,$A15*2-1,1)="<<</1移動>>>","以下余白",INDEX([1]見市貼!$1:$1048576,$A15*2-0,2)) -> 0 | F15: =IF(INDEX([1]見市貼!$1:$1048576,$A15*2-0,5)="","",INDEX([1]見市貼!$1:$1048576,$A15*2-0,5)) | G15: =IF(INDEX([1]見市貼!$1:$1048576,$A15*2-1,5)="","",INDEX([1]見市貼!$1:$1048576,$A15*2-1,5)) | I15: =IF(G15="","",G15*H15) | K15: 4 | L15: =D15 | M15: =E15 -> 0 | N15: =F15 | O15: =G15 | P15: =H15 -> 0 | Q15: =I15 | R15: =J15 -> 0
A16: 5 | C16: 5 | D16: =IF(INDEX([1]見市貼!$1:$1048576,$A16*2-1,2)="","",INDEX([1]見市貼!$1:$1048576,$A16*2-1,2)) | E16: =IF(INDEX([1]見市貼!$1:$1048576,$A16*2-1,1)="<<</1移動>>>","以下余白",INDEX([1]見市貼!$1:$1048576,$A16*2-0,2)) -> 0 | F16: =IF(INDEX([1]見市貼!$1:$1048576,$A16*2-0,5)="","",INDEX([1]見市貼!$1:$1048576,$A16*2-0,5)) | G16: =IF(INDEX([1]見市貼!$1:$1048576,$A16*2-1,5)="","",INDEX([1]見市貼!$1:$1048576,$A16*2-1,5)) | I16: =IF(G16="","",G16*H16) | K16: 5 | L16: =D16 | M16: =E16 -> 0 | N16: =F16 | O16: =G16 | P16: =H16 -> 0 | Q16: =I16 | R16: =J16 -> 0
A17: 6 | C17: 6 | D17: =IF(INDEX([1]見市貼!$1:$1048576,$A17*2-1,2)="","",INDEX([1]見市貼!$1:$1048576,$A17*2-1,2)) | E17: =IF(INDEX([1]見市貼!$1:$1048576,$A17*2-1,1)="<<</1移動>>>","以下余白",INDEX([1]見市貼!$1:$1048576,$A17*2-0,2)) -> 0 | F17: =IF(INDEX([1]見市貼!$1:$1048576,$A17*2-0,5)="","",INDEX([1]見市貼!$1:$1048576,$A17*2-0,5)) | G17: =IF(INDEX([1]見市貼!$1:$1048576,$A17*2-1,5)="","",INDEX([1]見市貼!$1:$1048576,$A17*2-1,5)) | I17: =IF(G17="","",G17*H17) | K17: 6 | L17: =D17 | M17: =E17 -> 0 | N17: =F17 | O17: =G17 | P17: =H17 -> 0 | Q17: =I17 | R17: =J17 -> 0
A18: 7 | C18: 7 | D18: =IF(INDEX([1]見市貼!$1:$1048576,$A18*2-1,2)="","",INDEX([1]見市貼!$1:$1048576,$A18*2-1,2)) | E18: =IF(INDEX([1]見市貼!$1:$1048576,$A18*2-1,1)="<<</1移動>>>","以下余白",INDEX([1]見市貼!$1:$1048576,$A18*2-0,2)) -> 0 | F18: =IF(INDEX([1]見市貼!$1:$1048576,$A18*2-0,5)="","",INDEX([1]見市貼!$1:$1048576,$A18*2-0,5)) | G18: =IF(INDEX([1]見市貼!$1:$1048576,$A18*2-1,5)="","",INDEX([1]見市貼!$1:$1048576,$A18*2-1,5)) | I18: =IF(G18="","",G18*H18) | K18: 7 | L18: =D18 | M18: =E18 -> 0 | N18: =F18 | O18: =G18 | P18: =H18 -> 0 | Q18: =I18 | R18: =J18 -> 0
A19: 8 | C19: 8 | D19: =IF(INDEX([1]見市貼!$1:$1048576,$A19*2-1,2)="","",INDEX([1]見市貼!$1:$1048576,$A19*2-1,2)) | E19: =IF(INDEX([1]見市貼!$1:$1048576,$A19*2-1,1)="<<</1移動>>>","以下余白",INDEX([1]見市貼!$1:$1048576,$A19*2-0,2)) -> 0 | F19: =IF(INDEX([1]見市貼!$1:$1048576,$A19*2-0,5)="","",INDEX([1]見市貼!$1:$1048576,$A19*2-0,5)) | G19: =IF(INDEX([1]見市貼!$1:$1048576,$A19*2-1,5)="","",INDEX([1]見市貼!$1:$1048576,$A19*2-1,5)) | I19: =IF(G19="","",G19*H19) | K19: 8 | L19: =D19 | M19: =E19 -> 0 | N19: =F19 | O19: =G19 | P19: =H19 -> 0 | Q19: =I19 | R19: =J19 -> 0
A20: 9 | C20: 9 | D20: =IF(INDEX([1]見市貼!$1:$1048576,$A20*2-1,2)="","",INDEX([1]見市貼!$1:$1048576,$A20*2-1,2)) | E20: =IF(INDEX([1]見市貼!$1:$1048576,$A20*2-1,1)="<<</1移動>>>","以下余白",INDEX([1]見市貼!$1:$1048576,$A20*2-0,2)) -> 0 | F20: =IF(INDEX([1]見市貼!$1:$1048576,$A20*2-0,5)="","",INDEX([1]見市貼!$1:$1048576,$A20*2-0,5)) | G20: =IF(INDEX([1]見市貼!$1:$1048576,$A20*2-1,5)="","",INDEX([1]見市貼!$1:$1048576,$A20*2-1,5)) | I20: =IF(G20="","",G20*H20) | K20: 9 | L20: =D20 | M20: =E20 -> 0 | N20: =F20 | O20: =G20 | P20: =H20 -> 0 | Q20: =I20 | R20: =J20 -> 0
A21: 10 | C21: 10 | D21: =IF(INDEX([1]見市貼!$1:$1048576,$A21*2-1,2)="","",INDEX([1]見市貼!$1:$1048576,$A21*2-1,2)) | E21: =IF(INDEX([1]見市貼!$1:$1048576,$A21*2-1,1)="<<</1移動>>>","以下余白",INDEX([1]見市貼!$1:$1048576,$A21*2-0,2)) -> 0 | F21: =IF(INDEX([1]見市貼!$1:$1048576,$A21*2-0,5)="","",INDEX([1]見市貼!$1:$1048576,$A21*2-0,5)) | G21: =IF(INDEX([1]見市貼!$1:$1048576,$A21*2-1,5)="","",INDEX([1]見市貼!$1:$1048576,$A21*2-1,5)) | I21: =IF(G21="","",G21*H21) | K21: 10 | L21: =D21 | M21: =E21 -> 0 | N21: =F21 | O21: =G21 | P21: =H21 -> 0 | Q21: =I21 | R21: =J21 -> 0
A22: 11 | C22: 11 | D22: =IF(INDEX([1]見市貼!$1:$1048576,$A22*2-1,2)="","",INDEX([1]見市貼!$1:$1048576,$A22*2-1,2)) | E22: =IF(INDEX([1]見市貼!$1:$1048576,$A22*2-1,1)="<<</1移動>>>","以下余白",INDEX([1]見市貼!$1:$1048576,$A22*2-0,2)) -> 0 | F22: =IF(INDEX([1]見市貼!$1:$1048576,$A22*2-0,5)="","",INDEX([1]見市貼!$1:$1048576,$A22*2-0,5)) | G22: =IF(INDEX([1]見市貼!$1:$1048576,$A22*2-1,5)="","",INDEX([1]見市貼!$1:$1048576,$A22*2-1,5)) | I22: =IF(G22="","",G22*H22) | K22: 11 | L22: =D22 | M22: =E22 -> 0 | N22: =F22 | O22: =G22 | P22: =H22 -> 0 | Q22: =I22 | R22: =J22 -> 0
A23: 12 | C23: 12 | D23: =IF(INDEX([1]見市貼!$1:$1048576,$A23*2-1,2)="","",INDEX([1]見市貼!$1:$1048576,$A23*2-1,2)) | E23: =IF(INDEX([1]見市貼!$1:$1048576,$A23*2-1,1)="<<</1移動>>>","以下余白",INDEX([1]見市貼!$1:$1048576,$A23*2-0,2)) -> 0 | F23: =IF(INDEX([1]見市貼!$1:$1048576,$A23*2-0,5)="","",INDEX([1]見市貼!$1:$1048576,$A23*2-0,5)) | G23: =IF(INDEX([1]見市貼!$1:$1048576,$A23*2-1,5)="","",INDEX([1]見市貼!$1:$1048576,$A23*2-1,5)) | I23: =IF(G23="","",G23*H23) | K23: 12 | L23: =D23 | M23: =E23 -> 0 | N23: =F23 | O23: =G23 | P23: =H23 -> 0 | Q23: =I23 | R23: =J23 -> 0
A24: 13 | C24: 13 | D24: =IF(INDEX([1]見市貼!$1:$1048576,$A24*2-1,2)="","",INDEX([1]見市貼!$1:$1048576,$A24*2-1,2)) | E24: =IF(INDEX([1]見市貼!$1:$1048576,$A24*2-1,1)="<<</1移動>>>","以下余白",INDEX([1]見市貼!$1:$1048576,$A24*2-0,2)) -> 0 | F24: =IF(INDEX([1]見市貼!$1:$1048576,$A24*2-0,5)="","",INDEX([1]見市貼!$1:$1048576,$A24*2-0,5)) | G24: =IF(INDEX([1]見市貼!$1:$1048576,$A24*2-1,5)="","",INDEX([1]見市貼!$1:$1048576,$A24*2-1,5)) | I24: =IF(G24="","",G24*H24) | K24: 13 | L24: =D24 | M24: =E24 -> 0 | N24: =F24 | O24: =G24 | P24: =H24 -> 0 | Q24: =I24 | R24: =J24 -> 0
A25: 14 | C25: 14 | D25: =IF(INDEX([1]見市貼!$1:$1048576,$C25*2-1,2)="","",INDEX([1]見市貼!$1:$1048576,$C25*2-1,2)) | E25: =IF(INDEX([1]見市貼!$1:$1048576,$A25*2-1,1)="<<</1移動>>>","以下余白",INDEX([1]見市貼!$1:$1048576,$A25*2-0,2)) -> 0 | F25: =IF(INDEX([1]見市貼!$1:$1048576,$A25*2-0,5)="","",INDEX([1]見市貼!$1:$1048576,$A25*2-0,5)) | G25: =IF(INDEX([1]見市貼!$1:$1048576,$A25*2-1,5)="","",INDEX([1]見市貼!$1:$1048576,$A25*2-1,5)) | I25: =IF(G25="","",G25*H25) | K25: 14 | L25: =D25 | M25: =E25 -> 0 | N25: =F25 | O25: =G25 | P25: =H25 -> 0 | Q25: =I25 | R25: =J25 -> 0
D26: =IF(D36="","合 計","小 計") -> 合 計 | I26: =SUM(I12:I25) -> 0 | L26: =D26 -> 合 計 | Q26: =SUM(Q12:Q23) -> 0
D27: 納入(履行)期間： | E27: =[1]見市貼!H1 -> 46295 | L27: =D27 -> 納入(履行)期間： | M27: =E27 -> 46295
D28: 納入(履行)場所： | E28: =[1]見市貼!G1 -> 日出生台演習場 | L28: =D28 -> 納入(履行)場所： | M28: =E28 -> 日出生台演習場
D29: 上記のとおり見積り致します。 | L29: 上記のとおり見積り致します。
E30: 住 所 | M30: 住 所 | N30: =F30 -> 0
E31: 会社名 | M31: 会社名 | N31: =F31 -> 0
E32: 代表者 | M32: 代表者 | N32: =F32 -> 0 | T32: 速水郡日出町大字藤原２４０６番地の１ | U32: 一般財団法人九州電気保安協会日出事業所 | V32: 事業所長 川野 哲也
C33: 押印省略時署名（担当者名連絡先）： | K33: 押印省略時署名（担当者名連絡先）： | N33: =F33 -> 0
N34: =F34 -> 0
C35: 番号 | D35: 品 名 | E35: 規 格 | F35: 単位 | G35: 数量 | H35: 単価 | I35: 金額 | J35: 備 考 | K35: 番号 | L35: 品 名 | M35: 規 格 | N35: 単位 | O35: 数量 | P35: 単価 | Q35: 金額 | R35: 備 考
A36: 15 | C36: 15 | D36: =IF(INDEX([1]見市貼!$1:$1048576,$A36*2-1,2)="","",INDEX([1]見市貼!$1:$1048576,$A36*2-1,2)) | E36: =IF(INDEX([1]見市貼!$1:$1048576,$A36*2-0,2)="","",INDEX([1]見市貼!$1:$1048576,$A36*2-0,2)) | F36: =IF(INDEX([1]見市貼!$1:$1048576,$A36*2-0,5)="","",INDEX([1]見市貼!$1:$1048576,$A36*2-0,5)) | G36: =IF(INDEX([1]見市貼!$1:$1048576,$A36*2-1,5)="","",INDEX([1]見市貼!$1:$1048576,$A36*2-1,5)) | K36: =C36 -> 15 | L36: =D36 | M36: =E36 | N36: =F36 | O36: =G36 | P36: =H36 -> 0 | Q36: =I36 -> 0 | R36: =J36 -> 0
A37: 16 | C37: 16 | D37: =IF(INDEX([1]見市貼!$1:$1048576,$A37*2-1,2)="","",INDEX([1]見市貼!$1:$1048576,$A37*2-1,2)) | E37: =IF(INDEX([1]見市貼!$1:$1048576,$A37*2-1,1)="<<</1移動>>>","以下余白",INDEX([1]見市貼!$1:$1048576,$A37*2-0,2)) -> 0 | F37: =IF(INDEX([1]見市貼!$1:$1048576,$A37*2-0,5)="","",INDEX([1]見市貼!$1:$1048576,$A37*2-0,5)) | G37: =IF(INDEX([1]見市貼!$1:$1048576,$A37*2-1,5)="","",INDEX([1]見市貼!$1:$1048576,$A37*2-1,5)) | K37: =C37 -> 16 | L37: =D37 | M37: =E37 -> 0 | N37: =F37 | O37: =G37 | P37: =H37 -> 0 | Q37: =I37 -> 0 | R37: =J37 -> 0
A38: 17 | C38: 17 | D38: =IF(INDEX([1]見市貼!$1:$1048576,$A38*2-1,2)="","",INDEX([1]見市貼!$1:$1048576,$A38*2-1,2)) | E38: =IF(INDEX([1]見市貼!$1:$1048576,$A38*2-1,1)="<<</1移動>>>","以下余白",INDEX([1]見市貼!$1:$1048576,$A38*2-0,2)) -> 0 | F38: =IF(INDEX([1]見市貼!$1:$1048576,$A38*2-0,5)="","",INDEX([1]見市貼!$1:$1048576,$A38*2-0,5)) | G38: =IF(INDEX([1]見市貼!$1:$1048576,$A38*2-1,5)="","",INDEX([1]見市貼!$1:$1048576,$A38*2-1,5)) | K38: =C38 -> 17 | L38: =D38 | M38: =E38 -> 0 | N38: =F38 | O38: =G38 | P38: =H38 -> 0 | Q38: =I38 -> 0 | R38: =J38 -> 0
A39: 18 | C39: 18 | D39: =IF(INDEX([1]見市貼!$1:$1048576,$A39*2-1,2)="","",INDEX([1]見市貼!$1:$1048576,$A39*2-1,2)) | E39: =IF(INDEX([1]見市貼!$1:$1048576,$A39*2-1,1)="<<</1移動>>>","以下余白",INDEX([1]見市貼!$1:$1048576,$A39*2-0,2)) -> 0 | F39: =IF(INDEX([1]見市貼!$1:$1048576,$A39*2-0,5)="","",INDEX([1]見市貼!$1:$1048576,$A39*2-0,5)) | G39: =IF(INDEX([1]見市貼!$1:$1048576,$A39*2-1,5)="","",INDEX([1]見市貼!$1:$1048576,$A39*2-1,5)) | K39: =C39 -> 18 | L39: =D39 | M39: =E39 -> 0 | N39: =F39 | O39: =G39 | P39: =H39 -> 0 | Q39: =I39 -> 0 | R39: =J39 -> 0
A40: 19 | C40: 19 | D40: =IF(INDEX([1]見市貼!$1:$1048576,$A40*2-1,2)="","",INDEX([1]見市貼!$1:$1048576,$A40*2-1,2)) | E40: =IF(INDEX([1]見市貼!$1:$1048576,$A40*2-1,1)="<<</1移動>>>","以下余白",INDEX([1]見市貼!$1:$1048576,$A40*2-0,2)) -> 0 | F40: =IF(INDEX([1]見市貼!$1:$1048576,$A40*2-0,5)="","",INDEX([1]見市貼!$1:$1048576,$A40*2-0,5)) | G40: =IF(INDEX([1]見市貼!$1:$1048576,$A40*2-1,5)="","",INDEX([1]見市貼!$1:$1048576,$A40*2-1,5)) | K40: =C40 -> 19 | L40: =D40 | M40: =E40 -> 0 | N40: =F40 | O40: =G40 | P40: =H40 -> 0 | Q40: =I40 -> 0 | R40: =J40 -> 0
A41: 20 | C41: 20 | D41: =IF(INDEX([1]見市貼!$1:$1048576,$A41*2-1,2)="","",INDEX([1]見市貼!$1:$1048576,$A41*2-1,2)) | E41: =IF(INDEX([1]見市貼!$1:$1048576,$A41*2-1,1)="<<</1移動>>>","以下余白",INDEX([1]見市貼!$1:$1048576,$A41*2-0,2)) -> 0 | F41: =IF(INDEX([1]見市貼!$1:$1048576,$A41*2-0,5)="","",INDEX([1]見市貼!$1:$1048576,$A41*2-0,5)) | G41: =IF(INDEX([1]見市貼!$1:$1048576,$A41*2-1,5)="","",INDEX([1]見市貼!$1:$1048576,$A41*2-1,5)) | K41: =C41 -> 20 | L41: =D41 | M41: =E41 -> 0 | N41: =F41 | O41: =G41 | P41: =H41 -> 0 | Q41: =I41 -> 0 | R41: =J41 -> 0
A42: 21 | C42: 21 | D42: =IF(INDEX([1]見市貼!$1:$1048576,$A42*2-1,2)="","",INDEX([1]見市貼!$1:$1048576,$A42*2-1,2)) | E42: =IF(INDEX([1]見市貼!$1:$1048576,$A42*2-1,1)="<<</1移動>>>","以下余白",INDEX([1]見市貼!$1:$1048576,$A42*2-0,2)) -> 0 | F42: =IF(INDEX([1]見市貼!$1:$1048576,$A42*2-0,5)="","",INDEX([1]見市貼!$1:$1048576,$A42*2-0,5)) | G42: =IF(INDEX([1]見市貼!$1:$1048576,$A42*2-1,5)="","",INDEX([1]見市貼!$1:$1048576,$A42*2-1,5)) | K42: =C42 -> 21 | L42: =D42 | M42: =E42 -> 0 | N42: =F42 | O42: =G42 | P42: =H42 -> 0 | Q42: =I42 -> 0 | R42: =J42 -> 0
A43: 22 | C43: 22 | D43: =IF(INDEX([1]見市貼!$1:$1048576,$A43*2-1,2)="","",INDEX([1]見市貼!$1:$1048576,$A43*2-1,2)) | E43: =IF(INDEX([1]見市貼!$1:$1048576,$A43*2-1,1)="<<</1移動>>>","以下余白",INDEX([1]見市貼!$1:$1048576,$A43*2-0,2)) -> 0 | F43: =IF(INDEX([1]見市貼!$1:$1048576,$A43*2-0,5)="","",INDEX([1]見市貼!$1:$1048576,$A43*2-0,5)) | G43: =IF(INDEX([1]見市貼!$1:$1048576,$A43*2-1,5)="","",INDEX([1]見市貼!$1:$1048576,$A43*2-1,5)) | K43: =C43 -> 22 | L43: =D43 | M43: =E43 -> 0 | N43: =F43 | O43: =G43 | P43: =H43 -> 0 | Q43: =I43 -> 0 | R43: =J43 -> 0
A44: 23 | C44: 23 | D44: =IF(INDEX([1]見市貼!$1:$1048576,$A44*2-1,2)="","",INDEX([1]見市貼!$1:$1048576,$A44*2-1,2)) | E44: =IF(INDEX([1]見市貼!$1:$1048576,$A44*2-1,1)="<<</1移動>>>","以下余白",INDEX([1]見市貼!$1:$1048576,$A44*2-0,2)) -> 0 | F44: =IF(INDEX([1]見市貼!$1:$1048576,$A44*2-0,5)="","",INDEX([1]見市貼!$1:$1048576,$A44*2-0,5)) | G44: =IF(INDEX([1]見市貼!$1:$1048576,$A44*2-1,5)="","",INDEX([1]見市貼!$1:$1048576,$A44*2-1,5)) | K44: =C44 -> 23 | L44: =D44 | M44: =E44 -> 0 | N44: =F44 | O44: =G44 | P44: =H44 -> 0 | Q44: =I44 -> 0 | R44: =J44 -> 0
A45: 24 | C45: 24 | D45: =IF(INDEX([1]見市貼!$1:$1048576,$A45*2-1,2)="","",INDEX([1]見市貼!$1:$1048576,$A45*2-1,2)) | E45: =IF(INDEX([1]見市貼!$1:$1048576,$A45*2-1,1)="<<</1移動>>>","以下余白",INDEX([1]見市貼!$1:$1048576,$A45*2-0,2)) -> 0 | F45: =IF(INDEX([1]見市貼!$1:$1048576,$A45*2-0,5)="","",INDEX([1]見市貼!$1:$1048576,$A45*2-0,5)) | G45: =IF(INDEX([1]見市貼!$1:$1048576,$A45*2-1,5)="","",INDEX([1]見市貼!$1:$1048576,$A45*2-1,5)) | K45: =C45 -> 24 | L45: =D45 | M45: =E45 -> 0 | N45: =F45 | O45: =G45 | P45: =H45 -> 0 | Q45: =I45 -> 0 | R45: =J45 -> 0
A46: 25 | C46: 25 | D46: =IF(INDEX([1]見市貼!$1:$1048576,$A46*2-1,2)="","",INDEX([1]見市貼!$1:$1048576,$A46*2-1,2)) | E46: =IF(INDEX([1]見市貼!$1:$1048576,$A46*2-1,1)="<<</1移動>>>","以下余白",INDEX([1]見市貼!$1:$1048576,$A46*2-0,2)) -> 0 | F46: =IF(INDEX([1]見市貼!$1:$1048576,$A46*2-0,5)="","",INDEX([1]見市貼!$1:$1048576,$A46*2-0,5)) | G46: =IF(INDEX([1]見市貼!$1:$1048576,$A46*2-1,5)="","",INDEX([1]見市貼!$1:$1048576,$A46*2-1,5)) | K46: =C46 -> 25 | L46: =D46 | M46: =E46 -> 0 | N46: =F46 | O46: =G46 | P46: =H46 -> 0 | Q46: =I46 -> 0 | R46: =J46 -> 0
A47: 26 | C47: 26 | D47: =IF(INDEX([1]見市貼!$1:$1048576,$A47*2-1,2)="","",INDEX([1]見市貼!$1:$1048576,$A47*2-1,2)) | E47: =IF(INDEX([1]見市貼!$1:$1048576,$A47*2-1,1)="<<</1移動>>>","以下余白",INDEX([1]見市貼!$1:$1048576,$A47*2-0,2)) -> 0 | F47: =IF(INDEX([1]見市貼!$1:$1048576,$A47*2-0,5)="","",INDEX([1]見市貼!$1:$1048576,$A47*2-0,5)) | G47: =IF(INDEX([1]見市貼!$1:$1048576,$A47*2-1,5)="","",INDEX([1]見市貼!$1:$1048576,$A47*2-1,5)) | K47: =C47 -> 26 | L47: =D47 | M47: =E47 -> 0 | N47: =F47 | O47: =G47 | P47: =H47 -> 0 | Q47: =I47 -> 0 | R47: =J47 -> 0
A48: 27 | C48: 27 | D48: =IF(INDEX([1]見市貼!$1:$1048576,$A48*2-1,2)="","",INDEX([1]見市貼!$1:$1048576,$A48*2-1,2)) | E48: =IF(INDEX([1]見市貼!$1:$1048576,$A48*2-1,1)="<<</1移動>>>","以下余白",INDEX([1]見市貼!$1:$1048576,$A48*2-0,2)) -> 0 | F48: =IF(INDEX([1]見市貼!$1:$1048576,$A48*2-0,5)="","",INDEX([1]見市貼!$1:$1048576,$A48*2-0,5)) | G48: =IF(INDEX([1]見市貼!$1:$1048576,$A48*2-1,5)="","",INDEX([1]見市貼!$1:$1048576,$A48*2-1,5)) | K48: =C48 -> 27 | L48: =D48 | M48: =E48 -> 0 | N48: =F48 | O48: =G48 | P48: =H48 -> 0 | Q48: =I48 -> 0 | R48: =J48 -> 0
A49: 28 | C49: 28 | D49: =IF(INDEX([1]見市貼!$1:$1048576,$A49*2-1,2)="","",INDEX([1]見市貼!$1:$1048576,$A49*2-1,2)) | E49: =IF(INDEX([1]見市貼!$1:$1048576,$A49*2-1,1)="<<</1移動>>>","以下余白",INDEX([1]見市貼!$1:$1048576,$A49*2-0,2)) -> 0 | F49: =IF(INDEX([1]見市貼!$1:$1048576,$A49*2-0,5)="","",INDEX([1]見市貼!$1:$1048576,$A49*2-0,5)) | G49: =IF(INDEX([1]見市貼!$1:$1048576,$A49*2-1,5)="","",INDEX([1]見市貼!$1:$1048576,$A49*2-1,5)) | K49: =C49 -> 28 | L49: =D49 | M49: =E49 -> 0 | N49: =F49 | O49: =G49 | P49: =H49 -> 0 | Q49: =I49 -> 0 | R49: =J49 -> 0
A50: 29 | C50: 29 | D50: =IF(INDEX([1]見市貼!$1:$1048576,$A50*2-1,2)="","",INDEX([1]見市貼!$1:$1048576,$A50*2-1,2)) | E50: =IF(INDEX([1]見市貼!$1:$1048576,$A50*2-1,1)="<<</1移動>>>","以下余白",INDEX([1]見市貼!$1:$1048576,$A50*2-0,2)) -> 0 | F50: =IF(INDEX([1]見市貼!$1:$1048576,$A50*2-0,5)="","",INDEX([1]見市貼!$1:$1048576,$A50*2-0,5)) | G50: =IF(INDEX([1]見市貼!$1:$1048576,$A50*2-1,5)="","",INDEX([1]見市貼!$1:$1048576,$A50*2-1,5)) | K50: =C50 -> 29 | L50: =D50 | M50: =E50 -> 0 | N50: =F50 | O50: =G50 | P50: =H50 -> 0 | Q50: =I50 -> 0
A51: 30 | C51: 30 | D51: =IF(INDEX([1]見市貼!$1:$1048576,$A51*2-1,2)="","",INDEX([1]見市貼!$1:$1048576,$A51*2-1,2)) | E51: =IF(INDEX([1]見市貼!$1:$1048576,$A51*2-1,1)="<<</1移動>>>","以下余白",INDEX([1]見市貼!$1:$1048576,$A51*2-0,2)) -> 0 | F51: =IF(INDEX([1]見市貼!$1:$1048576,$A51*2-0,5)="","",INDEX([1]見市貼!$1:$1048576,$A51*2-0,5)) | G51: =IF(INDEX([1]見市貼!$1:$1048576,$A51*2-1,5)="","",INDEX([1]見市貼!$1:$1048576,$A51*2-1,5)) | K51: =C51 -> 30 | L51: =D51 | M51: =E51 -> 0 | N51: =F51 | O51: =G51 | P51: =H51 -> 0 | Q51: =I51 -> 0
A52: 31 | C52: 31 | D52: =IF(INDEX([1]見市貼!$1:$1048576,$A52*2-1,2)="","",INDEX([1]見市貼!$1:$1048576,$A52*2-1,2)) | E52: =IF(INDEX([1]見市貼!$1:$1048576,$A52*2-1,1)="<<</1移動>>>","以下余白",INDEX([1]見市貼!$1:$1048576,$A52*2-0,2)) -> 0 | F52: =IF(INDEX([1]見市貼!$1:$1048576,$A52*2-0,5)="","",INDEX([1]見市貼!$1:$1048576,$A52*2-0,5)) | G52: =IF(INDEX([1]見市貼!$1:$1048576,$A52*2-1,5)="","",INDEX([1]見市貼!$1:$1048576,$A52*2-1,5)) | K52: =C52 -> 31 | L52: =D52 | M52: =E52 -> 0 | N52: =F52 | O52: =G52 | P52: =H52 -> 0 | Q52: =I52 -> 0
A53: 32 | C53: 32 | D53: =IF(INDEX([1]見市貼!$1:$1048576,$A53*2-1,2)="","",INDEX([1]見市貼!$1:$1048576,$A53*2-1,2)) | E53: =IF(INDEX([1]見市貼!$1:$1048576,$A53*2-1,1)="<<</1移動>>>","以下余白",INDEX([1]見市貼!$1:$1048576,$A53*2-0,2)) -> 0 | F53: =IF(INDEX([1]見市貼!$1:$1048576,$A53*2-0,5)="","",INDEX([1]見市貼!$1:$1048576,$A53*2-0,5)) | G53: =IF(INDEX([1]見市貼!$1:$1048576,$A53*2-1,5)="","",INDEX([1]見市貼!$1:$1048576,$A53*2-1,5)) | K53: =C53 -> 32 | L53: =D53 | M53: =E53 -> 0 | N53: =F53 | O53: =G53 | P53: =H53 -> 0 | Q53: =I53 -> 0
A54: 33 | C54: 33 | D54: =IF(INDEX([1]見市貼!$1:$1048576,$A54*2-1,2)="","",INDEX([1]見市貼!$1:$1048576,$A54*2-1,2)) | E54: =IF(INDEX([1]見市貼!$1:$1048576,$A54*2-1,1)="<<</1移動>>>","以下余白",INDEX([1]見市貼!$1:$1048576,$A54*2-0,2)) -> 0 | F54: =IF(INDEX([1]見市貼!$1:$1048576,$A54*2-0,5)="","",INDEX([1]見市貼!$1:$1048576,$A54*2-0,5)) | G54: =IF(INDEX([1]見市貼!$1:$1048576,$A54*2-1,5)="","",INDEX([1]見市貼!$1:$1048576,$A54*2-1,5)) | K54: =C54 -> 33 | L54: =D54 | M54: =E54 -> 0 | N54: =F54 | O54: =G54 | P54: =H54 -> 0 | Q54: =I54 -> 0
A55: 34 | C55: 34 | D55: =IF(INDEX([1]見市貼!$1:$1048576,$A55*2-1,2)="","",INDEX([1]見市貼!$1:$1048576,$A55*2-1,2)) | E55: =IF(INDEX([1]見市貼!$1:$1048576,$A55*2-1,1)="<<</1移動>>>","以下余白",INDEX([1]見市貼!$1:$1048576,$A55*2-0,2)) -> 0 | F55: =IF(INDEX([1]見市貼!$1:$1048576,$A55*2-0,5)="","",INDEX([1]見市貼!$1:$1048576,$A55*2-0,5)) | G55: =IF(INDEX([1]見市貼!$1:$1048576,$A55*2-1,5)="","",INDEX([1]見市貼!$1:$1048576,$A55*2-1,5)) | K55: =C55 -> 34 | L55: =D55 | M55: =E55 -> 0 | N55: =F55 | O55: =G55 | P55: =H55 -> 0 | Q55: =I55 -> 0
A56: 35 | C56: 35 | D56: =IF(INDEX([1]見市貼!$1:$1048576,$A56*2-1,2)="","",INDEX([1]見市貼!$1:$1048576,$A56*2-1,2)) | E56: =IF(INDEX([1]見市貼!$1:$1048576,$A56*2-1,1)="<<</1移動>>>","以下余白",INDEX([1]見市貼!$1:$1048576,$A56*2-0,2)) -> 0 | F56: =IF(INDEX([1]見市貼!$1:$1048576,$A56*2-0,5)="","",INDEX([1]見市貼!$1:$1048576,$A56*2-0,5)) | G56: =IF(INDEX([1]見市貼!$1:$1048576,$A56*2-1,5)="","",INDEX([1]見市貼!$1:$1048576,$A56*2-1,5)) | K56: =C56 -> 35 | L56: =D56 | M56: =E56 -> 0 | N56: =F56 | O56: =G56 | P56: =H56 -> 0 | Q56: =I56 -> 0
A57: 36 | C57: 36 | D57: =IF(INDEX([1]見市貼!$1:$1048576,$A57*2-1,2)="","",INDEX([1]見市貼!$1:$1048576,$A57*2-1,2)) | E57: =IF(INDEX([1]見市貼!$1:$1048576,$A57*2-1,1)="<<</1移動>>>","以下余白",INDEX([1]見市貼!$1:$1048576,$A57*2-0,2)) -> 0 | F57: =IF(INDEX([1]見市貼!$1:$1048576,$A57*2-0,5)="","",INDEX([1]見市貼!$1:$1048576,$A57*2-0,5)) | G57: =IF(INDEX([1]見市貼!$1:$1048576,$A57*2-1,5)="","",INDEX([1]見市貼!$1:$1048576,$A57*2-1,5)) | K57: =C57 -> 36 | L57: =D57 | M57: =E57 -> 0 | N57: =F57 | O57: =G57 | P57: =H57 -> 0 | Q57: =I57 -> 0
A58: 37 | C58: 37 | D58: =IF(INDEX([1]見市貼!$1:$1048576,$A58*2-1,2)="","",INDEX([1]見市貼!$1:$1048576,$A58*2-1,2)) | E58: =IF(INDEX([1]見市貼!$1:$1048576,$A58*2-1,1)="<<</1移動>>>","以下余白",INDEX([1]見市貼!$1:$1048576,$A58*2-0,2)) -> 0 | F58: =IF(INDEX([1]見市貼!$1:$1048576,$A58*2-0,5)="","",INDEX([1]見市貼!$1:$1048576,$A58*2-0,5)) | G58: =IF(INDEX([1]見市貼!$1:$1048576,$A58*2-1,5)="","",INDEX([1]見市貼!$1:$1048576,$A58*2-1,5)) | K58: =C58 -> 37 | L58: =D58 | M58: =E58 -> 0 | N58: =F58 | O58: =G58 | P58: =H58 -> 0 | Q58: =I58 -> 0
A59: 38 | C59: 38 | D59: =IF(INDEX([1]見市貼!$1:$1048576,$A59*2-1,2)="","",INDEX([1]見市貼!$1:$1048576,$A59*2-1,2)) | E59: =IF(INDEX([1]見市貼!$1:$1048576,$A59*2-1,1)="<<</1移動>>>","以下余白",INDEX([1]見市貼!$1:$1048576,$A59*2-0,2)) -> 0 | F59: =IF(INDEX([1]見市貼!$1:$1048576,$A59*2-0,5)="","",INDEX([1]見市貼!$1:$1048576,$A59*2-0,5)) | G59: =IF(INDEX([1]見市貼!$1:$1048576,$A59*2-1,5)="","",INDEX([1]見市貼!$1:$1048576,$A59*2-1,5)) | K59: =C59 -> 38 | L59: =D59 | M59: =E59 -> 0 | N59: =F59 | O59: =G59 | P59: =H59 -> 0 | Q59: =I59 -> 0
D60: 小 計 | I60: =SUM(I36:I48) -> 0 | J60: 税抜 | L60: =D60 -> 小 計 | Q60: =SUM(Q36:Q47) -> 0 | R60: 税抜
C61: 番号 | D61: 品 名 | E61: 規 格 | F61: 単位 | G61: 数量 | H61: 単価 | I61: 金額 | J61: 備 考 | K61: 番号 | L61: 品 名 | M61: 規 格 | N61: 単位 | O61: 数量 | P61: 単価 | Q61: 金額 | R61: 備 考
A62: 39 | C62: 39 | D62: =IF(INDEX([1]見市貼!$1:$1048576,$A62*2-1,2)="","",INDEX([1]見市貼!$1:$1048576,$A62*2-1,2)) | E62: =IF(INDEX([1]見市貼!$1:$1048576,$A62*2-0,2)="","",INDEX([1]見市貼!$1:$1048576,$A62*2-0,2)) | F62: =IF(INDEX([1]見市貼!$1:$1048576,$A62*2-0,5)="","",INDEX([1]見市貼!$1:$1048576,$A62*2-0,5)) | G62: =IF(INDEX([1]見市貼!$1:$1048576,$A62*2-1,5)="","",INDEX([1]見市貼!$1:$1048576,$A62*2-1,5)) | K62: =C62 -> 39 | L62: =D62 | M62: =E62 | N62: =F62 | O62: =G62 | P62: =H62 -> 0 | Q62: =I62 -> 0 | R62: =J62 -> 0
A63: 40 | C63: 40 | D63: =IF(INDEX([1]見市貼!$1:$1048576,$A63*2-1,2)="","",INDEX([1]見市貼!$1:$1048576,$A63*2-1,2)) | E63: =IF(INDEX([1]見市貼!$1:$1048576,$A63*2-1,1)="<<</1移動>>>","以下余白",INDEX([1]見市貼!$1:$1048576,$A63*2-0,2)) -> 0 | F63: =IF(INDEX([1]見市貼!$1:$1048576,$A63*2-0,5)="","",INDEX([1]見市貼!$1:$1048576,$A63*2-0,5)) | G63: =IF(INDEX([1]見市貼!$1:$1048576,$A63*2-1,5)="","",INDEX([1]見市貼!$1:$1048576,$A63*2-1,5)) | K63: =C63 -> 40 | L63: =D63 | M63: =E63 -> 0 | N63: =F63 | O63: =G63 | P63: =H63 -> 0 | Q63: =I63 -> 0 | R63: =J63 -> 0
A64: 41 | C64: 41 | D64: =IF(INDEX([1]見市貼!$1:$1048576,$A64*2-1,2)="","",INDEX([1]見市貼!$1:$1048576,$A64*2-1,2)) | E64: =IF(INDEX([1]見市貼!$1:$1048576,$A64*2-1,1)="<<</1移動>>>","以下余白",INDEX([1]見市貼!$1:$1048576,$A64*2-0,2)) -> 0 | F64: =IF(INDEX([1]見市貼!$1:$1048576,$A64*2-0,5)="","",INDEX([1]見市貼!$1:$1048576,$A64*2-0,5)) | G64: =IF(INDEX([1]見市貼!$1:$1048576,$A64*2-1,5)="","",INDEX([1]見市貼!$1:$1048576,$A64*2-1,5)) | K64: =C64 -> 41 | L64: =D64 | M64: =E64 -> 0 | N64: =F64 | O64: =G64 | P64: =H64 -> 0 | Q64: =I64 -> 0 | R64: =J64 -> 0
A65: 42 | C65: 42 | D65: =IF(INDEX([1]見市貼!$1:$1048576,$A65*2-1,2)="","",INDEX([1]見市貼!$1:$1048576,$A65*2-1,2)) | E65: =IF(INDEX([1]見市貼!$1:$1048576,$A65*2-1,1)="<<</1移動>>>","以下余白",INDEX([1]見市貼!$1:$1048576,$A65*2-0,2)) -> 0 | F65: =IF(INDEX([1]見市貼!$1:$1048576,$A65*2-0,5)="","",INDEX([1]見市貼!$1:$1048576,$A65*2-0,5)) | G65: =IF(INDEX([1]見市貼!$1:$1048576,$A65*2-1,5)="","",INDEX([1]見市貼!$1:$1048576,$A65*2-1,5)) | K65: =C65 -> 42 | L65: =D65 | M65: =E65 -> 0 | N65: =F65 | O65: =G65 | P65: =H65 -> 0 | Q65: =I65 -> 0 | R65: =J65 -> 0
A66: 43 | C66: 43 | D66: =IF(INDEX([1]見市貼!$1:$1048576,$A66*2-1,2)="","",INDEX([1]見市貼!$1:$1048576,$A66*2-1,2)) | E66: =IF(INDEX([1]見市貼!$1:$1048576,$A66*2-1,1)="<<</1移動>>>","以下余白",INDEX([1]見市貼!$1:$1048576,$A66*2-0,2)) -> 0 | F66: =IF(INDEX([1]見市貼!$1:$1048576,$A66*2-0,5)="","",INDEX([1]見市貼!$1:$1048576,$A66*2-0,5)) | G66: =IF(INDEX([1]見市貼!$1:$1048576,$A66*2-1,5)="","",INDEX([1]見市貼!$1:$1048576,$A66*2-1,5)) | K66: =C66 -> 43 | L66: =D66 | M66: =E66 -> 0 | N66: =F66 | O66: =G66 | P66: =H66 -> 0 | Q66: =I66 -> 0 | R66: =J66 -> 0
A67: 44 | C67: 44 | D67: =IF(INDEX([1]見市貼!$1:$1048576,$A67*2-1,2)="","",INDEX([1]見市貼!$1:$1048576,$A67*2-1,2)) | E67: =IF(INDEX([1]見市貼!$1:$1048576,$A67*2-1,1)="<<</1移動>>>","以下余白",INDEX([1]見市貼!$1:$1048576,$A67*2-0,2)) -> 0 | F67: =IF(INDEX([1]見市貼!$1:$1048576,$A67*2-0,5)="","",INDEX([1]見市貼!$1:$1048576,$A67*2-0,5)) | G67: =IF(INDEX([1]見市貼!$1:$1048576,$A67*2-1,5)="","",INDEX([1]見市貼!$1:$1048576,$A67*2-1,5)) | K67: =C67 -> 44 | L67: =D67 | M67: =E67 -> 0 | N67: =F67 | O67: =G67 | P67: =H67 -> 0 | Q67: =I67 -> 0 | R67: =J67 -> 0
A68: 45 | C68: 45 | D68: =IF(INDEX([1]見市貼!$1:$1048576,$A68*2-1,2)="","",INDEX([1]見市貼!$1:$1048576,$A68*2-1,2)) | E68: =IF(INDEX([1]見市貼!$1:$1048576,$A68*2-1,1)="<<</1移動>>>","以下余白",INDEX([1]見市貼!$1:$1048576,$A68*2-0,2)) -> 0 | F68: =IF(INDEX([1]見市貼!$1:$1048576,$A68*2-0,5)="","",INDEX([1]見市貼!$1:$1048576,$A68*2-0,5)) | G68: =IF(INDEX([1]見市貼!$1:$1048576,$A68*2-1,5)="","",INDEX([1]見市貼!$1:$1048576,$A68*2-1,5)) | K68: =C68 -> 45 | L68: =D68 | M68: =E68 -> 0 | N68: =F68 | O68: =G68 | P68: =H68 -> 0 | Q68: =I68 -> 0 | R68: =J68 -> 0
A69: 46 | C69: 46 | D69: =IF(INDEX([1]見市貼!$1:$1048576,$A69*2-1,2)="","",INDEX([1]見市貼!$1:$1048576,$A69*2-1,2)) | E69: =IF(INDEX([1]見市貼!$1:$1048576,$A69*2-1,1)="<<</1移動>>>","以下余白",INDEX([1]見市貼!$1:$1048576,$A69*2-0,2)) -> 0 | F69: =IF(INDEX([1]見市貼!$1:$1048576,$A69*2-0,5)="","",INDEX([1]見市貼!$1:$1048576,$A69*2-0,5)) | G69: =IF(INDEX([1]見市貼!$1:$1048576,$A69*2-1,5)="","",INDEX([1]見市貼!$1:$1048576,$A69*2-1,5)) | K69: =C69 -> 46 | L69: =D69 | M69: =E69 -> 0 | N69: =F69 | O69: =G69 | P69: =H69 -> 0 | Q69: =I69 -> 0 | R69: =J69 -> 0
A70: 47 | C70: 47 | D70: =IF(INDEX([1]見市貼!$1:$1048576,$A70*2-1,2)="","",INDEX([1]見市貼!$1:$1048576,$A70*2-1,2)) | E70: =IF(INDEX([1]見市貼!$1:$1048576,$A70*2-1,1)="<<</1移動>>>","以下余白",INDEX([1]見市貼!$1:$1048576,$A70*2-0,2)) -> 0 | F70: =IF(INDEX([1]見市貼!$1:$1048576,$A70*2-0,5)="","",INDEX([1]見市貼!$1:$1048576,$A70*2-0,5)) | G70: =IF(INDEX([1]見市貼!$1:$1048576,$A70*2-1,5)="","",INDEX([1]見市貼!$1:$1048576,$A70*2-1,5)) | K70: =C70 -> 47 | L70: =D70 | M70: =E70 -> 0 | N70: =F70 | O70: =G70 | P70: =H70 -> 0 | Q70: =I70 -> 0 | R70: =J70 -> 0
A71: 48 | C71: 48 | D71: =IF(INDEX([1]見市貼!$1:$1048576,$A71*2-1,2)="","",INDEX([1]見市貼!$1:$1048576,$A71*2-1,2)) | E71: =IF(INDEX([1]見市貼!$1:$1048576,$A71*2-1,1)="<<</1移動>>>","以下余白",INDEX([1]見市貼!$1:$1048576,$A71*2-0,2)) -> 0 | F71: =IF(INDEX([1]見市貼!$1:$1048576,$A71*2-0,5)="","",INDEX([1]見市貼!$1:$1048576,$A71*2-0,5)) | G71: =IF(INDEX([1]見市貼!$1:$1048576,$A71*2-1,5)="","",INDEX([1]見市貼!$1:$1048576,$A71*2-1,5)) | K71: =C71 -> 48 | L71: =D71 | M71: =E71 -> 0 | N71: =F71 | O71: =G71 | P71: =H71 -> 0 | Q71: =I71 -> 0 | R71: =J71 -> 0
A72: 49 | C72: 49 | D72: =IF(INDEX([1]見市貼!$1:$1048576,$A72*2-1,2)="","",INDEX([1]見市貼!$1:$1048576,$A72*2-1,2)) | E72: =IF(INDEX([1]見市貼!$1:$1048576,$A72*2-1,1)="<<</1移動>>>","以下余白",INDEX([1]見市貼!$1:$1048576,$A72*2-0,2)) -> 0 | F72: =IF(INDEX([1]見市貼!$1:$1048576,$A72*2-0,5)="","",INDEX([1]見市貼!$1:$1048576,$A72*2-0,5)) | G72: =IF(INDEX([1]見市貼!$1:$1048576,$A72*2-1,5)="","",INDEX([1]見市貼!$1:$1048576,$A72*2-1,5)) | K72: =C72 -> 49 | L72: =D72 | M72: =E72 -> 0 | N72: =F72 | O72: =G72 | P72: =H72 -> 0 | Q72: =I72 -> 0 | R72: =J72 -> 0
A73: 50 | C73: 50 | D73: =IF(INDEX([1]見市貼!$1:$1048576,$A73*2-1,2)="","",INDEX([1]見市貼!$1:$1048576,$A73*2-1,2)) | E73: =IF(INDEX([1]見市貼!$1:$1048576,$A73*2-1,1)="<<</1移動>>>","以下余白",INDEX([1]見市貼!$1:$1048576,$A73*2-0,2)) -> 0 | F73: =IF(INDEX([1]見市貼!$1:$1048576,$A73*2-0,5)="","",INDEX([1]見市貼!$1:$1048576,$A73*2-0,5)) | G73: =IF(INDEX([1]見市貼!$1:$1048576,$A73*2-1,5)="","",INDEX([1]見市貼!$1:$1048576,$A73*2-1,5)) | K73: =C73 -> 50 | L73: =D73 | M73: =E73 -> 0 | N73: =F73 | O73: =G73 | P73: =H73 -> 0 | Q73: =I73 -> 0 | R73: =J73 -> 0
A74: 51 | C74: 51 | D74: =IF(INDEX([1]見市貼!$1:$1048576,$A74*2-1,2)="","",INDEX([1]見市貼!$1:$1048576,$A74*2-1,2)) | E74: =IF(INDEX([1]見市貼!$1:$1048576,$A74*2-1,1)="<<</1移動>>>","以下余白",INDEX([1]見市貼!$1:$1048576,$A74*2-0,2)) -> 0 | F74: =IF(INDEX([1]見市貼!$1:$1048576,$A74*2-0,5)="","",INDEX([1]見市貼!$1:$1048576,$A74*2-0,5)) | G74: =IF(INDEX([1]見市貼!$1:$1048576,$A74*2-1,5)="","",INDEX([1]見市貼!$1:$1048576,$A74*2-1,5)) | K74: =C74 -> 51 | L74: =D74 | M74: =E74 -> 0 | N74: =F74 | O74: =G74 | P74: =H74 -> 0 | Q74: =I74 -> 0 | R74: =J74 -> 0
A75: 52 | C75: 52 | D75: =IF(INDEX([1]見市貼!$1:$1048576,$A75*2-1,2)="","",INDEX([1]見市貼!$1:$1048576,$A75*2-1,2)) | E75: =IF(INDEX([1]見市貼!$1:$1048576,$A75*2-1,1)="<<</1移動>>>","以下余白",INDEX([1]見市貼!$1:$1048576,$A75*2-0,2)) -> 0 | F75: =IF(INDEX([1]見市貼!$1:$1048576,$A75*2-0,5)="","",INDEX([1]見市貼!$1:$1048576,$A75*2-0,5)) | G75: =IF(INDEX([1]見市貼!$1:$1048576,$A75*2-1,5)="","",INDEX([1]見市貼!$1:$1048576,$A75*2-1,5)) | K75: =C75 -> 52 | L75: =D75 | M75: =E75 -> 0 | N75: =F75 | O75: =G75 | P75: =H75 -> 0 | Q75: =I75 -> 0 | R75: =J75 -> 0
A76: 53 | C76: 53 | D76: =IF(INDEX([1]見市貼!$1:$1048576,$A76*2-1,2)="","",INDEX([1]見市貼!$1:$1048576,$A76*2-1,2)) | E76: =IF(INDEX([1]見市貼!$1:$1048576,$A76*2-1,1)="<<</1移動>>>","以下余白",INDEX([1]見市貼!$1:$1048576,$A76*2-0,2)) -> 0 | F76: =IF(INDEX([1]見市貼!$1:$1048576,$A76*2-0,5)="","",INDEX([1]見市貼!$1:$1048576,$A76*2-0,5)) | G76: =IF(INDEX([1]見市貼!$1:$1048576,$A76*2-1,5)="","",INDEX([1]見市貼!$1:$1048576,$A76*2-1,5)) | K76: =C76 -> 53 | L76: =D76 | M76: =E76 -> 0 | N76: =F76 | O76: =G76 | P76: =H76 -> 0 | Q76: =I76 -> 0
A77: 54 | C77: 54 | D77: =IF(INDEX([1]見市貼!$1:$1048576,$A77*2-1,2)="","",INDEX([1]見市貼!$1:$1048576,$A77*2-1,2)) | E77: =IF(INDEX([1]見市貼!$1:$1048576,$A77*2-1,1)="<<</1移動>>>","以下余白",INDEX([1]見市貼!$1:$1048576,$A77*2-0,2)) -> 0 | F77: =IF(INDEX([1]見市貼!$1:$1048576,$A77*2-0,5)="","",INDEX([1]見市貼!$1:$1048576,$A77*2-0,5)) | G77: =IF(INDEX([1]見市貼!$1:$1048576,$A77*2-1,5)="","",INDEX([1]見市貼!$1:$1048576,$A77*2-1,5)) | K77: =C77 -> 54 | L77: =D77 | M77: =E77 -> 0 | N77: =F77 | O77: =G77 | P77: =H77 -> 0 | Q77: =I77 -> 0
A78: 55 | C78: 55 | D78: =IF(INDEX([1]見市貼!$1:$1048576,$A78*2-1,2)="","",INDEX([1]見市貼!$1:$1048576,$A78*2-1,2)) | E78: =IF(INDEX([1]見市貼!$1:$1048576,$A78*2-1,1)="<<</1移動>>>","以下余白",INDEX([1]見市貼!$1:$1048576,$A78*2-0,2)) -> 0 | F78: =IF(INDEX([1]見市貼!$1:$1048576,$A78*2-0,5)="","",INDEX([1]見市貼!$1:$1048576,$A78*2-0,5)) | G78: =IF(INDEX([1]見市貼!$1:$1048576,$A78*2-1,5)="","",INDEX([1]見市貼!$1:$1048576,$A78*2-1,5)) | K78: =C78 -> 55 | L78: =D78 | M78: =E78 -> 0 | N78: =F78 | O78: =G78 | P78: =H78 -> 0 | Q78: =I78 -> 0
A79: 56 | C79: 56 | D79: =IF(INDEX([1]見市貼!$1:$1048576,$A79*2-1,2)="","",INDEX([1]見市貼!$1:$1048576,$A79*2-1,2)) | E79: =IF(INDEX([1]見市貼!$1:$1048576,$A79*2-1,1)="<<</1移動>>>","以下余白",INDEX([1]見市貼!$1:$1048576,$A79*2-0,2)) -> 0 | F79: =IF(INDEX([1]見市貼!$1:$1048576,$A79*2-0,5)="","",INDEX([1]見市貼!$1:$1048576,$A79*2-0,5)) | G79: =IF(INDEX([1]見市貼!$1:$1048576,$A79*2-1,5)="","",INDEX([1]見市貼!$1:$1048576,$A79*2-1,5)) | K79: =C79 -> 56 | L79: =D79 | M79: =E79 -> 0 | N79: =F79 | O79: =G79 | P79: =H79 -> 0 | Q79: =I79 -> 0
A80: 57 | C80: 57 | D80: =IF(INDEX([1]見市貼!$1:$1048576,$A80*2-1,2)="","",INDEX([1]見市貼!$1:$1048576,$A80*2-1,2)) | E80: =IF(INDEX([1]見市貼!$1:$1048576,$A80*2-1,1)="<<</1移動>>>","以下余白",INDEX([1]見市貼!$1:$1048576,$A80*2-0,2)) -> 0 | F80: =IF(INDEX([1]見市貼!$1:$1048576,$A80*2-0,5)="","",INDEX([1]見市貼!$1:$1048576,$A80*2-0,5)) | G80: =IF(INDEX([1]見市貼!$1:$1048576,$A80*2-1,5)="","",INDEX([1]見市貼!$1:$1048576,$A80*2-1,5)) | K80: =C80 -> 57 | L80: =D80 | M80: =E80 -> 0 | N80: =F80 | O80: =G80 | P80: =H80 -> 0 | Q80: =I80 -> 0
A81: 58 | C81: 58 | D81: =IF(INDEX([1]見市貼!$1:$1048576,$A81*2-1,2)="","",INDEX([1]見市貼!$1:$1048576,$A81*2-1,2)) | E81: =IF(INDEX([1]見市貼!$1:$1048576,$A81*2-1,1)="<<</1移動>>>","以下余白",INDEX([1]見市貼!$1:$1048576,$A81*2-0,2)) -> 0 | F81: =IF(INDEX([1]見市貼!$1:$1048576,$A81*2-0,5)="","",INDEX([1]見市貼!$1:$1048576,$A81*2-0,5)) | G81: =IF(INDEX([1]見市貼!$1:$1048576,$A81*2-1,5)="","",INDEX([1]見市貼!$1:$1048576,$A81*2-1,5)) | K81: =C81 -> 58 | L81: =D81 | M81: =E81 -> 0 | N81: =F81 | O81: =G81 | P81: =H81 -> 0 | Q81: =I81 -> 0
A82: 59 | C82: 59 | D82: =IF(INDEX([1]見市貼!$1:$1048576,$A82*2-1,2)="","",INDEX([1]見市貼!$1:$1048576,$A82*2-1,2)) | E82: =IF(INDEX([1]見市貼!$1:$1048576,$A82*2-1,1)="<<</1移動>>>","以下余白",INDEX([1]見市貼!$1:$1048576,$A82*2-0,2)) -> 0 | F82: =IF(INDEX([1]見市貼!$1:$1048576,$A82*2-0,5)="","",INDEX([1]見市貼!$1:$1048576,$A82*2-0,5)) | G82: =IF(INDEX([1]見市貼!$1:$1048576,$A82*2-1,5)="","",INDEX([1]見市貼!$1:$1048576,$A82*2-1,5)) | K82: =C82 -> 59 | L82: =D82 | M82: =E82 -> 0 | N82: =F82 | O82: =G82 | P82: =H82 -> 0 | Q82: =I82 -> 0
A83: 60 | C83: 60 | D83: =IF(INDEX([1]見市貼!$1:$1048576,$A83*2-1,2)="","",INDEX([1]見市貼!$1:$1048576,$A83*2-1,2)) | E83: =IF(INDEX([1]見市貼!$1:$1048576,$A83*2-1,1)="<<</1移動>>>","以下余白",INDEX([1]見市貼!$1:$1048576,$A83*2-0,2)) -> 0 | F83: =IF(INDEX([1]見市貼!$1:$1048576,$A83*2-0,5)="","",INDEX([1]見市貼!$1:$1048576,$A83*2-0,5)) | G83: =IF(INDEX([1]見市貼!$1:$1048576,$A83*2-1,5)="","",INDEX([1]見市貼!$1:$1048576,$A83*2-1,5)) | K83: =C83 -> 60 | L83: =D83 | M83: =E83 -> 0 | N83: =F83 | O83: =G83 | P83: =H83 -> 0 | Q83: =I83 -> 0
A84: 61 | C84: 61 | D84: =IF(INDEX([1]見市貼!$1:$1048576,$A84*2-1,2)="","",INDEX([1]見市貼!$1:$1048576,$A84*2-1,2)) | E84: =IF(INDEX([1]見市貼!$1:$1048576,$A84*2-1,1)="<<</1移動>>>","以下余白",INDEX([1]見市貼!$1:$1048576,$A84*2-0,2)) -> 0 | F84: =IF(INDEX([1]見市貼!$1:$1048576,$A84*2-0,5)="","",INDEX([1]見市貼!$1:$1048576,$A84*2-0,5)) | G84: =IF(INDEX([1]見市貼!$1:$1048576,$A84*2-1,5)="","",INDEX([1]見市貼!$1:$1048576,$A84*2-1,5)) | K84: =C84 -> 61 | L84: =D84 | M84: =E84 -> 0 | N84: =F84 | O84: =G84 | P84: =H84 -> 0 | Q84: =I84 -> 0
A85: 62 | C85: 62 | D85: =IF(INDEX([1]見市貼!$1:$1048576,$A85*2-1,2)="","",INDEX([1]見市貼!$1:$1048576,$A85*2-1,2)) | E85: =IF(INDEX([1]見市貼!$1:$1048576,$A85*2-1,1)="<<</1移動>>>","以下余白",INDEX([1]見市貼!$1:$1048576,$A85*2-0,2)) -> 0 | F85: =IF(INDEX([1]見市貼!$1:$1048576,$A85*2-0,5)="","",INDEX([1]見市貼!$1:$1048576,$A85*2-0,5)) | G85: =IF(INDEX([1]見市貼!$1:$1048576,$A85*2-1,5)="","",INDEX([1]見市貼!$1:$1048576,$A85*2-1,5)) | K85: =C85 -> 62 | L85: =D85 | M85: =E85 -> 0 | N85: =F85 | O85: =G85 | P85: =H85 -> 0 | Q85: =I85 -> 0
D86: 小 計 | I86: =SUM(I62:I74) -> 0 | J86: 税抜 | L86: =D86 -> 小 計 | Q86: =SUM(Q62:Q73) -> 0 | R86: 税抜
C87: 番号 | D87: 品 名 | E87: 規 格 | F87: 単位 | G87: 数量 | H87: 単価 | I87: 金額 | J87: 備 考 | K87: 番号 | L87: 品 名 | M87: 規 格 | N87: 単位 | O87: 数量 | P87: 単価 | Q87: 金額 | R87: 備 考
A88: 63 | C88: 63 | D88: =IF(INDEX([1]見市貼!$1:$1048576,$A88*2-1,2)="","",INDEX([1]見市貼!$1:$1048576,$A88*2-1,2)) | E88: =IF(INDEX([1]見市貼!$1:$1048576,$A88*2-0,2)="","",INDEX([1]見市貼!$1:$1048576,$A88*2-0,2)) | F88: =IF(INDEX([1]見市貼!$1:$1048576,$A88*2-0,5)="","",INDEX([1]見市貼!$1:$1048576,$A88*2-0,5)) | G88: =IF(INDEX([1]見市貼!$1:$1048576,$A88*2-1,5)="","",INDEX([1]見市貼!$1:$1048576,$A88*2-1,5)) | K88: =C88 -> 63 | L88: =D88 | M88: =E88 | N88: =F88 | O88: =G88 | P88: =H88 -> 0 | Q88: =I88 -> 0 | R88: =J88 -> 0
A89: =A88+1 -> 64 | C89: =C88+1 -> 64 | D89: =IF(INDEX([1]見市貼!$1:$1048576,$A89*2-1,2)="","",INDEX([1]見市貼!$1:$1048576,$A89*2-1,2)) | E89: =IF(INDEX([1]見市貼!$1:$1048576,$A89*2-1,1)="<<</1移動>>>","以下余白",INDEX([1]見市貼!$1:$1048576,$A89*2-0,2)) -> 0 | F89: =IF(INDEX([1]見市貼!$1:$1048576,$A89*2-0,5)="","",INDEX([1]見市貼!$1:$1048576,$A89*2-0,5)) | G89: =IF(INDEX([1]見市貼!$1:$1048576,$A89*2-1,5)="","",INDEX([1]見市貼!$1:$1048576,$A89*2-1,5)) | K89: =C89 -> 64 | L89: =D89 | M89: =E89 -> 0 | N89: =F89 | O89: =G89 | P89: =H89 -> 0 | Q89: =I89 -> 0 | R89: =J89 -> 0
A90: =A89+1 -> 65 | C90: =C89+1 -> 65 | D90: =IF(INDEX([1]見市貼!$1:$1048576,$A90*2-1,2)="","",INDEX([1]見市貼!$1:$1048576,$A90*2-1,2)) | E90: =IF(INDEX([1]見市貼!$1:$1048576,$A90*2-1,1)="<<</1移動>>>","以下余白",INDEX([1]見市貼!$1:$1048576,$A90*2-0,2)) -> 0 | F90: =IF(INDEX([1]見市貼!$1:$1048576,$A90*2-0,5)="","",INDEX([1]見市貼!$1:$1048576,$A90*2-0,5)) | G90: =IF(INDEX([1]見市貼!$1:$1048576,$A90*2-1,5)="","",INDEX([1]見市貼!$1:$1048576,$A90*2-1,5)) | K90: =C90 -> 65 | L90: =D90 | M90: =E90 -> 0 | N90: =F90 | O90: =G90 | P90: =H90 -> 0 | Q90: =I90 -> 0 | R90: =J90 -> 0
A91: =A90+1 -> 66 | C91: =C90+1 -> 66 | D91: =IF(INDEX([1]見市貼!$1:$1048576,$A91*2-1,2)="","",INDEX([1]見市貼!$1:$1048576,$A91*2-1,2)) | E91: =IF(INDEX([1]見市貼!$1:$1048576,$A91*2-1,1)="<<</1移動>>>","以下余白",INDEX([1]見市貼!$1:$1048576,$A91*2-0,2)) -> 0 | F91: =IF(INDEX([1]見市貼!$1:$1048576,$A91*2-0,5)="","",INDEX([1]見市貼!$1:$1048576,$A91*2-0,5)) | G91: =IF(INDEX([1]見市貼!$1:$1048576,$A91*2-1,5)="","",INDEX([1]見市貼!$1:$1048576,$A91*2-1,5)) | K91: =C91 -> 66 | L91: =D91 | M91: =E91 -> 0 | N91: =F91 | O91: =G91 | P91: =H91 -> 0 | Q91: =I91 -> 0 | R91: =J91 -> 0
A92: =A91+1 -> 67 | C92: =C91+1 -> 67 | D92: =IF(INDEX([1]見市貼!$1:$1048576,$A92*2-1,2)="","",INDEX([1]見市貼!$1:$1048576,$A92*2-1,2)) | E92: =IF(INDEX([1]見市貼!$1:$1048576,$A92*2-1,1)="<<</1移動>>>","以下余白",INDEX([1]見市貼!$1:$1048576,$A92*2-0,2)) -> 0 | F92: =IF(INDEX([1]見市貼!$1:$1048576,$A92*2-0,5)="","",INDEX([1]見市貼!$1:$1048576,$A92*2-0,5)) | G92: =IF(INDEX([1]見市貼!$1:$1048576,$A92*2-1,5)="","",INDEX([1]見市貼!$1:$1048576,$A92*2-1,5)) | K92: =C92 -> 67 | L92: =D92 | M92: =E92 -> 0 | N92: =F92 | O92: =G92 | P92: =H92 -> 0 | Q92: =I92 -> 0 | R92: =J92 -> 0
A93: =A92+1 -> 68 | C93: =C92+1 -> 68 | D93: =IF(INDEX([1]見市貼!$1:$1048576,$A93*2-1,2)="","",INDEX([1]見市貼!$1:$1048576,$A93*2-1,2)) | E93: =IF(INDEX([1]見市貼!$1:$1048576,$A93*2-1,1)="<<</1移動>>>","以下余白",INDEX([1]見市貼!$1:$1048576,$A93*2-0,2)) -> 0 | F93: =IF(INDEX([1]見市貼!$1:$1048576,$A93*2-0,5)="","",INDEX([1]見市貼!$1:$1048576,$A93*2-0,5)) | G93: =IF(INDEX([1]見市貼!$1:$1048576,$A93*2-1,5)="","",INDEX([1]見市貼!$1:$1048576,$A93*2-1,5)) | K93: =C93 -> 68 | L93: =D93 | M93: =E93 -> 0 | N93: =F93 | O93: =G93 | P93: =H93 -> 0 | Q93: =I93 -> 0 | R93: =J93 -> 0
A94: =A93+1 -> 69 | C94: =C93+1 -> 69 | D94: =IF(INDEX([1]見市貼!$1:$1048576,$A94*2-1,2)="","",INDEX([1]見市貼!$1:$1048576,$A94*2-1,2)) | E94: =IF(INDEX([1]見市貼!$1:$1048576,$A94*2-1,1)="<<</1移動>>>","以下余白",INDEX([1]見市貼!$1:$1048576,$A94*2-0,2)) -> 0 | F94: =IF(INDEX([1]見市貼!$1:$1048576,$A94*2-0,5)="","",INDEX([1]見市貼!$1:$1048576,$A94*2-0,5)) | G94: =IF(INDEX([1]見市貼!$1:$1048576,$A94*2-1,5)="","",INDEX([1]見市貼!$1:$1048576,$A94*2-1,5)) | K94: =C94 -> 69 | L94: =D94 | M94: =E94 -> 0 | N94: =F94 | O94: =G94 | P94: =H94 -> 0 | Q94: =I94 -> 0 | R94: =J94 -> 0
A95: =A94+1 -> 70 | C95: =C94+1 -> 70 | D95: =IF(INDEX([1]見市貼!$1:$1048576,$A95*2-1,2)="","",INDEX([1]見市貼!$1:$1048576,$A95*2-1,2)) | E95: =IF(INDEX([1]見市貼!$1:$1048576,$A95*2-1,1)="<<</1移動>>>","以下余白",INDEX([1]見市貼!$1:$1048576,$A95*2-0,2)) -> 0 | F95: =IF(INDEX([1]見市貼!$1:$1048576,$A95*2-0,5)="","",INDEX([1]見市貼!$1:$1048576,$A95*2-0,5)) | G95: =IF(INDEX([1]見市貼!$1:$1048576,$A95*2-1,5)="","",INDEX([1]見市貼!$1:$1048576,$A95*2-1,5)) | K95: =C95 -> 70 | L95: =D95 | M95: =E95 -> 0 | N95: =F95 | O95: =G95 | P95: =H95 -> 0 | Q95: =I95 -> 0 | R95: =J95 -> 0
A96: =A95+1 -> 71 | C96: =C95+1 -> 71 | D96: =IF(INDEX([1]見市貼!$1:$1048576,$A96*2-1,2)="","",INDEX([1]見市貼!$1:$1048576,$A96*2-1,2)) | E96: =IF(INDEX([1]見市貼!$1:$1048576,$A96*2-1,1)="<<</1移動>>>","以下余白",INDEX([1]見市貼!$1:$1048576,$A96*2-0,2)) -> 0 | F96: =IF(INDEX([1]見市貼!$1:$1048576,$A96*2-0,5)="","",INDEX([1]見市貼!$1:$1048576,$A96*2-0,5)) | G96: =IF(INDEX([1]見市貼!$1:$1048576,$A96*2-1,5)="","",INDEX([1]見市貼!$1:$1048576,$A96*2-1,5)) | K96: =C96 -> 71 | L96: =D96 | M96: =E96 -> 0 | N96: =F96 | O96: =G96 | P96: =H96 -> 0 | Q96: =I96 -> 0 | R96: =J96 -> 0
A97: =A96+1 -> 72 | C97: =C96+1 -> 72 | D97: =IF(INDEX([1]見市貼!$1:$1048576,$A97*2-1,2)="","",INDEX([1]見市貼!$1:$1048576,$A97*2-1,2)) | E97: =IF(INDEX([1]見市貼!$1:$1048576,$A97*2-1,1)="<<</1移動>>>","以下余白",INDEX([1]見市貼!$1:$1048576,$A97*2-0,2)) -> 0 | F97: =IF(INDEX([1]見市貼!$1:$1048576,$A97*2-0,5)="","",INDEX([1]見市貼!$1:$1048576,$A97*2-0,5)) | G97: =IF(INDEX([1]見市貼!$1:$1048576,$A97*2-1,5)="","",INDEX([1]見市貼!$1:$1048576,$A97*2-1,5)) | K97: =C97 -> 72 | L97: =D97 | M97: =E97 -> 0 | N97: =F97 | O97: =G97 | P97: =H97 -> 0 | Q97: =I97 -> 0 | R97: =J97 -> 0
A98: =A97+1 -> 73 | C98: =C97+1 -> 73 | D98: =IF(INDEX([1]見市貼!$1:$1048576,$A98*2-1,2)="","",INDEX([1]見市貼!$1:$1048576,$A98*2-1,2)) | E98: =IF(INDEX([1]見市貼!$1:$1048576,$A98*2-1,1)="<<</1移動>>>","以下余白",INDEX([1]見市貼!$1:$1048576,$A98*2-0,2)) -> 0 | F98: =IF(INDEX([1]見市貼!$1:$1048576,$A98*2-0,5)="","",INDEX([1]見市貼!$1:$1048576,$A98*2-0,5)) | G98: =IF(INDEX([1]見市貼!$1:$1048576,$A98*2-1,5)="","",INDEX([1]見市貼!$1:$1048576,$A98*2-1,5)) | K98: =C98 -> 73 | L98: =D98 | M98: =E98 -> 0 | N98: =F98 | O98: =G98 | P98: =H98 -> 0 | Q98: =I98 -> 0 | R98: =J98 -> 0
A99: =A98+1 -> 74 | C99: =C98+1 -> 74 | D99: =IF(INDEX([1]見市貼!$1:$1048576,$A99*2-1,2)="","",INDEX([1]見市貼!$1:$1048576,$A99*2-1,2)) | E99: =IF(INDEX([1]見市貼!$1:$1048576,$A99*2-1,1)="<<</1移動>>>","以下余白",INDEX([1]見市貼!$1:$1048576,$A99*2-0,2)) -> 0 | F99: =IF(INDEX([1]見市貼!$1:$1048576,$A99*2-0,5)="","",INDEX([1]見市貼!$1:$1048576,$A99*2-0,5)) | G99: =IF(INDEX([1]見市貼!$1:$1048576,$A99*2-1,5)="","",INDEX([1]見市貼!$1:$1048576,$A99*2-1,5)) | K99: =C99 -> 74 | L99: =D99 | M99: =E99 -> 0 | N99: =F99 | O99: =G99 | P99: =H99 -> 0 | Q99: =I99 -> 0 | R99: =J99 -> 0
A100: =A99+1 -> 75 | C100: =C99+1 -> 75 | D100: =IF(INDEX([1]見市貼!$1:$1048576,$A100*2-1,2)="","",INDEX([1]見市貼!$1:$1048576,$A100*2-1,2)) | E100: =IF(INDEX([1]見市貼!$1:$1048576,$A100*2-1,1)="<<</1移動>>>","以下余白",INDEX([1]見市貼!$1:$1048576,$A100*2-0,2)) -> 0 | F100: =IF(INDEX([1]見市貼!$1:$1048576,$A100*2-0,5)="","",INDEX([1]見市貼!$1:$1048576,$A100*2-0,5)) | G100: =IF(INDEX([1]見市貼!$1:$1048576,$A100*2-1,5)="","",INDEX([1]見市貼!$1:$1048576,$A100*2-1,5)) | K100: =C100 -> 75 | L100: =D100 | M100: =E100 -> 0 | N100: =F100 | O100: =G100 | P100: =H100 -> 0 | Q100: =I100 -> 0 | R100: =J100 -> 0
A101: =A100+1 -> 76 | C101: =C100+1 -> 76 | D101: =IF(INDEX([1]見市貼!$1:$1048576,$A101*2-1,2)="","",INDEX([1]見市貼!$1:$1048576,$A101*2-1,2)) | E101: =IF(INDEX([1]見市貼!$1:$1048576,$A101*2-1,1)="<<</1移動>>>","以下余白",INDEX([1]見市貼!$1:$1048576,$A101*2-0,2)) -> 0 | F101: =IF(INDEX([1]見市貼!$1:$1048576,$A101*2-0,5)="","",INDEX([1]見市貼!$1:$1048576,$A101*2-0,5)) | G101: =IF(INDEX([1]見市貼!$1:$1048576,$A101*2-1,5)="","",INDEX([1]見市貼!$1:$1048576,$A101*2-1,5)) | K101: =C101 -> 76 | L101: =D101 | M101: =E101 -> 0 | N101: =F101 | O101: =G101 | P101: =H101 -> 0 | Q101: =I101 -> 0 | R101: =J101 -> 0
A102: =A101+1 -> 77 | C102: =C101+1 -> 77 | D102: =IF(INDEX([1]見市貼!$1:$1048576,$A102*2-1,2)="","",INDEX([1]見市貼!$1:$1048576,$A102*2-1,2)) | E102: =IF(INDEX([1]見市貼!$1:$1048576,$A102*2-1,1)="<<</1移動>>>","以下余白",INDEX([1]見市貼!$1:$1048576,$A102*2-0,2)) -> 0 | F102: =IF(INDEX([1]見市貼!$1:$1048576,$A102*2-0,5)="","",INDEX([1]見市貼!$1:$1048576,$A102*2-0,5)) | G102: =IF(INDEX([1]見市貼!$1:$1048576,$A102*2-1,5)="","",INDEX([1]見市貼!$1:$1048576,$A102*2-1,5)) | K102: =C102 -> 77 | L102: =D102 | M102: =E102 -> 0 | N102: =F102 | O102: =G102 | P102: =H102 -> 0 | Q102: =I102 -> 0
...
