Workbook

Sheet 一位代価
A1: 一 位 代 価
A2: 工事名：湯布院駐屯地107号整備場高圧ケーブル改修工事
A3: 項 目 | C3: 単位 | D3: 品 名 等 | E3: 規 格 | F3: 数 量 | G3: 単位 | H3: 単 価 | I3: 金 額 | J3: 一位代価 | K3: 備 考
A4: 新営電気設備工事
A5: 1 | B5: 交換工事
A7: （1） | B7: 高圧引下電線 | C7: ｍ | D7: 高圧絶縁電線 | E7: ６KV PDC38SQ | F7: 1 | G7: ｍ
A9: （2） | B9: 高圧架橋ﾎﾟﾘｴﾁﾚﾝｹｰﾌﾞﾙ配線管内配線 | C9: ｍ | D9: 6KV CVT E-E 38ｓｑ | E9: FEP管内配線 | F9: 1.05 | G9: ｍ
A11: （3） | B11: 高圧電力ケーブル端末処理（屋外用耐塩型） | C11: 箇所 | D11: 端末処理材耐塩型 | E11: 圧着・圧縮方式 | F11: 1 | G11: 箇所
A13: （4） | B13: 高圧電力ケーブル端末処理（屋内用） | C13: 箇所 | D13: 端末処理材 | E13: プレハブ工法３C | F13: 1 | G13: 箇所
A15: （5） | B15: 高圧交流気中負荷開閉器 | C15: 台 | D15: KST-K-N11 | E15: 耐塩 7.2KV 200A | F15: 1 | G15: 台
D16: 電工 | F16: 0.823 | G16: 人
D17: その他 | E17: (労)×ｘ% | F17: 1 | G17: 式
A19: 改修電気設備工事
A20: 2 | B20: 撤去工事
A22: （１） | B22: 既存設備撤去 | C22: 式 | D22: 6KV CVT22ｓｑ | E22: 再使用しない | F22: 1 | G22: 式
A23: 各種試験業務
A24: 1 | B24: 耐圧試験
A25: （１） | B25: 高圧ケーブル耐圧試験 | C25: 式 | D25: 6KV CVT E-E 38ｓｑ | F25: 1 | G25: 式
A26: 機械器具等損料
A27: （1） | B27: 高所作業車 | C27: 日 | D27: トラック架装・ブーム型 | E27: １２ｍ | F27: 1 | G27: 日

Sheet 数量 (合議)
A1: 数 量 計 算 書
A3: =一位代価!A2 -> 工事名：湯布院駐屯地107号整備場高圧ケーブル改修工事
A4: 項 目 | C4: 規 格 | D4: 単位 | E4: 数量 | F4: 計 算 式 | I4: 備 考
A5: 新営電気設備工事
A6: 1 | B6: 交換工事
A7: (1) | B7: =一位代価!B7 -> 高圧引下電線 | C7: =一位代価!E7 -> ６KV PDC38SQ | D7: =一位代価!C7 -> ｍ | E7: 6 | G7: B24号柱
A8: (2) | B8: =一位代価!B9 -> 高圧架橋ﾎﾟﾘｴﾁﾚﾝｹｰﾌﾞﾙ配線管内配線 | C8: =一位代価!E9 -> FEP管内配線 | D8: =一位代価!C9 -> ｍ | E8: 45 | G8: B24号柱～107号ｷｭｰﾋﾞｸﾙ
A9: (3) | B9: =一位代価!B11 -> 高圧電力ケーブル端末処理（屋外用耐塩型） | C9: =一位代価!D11 -> 端末処理材耐塩型 | D9: =一位代価!C11 -> 箇所 | E9: 1 | G9: B24号柱×１
A10: (4) | B10: =一位代価!B13 -> 高圧電力ケーブル端末処理（屋内用） | C10: =一位代価!D13 -> 端末処理材 | D10: =一位代価!C13 -> 箇所 | E10: 1 | G10: 107号ｷｭｰﾋﾞｸﾙ×１
A11: (5) | B11: 高圧交流気中負荷開閉器 | C11: 耐塩 7.2KV 200A | D11: 台 | E11: 1 | G11: B24号柱×１
A12: 改修電気設備工事
A13: ２ | B13: 撤去工事
A14: (1) | B14: =一位代価!B22 -> 既存設備撤去 | C14: =一位代価!D22 -> 6KV CVT22ｓｑ | D14: =一位代価!C22 -> 式 | E14: 1 | G14: B24号柱～107号ｷｭｰﾋﾞｸﾙ
A15: =一位代価!A23 -> 各種試験業務
A16: ３ | B16: =一位代価!B24 -> 耐圧試験
A17: (1) | B17: =一位代価!B25 -> 高圧ケーブル耐圧試験 | C17: =一位代価!D25 -> 6KV CVT E-E 38ｓｑ | D17: =一位代価!C25 -> 式 | E17: 1 | G17: B24号柱～107号ｷｭｰﾋﾞｸﾙ
A18: =一位代価!A26 -> 機械器具等損料
A19: (1) | B19: =一位代価!B27 -> 高所作業車 | C19: =一位代価!D27 -> トラック架装・ブーム型 | D19: =一位代価!C27 -> 日 | E19: 1
