Workbook

Sheet 一位代価
A1: 一 位 代 価
A2: 工事名：日出生台演習場通信ケーブル補修工事
A3: 項 目 | C3: 単位 | D3: 品 名 等 | E3: 規 格 | F3: 数 量 | G3: 単位 | H3: 単 価 | I3: 金 額 | J3: 一位代価 | K3: 備 考
A5: 改修通信設備工事
A6: 1 | B6: 架空線路
A7: (１) | B7: 通信ケーブル | C7: ｍ
D8: CCP-AP | E8: 0.5-20P | F8: 1 | G8: ｍ
D9: スパイラルハンガー | E9: M型 | F9: 1 | G9: ｍ
D10: 雑材料 | E10: (材)×0.02 | F10: 1 | G10: 式
D11: 小 計
A13: (２) | B13: 通信ケーブル | C13: ｍ
D14: CCP-AP | E14: 0.5-10P | F14: 1 | G14: ｍ
D15: スパイラルハンガー | E15: M型 | F15: 1 | G15: ｍ
D16: 雑材料 | E16: (材)×0.02 | F16: 1 | G16: 式
D17: 小 計
A19: (３) | B19: 径間労務費 | C19: 径間
D20: 1条１径間 | F20: 1 | G20: 径間
D21: 電工 | F21: 0.287 | G21: 人
D22: 普通作業員 | F22: 0.149 | G22: 人
D23: その他 | E23: (労)×ｘ% | F23: 1 | G23: 式
D24: 小 計
A26: ２ | B26: 通信・情報設備工事
A27: (１) | B27: 端子接続費 | C27: 箇所
D28: 10P | F28: 1 | G28: 箇所
D29: 小 計
A31: (２) | B31: 電話用端子箱 | C31: 箇所
D32: 10P | E32: 250*350*100ｍｍ | F32: 1 | G32: 箇所
D33: 小 計
A35: (３) | B35: 電話用端子箱 | C35: 箇所
D36: 20P | E36: 250*350*100ｍｍ | F36: 1 | G36: 箇所
D37: 小 計
A39: ３ | B39: 撤去
A41: (１) | B41: 径間労務費 | C41: 径間
D42: 1条１径間 | E42: 再使用する | F42: 1 | G42: 径間
D43: 電工 | E43: 再使用する（労）×0.4×0.287 | F43: 0.1148 | G43: 人
D44: 普通作業員 | E44: 再使用する（労）×0.4×0.149 | F44: 0.0298 | G44: 人
D45: その他 | E45: (労)×ｘ% | F45: 1 | G45: 式
D46: 小 計
A48: (２) | B48: 径間労務費 | C48: 径間
D49: 1条１径間 | E49: 再使用しない | F49: 1 | G49: 径間
D50: 電工 | E50: 再使用しない（労）×0.2×0.287 | F50: 0.0574 | G50: 人
D51: 普通作業員 | E51: 再使用しない（労）×0.2×0.149 | F51: 0.0596 | G51: 人
D52: その他 | E52: (労)×ｘ% | F52: 1 | G52: 式
D53: 小 計
A55: (３) | B55: 電話用端子箱 | C55: 箇所 | E55: 10P
D56: 電工 | E56: 再使用しない（労）0.2×0.513 | F56: 0.1026 | G56: 人
D57: その他 | E57: (労)×ｘ% | F57: 1 | G57: 式
D58: 小 計
A59: 4 | B59: 運転機械経費
A60: (１) | B60: 高所作業車 | C60: 台/日
D61: 高所作業車 | E61: トラック架装１２ｍ | F61: 1.4 | G61: 台
D62: 燃料費 | E62: 軽油 | F62: 18 | G62: ℓ
D63: 運転手 | E63: 特殊 | F63: 1 | G63: 人
D64: その他 | E64: （燃料）×(労)×ｘ% | F64: 1 | G64: 式
D65: 小 計
A66: 5 | B66: 測定業務費
A68: (１) | B68: 疎通試験 | C68: 式 | D68: OTDR | F68: 1 | G68: 式
A70: 6 | B70: 産廃処分費
A72: (１) | B72: 廃機運搬費 | C72: 台/日 | E72: 4ｔﾄﾗｯｸ | F72: 1 | G72: 台
A74: (２) | B74: 廃機処分費 | C74: ｔ | D74: 廃プラ | F74: 1 | G74: ｔ

Sheet 数量 (合議)
A1: 数 量 計 算 書
A3: =一位代価!A2 -> 工事名：日出生台演習場通信ケーブル補修工事
A4: 項 目 | C4: 規 格 | D4: 単位 | E4: 数量 | F4: 計 算 式 | I4: 備 考
A6: =一位代価!A5 -> 改修通信設備工事
A7: =一位代価!A6 -> 1 | B7: =一位代価!B6 -> 架空線路
A8: =一位代価!A7 -> (１) | B8: =一位代価!B7 -> 通信ケーブル | C8: =一位代価!E8 -> 0.5-20P | D8: =一位代価!C7 -> ｍ | E8: 222
A9: =一位代価!A13 -> (２) | B9: =一位代価!B13 -> 通信ケーブル | C9: =一位代価!E14 -> 0.5-10P | D9: =一位代価!C13 -> ｍ | E9: 52
A10: =一位代価!A19 -> (３) | B10: =一位代価!B19 -> 径間労務費 | C10: 1条1径間 | D10: =一位代価!C19 -> 径間 | E10: 16 | F10: 1径間2条 8径間×２ | G10: ｶ35柱～No103ポスト ８径間
A11: =一位代価!A26 -> ２ | B11: =一位代価!B26 -> 通信・情報設備工事
A12: =一位代価!A27 -> (１) | B12: =一位代価!B27 -> 端子接続費 | D12: =一位代価!C27 -> 箇所 | E12: 1 | G12: No103ポスト内
A13: =一位代価!A31 -> (２) | B13: =一位代価!B31 -> 電話用端子箱 | C13: =一位代価!E32 -> 250*350*100ｍｍ | D13: =一位代価!C31 -> 箇所 | E13: 2 | G13: ｶ-39-2号柱×２
A14: =一位代価!A35 -> (３) | B14: =一位代価!B35 -> 電話用端子箱 | C14: =一位代価!E36 -> 250*350*100ｍｍ | D14: =一位代価!C35 -> 箇所 | E14: 1 | G14: ｶ-35号柱
A15: =一位代価!A39 -> ３ | B15: =一位代価!B39 -> 撤去
A16: =一位代価!A41 -> (１) | B16: =一位代価!B41 -> 径間労務費 | C16: =一位代価!E42 -> 再使用する | D16: =一位代価!G42 -> 径間 | E16: 8 | G16: ｶ35柱～No103ポスト ８径間既設信号線
A17: =一位代価!A48 -> (２) | B17: =一位代価!B48 -> 径間労務費 | C17: =一位代価!E49 -> 再使用しない | D17: =一位代価!C48 -> 径間 | E17: 2 | G17: ｶ-39-2号柱～No103ポスト
A18: =一位代価!A55 -> (３) | B18: =一位代価!B55 -> 電話用端子箱 | C18: =一位代価!E55 -> 10P | D18: =一位代価!C55 -> 箇所 | E18: 2
A19: =一位代価!A59 -> 4 | B19: =一位代価!B59 -> 運転機械経費
A20: =一位代価!A60 -> (１) | B20: =一位代価!B60 -> 高所作業車 | C20: =一位代価!E61 -> トラック架装１２ｍ | D20: =一位代価!C60 -> 台/日 | E20: 4
A21: =一位代価!A66 -> 5 | B21: =一位代価!B66 -> 測定業務費
A22: =一位代価!A68 -> (１) | B22: =一位代価!B68 -> 疎通試験 | D22: =一位代価!C68 -> 式 | E22: 2
A23: =一位代価!A70 -> 6 | B23: =一位代価!B70 -> 産廃処分費
A24: =一位代価!A72 -> (１) | B24: =一位代価!B72 -> 廃機運搬費 | D24: =一位代価!C72 -> 台/日 | E24: 1
A25: =一位代価!A74 -> (２) | B25: =一位代価!B74 -> 廃機処分費 | D25: =一位代価!C74 -> ｔ | E25: 1
