Workbook
Name as: #REF!
Name 科目: #REF!
Name 科目: #REF!
Name 科目: #REF!
Name 科目: #REF!
Name 科目: #REF!
Name 科目: #REF!
Name 科目: #REF!
Name 科目: #REF!
Name 科目: #REF!
Name 三四: #REF!
Name 三四: #REF!
Name 三四: #REF!
Name 三四: #REF!
Name 三四: #REF!
Name 三四: #REF!
Name 三四: #REF!
Name 三四: #REF!
Name 三四: #REF!
Name 四四: #REF!
Name 四四: #REF!
Name 四四: #REF!
Name 四四: #REF!
Name 四四: #REF!
Name 四四: #REF!
Name 四四: #REF!
Name 四四: #REF!
Name 四四: #REF!
Name 市価調査票: #REF!
Name 市価調査票: #REF!
Name 市価調査票: #REF!
Name 市価調査票: #REF!
Name 市価調査票: #REF!
Name 市価調査票: #REF!
Name 市価調査票: #REF!
Name 市価調査票: #REF!
Name 総額科目: #REF!
Name 総額科目: #REF!
Name 総額科目: #REF!
Name 総額科目: #REF!
Name 総額科目: #REF!
Name 総額科目: #REF!
Name 総額科目: #REF!
Name 総額科目: #REF!
Name 総額科目: #REF!

Sheet 入札書(Aグループ）
B2: 入札書 グループＡ
B4: 分任契約担当官 | F4: =[1]入力!I3 -> 46266
B5: 陸上自衛隊玖珠駐屯地
B6: 第４０４会計隊玖珠派遣隊長 雨宮 大樹 殿 | E6: 住 所
E8: 会 社 名
B10: ￥ | C10: =+I31 -> 0 | E10: 代表者名
B12: =[1]入力!H9 -> 納期： | C12: ='[1]市価 '!C12 -> 46295
B13: =[1]入力!H11 -> 納地： | C13: =[1]入力!I11 -> 陸上自衛隊玖珠駐屯地
B14: 内 訳
B15: 品 名 | D15: 規 格 | E15: 単 位 | F15: 数量 | G15: 単 価 | I15: 金 額 | J15: 備 考
B16: =[1]入力!B6 -> スイッチングハブ | D16: =[1]入力!C6 -> ＥＡ７６４ＢＹ－１７１又は同等品以上のもの（他社製品を含む） | E16: =[1]入力!D6 -> EA | F16: =[1]入力!E6 -> 4
B17: =[1]入力!B7 -> モニターアーム | D17: =[1]入力!C7 -> ＥＡ７６４ＡＧ－２１又は同等品以上のもの（他社製品を含む） | E17: =[1]入力!D7 -> EA | F17: =[1]入力!E7 -> 4
B18: =[1]入力!B8 -> 液晶ディスプレイ | D18: =[1]入力!C8 -> ＥＡ７６４ＡＧ－１４３４Ａ又は同等品以上のもの（他社製品を含む） | E18: =[1]入力!D8 -> EA | F18: =[1]入力!E8 -> 4
B19: =[1]入力!B9 -> ポータブル電源 | D19: =[1]入力!C9 -> ＥＡ８１２ＨＢ－５４又は同等品以上のもの（他社製品を含む） | E19: =[1]入力!D9 -> EA | F19: =[1]入力!E9 -> 1
B20: =[1]入力!B10 -> デジタル一眼レフ カメラセット | D20: =[1]入力!C10 -> ＥＡ７５９ＧＡ－１７２Ｄ又は同等品以上のもの（他社製品を含む） | E20: =[1]入力!D10 -> ST | F20: =[1]入力!E10 -> 1
B21: =[1]入力!B11 -> 超硬チップソー | D21: =[1]入力!C11 -> ＥＡ８９８Ｂ－４４ 又は同等以上のもの（他社製品含む） | E21: =[1]入力!D11 -> SH | F21: =[1]入力!E11 -> 14
B22: =[1]入力!B12 -> 作業用靴 | D22: =[1]入力!C12 -> １９５－１７３４ ２７．５又は同等品以上のもの（他社製品を含む） | E22: =[1]入力!D12 -> EA | F22: =[1]入力!E12 -> 1
B23: =[1]入力!B13 -> 安全靴 | D23: =[1]入力!C13 -> ３６８－３１７６ ２７．５又は同等品以上のもの（他社製品を含む） | E23: =[1]入力!D13 -> EA | F23: =[1]入力!E13 -> 1 | G23: =+[1]入力!F11 -> 0 | I23: =+F23*G23 -> 0
B24: =[1]入力!B14 -> 0 | D24: 以下余白 | E24: =[1]入力!D14 -> 0 | F24: =[1]入力!E14 -> 0 | G24: =+[1]入力!F12 -> 0 | I24: =+F24*G24 -> 0
B25: =[1]入力!B15 -> 0 | D25: =[1]入力!C15 -> 0 | E25: =[1]入力!D15 -> 0 | F25: =[1]入力!E15 -> 0 | G25: =+[1]入力!F13 -> 0 | I25: =+F25*G25 -> 0
B26: =[1]入力!B16 -> 0 | D26: =[1]入力!C16 -> 0 | E26: =[1]入力!D16 -> 0 | F26: =[1]入力!E16 -> 0 | G26: =+[1]入力!F14 -> 0 | I26: =+F26*G26 -> 0
G27: =+[1]入力!F18 -> 0 | I27: =+F27*G27 -> 0
G28: =+[1]入力!F22 -> 0 | I28: =+F28*G28 -> 0
G29: =+[1]入力!F23 -> 0 | I29: =+F29*G29 -> 0
G30: =+[1]入力!F24 -> 0 | I30: =+F30*G30 -> 0
B31: 合 計 | I31: =SUM(I16:I30) -> 0
B32: 当社は、入札心得に定める暴力団排除に関する事項について誓約いたします。

Sheet 市価調査価格書（Aグループ） 
B2: 市場調査価格書 グループＡ
B4: 分任契約担当官 | F4: 令和 年 月 日
B5: 陸上自衛隊玖珠駐屯地
B6: 第４０４会計隊玖珠派遣隊長 雨宮 大樹 殿 | E6: 住 所
E8: 会 社 名
B10: ￥ | C10: =+I31 -> 0 | E10: 代表者名
B12: =[1]入力!H9 -> 納期： | C12: =[1]入力!I9 -> 46295
B13: =[1]入力!H11 -> 納地： | C13: =[1]入力!I11 -> 陸上自衛隊玖珠駐屯地
B14: 内 訳
B15: 品 名 | D15: 規 格 | E15: 単 位 | F15: 数量 | G15: 単 価 | I15: 金 額 | J15: 備 考
B16: =[1]入力!B6 -> スイッチングハブ | D16: =[1]入力!C6 -> ＥＡ７６４ＢＹ－１７１又は同等品以上のもの（他社製品を含む） | E16: =[1]入力!D6 -> EA | F16: =[1]入力!E6 -> 4
B17: =[1]入力!B7 -> モニターアーム | D17: =[1]入力!C7 -> ＥＡ７６４ＡＧ－２１又は同等品以上のもの（他社製品を含む） | E17: =[1]入力!D7 -> EA | F17: =[1]入力!E7 -> 4
B18: =[1]入力!B8 -> 液晶ディスプレイ | D18: =[1]入力!C8 -> ＥＡ７６４ＡＧ－１４３４Ａ又は同等品以上のもの（他社製品を含む） | E18: =[1]入力!D8 -> EA | F18: =[1]入力!E8 -> 4
B19: =[1]入力!B9 -> ポータブル電源 | D19: =[1]入力!C9 -> ＥＡ８１２ＨＢ－５４又は同等品以上のもの（他社製品を含む） | E19: =[1]入力!D9 -> EA | F19: =[1]入力!E9 -> 1
B20: =[1]入力!B10 -> デジタル一眼レフ カメラセット | D20: =[1]入力!C10 -> ＥＡ７５９ＧＡ－１７２Ｄ又は同等品以上のもの（他社製品を含む） | E20: =[1]入力!D10 -> ST | F20: =[1]入力!E10 -> 1
B21: =[1]入力!B11 -> 超硬チップソー | D21: =[1]入力!C11 -> ＥＡ８９８Ｂ－４４ 又は同等以上のもの（他社製品含む） | E21: =[1]入力!D11 -> SH | F21: =[1]入力!E11 -> 14
B22: =[1]入力!B12 -> 作業用靴 | D22: =[1]入力!C12 -> １９５－１７３４ ２７．５又は同等品以上のもの（他社製品を含む） | E22: =[1]入力!D12 -> EA | F22: =[1]入力!E12 -> 1
B23: =[1]入力!B13 -> 安全靴 | D23: =[1]入力!C13 -> ３６８－３１７６ ２７．５又は同等品以上のもの（他社製品を含む） | E23: =[1]入力!D13 -> EA | F23: =[1]入力!E13 -> 1
B24: =[1]入力!B14 -> 0 | D24: 以下余白 | E24: =[1]入力!D14 -> 0 | F24: =[1]入力!E14 -> 0
B25: =[1]入力!B15 -> 0 | D25: =[1]入力!C15 -> 0 | E25: =[1]入力!D15 -> 0 | F25: =[1]入力!E15 -> 0
B26: =[1]入力!B16 -> 0 | D26: =[1]入力!C16 -> 0 | E26: =[1]入力!D16 -> 0 | F26: =[1]入力!E16 -> 0
B27: =[1]入力!B17 -> 0 | D27: =[1]入力!C17 -> 0 | E27: =[1]入力!D17 -> 0 | F27: =[1]入力!E17 -> 0
B28: =[1]入力!B18 -> 0 | D28: =[1]入力!C18 -> 0 | E28: =[1]入力!D18 -> 0 | F28: =[1]入力!E18 -> 0
B29: =[1]入力!B19 -> 0
B30: =[1]入力!B20 -> 0
B31: 合 計 | I31: =SUM(I16:I30) -> 0

Sheet 入札書(Bグループ）
B2: 入札書 グループＢ
B4: 分任契約担当官 | F4: =[2]入力!I3 -> 46266
B5: 陸上自衛隊玖珠駐屯地
B6: 第４０４会計隊玖珠派遣隊長 雨宮 大樹 殿 | E6: 住 所
E8: 会 社 名
B10: ￥ | C10: =+I31 -> 0 | E10: 代表者名
B12: =[2]入力!H9 -> 納期： | C12: ='[2]市価 '!C12 -> 46295
B13: =[2]入力!H11 -> 納地： | C13: =[2]入力!I11 -> 陸上自衛隊玖珠駐屯地
B14: 内 訳
B15: 品 名 | D15: 規 格 | E15: 単 位 | F15: 数量 | G15: 単 価 | I15: 金 額 | J15: 備 考
B16: =[2]入力!B6 -> ソシアックαＳＣ－４０２ | D16: =[2]入力!C6 -> ４０７６２００１００又は同等以上のもの（他社製品を含む） | E16: =[2]入力!D6 -> EA | F16: =[2]入力!E6 -> 4
B17: =[2]入力!B7 -> 漏電ブレーカ | D17: =[2]入力!C7 -> パナソニック ＢＫＷＡ３１５３Ｃ又は同等品以上のもの（他社製品を含む） | E17: =[2]入力!D7 -> EA | F17: =[2]入力!E7 -> 7
B18: =[2]入力!B8 -> 漏電ブレーカ | D18: =[2]入力!C8 -> パナソニック ＢＫＷＡ２２０３Ｃ又は同等品以上のもの（他社製品を含む） | E18: =[2]入力!D8 -> EA | F18: =[2]入力!E8 -> 3
B19: =[2]入力!B9 -> パーソナルＰＨ計（ＰＨ７２－ ２１ＪＡＡ）用ＰＨ予備電極 | D19: =[2]入力!C9 -> ＰＨ７２ＳＮ－２１－ＡＡ（ＫＣＩ補給型）横河製 | E19: =[2]入力!D9 -> PC | F19: =[2]入力!E9 -> 1
B20: =[2]入力!B10 -> ＰＨ標準液 | D20: =[2]入力!C10 -> Ｋ９０８４ＫＧ（ＰＨ７）横河製 又は同等品以上のもの（他社製品を含む） | E20: =[2]入力!D10 -> PC | F20: =[2]入力!E10 -> 5
B21: =[2]入力!B11 -> 除湿機 | D21: =[2]入力!C11 -> ＳＫＪ－ＤＬ４２ＪＳＡ又は同等品以上のもの（他社製品含む） | E21: =[2]入力!D11 -> UN | F21: =[2]入力!E11 -> 1
B22: =[2]入力!B12 -> 0 | D22: 以下余白 | E22: =[2]入力!D12 -> 0 | F22: =[2]入力!E12 -> 0
B23: =[2]入力!B13 -> 0 | D23: =[2]入力!C13 -> 0 | E23: =[2]入力!D13 -> 0 | F23: =[2]入力!E13 -> 0 | G23: =+[2]入力!F11 -> 0 | I23: =+F23*G23 -> 0
B24: =[2]入力!B14 -> 0 | E24: =[2]入力!D14 -> 0 | F24: =[2]入力!E14 -> 0 | G24: =+[2]入力!F12 -> 0 | I24: =+F24*G24 -> 0
B25: =[2]入力!B15 -> 0 | D25: =[2]入力!C15 -> 0 | E25: =[2]入力!D15 -> 0 | F25: =[2]入力!E15 -> 0 | G25: =+[2]入力!F13 -> 0 | I25: =+F25*G25 -> 0
B26: =[2]入力!B16 -> 0 | D26: =[2]入力!C16 -> 0 | E26: =[2]入力!D16 -> 0 | F26: =[2]入力!E16 -> 0 | G26: =+[2]入力!F14 -> 0 | I26: =+F26*G26 -> 0
G27: =+[2]入力!F18 -> 0 | I27: =+F27*G27 -> 0
G28: =+[2]入力!F22 -> 0 | I28: =+F28*G28 -> 0
G29: =+[2]入力!F23 -> 0 | I29: =+F29*G29 -> 0
G30: =+[2]入力!F24 -> 0 | I30: =+F30*G30 -> 0
B31: 合 計 | I31: =SUM(I16:I30) -> 0
B32: 当社は、入札心得に定める暴力団排除に関する事項について誓約いたします。

Sheet 市価調査価格書（Bグループ） 
B2: 市場調査価格書 グループＢ
B4: 分任契約担当官 | F4: 令和 年 月 日
B5: 陸上自衛隊玖珠駐屯地
B6: 第４０４会計隊玖珠派遣隊長 雨宮 大樹 殿 | E6: 住 所
E8: 会 社 名
B10: ￥ | C10: =+I31 -> 0 | E10: 代表者名
B12: =[2]入力!H9 -> 納期： | C12: =[2]入力!I9 -> 46295
B13: =[2]入力!H11 -> 納地： | C13: =[2]入力!I11 -> 陸上自衛隊玖珠駐屯地
B14: 内 訳
B15: 品 名 | D15: 規 格 | E15: 単 位 | F15: 数量 | G15: 単 価 | I15: 金 額 | J15: 備 考
B16: =[2]入力!B6 -> ソシアックαＳＣ－４０２ | D16: =[2]入力!C6 -> ４０７６２００１００又は同等以上のもの（他社製品を含む） | E16: =[2]入力!D6 -> EA | F16: =[2]入力!E6 -> 4
B17: =[2]入力!B7 -> 漏電ブレーカ | D17: =[2]入力!C7 -> パナソニック ＢＫＷＡ３１５３Ｃ又は同等品以上のもの（他社製品を含む） | E17: =[2]入力!D7 -> EA | F17: =[2]入力!E7 -> 7
B18: =[2]入力!B8 -> 漏電ブレーカ | D18: =[2]入力!C8 -> パナソニック ＢＫＷＡ２２０３Ｃ又は同等品以上のもの（他社製品を含む） | E18: =[2]入力!D8 -> EA | F18: =[2]入力!E8 -> 3
B19: =[2]入力!B9 -> パーソナルＰＨ計（ＰＨ７２－ ２１ＪＡＡ）用ＰＨ予備電極 | D19: =[2]入力!C9 -> ＰＨ７２ＳＮ－２１－ＡＡ（ＫＣＩ補給型）横河製 | E19: =[2]入力!D9 -> PC | F19: =[2]入力!E9 -> 1
B20: =[2]入力!B10 -> ＰＨ標準液 | D20: =[2]入力!C10 -> Ｋ９０８４ＫＧ（ＰＨ７）横河製 又は同等品以上のもの（他社製品を含む） | E20: =[2]入力!D10 -> PC | F20: =[2]入力!E10 -> 5
B21: =[2]入力!B11 -> 除湿機 | D21: =[2]入力!C11 -> ＳＫＪ－ＤＬ４２ＪＳＡ又は同等品以上のもの（他社製品含む） | E21: =[2]入力!D11 -> UN | F21: =[2]入力!E11 -> 1
B22: =[2]入力!B12 -> 0 | D22: 以下余白 | E22: =[2]入力!D12 -> 0 | F22: =[2]入力!E12 -> 0
B23: =[2]入力!B13 -> 0 | D23: =[2]入力!C13 -> 0 | E23: =[2]入力!D13 -> 0 | F23: =[2]入力!E13 -> 0
B24: =[2]入力!B14 -> 0 | E24: =[2]入力!D14 -> 0 | F24: =[2]入力!E14 -> 0
B25: =[2]入力!B15 -> 0 | D25: =[2]入力!C15 -> 0 | E25: =[2]入力!D15 -> 0 | F25: =[2]入力!E15 -> 0
B26: =[2]入力!B16 -> 0 | D26: =[2]入力!C16 -> 0 | E26: =[2]入力!D16 -> 0 | F26: =[2]入力!E16 -> 0
B27: =[2]入力!B17 -> 0 | D27: =[2]入力!C17 -> 0 | E27: =[2]入力!D17 -> 0 | F27: =[2]入力!E17 -> 0
B28: =[2]入力!B18 -> 0 | D28: =[2]入力!C18 -> 0 | E28: =[2]入力!D18 -> 0 | F28: =[2]入力!E18 -> 0
B29: =[2]入力!B19 -> 0
B30: =[2]入力!B20 -> 0
B31: 合 計 | I31: =SUM(I16:I30) -> 0

Sheet 入札書(Cグループ）表紙
B2: 入札書 グループＣ
B4: 分任契約担当官 | F4: =[3]入力!I3 -> 46266
B5: 陸上自衛隊玖珠駐屯地
B6: =[3]市価表紙!B6 -> 第４０４会計隊玖珠派遣隊長 雨宮 大樹 殿 | E6: 住 所
E8: 会 社 名
B10: ￥ | C10: =+I31 -> 0 | E10: 代表者名
B12: =[3]入力!H9 -> 納期： | C12: =[3]入力!I9 -> 46295
B13: =[3]入力!H11 -> 納地： | C13: =[3]入力!I11 -> 陸上自衛隊玖珠駐屯地
B14: 内 訳
B15: 品 名 | D15: 規 格 | E15: 単 位 | F15: 数 量 | G15: 単 価 | I15: 金 額 | J15: 備 考
B16: かる～いホンほか８４件 | D16: 内訳書のとおり
D17: 以下余白
G23: =+[3]入力!F11 -> 0 | I23: =+F23*G23 -> 0
G24: =+[3]入力!F12 -> 0 | I24: =+F24*G24 -> 0
G25: =+[3]入力!F13 -> 0 | I25: =+F25*G25 -> 0
G26: =+[3]入力!F14 -> 0 | I26: =+F26*G26 -> 0
G27: =+[3]入力!F18 -> 0 | I27: =+F27*G27 -> 0
G28: =+[3]入力!F22 -> 0 | I28: =+F28*G28 -> 0
G29: =+[3]入力!F23 -> 0 | I29: =+F29*G29 -> 0
G30: =+[3]入力!F24 -> 0 | I30: =+F30*G30 -> 0
B31: 合 計 | I31: =SUM(I16:I30) -> 0
B32: 当社は、入札心得に定める暴力団排除に関する事項について誓約いたします。

Sheet 入札書(Cグループ）内訳書
A1: 内 訳 書
A3: 連番 | B3: 品 名 | D3: 規 格 | E3: 単 位 | F3: 数 量 | G3: 単 価 | I3: 金 額 | J3: 備 考
A4: 1 | B4: =[3]入力!B6 -> かる～いホン | D4: =[3]入力!C6 -> ＴＤ－５０１Ｇ又は同等品以上のもの（他社製品を含む。） | E4: =[3]入力!D6 -> UN | F4: =[3]入力!E6 -> 1 | I4: =F4*G4 -> 0
A5: 2 | B5: =[3]入力!B7 -> パワフルネーム | D5: =[3]入力!C7 -> ＰＮＡ－１５５Ｔ１Ｐ又は同等品以上のもの（他社製品を含む。） | E5: =[3]入力!D7 -> CA | F5: =[3]入力!E7 -> 1 | I5: =F5*G5 -> 0
A6: 3 | B6: =[3]入力!B8 -> ホワイトボードマーカー細字 | D6: =[3]入力!C8 -> Ｈ００７Ｊ－④ー１０Ｐ又は同等品以上のもの（他社製品を含む。） | E6: =[3]入力!D8 -> CA | F6: =[3]入力!E8 -> 3 | I6: =F6*G6 -> 0
A7: 4 | B7: =[3]入力!B9 -> ホワイトボードマーカー細字 | D7: =[3]入力!C9 -> Ｈ００７Ｊ－⑤ー１０Ｐ又は同等品以上のもの（他社製品を含む。） | E7: =[3]入力!D9 -> CA | F7: =[3]入力!E9 -> 2 | I7: =F7*G7 -> 0
A8: 5 | B8: =[3]入力!B10 -> ホワイトボードマーカー細字 | D8: =[3]入力!C10 -> Ｈ００７Ｊ－⑥ー１０Ｐ又は同等品以上のもの（他社製品を含む。） | E8: =[3]入力!D10 -> CA | F8: =[3]入力!E10 -> 2 | I8: =F8*G8 -> 0
A9: 6 | B9: =[3]入力!B11 -> 防錆潤滑剤 | D9: =[3]入力!C11 -> ＥＡ９２０Ａ－１３ 又は同等以上のもの（他社製品含む） | E9: =[3]入力!D11 -> EA | F9: =[3]入力!E11 -> 6 | I9: =F9*G9 -> 0
A10: 7 | B10: =[3]入力!B12 -> ＫＵＲＥ５－５６ | D10: =[3]入力!C12 -> ＥＡ９２０Ａ－２０Ａ 又は同等以上のもの（他社製品含む） | E10: =[3]入力!D12 -> ST | F10: =[3]入力!E12 -> 3 | I10: =F10*G10 -> 0
A11: 8 | B11: =[3]入力!B13 -> ウレアグリーススプレー | D11: =[3]入力!C13 -> ＥＡ９２０ＡＥ－７ 又は同等以上のもの（他社製品含む） | E11: =[3]入力!D13 -> EA | F11: =[3]入力!E13 -> 3 | I11: =F11*G11 -> 0
A12: 9 | B12: =[3]入力!B14 -> 錆取り剤 | D12: =[3]入力!C14 -> ＥＡ９２０ＡＪ－５２ 又は同等以上のもの（他社製品含む） | E12: =[3]入力!D14 -> EA | F12: =[3]入力!E14 -> 3 | I12: =F12*G12 -> 0
A13: 10 | B13: =[3]入力!B15 -> チェーンソーオイル | D13: =[3]入力!C15 -> ＥＡ９２０ＡＫ－８ 又は同等以上のもの（他社製品含む） | E13: =[3]入力!D15 -> EA | F13: =[3]入力!E15 -> 10 | I13: =F13*G13 -> 0
A14: 11 | B14: =[3]入力!B16 -> ２サイクルエンジンオイル | D14: =[3]入力!C16 -> ＥＡ９２０ＡＫ－２９ 又は同等以上のもの（他社製品含む） | E14: =[3]入力!D16 -> EA | F14: =[3]入力!E16 -> 22 | I14: =F14*G14 -> 0
A15: 12 | B15: =[3]入力!B17 -> タービンオイル | D15: =[3]入力!C17 -> ＥＡ９２０ＡＭ－１ 又は同等以上のもの（他社製品含む） | E15: =[3]入力!D17 -> EA | F15: =[3]入力!E17 -> 2 | I15: =F15*G15 -> 0
... A23: 20 | B23: =[3]入力!B25 -> 電子機器クリーナー | D23: =[3]入力!C25 -> ＥＡ９２１Ａ－１ 又は同等以上のもの（他社製品含む） | E23: =[3]入力!D25 -> EA | F23: =[3]入力!E25 -> 4 | I23: =F23*G23 -> 0
B24: 小 計 | I24: =SUM(I4:I23) -> 0
A25: 内 訳 書
A27: 連番 | B27: 品 名 | D27: 規 格 | E27: 単 位 | F27: 数 量 | G27: 単 価 | I27: 金 額 | J27: 備 考
A28: 21 | B28: =[3]入力!B26 -> ガラスコーティング剤 | D28: =[3]入力!C26 -> ＥＡ９２２ＡＢ－２６ 又は同等以上のもの（他社製品含む） | E28: =[3]入力!D26 -> EA | F28: =[3]入力!E26 -> 2 | I28: =+F28*G28 -> 0
A29: 22 | B29: =[3]入力!B27 -> タイヤ＆レザーワックス | D29: =[3]入力!C27 -> ＥＡ９２２ＡＢ－３４ＢＡ 又は同等以上のもの（他社製品含む） | E29: =[3]入力!D27 -> EA | F29: =[3]入力!E27 -> 8 | I29: =+F29*G29 -> 0
A30: 23 | B30: =[3]入力!B28 -> タイヤつや出しクリーナー | D30: =[3]入力!C28 -> ＥＡ９２２ＡＢ－６４ 又は同等以上のもの（他社製品含む） | E30: =[3]入力!D28 -> EA | F30: =[3]入力!E28 -> 5 | I30: =+F30*G30 -> 0
A31: 24 | B31: =[3]入力!B29 -> エンジンフュ－エルクリ－ナ－ | D31: =[3]入力!C29 -> ＥＡ９２２ＡＥ－１ 又は同等以上のもの（他社製品含む） | E31: =[3]入力!D29 -> EA | F31: =[3]入力!E29 -> 2 | I31: =+F31*G31 -> 0
A32: 25 | B32: =[3]入力!B30 -> エンジンフュ－エルクリ－ナ－ | D32: =[3]入力!C30 -> ＥＡ９２２ＡＥ－２ 又は同等以上のもの（他社製品含む） | E32: =[3]入力!D30 -> EA | F32: =[3]入力!E30 -> 5 | I32: =+F32*G32 -> 0
A33: 26 | B33: =[3]入力!B31 -> 水抜き剤 | D33: =[3]入力!C31 -> ＥＡ９２２ＡＥ－５ 又は同等以上のもの（他社製品含む） | E33: =[3]入力!D31 -> EA | F33: =[3]入力!E31 -> 4 | I33: =+F33*G33 -> 0
A34: 27 | B34: =[3]入力!B32 -> 水抜き剤 | D34: =[3]入力!C32 -> ＥＡ９２２ＡＥ－５１ 又は同等以上のもの（他社製品含む） | E34: =[3]入力!D32 -> EA | F34: =[3]入力!E32 -> 20 | I34: =+F34*G34 -> 0
A35: 28 | B35: =[3]入力!B33 -> コンパウンド | D35: =[3]入力!C33 -> ＥＡ９２２ＡＪ－１１０ 又は同等以上のもの（他社製品含む） | E35: =[3]入力!D33 -> EA | F35: =[3]入力!E33 -> 3 | I35: =+F35*G35 -> 0
A36: 29 | B36: =[3]入力!B34 -> カーワックス | D36: =[3]入力!C34 -> ＥＡ９２２ＪＫ－１０ 又は同等以上のもの（他社製品含む） | E36: =[3]入力!D34 -> EA | F36: =[3]入力!E34 -> 2 | I36: =+F36*G36 -> 0
A37: 30 | B37: =[3]入力!B35 -> ねじゆるみ止め剤 | D37: =[3]入力!C35 -> ＥＡ９３３ＡＣ－５ 又は同等以上のもの（他社製品含む） | E37: =[3]入力!D35 -> EA | F37: =[3]入力!E35 -> 4 | I37: =+F37*G37 -> 0
A38: 31 | B38: =[3]入力!B36 -> ねじゆるみ止め剤 | D38: =[3]入力!C36 -> ＥＡ９３３ＡＣ－１５ 又は同等以上のもの（他社製品含む） | E38: =[3]入力!D36 -> EA | F38: =[3]入力!E36 -> 4 | I38: =+F38*G38 -> 0
A39: 32 | B39: =[3]入力!B37 -> リペアースティック | D39: =[3]入力!C37 -> ＥＡ９３４ＷＡ－３ 又は同等以上のもの（他社製品含む） | E39: =[3]入力!D37 -> EA | F39: =[3]入力!E37 -> 1 | I39: =+F39*G39 -> 0
... A47: 40 | B47: =[3]入力!B45 -> シリコングリス | D47: =[3]入力!C45 -> ２７５－１４５３ 又は同等以上のもの（他社製品含む） | E47: =[3]入力!D45 -> EA | F47: =[3]入力!E45 -> 3 | I47: =+F47*G47 -> 0
B48: 小計 | I48: =SUM(I28:I47) -> 0
A49: 内 訳 書
A51: 連番 | B51: 品 名 | D51: 規 格 | E51: 単 位 | F51: 数 量 | G51: 単 価 | I51: 金 額 | J51: 備 考
A52: 41 | B52: =[3]入力!B46 -> 接点復活スプレー | D52: =[3]入力!C46 -> ２９０－１５０１ 又は同等以上のもの（他社製品含む） | E52: =[3]入力!D46 -> EA | F52: =[3]入力!E46 -> 19 | I52: =+F52*G52 -> 0
A53: 42 | B53: =[3]入力!B47 -> エポキシパテ水中用 | D53: =[3]入力!C47 -> ３２２－８９０２ 又は同等以上のもの（他社製品含む） | E53: =[3]入力!D47 -> EA | F53: =[3]入力!E47 -> 5 | I53: =+F53*G53 -> 0
A54: 43 | B54: =[3]入力!B48 -> リチウムグリス | D54: =[3]入力!C48 -> ３６１－０３１４ 又は同等以上のもの（他社製品含む） | E54: =[3]入力!D48 -> EA | F54: =[3]入力!E48 -> 3 | I54: =+F54*G54 -> 0
A55: 44 | B55: =[3]入力!B49 -> ガラスクリーナー | D55: =[3]入力!C49 -> ３６９－２２１６ 又は同等以上のもの（他社製品含む） | E55: =[3]入力!D49 -> EA | F55: =[3]入力!E49 -> 10 | I55: =+F55*G55 -> 0
A56: 45 | B56: =[3]入力!B50 -> ミシンオイル | D56: =[3]入力!C50 -> ３９０－９７６０ 又は同等以上のもの（他社製品含む） | E56: =[3]入力!D50 -> EA | F56: =[3]入力!E50 -> 1 | I56: =+F56*G56 -> 0
A57: 46 | B57: =[3]入力!B51 -> パーマフューチャー | D57: =[3]入力!C51 -> ４４８－０２４４ 又は同等以上のもの（他社製品含む） | E57: =[3]入力!D51 -> EA | F57: =[3]入力!E51 -> 2 | I57: =+F57*G57 -> 0
A58: 47 | B58: =[3]入力!B52 -> ４サイクルエンジンオイル | D58: =[3]入力!C52 -> ４７３－６４４３ 又は同等以上のもの（他社製品含む） | E58: =[3]入力!D52 -> EA | F58: =[3]入力!E52 -> 16 | I58: =+F58*G58 -> 0
A59: 48 | B59: =[3]入力!B53 -> タッチアップペン | D59: =[3]入力!C53 -> ４７５－７５６４ 又は同等以上のもの（他社製品含む） | E59: =[3]入力!D53 -> EA | F59: =[3]入力!E53 -> 4 | I59: =+F59*G59 -> 0
A60: 49 | B60: =[3]入力!B54 -> グリーススプレー | D60: =[3]入力!C54 -> ４７９－３８６２ 又は同等以上のもの（他社製品含む） | E60: =[3]入力!D54 -> EA | F60: =[3]入力!E54 -> 5 | I60: =+F60*G60 -> 0
A61: 50 | B61: =[3]入力!B55 -> ＬＰＳ２ | D61: =[3]入力!C55 -> ４７９－４２２２ 又は同等以上のもの（他社製品含む） | E61: =[3]入力!D55 -> EA | F61: =[3]入力!E55 -> 3 | I61: =+F61*G61 -> 0
A62: 51 | B62: =[3]入力!B56 -> 塗装用ガン洗浄剤 | D62: =[3]入力!C56 -> ４８３－６８１２ 又は同等以上のもの（他社製品含む） | E62: =[3]入力!D56 -> CN | F62: =[3]入力!E56 -> 3 | I62: =+F62*G62 -> 0
A63: 52 | B63: =[3]入力!B57 -> コンパウンド | D63: =[3]入力!C57 -> ４９１－７３０８ 又は同等以上のもの（他社製品含む） | E63: =[3]入力!D57 -> EA | F63: =[3]入力!E57 -> 3 | I63: =+F63*G63 -> 0
... A71: 60 | B71: =[3]入力!B65 -> 油汚れ用洗浄剤 | D71: =[3]入力!C65 -> ＥＡ９２２ＡＪ－１６８ 同等以上のもの（他社製品含む） | E71: =[3]入力!D65 -> EA | F71: =[3]入力!E65 -> 1 | I71: =+F71*G71 -> 0
B72: 小計 | I72: =SUM(I52:I71) -> 0
A73: 内 訳 書
A75: 連番 | B75: 品 名 | D75: 規 格 | E75: 単 位 | F75: 数 量 | G75: 単 価 | I75: 金 額 | J75: 備 考
A76: 61 | B76: =[3]入力!B66 -> ベルト鳴き止めスプレー | D76: =[3]入力!C66 -> ８１８－６５３８ 又は同等以上のもの（他社製品含む） | E76: =[3]入力!D66 -> EA | F76: =[3]入力!E66 -> 1 | I76: =+F76*G76 -> 0
A77: 62 | B77: =[3]入力!B67 -> ［油性］耐熱塗料（つや消し黒） | D77: =[3]入力!C67 -> ＥＡ９４２ＡＢ－２ 又は同等以上のもの（他社製品含む） | E77: =[3]入力!D67 -> EA | F77: =[3]入力!E67 -> 6 | I77: =+F77*G77 -> 0
A78: 63 | B78: =[3]入力!B68 -> マーキングスプレー | D78: =[3]入力!C68 -> ＥＡ９４２ＥＨ－１３１Ａ 又は同等以上のもの（他社製品含む） | E78: =[3]入力!D68 -> EA | F78: =[3]入力!E68 -> 1 | I78: =+F78*G78 -> 0
A79: 64 | B79: =[3]入力!B69 -> マーキングスプレー | D79: =[3]入力!C69 -> ＥＡ９４２ＥＨ－１３２Ａ 又は同等以上のもの（他社製品含む） | E79: =[3]入力!D69 -> EA | F79: =[3]入力!E69 -> 1 | I79: =+F79*G79 -> 0
A80: 65 | B80: =[3]入力!B70 -> ラッカースプレー（白） | D80: =[3]入力!C70 -> ＥＡ９４２ＥＭ－１ 又は同等以上のもの（他社製品含む） | E80: =[3]入力!D70 -> EA | F80: =[3]入力!E70 -> 24 | I80: =+F80*G80 -> 0
A81: 66 | B81: =[3]入力!B71 -> ラッカースプレー（黒） | D81: =[3]入力!C71 -> ＥＡ９４２ＥＭ－３ 又は同等以上のもの（他社製品含む） | E81: =[3]入力!D71 -> EA | F81: =[3]入力!E71 -> 42 | I81: =+F81*G81 -> 0
A82: 67 | B82: =[3]入力!B72 -> ラッカースプレー（つや消し黒） | D82: =[3]入力!C72 -> ＥＡ９４２ＥＭ－３Ｂ 又は同等以上のもの（他社製品含む） | E82: =[3]入力!D72 -> EA | F82: =[3]入力!E72 -> 5 | I82: =+F82*G82 -> 0
A83: 68 | B83: =[3]入力!B73 -> ［油性］エナメルスプレー（黒） | D83: =[3]入力!C73 -> ＥＡ９４２ＥＭ－２３ 又は同等以上のもの（他社製品含む） | E83: =[3]入力!D73 -> EA | F83: =[3]入力!E73 -> 44 | I83: =+F83*G83 -> 0
A84: 69 | B84: =[3]入力!B74 -> ［油性］エナメルスプレー（青） | D84: =[3]入力!C74 -> ＥＡ９４２ＥＭ－２６ 又は同等以上のもの（他社製品含む） | E84: =[3]入力!D74 -> EA | F84: =[3]入力!E74 -> 15 | I84: =+F84*G84 -> 0
A85: 70 | B85: =[3]入力!B75 -> ［ＯＤ色］エナメルスプレー（つや無し） | D85: =[3]入力!C75 -> ＥＡ９４２ＥＭ－３３ 又は同等以上のもの（他社製品含む） | E85: =[3]入力!D75 -> EA | F85: =[3]入力!E75 -> 10 | I85: =+F85*G85 -> 0
A86: 71 | B86: =[3]入力!B76 -> ［ＯＤ色］エナメルスプレー（３分つや） | D86: =[3]入力!C76 -> ＥＡ９４２ＥＭ－３６ 又は同等以上のもの（他社製品含む） | E86: =[3]入力!D76 -> EA | F86: =[3]入力!E76 -> 10 | I86: =+F86*G86 -> 0
A87: 72 | B87: =[3]入力!B77 -> ［油性］耐熱スプレー（銀） | D87: =[3]入力!C77 -> ＥＡ９４２ＥＭ－７２ 又は同等以上のもの（他社製品含む） | E87: =[3]入力!D77 -> EA | F87: =[3]入力!E77 -> 15 | I87: =+F87*G87 -> 0
... A95: 80 | B95: =[3]入力!B85 -> シャーシーコート | D95: =[3]入力!C85 -> ３７５－６４５９ 又は同等以上のもの（他社製品含む） | E95: =[3]入力!D85 -> EA | F95: =[3]入力!E85 -> 46 | I95: =+F95*G95 -> 0
B96: 小計 | I96: =SUM(I76:I95) -> 0
A97: 内 訳 書
A99: 連番 | B99: 品 名 | D99: 規 格 | E99: 単 位 | F99: 数 量 | G99: 単 価 | I99: 金 額 | J99: 備 考
A100: 81 | B100: =[3]入力!B86 -> クリヤーブック | D100: =[3]入力!C86 -> ６６１８－７３７０ Ａ３ヨコ又は同等品以上のもの（他社製品を含む） | E100: =[3]入力!D86 -> EA | F100: =[3]入力!E86 -> 4 | I100: =+F100*G100 -> 0
A101: 82 | B101: =[3]入力!B87 -> ゼムクリップ小 | D101: =[3]入力!C87 -> ２０２６－８５４１ １０００本入又は同等品以上のもの（他社製品を含む） | E101: =[3]入力!D87 -> CA | F101: =[3]入力!E87 -> 1 | I101: =+F101*G101 -> 0
A102: 83 | B102: =[3]入力!B88 -> ポップアップノート ディスペンサーセット | D102: =[3]入力!C88 -> ６１８９－４５８７ 又は同等品以上のもの（他社製品を含む） | E102: =[3]入力!D88 -> ST | F102: =[3]入力!E88 -> 2 | I102: =+F102*G102 -> 0
A103: 84 | B103: =[3]入力!B89 -> ポップアップノート 詰替えパッド | D103: =[3]入力!C89 -> ６２７２－６０２３ 又は同等品以上のもの（他社製品を含む） | E103: =[3]入力!D89 -> CA | F103: =[3]入力!E89 -> 1 | I103: =+F103*G103 -> 0
A104: 85 | B104: =[3]入力!B90 -> 強粘着ポップアップ詰替用 | D104: =[3]入力!C90 -> ６４７１－６７４９ ４色混色又は同等品以上のもの（他社製品を含む） | E104: =[3]入力!D90 -> CA | F104: =[3]入力!E90 -> 1 | I104: =+F104*G104 -> 0
B105: =[3]入力!B91 -> 0 | D105: 以下余白 | E105: =[3]入力!D91 -> 0 | F105: =[3]入力!E91 -> 0 | I105: =+F105*G105 -> 0
B106: =[3]入力!B92 -> 0 | D106: =[3]入力!C92 -> 0 | E106: =[3]入力!D92 -> 0 | F106: =[3]入力!E92 -> 0 | I106: =+F106*G106 -> 0
B107: =[3]入力!B93 -> 0 | D107: =[3]入力!C93 -> 0 | E107: =[3]入力!D93 -> 0 | F107: =[3]入力!E93 -> 0 | I107: =+F107*G107 -> 0
B108: =[3]入力!B94 -> 0 | D108: =[3]入力!C94 -> 0 | E108: =[3]入力!D94 -> 0 | F108: =[3]入力!E94 -> 0 | I108: =+F108*G108 -> 0
B109: =[3]入力!B95 -> 0 | D109: =[3]入力!C95 -> 0 | E109: =[3]入力!D95 -> 0 | F109: =[3]入力!E95 -> 0 | I109: =+F109*G109 -> 0
B110: =[3]入力!B96 -> 0 | D110: =[3]入力!C96 -> 0 | E110: =[3]入力!D96 -> 0 | F110: =[3]入力!E96 -> 0 | I110: =+F110*G110 -> 0
B111: =[3]入力!B97 -> 0 | E111: =[3]入力!D97 -> 0 | F111: =[3]入力!E97 -> 0
B112: =[3]入力!B98 -> 0 | D112: =[3]入力!C98 -> 0 | E112: =[3]入力!D98 -> 0 | F112: =[3]入力!E98 -> 0
B113: =[3]入力!B99 -> 0 | D113: =[3]入力!C99 -> 0 | E113: =[3]入力!D99 -> 0 | F113: =[3]入力!E99 -> 0
B114: =[3]入力!B100 -> 0 | D114: =[3]入力!C100 -> 0 | E114: =[3]入力!D100 -> 0 | F114: =[3]入力!E100 -> 0
B115: =[3]入力!B103 -> 0 | D115: =[3]入力!C103 -> 0 | E115: =[3]入力!D103 -> 0 | F115: =[3]入力!E103 -> 0 | G115: =+[3]入力!F106 -> 0 | I115: =+F115*G115 -> 0
B116: =[3]入力!B104 -> 0 | D116: =[3]入力!C104 -> 0 | E116: =[3]入力!D104 -> 0 | F116: =[3]入力!E104 -> 0 | G116: =+[3]入力!F110 -> 0 | I116: =+F116*G116 -> 0
B117: 小 計 | D117: =[3]入力!C105 -> 0 | E117: =[3]入力!D105 -> 0 | F117: =[3]入力!E105 -> 0 | G117: =+[3]入力!F111 -> 0 | I117: =+F117*G117 -> 0
B118: 合 計 | I118: =SUM(I100:I117) -> 0

Sheet 市価調査価格書（Cグループ） 表紙
B2: 市場調査価格書 グループＣ
B4: 分任契約担当官 | F4: 令和 年 月 日
B5: 陸上自衛隊玖珠駐屯地
B6: 第４０４会計隊玖珠派遣隊長 雨宮 大樹 殿 | E6: 住 所
E8: 会 社 名
B10: ￥ | C10: =+I31 -> 0 | E10: 代表者名
B12: =[3]入力!H9 -> 納期： | C12: =[3]入力!I9 -> 46295
B13: =[3]入力!H11 -> 納地： | C13: =[3]入力!I11 -> 陸上自衛隊玖珠駐屯地
B14: 内 訳
B15: 品 名 | D15: 規 格 | E15: 単 位 | F15: 数 量 | G15: 単 価 | I15: 金 額 | J15: 備 考
B16: かる～いホンほか８４件 | D16: 内訳書のとおり
D17: 以下余白
G23: =+[3]入力!F11 -> 0 | I23: =+F23*G23 -> 0
G24: =+[3]入力!F12 -> 0 | I24: =+F24*G24 -> 0
G25: =+[3]入力!F13 -> 0 | I25: =+F25*G25 -> 0
G26: =+[3]入力!F14 -> 0 | I26: =+F26*G26 -> 0
G27: =+[3]入力!F18 -> 0 | I27: =+F27*G27 -> 0
G28: =+[3]入力!F22 -> 0 | I28: =+F28*G28 -> 0
G29: =+[3]入力!F23 -> 0 | I29: =+F29*G29 -> 0
G30: =+[3]入力!F24 -> 0 | I30: =+F30*G30 -> 0
B31: 合 計 | I31: =SUM(I16:I30) -> 0

Sheet 市価調査価格書（Cグループ） 内訳書
A1: 内 訳 書
A3: 連番 | B3: 品 名 | D3: 規 格 | E3: 単 位 | F3: 数 量 | G3: 単 価 | I3: 金 額 | J3: 備 考
A4: 1 | B4: =[3]入力!B6 -> かる～いホン | D4: =[3]入力!C6 -> ＴＤ－５０１Ｇ又は同等品以上のもの（他社製品を含む。） | E4: =[3]入力!D6 -> UN | F4: =[3]入力!E6 -> 1
A5: 2 | B5: =[3]入力!B7 -> パワフルネーム | D5: =[3]入力!C7 -> ＰＮＡ－１５５Ｔ１Ｐ又は同等品以上のもの（他社製品を含む。） | E5: =[3]入力!D7 -> CA | F5: =[3]入力!E7 -> 1
A6: 3 | B6: =[3]入力!B8 -> ホワイトボードマーカー細字 | D6: =[3]入力!C8 -> Ｈ００７Ｊ－④ー１０Ｐ又は同等品以上のもの（他社製品を含む。） | E6: =[3]入力!D8 -> CA | F6: =[3]入力!E8 -> 3
A7: 4 | B7: =[3]入力!B9 -> ホワイトボードマーカー細字 | D7: =[3]入力!C9 -> Ｈ００７Ｊ－⑤ー１０Ｐ又は同等品以上のもの（他社製品を含む。） | E7: =[3]入力!D9 -> CA | F7: =[3]入力!E9 -> 2
A8: 5 | B8: =[3]入力!B10 -> ホワイトボードマーカー細字 | D8: =[3]入力!C10 -> Ｈ００７Ｊ－⑥ー１０Ｐ又は同等品以上のもの（他社製品を含む。） | E8: =[3]入力!D10 -> CA | F8: =[3]入力!E10 -> 2
A9: 6 | B9: =[3]入力!B11 -> 防錆潤滑剤 | D9: =[3]入力!C11 -> ＥＡ９２０Ａ－１３ 又は同等以上のもの（他社製品含む） | E9: =[3]入力!D11 -> EA | F9: =[3]入力!E11 -> 6
A10: 7 | B10: =[3]入力!B12 -> ＫＵＲＥ５－５６ | D10: =[3]入力!C12 -> ＥＡ９２０Ａ－２０Ａ 又は同等以上のもの（他社製品含む） | E10: =[3]入力!D12 -> ST | F10: =[3]入力!E12 -> 3
A11: 8 | B11: =[3]入力!B13 -> ウレアグリーススプレー | D11: =[3]入力!C13 -> ＥＡ９２０ＡＥ－７ 又は同等以上のもの（他社製品含む） | E11: =[3]入力!D13 -> EA | F11: =[3]入力!E13 -> 3
A12: 9 | B12: =[3]入力!B14 -> 錆取り剤 | D12: =[3]入力!C14 -> ＥＡ９２０ＡＪ－５２ 又は同等以上のもの（他社製品含む） | E12: =[3]入力!D14 -> EA | F12: =[3]入力!E14 -> 3
A13: 10 | B13: =[3]入力!B15 -> チェーンソーオイル | D13: =[3]入力!C15 -> ＥＡ９２０ＡＫ－８ 又は同等以上のもの（他社製品含む） | E13: =[3]入力!D15 -> EA | F13: =[3]入力!E15 -> 10
A14: 11 | B14: =[3]入力!B16 -> ２サイクルエンジンオイル | D14: =[3]入力!C16 -> ＥＡ９２０ＡＫ－２９ 又は同等以上のもの（他社製品含む） | E14: =[3]入力!D16 -> EA | F14: =[3]入力!E16 -> 22
A15: 12 | B15: =[3]入力!B17 -> タービンオイル | D15: =[3]入力!C17 -> ＥＡ９２０ＡＭ－１ 又は同等以上のもの（他社製品含む） | E15: =[3]入力!D17 -> EA | F15: =[3]入力!E17 -> 2
... A23: 20 | B23: =[3]入力!B25 -> 電子機器クリーナー | D23: =[3]入力!C25 -> ＥＡ９２１Ａ－１ 又は同等以上のもの（他社製品含む） | E23: =[3]入力!D25 -> EA | F23: =[3]入力!E25 -> 4
B24: 小 計 | I24: =SUM(I4:I23) -> 0
A25: 内 訳 書
A27: 連番 | B27: 品 名 | D27: 規 格 | E27: 単位 | F27: 数量 | G27: 単 価 | I27: 金 額 | J27: 備 考
A28: 21 | B28: =[3]入力!B26 -> ガラスコーティング剤 | D28: =[3]入力!C26 -> ＥＡ９２２ＡＢ－２６ 又は同等以上のもの（他社製品含む） | E28: =[3]入力!D26 -> EA | F28: =[3]入力!E26 -> 2
A29: 22 | B29: =[3]入力!B27 -> タイヤ＆レザーワックス | D29: =[3]入力!C27 -> ＥＡ９２２ＡＢ－３４ＢＡ 又は同等以上のもの（他社製品含む） | E29: =[3]入力!D27 -> EA | F29: =[3]入力!E27 -> 8
A30: 23 | B30: =[3]入力!B28 -> タイヤつや出しクリーナー | D30: =[3]入力!C28 -> ＥＡ９２２ＡＢ－６４ 又は同等以上のもの（他社製品含む） | E30: =[3]入力!D28 -> EA | F30: =[3]入力!E28 -> 5
A31: 24 | B31: =[3]入力!B29 -> エンジンフュ－エルクリ－ナ－ | D31: =[3]入力!C29 -> ＥＡ９２２ＡＥ－１ 又は同等以上のもの（他社製品含む） | E31: =[3]入力!D29 -> EA | F31: =[3]入力!E29 -> 2
A32: 25 | B32: =[3]入力!B30 -> エンジンフュ－エルクリ－ナ－ | D32: =[3]入力!C30 -> ＥＡ９２２ＡＥ－２ 又は同等以上のもの（他社製品含む） | E32: =[3]入力!D30 -> EA | F32: =[3]入力!E30 -> 5
A33: 26 | B33: =[3]入力!B31 -> 水抜き剤 | D33: =[3]入力!C31 -> ＥＡ９２２ＡＥ－５ 又は同等以上のもの（他社製品含む） | E33: =[3]入力!D31 -> EA | F33: =[3]入力!E31 -> 4
A34: 27 | B34: =[3]入力!B32 -> 水抜き剤 | D34: =[3]入力!C32 -> ＥＡ９２２ＡＥ－５１ 又は同等以上のもの（他社製品含む） | E34: =[3]入力!D32 -> EA | F34: =[3]入力!E32 -> 20
A35: 28 | B35: =[3]入力!B33 -> コンパウンド | D35: =[3]入力!C33 -> ＥＡ９２２ＡＪ－１１０ 又は同等以上のもの（他社製品含む） | E35: =[3]入力!D33 -> EA | F35: =[3]入力!E33 -> 3
A36: 29 | B36: =[3]入力!B34 -> カーワックス | D36: =[3]入力!C34 -> ＥＡ９２２ＪＫ－１０ 又は同等以上のもの（他社製品含む） | E36: =[3]入力!D34 -> EA | F36: =[3]入力!E34 -> 2
A37: 30 | B37: =[3]入力!B35 -> ねじゆるみ止め剤 | D37: =[3]入力!C35 -> ＥＡ９３３ＡＣ－５ 又は同等以上のもの（他社製品含む） | E37: =[3]入力!D35 -> EA | F37: =[3]入力!E35 -> 4
A38: 31 | B38: =[3]入力!B36 -> ねじゆるみ止め剤 | D38: =[3]入力!C36 -> ＥＡ９３３ＡＣ－１５ 又は同等以上のもの（他社製品含む） | E38: =[3]入力!D36 -> EA | F38: =[3]入力!E36 -> 4
A39: 32 | B39: =[3]入力!B37 -> リペアースティック | D39: =[3]入力!C37 -> ＥＡ９３４ＷＡ－３ 又は同等以上のもの（他社製品含む） | E39: =[3]入力!D37 -> EA | F39: =[3]入力!E37 -> 1
... A47: 40 | B47: =[3]入力!B45 -> シリコングリス | D47: =[3]入力!C45 -> ２７５－１４５３ 又は同等以上のもの（他社製品含む） | E47: =[3]入力!D45 -> EA | F47: =[3]入力!E45 -> 3
B48: 小 計 | I48: =SUM(I28:I47) -> 0
A49: 内 訳 書
A51: 連番 | B51: 品 名 | D51: 規 格 | E51: 単 位 | F51: 数 量 | G51: 単 価 | I51: 金 額 | J51: 備 考
A52: 41 | B52: =[3]入力!B46 -> 接点復活スプレー | D52: =[3]入力!C46 -> ２９０－１５０１ 又は同等以上のもの（他社製品含む） | E52: =[3]入力!D46 -> EA | F52: =[3]入力!E46 -> 19 | I52: =+F52*G52 -> 0
A53: 42 | B53: =[3]入力!B47 -> エポキシパテ水中用 | D53: =[3]入力!C47 -> ３２２－８９０２ 又は同等以上のもの（他社製品含む） | E53: =[3]入力!D47 -> EA | F53: =[3]入力!E47 -> 5 | I53: =+F53*G53 -> 0
A54: 43 | B54: =[3]入力!B48 -> リチウムグリス | D54: =[3]入力!C48 -> ３６１－０３１４ 又は同等以上のもの（他社製品含む） | E54: =[3]入力!D48 -> EA | F54: =[3]入力!E48 -> 3 | I54: =+F54*G54 -> 0
A55: 44 | B55: =[3]入力!B49 -> ガラスクリーナー | D55: =[3]入力!C49 -> ３６９－２２１６ 又は同等以上のもの（他社製品含む） | E55: =[3]入力!D49 -> EA | F55: =[3]入力!E49 -> 10 | I55: =+F55*G55 -> 0
A56: 45 | B56: =[3]入力!B50 -> ミシンオイル | D56: =[3]入力!C50 -> ３９０－９７６０ 又は同等以上のもの（他社製品含む） | E56: =[3]入力!D50 -> EA | F56: =[3]入力!E50 -> 1 | I56: =+F56*G56 -> 0
A57: 46 | B57: =[3]入力!B51 -> パーマフューチャー | D57: =[3]入力!C51 -> ４４８－０２４４ 又は同等以上のもの（他社製品含む） | E57: =[3]入力!D51 -> EA | F57: =[3]入力!E51 -> 2 | I57: =+F57*G57 -> 0
A58: 47 | B58: =[3]入力!B52 -> ４サイクルエンジンオイル | D58: =[3]入力!C52 -> ４７３－６４４３ 又は同等以上のもの（他社製品含む） | E58: =[3]入力!D52 -> EA | F58: =[3]入力!E52 -> 16 | I58: =+F58*G58 -> 0
A59: 48 | B59: =[3]入力!B53 -> タッチアップペン | D59: =[3]入力!C53 -> ４７５－７５６４ 又は同等以上のもの（他社製品含む） | E59: =[3]入力!D53 -> EA | F59: =[3]入力!E53 -> 4 | I59: =+F59*G59 -> 0
A60: 49 | B60: =[3]入力!B54 -> グリーススプレー | D60: =[3]入力!C54 -> ４７９－３８６２ 又は同等以上のもの（他社製品含む） | E60: =[3]入力!D54 -> EA | F60: =[3]入力!E54 -> 5 | I60: =+F60*G60 -> 0
A61: 50 | B61: =[3]入力!B55 -> ＬＰＳ２ | D61: =[3]入力!C55 -> ４７９－４２２２ 又は同等以上のもの（他社製品含む） | E61: =[3]入力!D55 -> EA | F61: =[3]入力!E55 -> 3 | I61: =+F61*G61 -> 0
A62: 51 | B62: =[3]入力!B56 -> 塗装用ガン洗浄剤 | D62: =[3]入力!C56 -> ４８３－６８１２ 又は同等以上のもの（他社製品含む） | E62: =[3]入力!D56 -> CN | F62: =[3]入力!E56 -> 3 | I62: =+F62*G62 -> 0
A63: 52 | B63: =[3]入力!B57 -> コンパウンド | D63: =[3]入力!C57 -> ４９１－７３０８ 又は同等以上のもの（他社製品含む） | E63: =[3]入力!D57 -> EA | F63: =[3]入力!E57 -> 3 | I63: =+F63*G63 -> 0
... A71: 60 | B71: =[3]入力!B65 -> 油汚れ用洗浄剤 | D71: =[3]入力!C65 -> ＥＡ９２２ＡＪ－１６８ 同等以上のもの（他社製品含む） | E71: =[3]入力!D65 -> EA | F71: =[3]入力!E65 -> 1 | I71: =+F71*G71 -> 0
B72: 小 計 | I72: =SUM(I52:I71) -> 0
A73: 内 訳 書
A75: 連番 | B75: 品 名 | D75: 規 格 | E75: 単 位 | F75: 数 量 | G75: 単 価 | I75: 金 額 | J75: 備 考
A76: 61 | B76: =[3]入力!B66 -> ベルト鳴き止めスプレー | D76: =[3]入力!C66 -> ８１８－６５３８ 又は同等以上のもの（他社製品含む） | E76: =[3]入力!D66 -> EA | F76: =[3]入力!E66 -> 1 | I76: =+F76*G76 -> 0
A77: 62 | B77: =[3]入力!B67 -> ［油性］耐熱塗料（つや消し黒） | D77: =[3]入力!C67 -> ＥＡ９４２ＡＢ－２ 又は同等以上のもの（他社製品含む） | E77: =[3]入力!D67 -> EA | F77: =[3]入力!E67 -> 6 | I77: =+F77*G77 -> 0
A78: 63 | B78: =[3]入力!B68 -> マーキングスプレー | D78: =[3]入力!C68 -> ＥＡ９４２ＥＨ－１３１Ａ 又は同等以上のもの（他社製品含む） | E78: =[3]入力!D68 -> EA | F78: =[3]入力!E68 -> 1 | I78: =+F78*G78 -> 0
A79: 64 | B79: =[3]入力!B69 -> マーキングスプレー | D79: =[3]入力!C69 -> ＥＡ９４２ＥＨ－１３２Ａ 又は同等以上のもの（他社製品含む） | E79: =[3]入力!D69 -> EA | F79: =[3]入力!E69 -> 1 | I79: =+F79*G79 -> 0
A80: 65 | B80: =[3]入力!B70 -> ラッカースプレー（白） | D80: =[3]入力!C70 -> ＥＡ９４２ＥＭ－１ 又は同等以上のもの（他社製品含む） | E80: =[3]入力!D70 -> EA | F80: =[3]入力!E70 -> 24 | I80: =+F80*G80 -> 0
A81: 66 | B81: =[3]入力!B71 -> ラッカースプレー（黒） | D81: =[3]入力!C71 -> ＥＡ９４２ＥＭ－３ 又は同等以上のもの（他社製品含む） | E81: =[3]入力!D71 -> EA | F81: =[3]入力!E71 -> 42 | I81: =+F81*G81 -> 0
A82: 67 | B82: =[3]入力!B72 -> ラッカースプレー（つや消し黒） | D82: =[3]入力!C72 -> ＥＡ９４２ＥＭ－３Ｂ 又は同等以上のもの（他社製品含む） | E82: =[3]入力!D72 -> EA | F82: =[3]入力!E72 -> 5 | I82: =+F82*G82 -> 0
A83: 68 | B83: =[3]入力!B73 -> ［油性］エナメルスプレー（黒） | D83: =[3]入力!C73 -> ＥＡ９４２ＥＭ－２３ 又は同等以上のもの（他社製品含む） | E83: =[3]入力!D73 -> EA | F83: =[3]入力!E73 -> 44 | I83: =+F83*G83 -> 0
A84: 69 | B84: =[3]入力!B74 -> ［油性］エナメルスプレー（青） | D84: =[3]入力!C74 -> ＥＡ９４２ＥＭ－２６ 又は同等以上のもの（他社製品含む） | E84: =[3]入力!D74 -> EA | F84: =[3]入力!E74 -> 15 | I84: =+F84*G84 -> 0
A85: 70 | B85: =[3]入力!B75 -> ［ＯＤ色］エナメルスプレー（つや無し） | D85: =[3]入力!C75 -> ＥＡ９４２ＥＭ－３３ 又は同等以上のもの（他社製品含む） | E85: =[3]入力!D75 -> EA | F85: =[3]入力!E75 -> 10 | I85: =+F85*G85 -> 0
A86: 71 | B86: =[3]入力!B76 -> ［ＯＤ色］エナメルスプレー（３分つや） | D86: =[3]入力!C76 -> ＥＡ９４２ＥＭ－３６ 又は同等以上のもの（他社製品含む） | E86: =[3]入力!D76 -> EA | F86: =[3]入力!E76 -> 10 | I86: =+F86*G86 -> 0
A87: 72 | B87: =[3]入力!B77 -> ［油性］耐熱スプレー（銀） | D87: =[3]入力!C77 -> ＥＡ９４２ＥＭ－７２ 又は同等以上のもの（他社製品含む） | E87: =[3]入力!D77 -> EA | F87: =[3]入力!E77 -> 15 | I87: =+F87*G87 -> 0
... A95: 80 | B95: =[3]入力!B85 -> シャーシーコート | D95: =[3]入力!C85 -> ３７５－６４５９ 又は同等以上のもの（他社製品含む） | E95: =[3]入力!D85 -> EA | F95: =[3]入力!E85 -> 46 | I95: =+F95*G95 -> 0
B96: 小 計 | I96: =SUM(I76:I95) -> 0
A97: 内 訳 書
A99: 連番 | B99: 品 名 | D99: 規 格 | E99: 単 位 | F99: 数 量 | G99: 単 価 | I99: 金 額 | J99: 備 考
A100: 81 | B100: =[3]入力!B86 -> クリヤーブック | D100: =[3]入力!C86 -> ６６１８－７３７０ Ａ３ヨコ又は同等品以上のもの（他社製品を含む） | E100: =[3]入力!D86 -> EA | F100: =[3]入力!E86 -> 4 | I100: =+F100*G100 -> 0
A101: 82 | B101: =[3]入力!B87 -> ゼムクリップ小 | D101: =[3]入力!C87 -> ２０２６－８５４１ １０００本入又は同等品以上のもの（他社製品を含む） | E101: =[3]入力!D87 -> CA | F101: =[3]入力!E87 -> 1 | I101: =+F101*G101 -> 0
A102: 83 | B102: =[3]入力!B88 -> ポップアップノート ディスペンサーセット | D102: =[3]入力!C88 -> ６１８９－４５８７ 又は同等品以上のもの（他社製品を含む） | E102: =[3]入力!D88 -> ST | F102: =[3]入力!E88 -> 2 | I102: =+F102*G102 -> 0
A103: 84 | B103: =[3]入力!B89 -> ポップアップノート 詰替えパッド | D103: =[3]入力!C89 -> ６２７２－６０２３ 又は同等品以上のもの（他社製品を含む） | E103: =[3]入力!D89 -> CA | F103: =[3]入力!E89 -> 1 | I103: =+F103*G103 -> 0
A104: 85 | B104: =[3]入力!B90 -> 強粘着ポップアップ詰替用 | D104: =[3]入力!C90 -> ６４７１－６７４９ ４色混色又は同等品以上のもの（他社製品を含む） | E104: =[3]入力!D90 -> CA | F104: =[3]入力!E90 -> 1 | I104: =+F104*G104 -> 0
B105: =[3]入力!B91 -> 0 | D105: 以下余白 | E105: =[3]入力!D91 -> 0 | F105: =[3]入力!E91 -> 0 | I105: =+F105*G105 -> 0
B106: =[3]入力!B92 -> 0 | D106: =[3]入力!C92 -> 0 | E106: =[3]入力!D92 -> 0 | F106: =[3]入力!E92 -> 0 | I106: =+F106*G106 -> 0
B107: =[3]入力!B93 -> 0 | D107: =[3]入力!C93 -> 0 | E107: =[3]入力!D93 -> 0 | F107: =[3]入力!E93 -> 0 | I107: =+F107*G107 -> 0
B108: =[3]入力!B94 -> 0 | D108: =[3]入力!C94 -> 0 | E108: =[3]入力!D94 -> 0 | F108: =[3]入力!E94 -> 0 | I108: =+F108*G108 -> 0
B109: =[3]入力!B95 -> 0 | D109: =[3]入力!C95 -> 0 | E109: =[3]入力!D95 -> 0 | F109: =[3]入力!E95 -> 0 | I109: =+F109*G109 -> 0
B110: =[3]入力!B96 -> 0 | D110: =[3]入力!C96 -> 0 | E110: =[3]入力!D96 -> 0 | F110: =[3]入力!E96 -> 0 | I110: =+F110*G110 -> 0
B111: =[3]入力!B97 -> 0 | E111: =[3]入力!D97 -> 0 | F111: =[3]入力!E97 -> 0 | I111: =+F111*G111 -> 0
B112: =[3]入力!B96 -> 0 | D112: =[3]入力!C96 -> 0 | E112: =[3]入力!D96 -> 0 | F112: =[3]入力!E96 -> 0 | I112: =+F112*G112 -> 0
B113: =[3]入力!B97 -> 0 | D113: =[3]入力!C97 -> 0 | E113: =[3]入力!D97 -> 0 | F113: =[3]入力!E97 -> 0 | I113: =+F113*G113 -> 0
B114: =[3]入力!B98 -> 0 | D114: =[3]入力!C98 -> 0 | E114: =[3]入力!D98 -> 0 | F114: =[3]入力!E98 -> 0 | I114: =+F114*G114 -> 0
B115: =[3]入力!B99 -> 0 | D115: =[3]入力!C99 -> 0 | E115: =[3]入力!D99 -> 0 | F115: =[3]入力!E99 -> 0 | I115: =+F115*G115 -> 0
B116: =[3]入力!B104 -> 0 | D116: =[3]入力!C104 -> 0 | E116: =[3]入力!D104 -> 0 | F116: =[3]入力!E104 -> 0 | I116: =+F116*G116 -> 0
B117: =[3]入力!B105 -> 0 | D117: =[3]入力!C105 -> 0 | E117: =[3]入力!D105 -> 0 | F117: =[3]入力!E105 -> 0 | I117: =+F117*G117 -> 0
B118: 小 計 | I118: =SUM(I100:I117) -> 0
B119: 合 計 | D119: =[3]入力!C109 -> 0 | E119: =[3]入力!D109 -> 0 | F119: =[3]入力!E109 -> 0 | G119: =+[3]入力!F113 -> 0 | I119: =I24+I48+I72+I96+I118 -> 0
