Workbook
Name fdsf: #REF!
Name Print_Area_MI: #REF!
Name rakuhan: #REF!
Name sdafadfs: #REF!
Name sdfafe: #REF!
Name seikyuu: #REF!
Name 一位代価３: #REF!
Name 一位代価４: #REF!
Name 印刷範囲: #REF!
Name 科目コード: #REF!
Name 基礎数値２: #REF!
Name 業者名: #REF!
Name 契約実施計画番号: #REF!
Name 契約条項: #REF!
Name 契約担当者: #REF!
Name 細目: #REF!
Name 商品１: #REF!
Name 特約条項: #REF!
Name 入力: #REF!
Name 納地: #REF!
Name 役職名: #REF!
Name 要求一覧: #REF!
Name 労務単価表２: #REF!

Sheet 入札書
B2: =IF([1]使用方法!J33="入札","入札書","見積書") -> 入札書 | J2: 見積書 | K2: 件名リスト一連番号
J3: 入札書 | K3: 契約実施計画番号 | L3: 0 | M3: #REF!
B4: =IF([1]使用方法!J33="OP","件名リスト一連番号","") | C4: =IF([1]使用方法!J33="OP",[1]使用方法!J29,"") | J4: 市場価格調査書
B5: =IF([1]使用方法!J34="グループ別総額","グループ","") | C5: B | J5: =HYPERLINK("#目次!A1","目次へ戻る") -> 目次へ戻る
J6: =G19 -> 0 | K6: （消費税及び地方税を含まない。）
B7: 金額 ￥ | C7: =G19 -> 0 | D7: =IF([1]使用方法!J32="税抜","","（"&[1]使用方法!J32&"）") | E7: （予定総価） | J7: 業者名入れる？
C8: =IF([1]使用方法!J32="税抜","（消費税及び地方消費税を含まない。）","") -> （消費税及び地方消費税を含まない。） | J8: =[1]使用方法!L32 -> 無 | K8: ←有にしたら業者名表示されます。
B9: 品 名 | C9: 規 格 | D9: 単位 | E9: =IF([1]使用方法!J34="単価","予定 数量","数量") -> 予定 数量 | F9: 単価 | G9: 金額 | J9: 数量
B10: 八景水谷（Ｒ８）宿舎畳・襖取替（１畳） | C10: 仕様書のとおり | D10: =IF([1]別紙内訳書!$L$1>9,"",[1]別紙内訳書!D5) -> SH | E10: =IF([1]別紙内訳書!$L$1>9,0,[1]別紙内訳書!E5) -> 590 | G10: =E10*F10 -> 0 | J10: × | K10: ←業者手入力
B11: 八景水谷（Ｒ８）宿舎畳・襖取替（半畳） | C11: 〃 | D11: =IF([1]別紙内訳書!$L$1>9,"",[1]別紙内訳書!D6) -> SH | E11: =IF([1]別紙内訳書!$L$1>9,"",[1]別紙内訳書!E6) -> 65 | G11: =E11*F11 -> 0
B12: 八景水谷（Ｒ８）宿舎畳・襖取替（襖） | C12: 〃 | D12: =IF([1]別紙内訳書!$L$1>9,"",[1]別紙内訳書!D7) -> SH | E12: =IF([1]別紙内訳書!$L$1>9,"",[1]別紙内訳書!E7) -> 67 | G12: =E12*F12 -> 0 | K12: 同等以上他社製品含む
B13: 八景水谷（Ｒ８）宿舎畳・襖取替（天袋） | C13: 〃 | D13: =IF([1]別紙内訳書!$L$1>9,"",[1]別紙内訳書!D8) -> SH | E13: =IF([1]別紙内訳書!$L$1>9,"",[1]別紙内訳書!E8) -> 63 | G13: =E13*F13 -> 0 | K13: SUBSTITUTE(別紙内訳書!B5,"借上","貸付")
C14: 以下余白 | D14: 0 | E14: 0 | G14: =E14*F14 -> 0
D15: 0 | E15: 0 | G15: =E15*F15 -> 0
D16: 0 | E16: 0 | G16: =E16*F16 -> 0
D17: 0 | E17: 0 | G17: =E17*F17 -> 0
D18: 0 | E18: 0 | G18: =E18*F18 -> 0
B19: 合 計 | G19: =E19*F19 -> 0
B20: 納入（履行）場所 | C20: 八景水谷宿舎 | D20: 納期（履行期限） | G20: 46477
B21: 契約保証金 | C21: 免 除 | D21: 入札（見積）書有効期間
B22: =VLOOKUP([1]使用方法!$J$33,[1]参考資料!M19:N22,2,0) -> 上記に関して「入札及び契約心得」、「標準契約書等」の契約条項等を承諾の上、入札見積りいたします。また、当社（私（個人の場合）、当団体（団体の場合））は「入札及び契約心得」に示された暴力団排除に関する誓約事項について、誓約いたします。
J23: 随契 | K23: 上記に関して「入札及び契約心得」、「標準契約書等」の契約条項等を承諾の上、入札見積りいたします。また、当社（私（個人の場合）、当団体（団体の場合））は「入札及び契約心得」に示された暴力団排除に関する誓約事項について、誓約いたします。
J24: OP | K24: 上記に関して「入札及び契約心得」、「陸上自衛隊北熊本駐屯地オープンカウンター方式実施要項」及び「標準契約書等」の契約条項等を承諾のうえ見積りいたします。また、当社（私（個人の場合）、当団体（団体の場合））は「入札及び契約心得」に示された暴力団排除に関する誓約事項について誓約いたします。
J25: 入札 | K25: 上記に関して「入札及び契約心得」、「標準契約書等」の契約条項等を承諾の上、入札見積りいたします。また、当社（私（個人の場合）、当団体（団体の場合））は「入札及び契約心得」に示された暴力団排除に関する誓約事項について、誓約いたします。
A26: 0 | B26: =IF([1]使用方法!N32="有",DBCS(TEXT([1]契約書!P27,"令和 e 年 m 月 d 日")),"令和 年 月 日") -> 令和 年 月 日 | D26: 0 | F26: 0 | I26: 0 | J26: 0 | L26: =I26*J26 -> 0
B28: 分任契約担当官
B29: 陸上自衛隊北熊本駐屯地
B30: =[1]使用方法!L17&"長 "&[1]使用方法!L19&" 殿" -> 第３９２会計隊長 秋吉 裕之 殿
C31: 住 所 | D31: =IF($J$10="〇",[1]契約書!$R$16,IF("無"=$J$8,"",[1]契約書!$P$16))
C32: 会 社 名 | D32: =IF($J$10="〇",[1]契約書!$R$17,IF("無"=$J$8,"",[1]契約書!$P$17))
C33: 代表者名 | D33: =IF($J$10="〇",[1]契約書!$R$18&" "&[1]契約書!$R$19,IF("無"=J8,"",[1]契約書!$P$18&" "&[1]契約書!$P$19))
C34: 担 当 者 | D34: =IF([1]使用方法!L33="有",[1]契約書!$R$20,"")
C35: 連 絡 先 | D35: =IF([1]使用方法!L33="有",[1]契約書!$R$21,"")
L41: =I41*J41 -> 0
L42: =I42*J42 -> 0
L43: =SUM(L26:L42) -> 0
D44: 0

Sheet 市場調査価格書
E1: 令和 年 月 日
A2: 市場価格調査依頼（回答）書
B4: 分任契約担当官
B5: 陸上自衛隊北熊本駐屯地
B6: 第３９２会計隊長 秋吉 裕之 殿
C7: 住 所
C8: 会社名
C9: 氏 名
C10: 担当者
C11: 連絡先
A13: 件名：八景水谷(R8)宿舎畳・襖取替ほか3件 （入札日：令和8年7月17日（金） 10時30分）
A14: Ｎｏ | B14: 項 目 | C14: 規 格 | D14: 単位 | E14: 予定 数量 | F14: ①単 価 | G14: 金 額
A15: 1 | B15: 八景水谷(R8)宿舎畳・襖取替（1畳） | C15: 仕様書のとおり | D15: SH | E15: 590 | F15: =F16+F17+F18 -> 0 | G15: =E15*F15 -> 0
A16: （1） | B16: 畳１畳 本体 | C16: 1枚あたり
A17: （2） | B17: 畳１畳 処分費 | C17: 〃
A18: （3） | B18: 畳1畳 運搬費 | C18: 〃
A19: 2 | B19: 八景水谷(R8)宿舎畳・襖取替（半畳） | C19: 仕様書のとおり | D19: SH | E19: 65 | F19: =F20+F21+F22 -> 0 | G19: =E19*F19 -> 0
A20: （1） | B20: 畳半畳 本体 | C20: 1枚あたり
A21: （2） | B21: 畳半畳 処分費 | C21: 〃
A22: （3） | B22: 畳半畳 運搬費 | C22: 〃
A23: 3 | B23: 八景水谷(R8)宿舎畳・襖取替（襖） | C23: 仕様書のとおり | D23: SH | E23: 67 | F23: =F24+F25+F26 -> 0 | G23: =E23*F23 -> 0
A24: （1） | B24: 襖 本体 | C24: 1枚あたり
A25: （2） | B25: 襖 処分費 | C25: 〃
A26: （3） | B26: 襖 運搬費 | C26: 〃
A27: 4 | B27: 八景水谷(R8)宿舎畳・襖取替（天袋） | C27: 仕様書のとおり | D27: SH | E27: 63 | F27: =F28+F29+F30 -> 0 | G27: =E27*F27 -> 0
A28: （1） | B28: 天袋 本体 | C28: 1枚あたり
A29: （2） | B29: 天袋 処分費 | C29: 〃
A30: （3） | B30: 天袋 運搬費 | C30: 〃
A31: 合 計
A33: １ 上記欄に、金額の記載をお願いします。
A34: （一般管理費等すべて含んだ金額を記載してください。）
B35: ２ ②発生在処分費がある場合のみ、記載してください。
A36: ２ 本見積は消費税抜きの金額を記載してください。
A38: 〇令和8年7月15日（水）12：00までに、本書類の送付（FAX）又はメール送付のご協力をお願いします。
