Workbook
Name FAX送信表: [1]書類依頼!$A$1
Name rakuhan: #REF!
Name yuubin: #REF!
Name データ: [3]DATABASE!$A$13:$EE$14
Name 科目リスト: #REF!
Name 業者リスト: [4]業者リスト!$C$5:$N$204
Name 業者名: #REF!
Name 業者名等表: #REF!
Name 金額表: #REF!
Name 金額表２: #REF!
Name 金額表３: #REF!
Name 契約: #REF!
Name 契約業者リスト: #REF!
Name 契約実施計画番号: #REF!
Name 契約種別: [4]Sheet2!$J$35:$P$37
Name 契約方式リスト: #REF!
Name 検査調書範囲: #REF!
Name 見積単価1: #REF!
Name 見積単価2: #REF!
Name 見積単価3: #REF!
Name 十五件以下契約書作成あり: [4]請求書!#REF!
Name 十五件以下契約書作成なし: [4]請求書!#REF!
Name 十五件以上契約書作成あり: [4]請求書!#REF!
Name 十五件以上契約書作成なし: [4]請求書!#REF!
Name 説明会リスト: #REF!
Name 通知リスト: #REF!
Name 入札日: [3]DATABASE!$I$13:$I$14
Name 納期: #REF!
Name 発注書データ: #REF!
Name 発注書データコピー先: #REF!
Name 発注書データベース: #REF!
Name 費途内訳: [6]CODE!$M$3:$M$200
Name 分類記号: [3]作業用!$B$21:$B$38
Name 分類記号2: [3]作業用!$B$21:$C$38
Name 分類項目: [3]作業用!$B$22:$E$38
Name 目細: #REF!
Name 目細コピー先: #REF!
Name 要求番号: #REF!
Name 落札リスト: #REF!
Name 落札単価コピー先: #REF!
Name 理由リスト: #REF!

Sheet 市場価格調査依頼書
D1: ８．２．１２
A2: 業者各位
D4: 陸上自衛隊飯塚駐屯地
D5: 第３６６会計隊飯塚派遣隊 担当：荒木
A7: 市場価格調査のご協力のお願いについて
A10: お世話になっております。
A12: 下記契約案件について、入札（見積）に先立ち、市場価格調査を依頼します。
A14: 件 名： | C14: 令和8年度飯塚駐屯地で使用する電気ほか1件
A16: 市場価格調査提出日： | C16: 令和8年2月24日
A18: 市場価格調査提出要領： | C18: FAX又はメールにより回答
A19: ＦＡＸ：０９４８－２２－７０５３（直通）
A20: メール | C20: 366fin_iizukadet_wafin_wa@inet.gsdf.mod.go.jp
A22: 連絡事項： | B22: 上記の「市場価格調査提出日」までに、ご回答の程お願いいたします。
B23: 回答については別紙の「市場価格調査書」の単価及び金額欄に市場価格を記載する
B24: とともに、下部の会社名等記入欄に担当者氏名・連絡先とともに記載し回答をお願い
B25: します。
B26: なお、記載する単価等は入札金額と同じでなくても問題ありません。
B27: また、表内の記載は消費税等相当額を含めた額で記載し、最終的な予定総価については
B28: １００／１１０で乗じ（税抜相当額）金額での記載をお願いします。
B29: 併せて、エクセルでのデータ送付を希望する場合は上記メールにより依頼してください。
B30: また、本調査をメールにより回答を送付した際はお手数ですが、
B31: 下記電話番号へ、メールで送付した旨のご連絡をお願いいたします。
A33: その他： | B33: 本依頼及び入札（見積）についてご不明な点等ありましたら、下記までご連絡ください。
B34: 〒８２０－００６４
B35: 福岡県飯塚市津島２８２
B36: 陸上自衛隊飯塚駐屯地
B37: 第３６６会計隊飯塚派遣隊 担当：
B38: ＴＥＬ：０９４８－２２－７６５１(内線３８０）
B39: ＦＡＸ：０９４８－２２－７０５３（直通）

Sheet 駐屯地 (市場価格)
A2: 市場価格調査書 （ グループ １ ：令和８年度飯塚駐屯地で使用する電気 ） | M2: 再生可能エネルギー比率 | O2: １００％
C3: ４月 | D3: ５月 | E3: ６月 | F3: ７月 | G3: ８月 | H3: ９月 | I3: １０月 | J3: １１月 | K3: １２月 | L3: １月 | M3: ２月 | N3: ３月 | O3: 合 計
A4: 契約電力(Kw) | C4: 880 | D4: 880 | E4: 880 | F4: 880 | G4: 880 | H4: 880 | I4: 880 | J4: 880 | K4: 880 | L4: 880 | M4: 880 | N4: 880
A5: 新年度使用計画量(Kwh) | C5: 151000 | D5: 152000 | E5: 222000 | F5: 336000 | G5: 320000 | H5: 282000 | I5: 187000 | J5: 181000 | K5: 211000 | L5: 230000 | M5: 216000 | N5: 208000 | O5: 2696000
A6: 基本料金単価(円)
A7: 力率割引率
A8: 基本料金(円)
A9: 電力料金単価
A10: 電力量料金
A11: 大規模需要割引等額 （割引率： ％）
A12: 再エネ付加価値料金等 ＠ ／ｋWh ※再エネ比率100％
A13: その他割引等
A14: 小 計(円)
A15: ※１ 算出においては、発電費用等に係る燃料価格変動の調整額及び再生可能エネルギー発電促進賦課金単価は含めないものとする。 ※２ 算出において消費税等相当額を含み算出を行った際は右の「消費税相当額控除後」の欄に記載するものとする。 | M15: 消費税相当額控除後 （１００／１１０）
A18: 市場価格調査書 （ グループ ２ ：令和８年度飯塚駐屯地で使用する電気 ） | M18: 再生可能エネルギー比率 | O18: ６０％
C19: ４月 | D19: ５月 | E19: ６月 | F19: ７月 | G19: ８月 | H19: ９月 | I19: １０月 | J19: １１月 | K19: １２月 | L19: １月 | M19: ２月 | N19: ３月 | O19: 合 計
A20: 契約電力(Kw) | C20: 880 | D20: 880 | E20: 880 | F20: 880 | G20: 880 | H20: 880 | I20: 880 | J20: 880 | K20: 880 | L20: 880 | M20: 880 | N20: 880
A21: 新年度使用計画量(Kwh) | C21: 151000 | D21: 152000 | E21: 222000 | F21: 336000 | G21: 320000 | H21: 282000 | I21: 187000 | J21: 181000 | K21: 211000 | L21: 230000 | M21: 216000 | N21: 208000 | O21: 2696000
A22: 基本料金単価(円)
A23: 力率割引率
A24: 基本料金(円)
A25: 電力料金単価
A26: 電力量料金
A27: 大規模需要割引等額 （割引率： ％）
A28: 再エネ付加価値料金等 ＠ ／ｋWh ※再エネ比率６０％
A29: その他割引等
A30: 小 計(円)
A31: ※１ 算出においては、発電費用等に係る燃料価格変動の調整額及び再生可能エネルギー発電促進賦課金単価は含めないものとする。 ※２ 算出において消費税等相当額を含み算出を行った際は右の「消費税相当額控除後」の欄に記載するものとする。 | M31: 消費税相当額控除後 （１００／１１０）
A34: 市場価格調査書 （ グループ ３ ：令和８年度飯塚駐屯地で使用する電気 ） | M34: 再生可能エネルギー比率 | O34: ３０％
C35: ４月 | D35: ５月 | E35: ６月 | F35: ７月 | G35: ８月 | H35: ９月 | I35: １０月 | J35: １１月 | K35: １２月 | L35: １月 | M35: ２月 | N35: ３月 | O35: 合 計
A36: 契約電力(Kw) | C36: 880 | D36: 880 | E36: 880 | F36: 880 | G36: 880 | H36: 880 | I36: 880 | J36: 880 | K36: 880 | L36: 880 | M36: 880 | N36: 880
A37: 新年度使用計画量(Kwh) | C37: 151000 | D37: 152000 | E37: 222000 | F37: 336000 | G37: 320000 | H37: 282000 | I37: 187000 | J37: 181000 | K37: 211000 | L37: 230000 | M37: 216000 | N37: 208000 | O37: 2696000
A38: 基本料金単価(円)
A39: 力率割引率
A40: 基本料金(円)
A41: 電力料金単価
A42: 電力量料金
A43: 大規模需要割引等額 （割引率： ％）
A44: 再エネ付加価値料金等 ＠ ／ｋWh ※再エネ比率３０％
A45: その他割引等
...

Sheet 駐屯地 (訓練場) (市場価格)
A2: 市場価格調査書 （ グループ １ ：令和８年度飯塚駐屯地（訓練場地区）で使用する電気 ） | M2: 再生可能エネルギー比率 | O2: １００％
C3: ４月 | D3: ５月 | E3: ６月 | F3: ７月 | G3: ８月 | H3: ９月 | I3: １０月 | J3: １１月 | K3: １２月 | L3: １月 | M3: ２月 | N3: ３月 | O3: 合 計
A4: 契約電力(Kw) | C4: 18 | D4: 18 | E4: 18 | F4: 18 | G4: 18 | H4: 18 | I4: 18 | J4: 18 | K4: 18 | L4: 18 | M4: 18 | N4: 18
A5: 新年度使用計画量(Kwh) | C5: 2600 | D5: 2900 | E5: 3200 | F5: 4900 | G5: 4600 | H5: 3900 | I5: 2900 | J5: 3100 | K5: 3300 | L5: 3500 | M5: 3300 | N5: 3100 | O5: 41300
A6: 基本料金単価(円)
A7: 力率割引率
A8: 基本料金(円)
A9: 電力料金単価
A10: 電力量料金
A11: 大規模需要割引等額 （割引率： ％）
A12: 再エネ付加価値料金等 ＠ ／ｋWh ※再エネ比率100％
A13: その他割引等
A14: 小 計(円)
A15: ※１ 算出においては、発電費用等に係る燃料価格変動の調整額及び再生可能エネルギー発電促進賦課金単価は含めないものとする。 ※２ 算出において消費税等相当額を含み算出を行った際は右の「消費税相当額控除後」の欄に記載するものとする。 | M15: 消費税相当額控除後 （１００／１１０）
A18: 市場価格調査書 （ グループ ２ ：令和８年度飯塚駐屯地（訓練場地区）で使用する電気 ） | M18: 再生可能エネルギー比率 | O18: ６０％
C19: ４月 | D19: ５月 | E19: ６月 | F19: ７月 | G19: ８月 | H19: ９月 | I19: １０月 | J19: １１月 | K19: １２月 | L19: １月 | M19: ２月 | N19: ３月 | O19: 合 計
A20: 契約電力(Kw) | C20: 18 | D20: 18 | E20: 18 | F20: 18 | G20: 18 | H20: 18 | I20: 18 | J20: 18 | K20: 18 | L20: 18 | M20: 18 | N20: 18
A21: 新年度使用計画量(Kwh) | C21: 2600 | D21: 2900 | E21: 3200 | F21: 4900 | G21: 4600 | H21: 3900 | I21: 2900 | J21: 3100 | K21: 3300 | L21: 3500 | M21: 3300 | N21: 3100 | O21: 41300
A22: 基本料金単価(円)
A23: 力率割引率
A24: 基本料金(円)
A25: 電力料金単価
A26: 電力量料金
A27: 大規模需要割引等額 （割引率： ％）
A28: 再エネ付加価値料金等 ＠ ／ｋWh ※再エネ比率６０％
A29: その他割引等
A30: 小 計(円)
A31: ※１ 算出においては、発電費用等に係る燃料価格変動の調整額及び再生可能エネルギー発電促進賦課金単価は含めないものとする。 ※２ 算出において消費税等相当額を含み算出を行った際は右の「消費税相当額控除後」の欄に記載するものとする。 | M31: 消費税相当額控除後 （１００／１１０）
A34: 市場価格調査書 （ グループ ３ ：令和８年度飯塚駐屯地（訓練場地区）で使用する電気 ） | M34: 再生可能エネルギー比率 | O34: ３０％
C35: ４月 | D35: ５月 | E35: ６月 | F35: ７月 | G35: ８月 | H35: ９月 | I35: １０月 | J35: １１月 | K35: １２月 | L35: １月 | M35: ２月 | N35: ３月 | O35: 合 計
A36: 契約電力(Kw) | C36: 18 | D36: 18 | E36: 18 | F36: 18 | G36: 18 | H36: 18 | I36: 18 | J36: 18 | K36: 18 | L36: 18 | M36: 18 | N36: 18
A37: 新年度使用計画量(Kwh) | C37: 2600 | D37: 2900 | E37: 3200 | F37: 4900 | G37: 4600 | H37: 3900 | I37: 2900 | J37: 3100 | K37: 3300 | L37: 3500 | M37: 3300 | N37: 3100 | O37: 41300
A38: 基本料金単価(円)
A39: 力率割引率
A40: 基本料金(円)
A41: 電力料金単価
A42: 電力量料金
A43: 大規模需要割引等額 （割引率： ％）
A44: 再エネ付加価値料金等 ＠ ／ｋWh ※再エネ比率３０％
A45: その他割引等
...

Sheet 入札書A（１～４）
A3: 入 札 書
A5: 分任契約担当官
A6: 陸上自衛隊飯塚駐屯地
A7: 第３６６会計隊飯塚派遣隊長 殿
A10: グループ区分
A12: 件 名 | C12: 令和８年度飯塚駐屯地で使用する電気
A14: 入 札 金 額 | C14: ￥
A16: 入札金額内訳 | C16: 内訳書のとおり
A19: 当社は、上記の公告に対して「入札及び契約心得」及び「標準契約書等」の契約条項等を承諾のうえ入札致します。また、「入札及び契約心得」に定める暴力団排除に関する事項について誓約します。
A24: 46079
C27: （入札者） 住 所
E28: 会 社 名
E29: 代表者名
E30: 担当者名
E31: 連 絡 先
A39: ※１ 総価及び毎月ごとの入札金額の内訳が明確であり、入札書の内容を具備していれば 別様の様式の使用を可とする。
A42: ※２ 担当者名及び連絡先を記入することにより押印を省略することができる。

Sheet 駐屯地
A2: 内 訳 書 （ グループ １ ：令和８年度飯塚駐屯地で使用する電気 ） | M2: 再生可能エネルギー比率 | O2: １００％
C3: ４月 | D3: ５月 | E3: ６月 | F3: ７月 | G3: ８月 | H3: ９月 | I3: １０月 | J3: １１月 | K3: １２月 | L3: １月 | M3: ２月 | N3: ３月 | O3: 合 計
A4: 契約電力(Kw) | C4: 880 | D4: 880 | E4: 880 | F4: 880 | G4: 880 | H4: 880 | I4: 880 | J4: 880 | K4: 880 | L4: 880 | M4: 880 | N4: 880
A5: 新年度使用計画量(Kwh) | C5: 151000 | D5: 152000 | E5: 222000 | F5: 336000 | G5: 320000 | H5: 282000 | I5: 187000 | J5: 181000 | K5: 211000 | L5: 230000 | M5: 216000 | N5: 208000 | O5: =SUM(C5:N5) -> 2696000
A6: 基本料金単価(円)
A7: 力率割引率
A8: 基本料金(円)
A9: 電力料金単価
A10: 電力量料金
A11: 大規模需要割引等額 （割引率： ％）
A12: 再エネ付加価値料金等 ＠ ／ｋWh ※再エネ比率100％
A13: その他割引等
A14: 小 計(円)
A15: ※１ 算出においては、発電費用等に係る燃料価格変動の調整額及び再生可能エネルギー発電促進賦課金単価は含めないものとする。 ※２ 算出において消費税等相当額を含み算出を行った際は右の「消費税相当額控除後」の欄に記載するものとする。 | M15: 消費税相当額控除後 （１００／１１０）
A18: 内 訳 書 （ グループ ２ ：令和８年度飯塚駐屯地で使用する電気 ） | M18: 再生可能エネルギー比率 | O18: ６０％
C19: ４月 | D19: ５月 | E19: ６月 | F19: ７月 | G19: ８月 | H19: ９月 | I19: １０月 | J19: １１月 | K19: １２月 | L19: １月 | M19: ２月 | N19: ３月 | O19: 合 計
A20: 契約電力(Kw) | C20: =C4 -> 880 | D20: =D4 -> 880 | E20: =E4 -> 880 | F20: =F4 -> 880 | G20: =G4 -> 880 | H20: =H4 -> 880 | I20: =I4 -> 880 | J20: =J4 -> 880 | ... O20: =O4
A21: 新年度使用計画量(Kwh) | C21: =C5 -> 151000 | D21: =D5 -> 152000 | E21: =E5 -> 222000 | F21: =F5 -> 336000 | G21: =G5 -> 320000 | H21: =H5 -> 282000 | I21: =I5 -> 187000 | J21: =J5 -> 181000 | ... O21: =O5 -> 2696000
A22: 基本料金単価(円)
A23: 力率割引率
A24: 基本料金(円)
A25: 電力料金単価
A26: 電力量料金
A27: 大規模需要割引等額 （割引率： ％）
A28: 再エネ付加価値料金等 ＠ ／ｋWh ※再エネ比率６０％
A29: その他割引等
A30: 小 計(円)
A31: ※１ 算出においては、発電費用等に係る燃料価格変動の調整額及び再生可能エネルギー発電促進賦課金単価は含めないものとする。 ※２ 算出において消費税等相当額を含み算出を行った際は右の「消費税相当額控除後」の欄に記載するものとする。 | M31: 消費税相当額控除後 （１００／１１０）
A34: 内 訳 書 （ グループ ３ ：令和８年度飯塚駐屯地で使用する電気 ） | M34: 再生可能エネルギー比率 | O34: ３０％
C35: ４月 | D35: ５月 | E35: ６月 | F35: ７月 | G35: ８月 | H35: ９月 | I35: １０月 | J35: １１月 | K35: １２月 | L35: １月 | M35: ２月 | N35: ３月 | O35: 合 計
A36: 契約電力(Kw) | C36: =C20 -> 880 | D36: =D20 -> 880 | E36: =E20 -> 880 | F36: =F20 -> 880 | G36: =G20 -> 880 | H36: =H20 -> 880 | I36: =I20 -> 880 | J36: =J20 -> 880 | ... O36: =O20
A37: 新年度使用計画量(Kwh) | C37: =C21 -> 151000 | D37: =D21 -> 152000 | E37: =E21 -> 222000 | F37: =F21 -> 336000 | G37: =G21 -> 320000 | H37: =H21 -> 282000 | I37: =I21 -> 187000 | J37: =J21 -> 181000 | ... O37: =O21 -> 2696000
A38: 基本料金単価(円)
A39: 力率割引率
A40: 基本料金(円)
A41: 電力料金単価
A42: 電力量料金
A43: 大規模需要割引等額 （割引率： ％）
A44: 再エネ付加価値料金等 ＠ ／ｋWh ※再エネ比率３０％
A45: その他割引等
...

Sheet 入札書Ｂ（１～４）
A3: 入 札 書
A5: 分任契約担当官
A6: 陸上自衛隊飯塚駐屯地
A7: 第３６６会計隊飯塚派遣隊長 殿
A10: グループ区分
A12: 件 名 | C12: 令和８年度飯塚駐屯地（訓練場地区）で使用する電気
A14: 入 札 金 額 | C14: ￥
A16: 入札金額内訳 | C16: 内訳書のとおり
A19: 当社は、上記の公告に対して「入札及び契約心得」及び「標準契約書等」の契約条項等を承諾のうえ入札致します。また、「入札及び契約心得」に定める暴力団排除に関する事項について誓約します。
A24: 46079
C27: （入札者） 住 所
E28: 会 社 名
E29: 代表者名
E30: 担当者名
E31: 連 絡 先
A39: ※１ 総価及び毎月ごとの入札金額の内訳が明確であり、入札書の内容を具備していれば 別様の様式の使用を可とする。
A42: ※２ 担当者名及び連絡先を記入することにより押印を省略することができる。

Sheet 駐屯地 (訓練場)
A2: 内 訳 書 （ グループ １ ：令和８年度飯塚駐屯地（訓練場地区）で使用する電気 ） | M2: 再生可能エネルギー比率 | O2: １００％
C3: ４月 | D3: ５月 | E3: ６月 | F3: ７月 | G3: ８月 | H3: ９月 | I3: １０月 | J3: １１月 | K3: １２月 | L3: １月 | M3: ２月 | N3: ３月 | O3: 合 計
A4: 契約電力(Kw) | C4: 18 | D4: 18 | E4: 18 | F4: 18 | G4: 18 | H4: 18 | I4: 18 | J4: 18 | K4: 18 | L4: 18 | M4: 18 | N4: 18
A5: 新年度使用計画量(Kwh) | C5: 2600 | D5: 2900 | E5: 3200 | F5: 4900 | G5: 4600 | H5: 3900 | I5: 2900 | J5: 3100 | K5: 3300 | L5: 3500 | M5: 3300 | N5: 3100 | O5: =SUM(C5:N5) -> 41300
A6: 基本料金単価(円)
A7: 力率割引率
A8: 基本料金(円)
A9: 電力料金単価
A10: 電力量料金
A11: 大規模需要割引等額 （割引率： ％）
A12: 再エネ付加価値料金等 ＠ ／ｋWh ※再エネ比率100％
A13: その他割引等
A14: 小 計(円)
A15: ※１ 算出においては、発電費用等に係る燃料価格変動の調整額及び再生可能エネルギー発電促進賦課金単価は含めないものとする。 ※２ 算出において消費税等相当額を含み算出を行った際は右の「消費税相当額控除後」の欄に記載するものとする。 | M15: 消費税相当額控除後 （１００／１１０）
A18: 内 訳 書 （ グループ ２ ：令和８年度飯塚駐屯地（訓練場地区）で使用する電気 ） | M18: 再生可能エネルギー比率 | O18: ６０％
C19: ４月 | D19: ５月 | E19: ６月 | F19: ７月 | G19: ８月 | H19: ９月 | I19: １０月 | J19: １１月 | K19: １２月 | L19: １月 | M19: ２月 | N19: ３月 | O19: 合 計
A20: 契約電力(Kw) | C20: =C4 -> 18 | D20: =D4 -> 18 | E20: =E4 -> 18 | F20: =F4 -> 18 | G20: =G4 -> 18 | H20: =H4 -> 18 | I20: =I4 -> 18 | J20: =J4 -> 18 | ... O20: =O4
A21: 新年度使用計画量(Kwh) | C21: =C5 -> 2600 | D21: =D5 -> 2900 | E21: =E5 -> 3200 | F21: =F5 -> 4900 | G21: =G5 -> 4600 | H21: =H5 -> 3900 | I21: =I5 -> 2900 | J21: =J5 -> 3100 | ... O21: =O5 -> 41300
A22: 基本料金単価(円)
A23: 力率割引率
A24: 基本料金(円)
A25: 電力料金単価
A26: 電力量料金
A27: 大規模需要割引等額 （割引率： ％）
A28: 再エネ付加価値料金等 ＠ ／ｋWh ※再エネ比率６０％
A29: その他割引等
A30: 小 計(円)
A31: ※１ 算出においては、発電費用等に係る燃料価格変動の調整額及び再生可能エネルギー発電促進賦課金単価は含めないものとする。 ※２ 算出において消費税等相当額を含み算出を行った際は右の「消費税相当額控除後」の欄に記載するものとする。 | M31: 消費税相当額控除後 （１００／１１０）
A34: 内 訳 書 （ グループ ３ ：令和８年度飯塚駐屯地（訓練場地区）で使用する電気 ） | M34: 再生可能エネルギー比率 | O34: ３０％
C35: ４月 | D35: ５月 | E35: ６月 | F35: ７月 | G35: ８月 | H35: ９月 | I35: １０月 | J35: １１月 | K35: １２月 | L35: １月 | M35: ２月 | N35: ３月 | O35: 合 計
A36: 契約電力(Kw) | C36: =C20 -> 18 | D36: =D20 -> 18 | E36: =E20 -> 18 | F36: =F20 -> 18 | G36: =G20 -> 18 | H36: =H20 -> 18 | I36: =I20 -> 18 | J36: =J20 -> 18 | ... O36: =O20
A37: 新年度使用計画量(Kwh) | C37: =C21 -> 2600 | D37: =D21 -> 2900 | E37: =E21 -> 3200 | F37: =F21 -> 4900 | G37: =G21 -> 4600 | H37: =H21 -> 3900 | I37: =I21 -> 2900 | J37: =J21 -> 3100 | ... O37: =O21 -> 41300
A38: 基本料金単価(円)
A39: 力率割引率
A40: 基本料金(円)
A41: 電力料金単価
A42: 電力量料金
A43: 大規模需要割引等額 （割引率： ％）
A44: 再エネ付加価値料金等 ＠ ／ｋWh ※再エネ比率３０％
A45: その他割引等
...

Sheet (高圧)内訳
P1: 付紙第２
A2: 内 訳 書 （ グループＢ：令和８年度陸上自衛隊日出生台演習場で使用する電気（高圧） ） | M2: 再生可能エネルギー比率
C3: ４月 | D3: ５月 | E3: ６月 | F3: ７月 | G3: ８月 | H3: ９月 | I3: １０月 | J3: １１月 | K3: １２月 | L3: １月 | M3: ２月 | N3: ３月 | O3: 合 計
A4: 管理地区 | P4: 内訳は属紙１による
A5: 地蔵原地区 | P5: 内訳は属紙２による
A6: 小野原地区 | P6: 内訳は属紙３による
A7: 小 計(円)
A8: ※１ 算出においては、発電費用等に係る燃料価格変動の調整額及び再生可能エネルギー発電促進賦課金単価は含めないものとする。 ※２ 算出において消費税等相当額を含み算出を行った際は右の「消費税相当額控除後」の欄に記載するものとする。 | M8: 消費税相当額控除後 （１００／１１０）

Sheet 管理地区
O1: 属紙第１
A2: 細 部 需 要 場 所 別 内 訳 （管理地区） | M2: 再生可能エネルギー比率
C3: ４月 | D3: ５月 | E3: ６月 | F3: ７月 | G3: ８月 | H3: ９月 | I3: １０月 | J3: １１月 | K3: １２月 | L3: １月 | M3: ２月 | N3: ３月 | O3: 合 計
A4: 契約電力(Kw) | C4: 140 | D4: 120 | E4: 165 | F4: 185 | G4: 165 | H4: 180 | I4: 130 | J4: 165 | K4: 165 | L4: 165 | M4: 175 | N4: 175
A5: 新年度使用計画量(Kwh) | C5: 39000 | D5: 40000 | E5: 66500 | F5: 70000 | G5: 45000 | H5: 73000 | I5: 56000 | J5: 56000 | K5: 56000 | L5: 56000 | M5: 56000 | N5: 47000 | O5: =SUM(C5:N5) -> 660500
A6: 基本料金単価(円)
A7: 力率割引率
A8: 基本料金(円)
A9: 電力料金単価
A10: 電力量料金
A11: 大規模需要割引等額 （割引率： ％）
A12: 再エネ付加価値料金等 ＠ ／ｋWh ※再エネ比率１００％
A13: その他割引等
A14: 小 計(円)
A15: ※１ 算出においては、発電費用等に係る燃料価格変動の調整額及び再生可能エネルギー発電促進賦課金単価は含めないものとする。 ※２ 算出において消費税等相当額を含み算出を行った際は右の「消費税相当額控除後」の欄に記載するものとする。 | M15: 消費税相当額控除後 （１００／１１０）

Sheet 地蔵原地区
O1: 属紙第２
A2: 細 部 需 要 場 所 別 内 訳 （地蔵原地区） | M2: 再生可能エネルギー比率
C3: ４月 | D3: ５月 | E3: ６月 | F3: ７月 | G3: ８月 | H3: ９月 | I3: １０月 | J3: １１月 | K3: １２月 | L3: １月 | M3: ２月 | N3: ３月 | O3: 合 計
A4: 契約電力(Kw) | C4: 5 | D4: 4 | E4: 2 | F4: 4 | G4: 4 | H4: 4 | I4: 2 | J4: 6 | K4: 8 | L4: 10 | M4: 10 | N4: 10
A5: 新年度使用計画量(Kwh) | C5: 960 | D5: 880 | E5: 640 | F5: 830 | G5: 810 | H5: 900 | I5: 770 | J5: 900 | K5: 750 | L5: 900 | M5: 1100 | N5: 1300 | O5: =SUM(C5:N5) -> 10740
A6: 基本料金単価(円)
A7: 力率割引率
A8: 基本料金(円)
A9: 電力料金単価
A10: 電力量料金
A11: 大規模需要割引等額 （割引率： ％）
A12: 再エネ付加価値料金等 ＠ ／ｋWh ※再エネ比率１００％以上
A13: その他割引等
A14: 小 計(円)
A15: ※１ 算出においては、発電費用等に係る燃料価格変動の調整額及び再生可能エネルギー発電促進賦課金単価は含めないものとする。 ※２ 算出において消費税等相当額を含み算出を行った際は右の「消費税相当額控除後」の欄に記載するものとする。 | M15: 消費税相当額控除後 （１００／１１０）

Sheet 小野原地区
O1: 属紙第３
A2: 細 部 需 要 場 所 別 内 訳 （小野原地区） | M2: 再生可能エネルギー比率
C3: ４月 | D3: ５月 | E3: ６月 | F3: ７月 | G3: ８月 | H3: ９月 | I3: １０月 | J3: １１月 | K3: １２月 | L3: １月 | M3: ２月 | N3: ３月 | O3: 合 計
A4: 契約電力(Kw) | C4: 2 | D4: 3 | E4: 2 | F4: 3 | G4: 3 | H4: 2 | I4: 1 | J4: 3 | K4: 4 | L4: 4 | M4: 5 | N4: 5
A5: 新年度使用計画量(Kwh) | C5: 1200 | D5: 1200 | E5: 1200 | F5: 1000 | G5: 1000 | H5: 1000 | I5: 1200 | J5: 1200 | K5: 1300 | L5: 900 | M5: 1000 | N5: 1300 | O5: =SUM(C5:N5) -> 13500
A6: 基本料金単価(円)
A7: 力率割引率
A8: 基本料金(円)
A9: 電力料金単価
A10: 電力量料金
A11: 大規模需要割引等額 （割引率： ％）
A12: 再エネ付加価値料金等 ＠ ／ｋWh ※再エネ比率１００％以上
A13: その他割引等
A14: 小 計(円)
A15: ※１ 算出においては、発電費用等に係る燃料価格変動の調整額及び再生可能エネルギー発電促進賦課金単価は含めないものとする。 ※２ 算出において消費税等相当額を含み算出を行った際は右の「消費税相当額控除後」の欄に記載するものとする。 | M15: 消費税相当額控除後 （１００／１１０）

Sheet 入札書Ｃ
A3: 入 札 書
A5: 分任契約担当官
A6: 陸上自衛隊飯塚駐屯地
A7: 第３６６会計隊飯塚派遣隊長 殿
A10: グループ区分
A12: 件 名 | C12: 令和８年度飯塚駐屯地で使用する電気及び令和８年度飯塚駐屯地 （訓練場地区）で使用する電気
A14: 入 札 金 額 | C14: ￥
A16: 入札金額内訳 | C16: 付紙内訳書のとおり
A19: 当社は、上記の公告に対して「入札及び契約心得」及び「標準契約書等」の契約条項等を承諾のうえ入札致します。また、「入札及び契約心得」に定める暴力団排除に関する事項について誓約します。
A24: 46079
C27: （入札者） 住 所
E28: 会 社 名
E29: 代表者名
E30: 担当者名
E31: 連 絡 先
A39: ※１ 総価及び毎月ごとの入札金額の内訳が明確であり、入札書の内容を具備していれば 別様の様式の使用を可とする。
A42: ※２ 担当者名及び連絡先を記入することにより押印を省略することができる。

Sheet （低圧）内訳
P1: 付紙第３
A2: 内 訳 書 （ グループ＿：令和８年度飯塚駐屯地で使用する電気及び令和８年度飯塚駐屯地（訓練場地区）で使用する電気）
C3: ４月 | D3: ５月 | E3: ６月 | F3: ７月 | G3: ８月 | H3: ９月 | I3: １０月 | J3: １１月 | K3: １２月 | L3: １月 | M3: ２月 | N3: ３月 | O3: 合 計 | S3: 湯布院駐屯地で契約する低圧電気契約一覧表
A4: 水源地 | P4: 内訳は属紙１による
A5: 管理班（電灯） | P5: 内訳は属紙２による | T5: 契約場所 | U5: 契約電力 | V5: 単位
A6: 管理班（動力） | P6: 内訳は属紙３による | S6: 湯布院 地区 | T6: 水源地 | U6: 20 | V6: A
A7: 演習場トイレ | P7: 内訳は属紙４による | T7: 管理班（電灯） | U7: 60 | V7: A
A8: 演習場１０１ | P8: 内訳は属紙５による | T8: 管理班（動力） | U8: 6 | V8: ｋW
A9: 演習場１０４ | P9: 内訳は属紙６による | T9: 演習場１０１ | U9: 40 | V9: A
A10: 演習場１０５ | P10: 内訳は属紙７による | T10: 演習場１０４ | U10: 30 | V10: A
A11: 笠置原サイレン | P11: 内訳は属紙８による | T11: 演習場トイレ | U11: 30 | V11: A
A12: 尾内サイレン | P12: 内訳は属紙９による | T12: 演習場１０５ | U12: 30 | V12: A
A13: 演習場１０６ | P13: 内訳は属紙１０による
A14: 演習場１０９ | P14: 内訳は属紙１１による | T14: 契約場所 | U14: 契約電力 | V14: 単位
A15: 演習場１１０ | P15: 内訳は属紙１２による | S15: 玖珠 地区 | T15: 笠置原サイレン | U15: 5 | V15: kW
A16: 演習場１１１ | P16: 内訳は属紙１３による | T16: 尾内サイレン | U16: 5 | V16: kW
A17: 演習場１１５ | P17: 内訳は属紙１４による | T17: 演習場１０６ | U17: 20 | V17: KVA
A18: 演習場１１６ | P18: 内訳は属紙１５による | T18: 演習場１０９ | U18: 50 | V18: A
A19: 演習場１１７ | P19: 内訳は属紙１６による | T19: 演習場１１０ | U19: 50 | V19: A
A20: 演習場１２２ | P20: 内訳は属紙１７による | T20: 演習場１１１ | U20: 10 | V20: KVA
A21: 演習場１２５ | P21: 内訳は属紙１８による | T21: 演習場１１５ | U21: 50 | V21: A
A22: 小 計(円) | T22: 演習場１１６ | U22: 50 | V22: A
A23: ※１ 算出においては、発電費用等に係る燃料価格変動の調整額及び再生可能エネルギー発電促進賦課金単価は含めないものとする。 ※２ 算出において消費税等相当額を含み算出を行った際は右の「消費税相当額控除後」の欄に記載するものとする。 | M23: 消費税相当額控除後 （１００／１１０） | T23: 演習場１１７ | U23: 50 | V23: A
T24: 演習場１２２ | U24: 50 | V24: A
T25: 演習場１２５ | U25: 60 | V25: A

Sheet 水源地
O1: 属紙第１
A2: 細 部 需 要 場 所 別 内 訳
A3: グループ： | C3: 需要場所： | F3: ='（低圧）内訳'!$T$6 -> 水源地 | L3: 再生可能エネルギー比率
A4: 令和６年度 各月 | B4: 区 分 | C4: 基本料金 | E4: 電 力 量 料 金 | M4: 割引等 | N4: 再エネ付加 価値料金 | O4: 合 計 | R4: 水源地
C5: 契約電力 | E5: 使用 計画料 | F5: 最初の 120kWhまで | H5: 120kWh超過 300kWhまで | J5: 300kWh 超過分 | L5: 計 | Q5: 項 目 | R5: 計画量
A6: ４月 | B6: 予定数量 | C6: ='（低圧）内訳'!U6 -> 20 | D6: ='（低圧）内訳'!V6 -> A | E6: 14 | F6: =MIN(120,E6) -> 14 | G6: kWh | H6: =MIN(180,E6-F6) -> 0 | I6: kWh | J6: =E6-F6-H6 -> 0 | K6: kWh | L6: =F6+H6+J6 -> 14 | O6: =SUM(C8,L8)-M6+N6 -> 0 | Q6: 月 | R6: kWh
B7: 単 価
B8: 金 額 | E8: kWh | L8: =SUM(F8:K8) -> 0 | Q8: ４月 | R8: 15
A9: ５月 | B9: 予定数量 | C9: =$C$6 -> 20 | D9: =$D$6 -> A | E9: 14 | F9: =MIN(120,E9) -> 14 | G9: kWh | H9: =MIN(180,E9-F9) -> 0 | I9: kWh | J9: =E9-F9-H9 -> 0 | K9: kWh | L9: =F9+H9+J9 -> 14
B10: 単 価 | Q10: ５月 | R10: 15
B11: 金 額 | E11: kWh
A12: ６月 | B12: 予定数量 | C12: =$C$6 -> 20 | D12: =$D$6 -> A | E12: 16 | F12: =MIN(120,E12) -> 16 | G12: kWh | H12: =MIN(180,E12-F12) -> 0 | I12: kWh | J12: =E12-F12-H12 -> 0 | K12: kWh | L12: =F12+H12+J12 -> 16 | Q12: ６月 | R12: 15
B13: 単 価
B14: 金 額 | E14: kWh | Q14: １／四計 | R14: =R8+R10+R12 -> 45
A15: ７月 | B15: 予定数量 | C15: =$C$6 -> 20 | D15: =$D$6 -> A | E15: 14 | F15: =MIN(120,E15) -> 14 | G15: kWh | H15: =MIN(180,E15-F15) -> 0 | I15: kWh | J15: =E15-F15-H15 -> 0 | K15: kWh | L15: =F15+H15+J15 -> 14
B16: 単 価 | Q16: ７月 | R16: 15
B17: 金 額 | E17: kWh
A18: ８月 | B18: 予定数量 | C18: =$C$6 -> 20 | D18: =$D$6 -> A | E18: 14 | F18: =MIN(120,E18) -> 14 | G18: kWh | H18: =MIN(180,E18-F18) -> 0 | I18: kWh | J18: =E18-F18-H18 -> 0 | K18: kWh | L18: =F18+H18+J18 -> 14 | Q18: ８月 | R18: 15
B19: 単 価
B20: 金 額 | E20: kWh | Q20: ９月 | R20: 15
A21: ９月 | B21: 予定数量 | C21: =$C$6 -> 20 | D21: =$D$6 -> A | E21: 14 | F21: =MIN(120,E21) -> 14 | G21: kWh | H21: =MIN(180,E21-F21) -> 0 | I21: kWh | J21: =E21-F21-H21 -> 0 | K21: kWh | L21: =F21+H21+J21 -> 14
B22: 単 価 | Q22: ２／四計 | R22: =R16+R18+R20 -> 45
B23: 金 額 | E23: kWh
A24: １０月 | B24: 予定数量 | C24: =$C$6 -> 20 | D24: =$D$6 -> A | E24: =R26 -> 15 | F24: =MIN(120,E24) -> 15 | G24: kWh | H24: =MIN(180,E24-F24) -> 0 | I24: kWh | J24: =E24-F24-H24 -> 0 | K24: kWh | L24: =F24+H24+J24 -> 15 | Q24: 上半期計 | R24: =R14+R22 -> 90
B25: 単 価
B26: 金 額 | E26: kWh | Q26: １０月 | R26: 15
A27: １１月 | B27: 予定数量 | C27: =$C$6 -> 20 | D27: =$D$6 -> A | E27: =R28 -> 15 | F27: =MIN(120,E27) -> 15 | G27: kWh | H27: =MIN(180,E27-F27) -> 0 | I27: kWh | J27: =E27-F27-H27 -> 0 | K27: kWh | L27: =F27+H27+J27 -> 15
B28: 単 価 | Q28: １１月 | R28: 15
B29: 金 額 | E29: kWh
A30: １２月 | B30: 予定数量 | C30: =$C$6 -> 20 | D30: =$D$6 -> A | E30: =R30 -> 15 | F30: =MIN(120,E30) -> 15 | G30: kWh | H30: =MIN(180,E30-F30) -> 0 | I30: kWh | J30: =E30-F30-H30 -> 0 | K30: kWh | L30: =F30+H30+J30 -> 15 | Q30: １２月 | R30: 15
B31: 単 価
B32: 金 額 | E32: kWh | Q32: ３／四計 | R32: =R26+R28+R30 -> 45
A33: １月 | B33: 予定数量 | C33: =$C$6 -> 20 | D33: =$D$6 -> A | E33: =R34 -> 15 | F33: =MIN(120,E33) -> 15 | G33: kWh | H33: =MIN(180,E33-F33) -> 0 | I33: kWh | J33: =E33-F33-H33 -> 0 | K33: kWh | L33: =F33+H33+J33 -> 15
B34: 単 価 | Q34: 1月 | R34: 15
B35: 金 額 | E35: kWh
A36: ２月 | B36: 予定数量 | C36: =$C$6 -> 20 | D36: =$D$6 -> A | E36: =R36 -> 15 | F36: =MIN(120,E36) -> 15 | G36: kWh | H36: =MIN(180,E36-F36) -> 0 | I36: kWh | J36: =E36-F36-H36 -> 0 | K36: kWh | L36: =F36+H36+J36 -> 15 | Q36: ２月 | R36: 15
B37: 単 価
B38: 金 額 | E38: kWh | Q38: ３月 | R38: 15
A39: ３月 | B39: 予定数量 | C39: =$C$6 -> 20 | D39: =$D$6 -> A | E39: =R38 -> 15 | F39: =MIN(120,E39) -> 15 | G39: kWh | H39: =MIN(180,E39-F39) -> 0 | I39: kWh | J39: =E39-F39-H39 -> 0 | K39: kWh | L39: =F39+H39+J39 -> 15
B40: 単 価 | Q40: ４／四計 | R40: =R34+R36+R38 -> 45
...

Sheet 管理班電灯
O1: 属紙第２
A2: 細 部 需 要 場 所 別 内 訳
A3: グループ： | C3: 需要場所： | F3: ='（低圧）内訳'!$T$7 -> 管理班（電灯） | L3: 再生可能エネルギー比率
A4: 令和６年度 各月 | B4: 区 分 | C4: 基本料金 | E4: 電 力 量 料 金 | M4: 割引等 | N4: 再エネ付加 価値料金 | O4: 合 計 | R4: 管理班（電灯）
C5: 契約電力 | E5: 使用 計画料 | F5: 最初の 120kWhまで | H5: 120kWh超過 300kWhまで | J5: 300kWh 超過分 | L5: 計 | Q5: 項 目 | R5: 計画量
A6: ４月 | B6: 予定数量 | C6: ='（低圧）内訳'!U7 -> 60 | D6: ='（低圧）内訳'!V7 -> A | E6: 600 | F6: =MIN(120,E6) -> 120 | G6: kWh | H6: =MIN(180,E6-F6) -> 180 | I6: kWh | J6: =E6-F6-H6 -> 300 | K6: kWh | L6: =F6+H6+J6 -> 600 | O6: =SUM(C8,L8)-M6+N6 -> 0 | Q6: 月 | R6: kWh
B7: 単 価
B8: 金 額 | E8: kWh | L8: =SUM(F8:K8) -> 0 | Q8: ４月 | R8: 500
A9: ５月 | B9: 予定数量 | C9: =$C$6 -> 60 | D9: =$D$6 -> A | E9: 640 | F9: =MIN(120,E9) -> 120 | G9: kWh | H9: =MIN(180,E9-F9) -> 180 | I9: kWh | J9: =E9-F9-H9 -> 340 | K9: kWh | L9: =F9+H9+J9 -> 640
B10: 単 価 | Q10: ５月 | R10: 550
B11: 金 額 | E11: kWh
A12: ６月 | B12: 予定数量 | C12: =$C$6 -> 60 | D12: =$D$6 -> A | E12: 580 | F12: =MIN(120,E12) -> 120 | G12: kWh | H12: =MIN(180,E12-F12) -> 180 | I12: kWh | J12: =E12-F12-H12 -> 280 | K12: kWh | L12: =F12+H12+J12 -> 580 | Q12: ６月 | R12: 450
B13: 単 価
B14: 金 額 | E14: kWh | Q14: １／四計 | R14: =R8+R10+R12 -> 1500
A15: ７月 | B15: 予定数量 | C15: =$C$6 -> 60 | D15: =$D$6 -> A | E15: 575 | F15: =MIN(120,E15) -> 120 | G15: kWh | H15: =MIN(180,E15-F15) -> 180 | I15: kWh | J15: =E15-F15-H15 -> 275 | K15: kWh | L15: =F15+H15+J15 -> 575
B16: 単 価 | Q16: ７月 | R16: 700
B17: 金 額 | E17: kWh
A18: ８月 | B18: 予定数量 | C18: =$C$6 -> 60 | D18: =$D$6 -> A | E18: 550 | F18: =MIN(120,E18) -> 120 | G18: kWh | H18: =MIN(180,E18-F18) -> 180 | I18: kWh | J18: =E18-F18-H18 -> 250 | K18: kWh | L18: =F18+H18+J18 -> 550 | Q18: ８月 | R18: 550
B19: 単 価
B20: 金 額 | E20: kWh | Q20: ９月 | R20: 500
A21: ９月 | B21: 予定数量 | C21: =$C$6 -> 60 | D21: =$D$6 -> A | E21: 600 | F21: =MIN(120,E21) -> 120 | G21: kWh | H21: =MIN(180,E21-F21) -> 180 | I21: kWh | J21: =E21-F21-H21 -> 300 | K21: kWh | L21: =F21+H21+J21 -> 600
B22: 単 価 | Q22: ２／四計 | R22: =R16+R18+R20 -> 1750
B23: 金 額 | E23: kWh
A24: １０月 | B24: 予定数量 | C24: =$C$6 -> 60 | D24: =$D$6 -> A | E24: 770 | F24: =MIN(120,E24) -> 120 | G24: kWh | H24: =MIN(180,E24-F24) -> 180 | I24: kWh | J24: =E24-F24-H24 -> 470 | K24: kWh | L24: =F24+H24+J24 -> 770 | Q24: 上半期計 | R24: =R14+R22 -> 3250
B25: 単 価
B26: 金 額 | E26: kWh | Q26: １０月 | R26: 550
A27: １１月 | B27: 予定数量 | C27: =$C$6 -> 60 | D27: =$D$6 -> A | E27: =R28 -> 600 | F27: =MIN(120,E27) -> 120 | G27: kWh | H27: =MIN(180,E27-F27) -> 180 | I27: kWh | J27: =E27-F27-H27 -> 300 | K27: kWh | L27: =F27+H27+J27 -> 600
B28: 単 価 | Q28: １１月 | R28: 600
B29: 金 額 | E29: kWh
A30: １２月 | B30: 予定数量 | C30: =$C$6 -> 60 | D30: =$D$6 -> A | E30: =R30 -> 630 | F30: =MIN(120,E30) -> 120 | G30: kWh | H30: =MIN(180,E30-F30) -> 180 | I30: kWh | J30: =E30-F30-H30 -> 330 | K30: kWh | L30: =F30+H30+J30 -> 630 | Q30: １２月 | R30: 630
B31: 単 価
B32: 金 額 | E32: kWh | Q32: ３／四計 | R32: =R26+R28+R30 -> 1780
A33: １月 | B33: 予定数量 | C33: =$C$6 -> 60 | D33: =$D$6 -> A | E33: =R34 -> 570 | F33: =MIN(120,E33) -> 120 | G33: kWh | H33: =MIN(180,E33-F33) -> 180 | I33: kWh | J33: =E33-F33-H33 -> 270 | K33: kWh | L33: =F33+H33+J33 -> 570
B34: 単 価 | Q34: 1月 | R34: 570
B35: 金 額 | E35: kWh
A36: ２月 | B36: 予定数量 | C36: =$C$6 -> 60 | D36: =$D$6 -> A | E36: =R36 -> 600 | F36: =MIN(120,E36) -> 120 | G36: kWh | H36: =MIN(180,E36-F36) -> 180 | I36: kWh | J36: =E36-F36-H36 -> 300 | K36: kWh | L36: =F36+H36+J36 -> 600 | Q36: ２月 | R36: 600
B37: 単 価
B38: 金 額 | E38: kWh | Q38: ３月 | R38: 950
A39: ３月 | B39: 予定数量 | C39: =$C$6 -> 60 | D39: =$D$6 -> A | E39: =R38 -> 950 | F39: =MIN(120,E39) -> 120 | G39: kWh | H39: =MIN(180,E39-F39) -> 180 | I39: kWh | J39: =E39-F39-H39 -> 650 | K39: kWh | L39: =F39+H39+J39 -> 950
B40: 単 価 | Q40: ４／四計 | R40: =R34+R36+R38 -> 2120
...

Sheet 管理班動力
N1: 属紙第３
A2: 細 部 需 要 場 所 別 内 訳
A3: グループ： | C3: 需要場所： | G3: ='（低圧）内訳'!$T$8 -> 管理班（動力） | L3: 再生可能エネルギー比率
A4: 令和６年度 各月 | B4: 区 分 | C4: 基本料金 | G4: 電 力 量 料 金 | L4: 割引等 | M4: 再エネ付加 価値料金 | N4: 合 計 | Q4: 管理班（低圧動力）
C5: 契約電力 | E5: 力率 | F5: 小計 | G5: その他季 電力量 | I5: 夏季電力量 | K5: 計 | P5: 項 目 | Q5: 計画量
A6: ４月 | B6: 予定数量 | C6: ='（低圧）内訳'!U8 -> 6 | D6: ='（低圧）内訳'!V8 -> ｋW | E6: 0.9 | G6: =Q8 -> 600 | H6: kWh | J6: kWh | K6: =SUM(G6,I6) -> 600 | N6: =SUM(C8,K8)-L6+M6 -> 0 | P6: 月 | Q6: kWh
B7: 単 価
B8: 金 額 | K8: =SUM(G8:J8) -> 0 | P8: ４月 | Q8: 600
A9: ５月 | B9: 予定数量 | C9: =$C$6 -> 6 | D9: =$D$6 -> ｋW | E9: 0.9 | G9: =Q10 -> 520 | H9: kWh | J9: kWh | K9: =SUM(G9,I9) -> 520
B10: 単 価 | P10: ５月 | Q10: 520
B11: 金 額
A12: ６月 | B12: 予定数量 | C12: =$C$6 -> 6 | D12: =$D$6 -> ｋW | E12: 0.9 | G12: =Q12 -> 230 | H12: kWh | J12: kWh | K12: =SUM(G12,I12) -> 230 | P12: ６月 | Q12: 230
B13: 単 価
B14: 金 額 | P14: １／四計 | Q14: 1350
A15: ７月 | B15: 予定数量 | C15: =$C$6 -> 6 | D15: =$D$6 -> ｋW | E15: 0.9 | H15: kWh | I15: =Q16 -> 360 | J15: kWh | K15: =SUM(G15,I15) -> 360
B16: 単 価 | P16: ７月 | Q16: 360
B17: 金 額
A18: ８月 | B18: 予定数量 | C18: =$C$6 -> 6 | D18: =$D$6 -> ｋW | E18: 0.9 | H18: kWh | I18: =Q18 -> 320 | J18: kWh | K18: =SUM(G18,I18) -> 320 | P18: ８月 | Q18: 320
B19: 単 価
B20: 金 額 | P20: ９月 | Q20: 220
A21: ９月 | B21: 予定数量 | C21: =$C$6 -> 6 | D21: =$D$6 -> ｋW | E21: 0.9 | H21: kWh | I21: =Q20 -> 220 | J21: kWh | K21: =SUM(G21,I21) -> 220
B22: 単 価 | P22: ２／四計 | Q22: =Q16+Q18+Q20 -> 900
B23: 金 額
A24: １０月 | B24: 予定数量 | C24: =$C$6 -> 6 | D24: =$D$6 -> ｋW | E24: 0.9 | G24: =Q26 -> 450 | H24: kWh | J24: kWh | K24: =SUM(G24,I24) -> 450 | P24: 上半期計 | Q24: =Q14+Q22 -> 2250
B25: 単 価
B26: 金 額 | P26: １０月 | Q26: 450
A27: １１月 | B27: 予定数量 | C27: =$C$6 -> 6 | D27: =$D$6 -> ｋW | E27: 0.9 | G27: =Q28 -> 630 | H27: kWh | J27: kWh | K27: =SUM(G27,I27) -> 630
B28: 単 価 | P28: １１月 | Q28: 630
B29: 金 額
A30: １２月 | B30: 予定数量 | C30: =$C$6 -> 6 | D30: =$D$6 -> ｋW | E30: 0.9 | G30: =Q30 -> 1000 | H30: kWh | J30: kWh | K30: =SUM(G30,I30) -> 1000 | P30: １２月 | Q30: 1000
B31: 単 価
B32: 金 額 | P32: ３／四計 | Q32: =Q26+Q28+Q30 -> 2080
A33: １月 | B33: 予定数量 | C33: =$C$6 -> 6 | D33: =$D$6 -> ｋW | E33: 0.9 | G33: =Q34 -> 850 | H33: kWh | J33: kWh | K33: =SUM(G33,I33) -> 850
B34: 単 価 | P34: 1月 | Q34: 850
B35: 金 額
A36: ２月 | B36: 予定数量 | C36: =$C$6 -> 6 | D36: =$D$6 -> ｋW | E36: 0.9 | G36: =Q36 -> 720 | H36: kWh | J36: kWh | K36: =SUM(G36,I36) -> 720 | P36: ２月 | Q36: 720
B37: 単 価
B38: 金 額 | P38: ３月 | Q38: 900
A39: ３月 | B39: 予定数量 | C39: =$C$6 -> 6 | D39: =$D$6 -> ｋW | E39: 0.9 | G39: =Q38 -> 900 | H39: kWh | J39: kWh | K39: =SUM(G39,I39) -> 900
B40: 単 価 | P40: ４／四計 | Q40: =Q34+Q36+Q38 -> 2470
...

Sheet 演習場トイレ
O1: 属紙第４
A2: 細 部 需 要 場 所 別 内 訳
A3: グループ： | B3: Ｃ | C3: 需要場所： | F3: ='（低圧）内訳'!$T$11 -> 演習場トイレ | L3: 再生可能エネルギー比率
A4: 令和６年度 各月 | B4: 区 分 | C4: 基本料金 | E4: 電 力 量 料 金 | M4: 割引等 | N4: 再エネ付加 価値料金 | O4: 合 計 | R4: 演習場 トイレ
C5: 契約電力 | E5: 使用 計画料 | F5: 最初の 120kWhまで | H5: 120kWh超過 300kWhまで | J5: 300kWh 超過分 | L5: 計 | Q5: 項 目 | R5: 計画量
A6: ４月 | B6: 予定数量 | C6: ='（低圧）内訳'!U11 -> 30 | D6: ='（低圧）内訳'!V11 -> A | E6: =R8 -> 600 | F6: =MIN(120,E6) -> 120 | G6: kWh | H6: =MIN(180,E6-F6) -> 180 | I6: kWh | J6: =E6-F6-H6 -> 300 | K6: kWh | L6: =F6+H6+J6 -> 600 | O6: =SUM(C8,L8)-M6+N6 -> 0 | Q6: 月 | R6: kWh
B7: 単 価
B8: 金 額 | E8: kWh | L8: =SUM(F8:K8) -> 0 | Q8: ４月 | R8: 600
A9: ５月 | B9: 予定数量 | C9: =$C$6 -> 30 | D9: =$D$6 -> A | E9: =R10 -> 620 | F9: =MIN(120,E9) -> 120 | G9: kWh | H9: =MIN(180,E9-F9) -> 180 | I9: kWh | J9: =E9-F9-H9 -> 320 | K9: kWh | L9: =F9+H9+J9 -> 620
B10: 単 価 | Q10: ５月 | R10: 620
B11: 金 額 | E11: kWh
A12: ６月 | B12: 予定数量 | C12: =$C$6 -> 30 | D12: =$D$6 -> A | E12: =R12 -> 620 | F12: =MIN(120,E12) -> 120 | G12: kWh | H12: =MIN(180,E12-F12) -> 180 | I12: kWh | J12: =E12-F12-H12 -> 320 | K12: kWh | L12: =F12+H12+J12 -> 620 | Q12: ６月 | R12: 620
B13: 単 価
B14: 金 額 | E14: kWh | Q14: １／四計 | R14: =R8+R10+R12 -> 1840
A15: ７月 | B15: 予定数量 | C15: =$C$6 -> 30 | D15: =$D$6 -> A | E15: =R16 -> 600 | F15: =MIN(120,E15) -> 120 | G15: kWh | H15: =MIN(180,E15-F15) -> 180 | I15: kWh | J15: =E15-F15-H15 -> 300 | K15: kWh | L15: =F15+H15+J15 -> 600
B16: 単 価 | Q16: ７月 | R16: 600
B17: 金 額 | E17: kWh
A18: ８月 | B18: 予定数量 | C18: =$C$6 -> 30 | D18: =$D$6 -> A | E18: =R18 -> 600 | F18: =MIN(120,E18) -> 120 | G18: kWh | H18: =MIN(180,E18-F18) -> 180 | I18: kWh | J18: =E18-F18-H18 -> 300 | K18: kWh | L18: =F18+H18+J18 -> 600 | Q18: ８月 | R18: 600
B19: 単 価
B20: 金 額 | E20: kWh | Q20: ９月 | R20: 550
A21: ９月 | B21: 予定数量 | C21: =$C$6 -> 30 | D21: =$D$6 -> A | E21: =R20 -> 550 | F21: =MIN(120,E21) -> 120 | G21: kWh | H21: =MIN(180,E21-F21) -> 180 | I21: kWh | J21: =E21-F21-H21 -> 250 | K21: kWh | L21: =F21+H21+J21 -> 550
B22: 単 価 | Q22: ２／四計 | R22: =R16+R18+R20 -> 1750
B23: 金 額 | E23: kWh
A24: １０月 | B24: 予定数量 | C24: =$C$6 -> 30 | D24: =$D$6 -> A | E24: =R26 -> 550 | F24: =MIN(120,E24) -> 120 | G24: kWh | H24: =MIN(180,E24-F24) -> 180 | I24: kWh | J24: =E24-F24-H24 -> 250 | K24: kWh | L24: =F24+H24+J24 -> 550 | Q24: 上半期計 | R24: =R14+R22 -> 3590
B25: 単 価
B26: 金 額 | E26: kWh | Q26: １０月 | R26: 550
A27: １１月 | B27: 予定数量 | C27: =$C$6 -> 30 | D27: =$D$6 -> A | E27: =R28 -> 550 | F27: =MIN(120,E27) -> 120 | G27: kWh | H27: =MIN(180,E27-F27) -> 180 | I27: kWh | J27: =E27-F27-H27 -> 250 | K27: kWh | L27: =F27+H27+J27 -> 550
B28: 単 価 | Q28: １１月 | R28: 550
B29: 金 額 | E29: kWh
A30: １２月 | B30: 予定数量 | C30: =$C$6 -> 30 | D30: =$D$6 -> A | E30: =R30 -> 600 | F30: =MIN(120,E30) -> 120 | G30: kWh | H30: =MIN(180,E30-F30) -> 180 | I30: kWh | J30: =E30-F30-H30 -> 300 | K30: kWh | L30: =F30+H30+J30 -> 600 | Q30: １２月 | R30: 600
B31: 単 価
B32: 金 額 | E32: kWh | Q32: ３／四計 | R32: =R26+R28+R30 -> 1700
A33: １月 | B33: 予定数量 | C33: =$C$6 -> 30 | D33: =$D$6 -> A | E33: =R34 -> 600 | F33: =MIN(120,E33) -> 120 | G33: kWh | H33: =MIN(180,E33-F33) -> 180 | I33: kWh | J33: =E33-F33-H33 -> 300 | K33: kWh | L33: =F33+H33+J33 -> 600
B34: 単 価 | Q34: 1月 | R34: 600
B35: 金 額 | E35: kWh
A36: ２月 | B36: 予定数量 | C36: =$C$6 -> 30 | D36: =$D$6 -> A | E36: =R36 -> 600 | F36: =MIN(120,E36) -> 120 | G36: kWh | H36: =MIN(180,E36-F36) -> 180 | I36: kWh | J36: =E36-F36-H36 -> 300 | K36: kWh | L36: =F36+H36+J36 -> 600 | Q36: ２月 | R36: 600
B37: 単 価
B38: 金 額 | E38: kWh | Q38: ３月 | R38: 600
A39: ３月 | B39: 予定数量 | C39: =$C$6 -> 30 | D39: =$D$6 -> A | E39: =R38 -> 600 | F39: =MIN(120,E39) -> 120 | G39: kWh | H39: =MIN(180,E39-F39) -> 180 | I39: kWh | J39: =E39-F39-H39 -> 300 | K39: kWh | L39: =F39+H39+J39 -> 600
B40: 単 価 | Q40: ４／四計 | R40: =R34+R36+R38 -> 1800
...

Sheet 演習場１０１
O1: 属紙第５
A2: 細 部 需 要 場 所 別 内 訳
A3: グループ： | C3: 需要場所： | F3: ='（低圧）内訳'!T9 -> 演習場１０１ | L3: 再生可能エネルギー比率
A4: 令和６年度 各月 | B4: 区 分 | C4: 基本料金 | E4: 電 力 量 料 金 | M4: 割引等 | N4: 再エネ付加 価値料金 | O4: 合 計 | R4: 演習場 １０１
C5: 契約電力 | E5: 使用 計画料 | F5: 最初の 120kWhまで | H5: 120kWh超過 300kWhまで | J5: 300kWh 超過分 | L5: 計 | Q5: 項 目 | R5: 計画量
A6: ４月 | B6: 予定数量 | C6: ='（低圧）内訳'!U9 -> 40 | D6: ='（低圧）内訳'!V9 -> A | E6: =R8 -> 125 | F6: =MIN(120,E6) -> 120 | G6: kWh | H6: =MIN(180,E6-F6) -> 5 | I6: kWh | J6: =E6-F6-H6 -> 0 | K6: kWh | L6: =F6+H6+J6 -> 125 | O6: =SUM(C8,L8)-M6+N6 -> 0 | Q6: 月 | R6: kWh
B7: 単 価
B8: 金 額 | E8: kWh | L8: =SUM(F8:K8) -> 0 | Q8: ４月 | R8: 125
A9: ５月 | B9: 予定数量 | C9: =$C$6 -> 40 | D9: =$D$6 -> A | E9: =R10 -> 100 | F9: =MIN(120,E9) -> 100 | G9: kWh | H9: =MIN(180,E9-F9) -> 0 | I9: kWh | J9: =E9-F9-H9 -> 0 | K9: kWh | L9: =F9+H9+J9 -> 100
B10: 単 価 | Q10: ５月 | R10: 100
B11: 金 額 | E11: kWh
A12: ６月 | B12: 予定数量 | C12: =$C$6 -> 40 | D12: =$D$6 -> A | E12: =R12 -> 90 | F12: =MIN(120,E12) -> 90 | G12: kWh | H12: =MIN(180,E12-F12) -> 0 | I12: kWh | J12: =E12-F12-H12 -> 0 | K12: kWh | L12: =F12+H12+J12 -> 90 | Q12: ６月 | R12: 90
B13: 単 価
B14: 金 額 | E14: kWh | Q14: １／四計 | R14: =R8+R10+R12 -> 315
A15: ７月 | B15: 予定数量 | C15: =$C$6 -> 40 | D15: =$D$6 -> A | E15: =R16 -> 95 | F15: =MIN(120,E15) -> 95 | G15: kWh | H15: =MIN(180,E15-F15) -> 0 | I15: kWh | J15: =E15-F15-H15 -> 0 | K15: kWh | L15: =F15+H15+J15 -> 95
B16: 単 価 | Q16: ７月 | R16: 95
B17: 金 額 | E17: kWh
A18: ８月 | B18: 予定数量 | C18: =$C$6 -> 40 | D18: =$D$6 -> A | E18: =R18 -> 94 | F18: =MIN(120,E18) -> 94 | G18: kWh | H18: =MIN(180,E18-F18) -> 0 | I18: kWh | J18: =E18-F18-H18 -> 0 | K18: kWh | L18: =F18+H18+J18 -> 94 | Q18: ８月 | R18: 94
B19: 単 価
B20: 金 額 | E20: kWh | Q20: ９月 | R20: 100
A21: ９月 | B21: 予定数量 | C21: =$C$6 -> 40 | D21: =$D$6 -> A | E21: =R20 -> 100 | F21: =MIN(120,E21) -> 100 | G21: kWh | H21: =MIN(180,E21-F21) -> 0 | I21: kWh | J21: =E21-F21-H21 -> 0 | K21: kWh | L21: =F21+H21+J21 -> 100
B22: 単 価 | Q22: ２／四計 | R22: 289
B23: 金 額 | E23: kWh
A24: １０月 | B24: 予定数量 | C24: =$C$6 -> 40 | D24: =$D$6 -> A | E24: =R26 -> 110 | F24: =MIN(120,E24) -> 110 | G24: kWh | H24: =MIN(180,E24-F24) -> 0 | I24: kWh | J24: =E24-F24-H24 -> 0 | K24: kWh | L24: =F24+H24+J24 -> 110 | Q24: 上半期計 | R24: =R14+R22 -> 604
B25: 単 価
B26: 金 額 | E26: kWh | Q26: １０月 | R26: 110
A27: １１月 | B27: 予定数量 | C27: =$C$6 -> 40 | D27: =$D$6 -> A | E27: =R28 -> 120 | F27: =MIN(120,E27) -> 120 | G27: kWh | H27: =MIN(180,E27-F27) -> 0 | I27: kWh | J27: =E27-F27-H27 -> 0 | K27: kWh | L27: =F27+H27+J27 -> 120
B28: 単 価 | Q28: １１月 | R28: 120
B29: 金 額 | E29: kWh
A30: １２月 | B30: 予定数量 | C30: =$C$6 -> 40 | D30: =$D$6 -> A | E30: =R30 -> 300 | F30: =MIN(120,E30) -> 120 | G30: kWh | H30: =MIN(180,E30-F30) -> 180 | I30: kWh | J30: =E30-F30-H30 -> 0 | K30: kWh | L30: =F30+H30+J30 -> 300 | Q30: １２月 | R30: 300
B31: 単 価
B32: 金 額 | E32: kWh | Q32: ３／四計 | R32: =R26+R28+R30 -> 530
A33: １月 | B33: 予定数量 | C33: =$C$6 -> 40 | D33: =$D$6 -> A | E33: =R34 -> 190 | F33: =MIN(120,E33) -> 120 | G33: kWh | H33: =MIN(180,E33-F33) -> 70 | I33: kWh | J33: =E33-F33-H33 -> 0 | K33: kWh | L33: =F33+H33+J33 -> 190
B34: 単 価 | Q34: 1月 | R34: 190
B35: 金 額 | E35: kWh
A36: ２月 | B36: 予定数量 | C36: =$C$6 -> 40 | D36: =$D$6 -> A | E36: =R36 -> 190 | F36: =MIN(120,E36) -> 120 | G36: kWh | H36: =MIN(180,E36-F36) -> 70 | I36: kWh | J36: =E36-F36-H36 -> 0 | K36: kWh | L36: =F36+H36+J36 -> 190 | Q36: ２月 | R36: 190
B37: 単 価
B38: 金 額 | E38: kWh | Q38: ３月 | R38: 200
A39: ３月 | B39: 予定数量 | C39: =$C$6 -> 40 | D39: =$D$6 -> A | E39: =R38 -> 200 | F39: =MIN(120,E39) -> 120 | G39: kWh | H39: =MIN(180,E39-F39) -> 80 | I39: kWh | J39: =E39-F39-H39 -> 0 | K39: kWh | L39: =F39+H39+J39 -> 200
B40: 単 価 | Q40: ４／四計 | R40: =R34+R36+R38 -> 580
...

Sheet 演習場１０４
O1: 属紙第６
A2: 細 部 需 要 場 所 別 内 訳
A3: グループ： | C3: 需要場所： | F3: ='（低圧）内訳'!$T$10 -> 演習場１０４ | L3: 再生可能エネルギー比率
A4: 令和６年度 各月 | B4: 区 分 | C4: 基本料金 | E4: 電 力 量 料 金 | M4: 割引等 | N4: 再エネ付加 価値料金 | O4: 合 計 | R4: 演習場 １０４
C5: 契約電力 | E5: 使用 計画料 | F5: 最初の 120kWhまで | H5: 120kWh超過 300kWhまで | J5: 300kWh 超過分 | L5: 計 | Q5: 項 目 | R5: 計画量
A6: ４月 | B6: 予定数量 | C6: ='（低圧）内訳'!U10 -> 30 | D6: ='（低圧）内訳'!V10 -> A | E6: =R8 -> 110 | F6: =MIN(120,E6) -> 110 | G6: kWh | H6: =MIN(180,E6-F6) -> 0 | I6: kWh | J6: =E6-F6-H6 -> 0 | K6: kWh | L6: =F6+H6+J6 -> 110 | O6: =SUM(C8,L8)-M6+N6 -> 0 | Q6: 月 | R6: kWh
B7: 単 価
B8: 金 額 | E8: kWh | L8: =SUM(F8:K8) -> 0 | Q8: ４月 | R8: 110
A9: ５月 | B9: 予定数量 | C9: =$C$6 -> 30 | D9: =$D$6 -> A | E9: =R10 -> 80 | F9: =MIN(120,E9) -> 80 | G9: kWh | H9: =MIN(180,E9-F9) -> 0 | I9: kWh | J9: =E9-F9-H9 -> 0 | K9: kWh | L9: =F9+H9+J9 -> 80
B10: 単 価 | Q10: ５月 | R10: 80
B11: 金 額 | E11: kWh
A12: ６月 | B12: 予定数量 | C12: =$C$6 -> 30 | D12: =$D$6 -> A | E12: =R12 -> 65 | F12: =MIN(120,E12) -> 65 | G12: kWh | H12: =MIN(180,E12-F12) -> 0 | I12: kWh | J12: =E12-F12-H12 -> 0 | K12: kWh | L12: =F12+H12+J12 -> 65 | Q12: ６月 | R12: 65
B13: 単 価
B14: 金 額 | E14: kWh | Q14: １／四計 | R14: =R8+R10+R12 -> 255
A15: ７月 | B15: 予定数量 | C15: =$C$6 -> 30 | D15: =$D$6 -> A | E15: =R16 -> 70 | F15: =MIN(120,E15) -> 70 | G15: kWh | H15: =MIN(180,E15-F15) -> 0 | I15: kWh | J15: =E15-F15-H15 -> 0 | K15: kWh | L15: =F15+H15+J15 -> 70
B16: 単 価 | Q16: ７月 | R16: 70
B17: 金 額 | E17: kWh
A18: ８月 | B18: 予定数量 | C18: =$C$6 -> 30 | D18: =$D$6 -> A | E18: =R18 -> 948 | F18: =MIN(120,E18) -> 120 | G18: kWh | H18: =MIN(180,E18-F18) -> 180 | I18: kWh | J18: =E18-F18-H18 -> 648 | K18: kWh | L18: =F18+H18+J18 -> 948 | Q18: ８月 | R18: 948
B19: 単 価
B20: 金 額 | E20: kWh | Q20: ９月 | R20: 100
A21: ９月 | B21: 予定数量 | C21: =$C$6 -> 30 | D21: =$D$6 -> A | E21: =R20 -> 100 | F21: =MIN(120,E21) -> 100 | G21: kWh | H21: =MIN(180,E21-F21) -> 0 | I21: kWh | J21: =E21-F21-H21 -> 0 | K21: kWh | L21: =F21+H21+J21 -> 100
B22: 単 価 | Q22: ２／四計 | R22: =R16+R18+R20 -> 1118
B23: 金 額 | E23: kWh
A24: １０月 | B24: 予定数量 | C24: =$C$6 -> 30 | D24: =$D$6 -> A | E24: =R26 -> 85 | F24: =MIN(120,E24) -> 85 | G24: kWh | H24: =MIN(180,E24-F24) -> 0 | I24: kWh | J24: =E24-F24-H24 -> 0 | K24: kWh | L24: =F24+H24+J24 -> 85 | Q24: 上半期計 | R24: =R14+R22 -> 1373
B25: 単 価
B26: 金 額 | E26: kWh | Q26: １０月 | R26: 85
A27: １１月 | B27: 予定数量 | C27: =$C$6 -> 30 | D27: =$D$6 -> A | E27: =R28 -> 120 | F27: =MIN(120,E27) -> 120 | G27: kWh | H27: =MIN(180,E27-F27) -> 0 | I27: kWh | J27: =E27-F27-H27 -> 0 | K27: kWh | L27: =F27+H27+J27 -> 120
B28: 単 価 | Q28: １１月 | R28: 120
B29: 金 額 | E29: kWh
A30: １２月 | B30: 予定数量 | C30: =$C$6 -> 30 | D30: =$D$6 -> A | E30: =R30 -> 210 | F30: =MIN(120,E30) -> 120 | G30: kWh | H30: =MIN(180,E30-F30) -> 90 | I30: kWh | J30: =E30-F30-H30 -> 0 | K30: kWh | L30: =F30+H30+J30 -> 210 | Q30: １２月 | R30: 210
B31: 単 価
B32: 金 額 | E32: kWh | Q32: ３／四計 | R32: =R26+R28+R30 -> 415
A33: １月 | B33: 予定数量 | C33: =$C$6 -> 30 | D33: =$D$6 -> A | E33: =R34 -> 160 | F33: =MIN(120,E33) -> 120 | G33: kWh | H33: =MIN(180,E33-F33) -> 40 | I33: kWh | J33: =E33-F33-H33 -> 0 | K33: kWh | L33: =F33+H33+J33 -> 160
B34: 単 価 | Q34: 1月 | R34: 160
B35: 金 額 | E35: kWh
A36: ２月 | B36: 予定数量 | C36: =$C$6 -> 30 | D36: =$D$6 -> A | E36: =R36 -> 160 | F36: =MIN(120,E36) -> 120 | G36: kWh | H36: =MIN(180,E36-F36) -> 40 | I36: kWh | J36: =E36-F36-H36 -> 0 | K36: kWh | L36: =F36+H36+J36 -> 160 | Q36: ２月 | R36: 160
B37: 単 価
B38: 金 額 | E38: kWh | Q38: ３月 | R38: 120
A39: ３月 | B39: 予定数量 | C39: =$C$6 -> 30 | D39: =$D$6 -> A | E39: =R38 -> 120 | F39: =MIN(120,E39) -> 120 | G39: kWh | H39: =MIN(180,E39-F39) -> 0 | I39: kWh | J39: =E39-F39-H39 -> 0 | K39: kWh | L39: =F39+H39+J39 -> 120
B40: 単 価 | Q40: ４／四計 | R40: =R34+R36+R38 -> 440
...

Sheet 演習場１０５
O1: 属紙第７
A2: 細 部 需 要 場 所 別 内 訳
A3: グループ： | C3: 需要場所： | F3: ='（低圧）内訳'!$T$12 -> 演習場１０５ | L3: 再生可能エネルギー比率
A4: 令和６年度 各月 | B4: 区 分 | C4: 基本料金 | E4: 電 力 量 料 金 | M4: 割引等 | N4: 再エネ付加 価値料金 | O4: 合 計 | R4: 演習場 １０５
C5: 契約電力 | E5: 使用 計画料 | F5: 最初の 120kWhまで | H5: 120kWh超過 300kWhまで | J5: 300kWh 超過分 | L5: 計 | Q5: 項 目 | R5: 計画量
A6: ４月 | B6: 予定数量 | C6: ='（低圧）内訳'!U12 -> 30 | D6: ='（低圧）内訳'!V12 -> A | E6: =R8 -> 85 | F6: =MIN(120,E6) -> 85 | G6: kWh | H6: =MIN(180,E6-F6) -> 0 | I6: kWh | J6: =E6-F6-H6 -> 0 | K6: kWh | L6: =F6+H6+J6 -> 85 | O6: =SUM(C8,L8)-M6+N6 -> 0 | Q6: 月 | R6: kWh
B7: 単 価
B8: 金 額 | E8: kWh | L8: =SUM(F8:K8) -> 0 | Q8: ４月 | R8: 85
A9: ５月 | B9: 予定数量 | C9: =$C$6 -> 30 | D9: =$D$6 -> A | E9: =R10 -> 70 | F9: =MIN(120,E9) -> 70 | G9: kWh | H9: =MIN(180,E9-F9) -> 0 | I9: kWh | J9: =E9-F9-H9 -> 0 | K9: kWh | L9: =F9+H9+J9 -> 70
B10: 単 価 | Q10: ５月 | R10: 70
B11: 金 額 | E11: kWh
A12: ６月 | B12: 予定数量 | C12: =$C$6 -> 30 | D12: =$D$6 -> A | E12: =R12 -> 60 | F12: =MIN(120,E12) -> 60 | G12: kWh | H12: =MIN(180,E12-F12) -> 0 | I12: kWh | J12: =E12-F12-H12 -> 0 | K12: kWh | L12: =F12+H12+J12 -> 60 | Q12: ６月 | R12: 60
B13: 単 価
B14: 金 額 | E14: kWh | Q14: １／四計 | R14: =R8+R10+R12 -> 215
A15: ７月 | B15: 予定数量 | C15: =$C$6 -> 30 | D15: =$D$6 -> A | E15: =R16 -> 60 | F15: =MIN(120,E15) -> 60 | G15: kWh | H15: =MIN(180,E15-F15) -> 0 | I15: kWh | J15: =E15-F15-H15 -> 0 | K15: kWh | L15: =F15+H15+J15 -> 60
B16: 単 価 | Q16: ７月 | R16: 60
B17: 金 額 | E17: kWh
A18: ８月 | B18: 予定数量 | C18: =$C$6 -> 30 | D18: =$D$6 -> A | E18: =R18 -> 60 | F18: =MIN(120,E18) -> 60 | G18: kWh | H18: =MIN(180,E18-F18) -> 0 | I18: kWh | J18: =E18-F18-H18 -> 0 | K18: kWh | L18: =F18+H18+J18 -> 60 | Q18: ８月 | R18: 60
B19: 単 価
B20: 金 額 | E20: kWh | Q20: ９月 | R20: 80
A21: ９月 | B21: 予定数量 | C21: =$C$6 -> 30 | D21: =$D$6 -> A | E21: =R20 -> 80 | F21: =MIN(120,E21) -> 80 | G21: kWh | H21: =MIN(180,E21-F21) -> 0 | I21: kWh | J21: =E21-F21-H21 -> 0 | K21: kWh | L21: =F21+H21+J21 -> 80
B22: 単 価 | Q22: ２／四計 | R22: =R16+R18+R20 -> 200
B23: 金 額 | E23: kWh
A24: １０月 | B24: 予定数量 | C24: =$C$6 -> 30 | D24: =$D$6 -> A | E24: =R26 -> 80 | F24: =MIN(120,E24) -> 80 | G24: kWh | H24: =MIN(180,E24-F24) -> 0 | I24: kWh | J24: =E24-F24-H24 -> 0 | K24: kWh | L24: =F24+H24+J24 -> 80 | Q24: 上半期計 | R24: =R14+R22 -> 415
B25: 単 価
B26: 金 額 | E26: kWh | Q26: １０月 | R26: 80
A27: １１月 | B27: 予定数量 | C27: =$C$6 -> 30 | D27: =$D$6 -> A | E27: =R28 -> 80 | F27: =MIN(120,E27) -> 80 | G27: kWh | H27: =MIN(180,E27-F27) -> 0 | I27: kWh | J27: =E27-F27-H27 -> 0 | K27: kWh | L27: =F27+H27+J27 -> 80
B28: 単 価 | Q28: １１月 | R28: 80
B29: 金 額 | E29: kWh
A30: １２月 | B30: 予定数量 | C30: =$C$6 -> 30 | D30: =$D$6 -> A | E30: =R30 -> 170 | F30: =MIN(120,E30) -> 120 | G30: kWh | H30: =MIN(180,E30-F30) -> 50 | I30: kWh | J30: =E30-F30-H30 -> 0 | K30: kWh | L30: =F30+H30+J30 -> 170 | Q30: １２月 | R30: 170
B31: 単 価
B32: 金 額 | E32: kWh | Q32: ３／四計 | R32: =R26+R28+R30 -> 330
A33: １月 | B33: 予定数量 | C33: =$C$6 -> 30 | D33: =$D$6 -> A | E33: =R34 -> 130 | F33: =MIN(120,E33) -> 120 | G33: kWh | H33: =MIN(180,E33-F33) -> 10 | I33: kWh | J33: =E33-F33-H33 -> 0 | K33: kWh | L33: =F33+H33+J33 -> 130
B34: 単 価 | Q34: 1月 | R34: 130
B35: 金 額 | E35: kWh
A36: ２月 | B36: 予定数量 | C36: =$C$6 -> 30 | D36: =$D$6 -> A | E36: =R36 -> 130 | F36: =MIN(120,E36) -> 120 | G36: kWh | H36: =MIN(180,E36-F36) -> 10 | I36: kWh | J36: =E36-F36-H36 -> 0 | K36: kWh | L36: =F36+H36+J36 -> 130 | Q36: ２月 | R36: 130
B37: 単 価
B38: 金 額 | E38: kWh | Q38: ３月 | R38: 100
A39: ３月 | B39: 予定数量 | C39: =$C$6 -> 30 | D39: =$D$6 -> A | E39: =R38 -> 100 | F39: =MIN(120,E39) -> 100 | G39: kWh | H39: =MIN(180,E39-F39) -> 0 | I39: kWh | J39: =E39-F39-H39 -> 0 | K39: kWh | L39: =F39+H39+J39 -> 100
B40: 単 価 | Q40: ４／四計 | R40: =R34+R36+R38 -> 360
...

Sheet 笠置原サイレン
N1: 属紙第８
A2: 細 部 需 要 場 所 別 内 訳
A3: グループ： | C3: 需要場所： | G3: ='（低圧）内訳'!$T$15 -> 笠置原サイレン | L3: 再生可能エネルギー比率
A4: 令和６年度 各月 | B4: 区 分 | C4: 基本料金 | G4: 電 力 量 料 金 | L4: 割引等 | M4: 再エネ付加 価値料金 | N4: 合 計 | P4: 場 所 | Q4: 笠置原サイレン
C5: 契約電力 | E5: 力率 | F5: 小計 | G5: その他季 電力量 | I5: 夏季電力量 | K5: 計 | P5: 項 目 | Q5: 計画量
A6: ４月 | B6: 予定数量 | C6: ='（低圧）内訳'!U15 -> 5 | D6: ='（低圧）内訳'!V15 -> kW | E6: 0.85 | G6: ０ | H6: kWh | I6: ０ | J6: kWh | K6: =SUM(G6,I6) -> 0 | N6: =SUM(C8,K8)-L6+M6 -> 0 | P6: 月 | Q6: kWh
B7: 単 価
B8: 金 額 | K8: =SUM(G8:J8) -> 0 | P8: ４月
A9: ５月 | B9: 予定数量 | C9: =$C$6 -> 5 | D9: =$D$6 -> kW | E9: =$E$6 -> 0.85 | G9: ０ | H9: kWh | I9: ０ | J9: kWh | K9: =SUM(G9,I9) -> 0
B10: 単 価 | P10: ５月
B11: 金 額
A12: ６月 | B12: 予定数量 | C12: =$C$6 -> 5 | D12: =$D$6 -> kW | E12: =$E$6 -> 0.85 | G12: ０ | H12: kWh | I12: ０ | J12: kWh | K12: =SUM(G12,I12) -> 0 | P12: ６月
B13: 単 価
B14: 金 額 | P14: １／四計 | Q14: =Q8+Q10+Q12 -> 0
A15: ７月 | B15: 予定数量 | C15: =$C$6 -> 5 | D15: =$D$6 -> kW | E15: =$E$6 -> 0.85 | G15: ０ | H15: kWh | I15: ０ | J15: kWh | K15: =SUM(G15,I15) -> 0
B16: 単 価 | P16: ７月
B17: 金 額
A18: ８月 | B18: 予定数量 | C18: =$C$6 -> 5 | D18: =$D$6 -> kW | E18: =$E$6 -> 0.85 | G18: ０ | H18: kWh | I18: ０ | J18: kWh | K18: =SUM(G18,I18) -> 0 | P18: ８月
B19: 単 価
B20: 金 額 | P20: ９月
A21: ９月 | B21: 予定数量 | C21: =$C$6 -> 5 | D21: =$D$6 -> kW | E21: =$E$6 -> 0.85 | G21: ０ | H21: kWh | I21: ０ | J21: kWh | K21: =SUM(G21,I21) -> 0
B22: 単 価 | P22: ２／四計 | Q22: =Q16+Q18+Q20 -> 0
B23: 金 額
A24: １０月 | B24: 予定数量 | C24: =$C$6 -> 5 | D24: =$D$6 -> kW | E24: =$E$6 -> 0.85 | G24: ０ | H24: kWh | I24: ０ | J24: kWh | K24: =SUM(G24,I24) -> 0 | P24: 上半期計 | Q24: =Q22+Q14 -> 0
B25: 単 価
B26: 金 額 | P26: １０月
A27: １１月 | B27: 予定数量 | C27: =$C$6 -> 5 | D27: =$D$6 -> kW | E27: =$E$6 -> 0.85 | G27: ０ | H27: kWh | I27: ０ | J27: kWh | K27: =SUM(G27,I27) -> 0
B28: 単 価 | P28: １１月
B29: 金 額
A30: １２月 | B30: 予定数量 | C30: =$C$6 -> 5 | D30: =$D$6 -> kW | E30: =$E$6 -> 0.85 | G30: ０ | H30: kWh | I30: ０ | J30: kWh | K30: =SUM(G30,I30) -> 0 | P30: １２月
B31: 単 価
B32: 金 額 | P32: ３／四計 | Q32: =Q26+Q28+Q30 -> 0
A33: １月 | B33: 予定数量 | C33: =$C$6 -> 5 | D33: =$D$6 -> kW | E33: =$E$6 -> 0.85 | G33: ０ | H33: kWh | I33: ０ | J33: kWh | K33: =SUM(G33,I33) -> 0
B34: 単 価 | P34: 1月
B35: 金 額
A36: ２月 | B36: 予定数量 | C36: =$C$6 -> 5 | D36: =$D$6 -> kW | E36: =$E$6 -> 0.85 | G36: ０ | H36: kWh | I36: ０ | J36: kWh | K36: =SUM(G36,I36) -> 0 | P36: ２月
B37: 単 価
B38: 金 額 | P38: ３月
A39: ３月 | B39: 予定数量 | C39: =$C$6 -> 5 | D39: =$D$6 -> kW | E39: =$E$6 -> 0.85 | G39: ０ | H39: kWh | I39: ０ | J39: kWh | K39: =SUM(G39,I39) -> 0
B40: 単 価 | P40: ４／四計 | Q40: =Q34+Q36+Q38 -> 0
...

Sheet 尾内サイレン
N1: 属紙第９
A2: 細 部 需 要 場 所 別 内 訳
A3: グループ： | C3: 需要場所： | G3: ='（低圧）内訳'!$T$16 -> 尾内サイレン | L3: 再生可能エネルギー比率
A4: 令和６年度 各月 | B4: 区 分 | C4: 基本料金 | G4: 電 力 量 料 金 | L4: 割引等 | M4: 再エネ付加 価値料金 | N4: 合 計 | P4: 場 所 | Q4: 尾内サイレン
C5: 契約電力 | E5: 力率 | F5: 小計 | G5: その他季 電力量 | I5: 夏季電力量 | K5: 計 | P5: 項 目 | Q5: 計画量
A6: ４月 | B6: 予定数量 | C6: ='（低圧）内訳'!U16 -> 5 | D6: ='（低圧）内訳'!V16 -> kW | E6: 0.85 | G6: ０ | H6: kWh | I6: ０ | J6: kWh | K6: =SUM(G6,I6) -> 0 | N6: =SUM(C8,K8)-L6+M6 -> 0 | P6: 月 | Q6: kWh
B7: 単 価
B8: 金 額 | K8: =SUM(G8:J8) -> 0 | P8: ４月
A9: ５月 | B9: 予定数量 | C9: =$C$6 -> 5 | D9: =$D$6 -> kW | E9: =$E$6 -> 0.85 | G9: ０ | H9: kWh | I9: ０ | J9: kWh | K9: =SUM(G9,I9) -> 0
B10: 単 価 | P10: ５月
B11: 金 額
A12: ６月 | B12: 予定数量 | C12: =$C$6 -> 5 | D12: =$D$6 -> kW | E12: =$E$6 -> 0.85 | G12: ０ | H12: kWh | I12: ０ | J12: kWh | K12: =SUM(G12,I12) -> 0 | P12: ６月
B13: 単 価
B14: 金 額 | P14: １／四計 | Q14: 0
A15: ７月 | B15: 予定数量 | C15: =$C$6 -> 5 | D15: =$D$6 -> kW | E15: =$E$6 -> 0.85 | G15: ０ | H15: kWh | I15: ０ | J15: kWh | K15: =SUM(G15,I15) -> 0
B16: 単 価 | P16: ７月
B17: 金 額
A18: ８月 | B18: 予定数量 | C18: =$C$6 -> 5 | D18: =$D$6 -> kW | E18: =$E$6 -> 0.85 | G18: ０ | H18: kWh | I18: ０ | J18: kWh | K18: =SUM(G18,I18) -> 0 | P18: ８月
B19: 単 価
B20: 金 額 | P20: ９月
A21: ９月 | B21: 予定数量 | C21: =$C$6 -> 5 | D21: =$D$6 -> kW | E21: =$E$6 -> 0.85 | G21: ０ | H21: kWh | I21: ０ | J21: kWh | K21: =SUM(G21,I21) -> 0
B22: 単 価 | P22: ２／四計 | Q22: 0
B23: 金 額
A24: １０月 | B24: 予定数量 | C24: =$C$6 -> 5 | D24: =$D$6 -> kW | E24: =$E$6 -> 0.85 | G24: ０ | H24: kWh | I24: ０ | J24: kWh | K24: =SUM(G24,I24) -> 0 | P24: 上半期計 | Q24: 0
B25: 単 価
B26: 金 額 | P26: １０月
A27: １１月 | B27: 予定数量 | C27: =$C$6 -> 5 | D27: =$D$6 -> kW | E27: =$E$6 -> 0.85 | G27: ０ | H27: kWh | I27: ０ | J27: kWh | K27: =SUM(G27,I27) -> 0
B28: 単 価 | P28: １１月
B29: 金 額
A30: １２月 | B30: 予定数量 | C30: =$C$6 -> 5 | D30: =$D$6 -> kW | E30: =$E$6 -> 0.85 | G30: ０ | H30: kWh | I30: ０ | J30: kWh | K30: =SUM(G30,I30) -> 0 | P30: １２月
B31: 単 価
B32: 金 額 | P32: ３／四計 | Q32: 0
A33: １月 | B33: 予定数量 | C33: =$C$6 -> 5 | D33: =$D$6 -> kW | E33: =$E$6 -> 0.85 | G33: ０ | H33: kWh | I33: ０ | J33: kWh | K33: =SUM(G33,I33) -> 0
B34: 単 価 | P34: 1月
B35: 金 額
A36: ２月 | B36: 予定数量 | C36: =$C$6 -> 5 | D36: =$D$6 -> kW | E36: =$E$6 -> 0.85 | G36: ０ | H36: kWh | I36: ０ | J36: kWh | K36: =SUM(G36,I36) -> 0 | P36: ２月
B37: 単 価
B38: 金 額 | P38: ３月
A39: ３月 | B39: 予定数量 | C39: =$C$6 -> 5 | D39: =$D$6 -> kW | E39: =$E$6 -> 0.85 | G39: ０ | H39: kWh | I39: ０ | J39: kWh | K39: =SUM(G39,I39) -> 0
B40: 単 価 | P40: ４／四計 | Q40: 0
...

Sheet 演習場１０６
O1: 属紙第１０
A2: 細 部 需 要 場 所 別 内 訳
A3: グループ： | C3: 需要場所： | F3: ='（低圧）内訳'!$T$17 -> 演習場１０６ | L3: 再生可能エネルギー比率
A4: 令和６年度 各月 | B4: 区 分 | C4: 基本料金 | E4: 電 力 量 料 金 | M4: 割引等 | N4: 再エネ付加 価値料金 | O4: 合 計 | R4: 演習場 １０６
C5: 契約電力 | E5: 使用 計画料 | F5: 最初の 120kWhまで | H5: 120kWh超過 300kWhまで | J5: 300kWh 超過分 | L5: 計 | R5: 計画量
A6: ４月 | B6: 予定数量 | C6: ='（低圧）内訳'!U17 -> 20 | D6: ='（低圧）内訳'!V17 -> KVA | E6: =R8 -> 300 | F6: =MIN(120,E6) -> 120 | G6: kWh | H6: =MIN(180,E6-F6) -> 180 | I6: kWh | J6: =E6-F6-H6 -> 0 | K6: kWh | L6: =F6+H6+J6 -> 300 | O6: =SUM(C8,L8)-M6+N6 -> 0 | R6: kWh
B7: 単 価
B8: 金 額 | E8: kWh | L8: =SUM(F8:K8) -> 0 | R8: 300
A9: ５月 | B9: 予定数量 | C9: =$C$6 -> 20 | D9: =$D$6 -> KVA | E9: =R10 -> 230 | F9: =MIN(120,E9) -> 120 | G9: kWh | H9: =MIN(180,E9-F9) -> 110 | I9: kWh | J9: =E9-F9-H9 -> 0 | K9: kWh | L9: =F9+H9+J9 -> 230
B10: 単 価 | R10: 230
B11: 金 額 | E11: kWh
A12: ６月 | B12: 予定数量 | C12: =$C$6 -> 20 | D12: =$D$6 -> KVA | E12: =R12 -> 140 | F12: =MIN(120,E12) -> 120 | G12: kWh | H12: =MIN(180,E12-F12) -> 20 | I12: kWh | J12: =E12-F12-H12 -> 0 | K12: kWh | L12: =F12+H12+J12 -> 140 | R12: 140
B13: 単 価
B14: 金 額 | E14: kWh | R14: =R8+R10+R12 -> 670
A15: ７月 | B15: 予定数量 | C15: =$C$6 -> 20 | D15: =$D$6 -> KVA | E15: =R16 -> 170 | F15: =MIN(120,E15) -> 120 | G15: kWh | H15: =MIN(180,E15-F15) -> 50 | I15: kWh | J15: =E15-F15-H15 -> 0 | K15: kWh | L15: =F15+H15+J15 -> 170
B16: 単 価 | R16: 170
B17: 金 額 | E17: kWh
A18: ８月 | B18: 予定数量 | C18: =$C$6 -> 20 | D18: =$D$6 -> KVA | E18: =R18 -> 250 | F18: =MIN(120,E18) -> 120 | G18: kWh | H18: =MIN(180,E18-F18) -> 130 | I18: kWh | J18: =E18-F18-H18 -> 0 | K18: kWh | L18: =F18+H18+J18 -> 250 | R18: 250
B19: 単 価
B20: 金 額 | E20: kWh | R20: 160
A21: ９月 | B21: 予定数量 | C21: =$C$6 -> 20 | D21: =$D$6 -> KVA | E21: =R20 -> 160 | F21: =MIN(120,E21) -> 120 | G21: kWh | H21: =MIN(180,E21-F21) -> 40 | I21: kWh | J21: =E21-F21-H21 -> 0 | K21: kWh | L21: =F21+H21+J21 -> 160
B22: 単 価 | R22: =R16+R18+R20 -> 580
B23: 金 額 | E23: kWh
A24: １０月 | B24: 予定数量 | C24: =$C$6 -> 20 | D24: =$D$6 -> KVA | E24: =R26 -> 100 | F24: =MIN(120,E24) -> 100 | G24: kWh | H24: =MIN(180,E24-F24) -> 0 | I24: kWh | J24: =E24-F24-H24 -> 0 | K24: kWh | L24: =F24+H24+J24 -> 100 | R24: =R14+R22 -> 1250
B25: 単 価
B26: 金 額 | E26: kWh | R26: 100
A27: １１月 | B27: 予定数量 | C27: =$C$6 -> 20 | D27: =$D$6 -> KVA | E27: =R28 -> 200 | F27: =MIN(120,E27) -> 120 | G27: kWh | H27: =MIN(180,E27-F27) -> 80 | I27: kWh | J27: =E27-F27-H27 -> 0 | K27: kWh | L27: =F27+H27+J27 -> 200
B28: 単 価 | R28: 200
B29: 金 額 | E29: kWh
A30: １２月 | B30: 予定数量 | C30: =$C$6 -> 20 | D30: =$D$6 -> KVA | E30: =R30 -> 460 | F30: =MIN(120,E30) -> 120 | G30: kWh | H30: =MIN(180,E30-F30) -> 180 | I30: kWh | J30: =E30-F30-H30 -> 160 | K30: kWh | L30: =F30+H30+J30 -> 460 | R30: 460
B31: 単 価
B32: 金 額 | E32: kWh | R32: =R26+R28+R30 -> 760
A33: １月 | B33: 予定数量 | C33: =$C$6 -> 20 | D33: =$D$6 -> KVA | E33: =R34 -> 100 | F33: =MIN(120,E33) -> 100 | G33: kWh | H33: =MIN(180,E33-F33) -> 0 | I33: kWh | J33: =E33-F33-H33 -> 0 | K33: kWh | L33: =F33+H33+J33 -> 100
B34: 単 価 | R34: 100
B35: 金 額 | E35: kWh
A36: ２月 | B36: 予定数量 | C36: =$C$6 -> 20 | D36: =$D$6 -> KVA | E36: =R36 -> 350 | F36: =MIN(120,E36) -> 120 | G36: kWh | H36: =MIN(180,E36-F36) -> 180 | I36: kWh | J36: =E36-F36-H36 -> 50 | K36: kWh | L36: =F36+H36+J36 -> 350 | R36: 350
B37: 単 価
B38: 金 額 | E38: kWh | R38: 350
A39: ３月 | B39: 予定数量 | C39: =$C$6 -> 20 | D39: =$D$6 -> KVA | E39: =R38 -> 350 | F39: =MIN(120,E39) -> 120 | G39: kWh | H39: =MIN(180,E39-F39) -> 180 | I39: kWh | J39: =E39-F39-H39 -> 50 | K39: kWh | L39: =F39+H39+J39 -> 350
B40: 単 価 | R40: =R34+R36+R38 -> 800
...

Sheet 演習場１０９
O1: 属紙第１１
A2: 細 部 需 要 場 所 別 内 訳
A3: グループ： | C3: 需要場所： | F3: ='（低圧）内訳'!$T$18 -> 演習場１０９ | L3: 再生可能エネルギー比率
A4: 令和６年度 各月 | B4: 区 分 | C4: 基本料金 | E4: 電 力 量 料 金 | M4: 割引等 | N4: 再エネ付加 価値料金 | O4: 合 計 | R4: 演習場 １０９
C5: 契約電力 | E5: 使用 計画料 | F5: 最初の 120kWhまで | H5: 120kWh超過 300kWhまで | J5: 300kWh 超過分 | L5: 計 | R5: 計画量
A6: ４月 | B6: 予定数量 | C6: ='（低圧）内訳'!U18 -> 50 | D6: ='（低圧）内訳'!V18 -> A | E6: =R8 -> 180 | F6: =MIN(120,E6) -> 120 | G6: kWh | H6: =MIN(180,E6-F6) -> 60 | I6: kWh | J6: =E6-F6-H6 -> 0 | K6: kWh | L6: =F6+H6+J6 -> 180 | O6: =SUM(C8,L8)-M6+N6 -> 0 | R6: kWh
B7: 単 価
B8: 金 額 | E8: kWh | L8: =SUM(F8:K8) -> 0 | R8: 180
A9: ５月 | B9: 予定数量 | C9: =$C$6 -> 50 | D9: =$D$6 -> A | E9: =R10 -> 60 | F9: =MIN(120,E9) -> 60 | G9: kWh | H9: =MIN(180,E9-F9) -> 0 | I9: kWh | J9: =E9-F9-H9 -> 0 | K9: kWh | L9: =F9+H9+J9 -> 60
B10: 単 価 | R10: 60
B11: 金 額 | E11: kWh
A12: ６月 | B12: 予定数量 | C12: =$C$6 -> 50 | D12: =$D$6 -> A | E12: =R12 -> 10 | F12: =MIN(120,E12) -> 10 | G12: kWh | H12: =MIN(180,E12-F12) -> 0 | I12: kWh | J12: =E12-F12-H12 -> 0 | K12: kWh | L12: =F12+H12+J12 -> 10 | R12: 10
B13: 単 価
B14: 金 額 | E14: kWh | R14: =R8+R10+R12 -> 250
A15: ７月 | B15: 予定数量 | C15: =$C$6 -> 50 | D15: =$D$6 -> A | E15: =R16 -> 30 | F15: =MIN(120,E15) -> 30 | G15: kWh | H15: =MIN(180,E15-F15) -> 0 | I15: kWh | J15: =E15-F15-H15 -> 0 | K15: kWh | L15: =F15+H15+J15 -> 30
B16: 単 価 | R16: 30
B17: 金 額 | E17: kWh
A18: ８月 | B18: 予定数量 | C18: =$C$6 -> 50 | D18: =$D$6 -> A | E18: =R18 -> 50 | F18: =MIN(120,E18) -> 50 | G18: kWh | H18: =MIN(180,E18-F18) -> 0 | I18: kWh | J18: =E18-F18-H18 -> 0 | K18: kWh | L18: =F18+H18+J18 -> 50 | R18: 50
B19: 単 価
B20: 金 額 | E20: kWh | R20: 50
A21: ９月 | B21: 予定数量 | C21: =$C$6 -> 50 | D21: =$D$6 -> A | E21: =R20 -> 50 | F21: =MIN(120,E21) -> 50 | G21: kWh | H21: =MIN(180,E21-F21) -> 0 | I21: kWh | J21: =E21-F21-H21 -> 0 | K21: kWh | L21: =F21+H21+J21 -> 50
B22: 単 価 | R22: =R16+R18+R20 -> 130
B23: 金 額 | E23: kWh
A24: １０月 | B24: 予定数量 | C24: =$C$6 -> 50 | D24: =$D$6 -> A | E24: =R26 -> 60 | F24: =MIN(120,E24) -> 60 | G24: kWh | H24: =MIN(180,E24-F24) -> 0 | I24: kWh | J24: =E24-F24-H24 -> 0 | K24: kWh | L24: =F24+H24+J24 -> 60 | R24: =R14+R22 -> 380
B25: 単 価
B26: 金 額 | E26: kWh | R26: 60
A27: １１月 | B27: 予定数量 | C27: =$C$6 -> 50 | D27: =$D$6 -> A | E27: =R28 -> 60 | F27: =MIN(120,E27) -> 60 | G27: kWh | H27: =MIN(180,E27-F27) -> 0 | I27: kWh | J27: =E27-F27-H27 -> 0 | K27: kWh | L27: =F27+H27+J27 -> 60
B28: 単 価 | R28: 60
B29: 金 額 | E29: kWh
A30: １２月 | B30: 予定数量 | C30: =$C$6 -> 50 | D30: =$D$6 -> A | E30: =R30 -> 210 | F30: =MIN(120,E30) -> 120 | G30: kWh | H30: =MIN(180,E30-F30) -> 90 | I30: kWh | J30: =E30-F30-H30 -> 0 | K30: kWh | L30: =F30+H30+J30 -> 210 | R30: 210
B31: 単 価
B32: 金 額 | E32: kWh | R32: =R26+R28+R30 -> 330
A33: １月 | B33: 予定数量 | C33: =$C$6 -> 50 | D33: =$D$6 -> A | E33: =R34 -> 60 | F33: =MIN(120,E33) -> 60 | G33: kWh | H33: =MIN(180,E33-F33) -> 0 | I33: kWh | J33: =E33-F33-H33 -> 0 | K33: kWh | L33: =F33+H33+J33 -> 60
B34: 単 価 | R34: 60
B35: 金 額 | E35: kWh
A36: ２月 | B36: 予定数量 | C36: =$C$6 -> 50 | D36: =$D$6 -> A | E36: =R36 -> 60 | F36: =MIN(120,E36) -> 60 | G36: kWh | H36: =MIN(180,E36-F36) -> 0 | I36: kWh | J36: =E36-F36-H36 -> 0 | K36: kWh | L36: =F36+H36+J36 -> 60 | R36: 60
B37: 単 価
B38: 金 額 | E38: kWh | R38: 60
A39: ３月 | B39: 予定数量 | C39: =$C$6 -> 50 | D39: =$D$6 -> A | E39: =R38 -> 60 | F39: =MIN(120,E39) -> 60 | G39: kWh | H39: =MIN(180,E39-F39) -> 0 | I39: kWh | J39: =E39-F39-H39 -> 0 | K39: kWh | L39: =F39+H39+J39 -> 60
B40: 単 価 | R40: =R34+R36+R38 -> 180
...

Sheet 演習場１１０
O1: 属紙第１２
A2: 細 部 需 要 場 所 別 内 訳
A3: グループ： | C3: 需要場所： | F3: ='（低圧）内訳'!$T$19 -> 演習場１１０ | L3: 再生可能エネルギー比率
A4: 令和６年度 各月 | B4: 区 分 | C4: 基本料金 | E4: 電 力 量 料 金 | M4: 割引等 | N4: 再エネ付加 価値料金 | O4: 合 計 | R4: 演習場 １１０
C5: 契約電力 | E5: 使用 計画料 | F5: 最初の 120kWhまで | H5: 120kWh超過 300kWhまで | J5: 300kWh 超過分 | L5: 計 | R5: 計画量
A6: ４月 | B6: 予定数量 | C6: ='（低圧）内訳'!U19 -> 50 | D6: ='（低圧）内訳'!V19 -> A | E6: =R8 -> 70 | F6: =MIN(120,E6) -> 70 | G6: kWh | H6: =MIN(180,E6-F6) -> 0 | I6: kWh | J6: =E6-F6-H6 -> 0 | K6: kWh | L6: =F6+H6+J6 -> 70 | O6: =SUM(C8,L8)-M6+N6 -> 0 | R6: kWh
B7: 単 価
B8: 金 額 | E8: kWh | L8: =SUM(F8:K8) -> 0 | R8: 70
A9: ５月 | B9: 予定数量 | C9: =$C$6 -> 50 | D9: =$D$6 -> A | E9: =R10 -> 70 | F9: =MIN(120,E9) -> 70 | G9: kWh | H9: =MIN(180,E9-F9) -> 0 | I9: kWh | J9: =E9-F9-H9 -> 0 | K9: kWh | L9: =F9+H9+J9 -> 70
B10: 単 価 | R10: 70
B11: 金 額 | E11: kWh
A12: ６月 | B12: 予定数量 | C12: =$C$6 -> 50 | D12: =$D$6 -> A | E12: =R12 -> 70 | F12: =MIN(120,E12) -> 70 | G12: kWh | H12: =MIN(180,E12-F12) -> 0 | I12: kWh | J12: =E12-F12-H12 -> 0 | K12: kWh | L12: =F12+H12+J12 -> 70 | R12: 70
B13: 単 価
B14: 金 額 | E14: kWh | R14: =R8+R10+R12 -> 210
A15: ７月 | B15: 予定数量 | C15: =$C$6 -> 50 | D15: =$D$6 -> A | E15: =R16 -> 20 | F15: =MIN(120,E15) -> 20 | G15: kWh | H15: =MIN(180,E15-F15) -> 0 | I15: kWh | J15: =E15-F15-H15 -> 0 | K15: kWh | L15: =F15+H15+J15 -> 20
B16: 単 価 | R16: 20
B17: 金 額 | E17: kWh
A18: ８月 | B18: 予定数量 | C18: =$C$6 -> 50 | D18: =$D$6 -> A | E18: =R18 -> 40 | F18: =MIN(120,E18) -> 40 | G18: kWh | H18: =MIN(180,E18-F18) -> 0 | I18: kWh | J18: =E18-F18-H18 -> 0 | K18: kWh | L18: =F18+H18+J18 -> 40 | R18: 40
B19: 単 価
B20: 金 額 | E20: kWh | R20: 20
A21: ９月 | B21: 予定数量 | C21: =$C$6 -> 50 | D21: =$D$6 -> A | E21: =R20 -> 20 | F21: =MIN(120,E21) -> 20 | G21: kWh | H21: =MIN(180,E21-F21) -> 0 | I21: kWh | J21: =E21-F21-H21 -> 0 | K21: kWh | L21: =F21+H21+J21 -> 20
B22: 単 価 | R22: =R16+R18+R20 -> 80
B23: 金 額 | E23: kWh
A24: １０月 | B24: 予定数量 | C24: =$C$6 -> 50 | D24: =$D$6 -> A | E24: =R26 -> 70 | F24: =MIN(120,E24) -> 70 | G24: kWh | H24: =MIN(180,E24-F24) -> 0 | I24: kWh | J24: =E24-F24-H24 -> 0 | K24: kWh | L24: =F24+H24+J24 -> 70 | R24: =R14+R22 -> 290
B25: 単 価
B26: 金 額 | E26: kWh | R26: 70
A27: １１月 | B27: 予定数量 | C27: =$C$6 -> 50 | D27: =$D$6 -> A | E27: =R28 -> 70 | F27: =MIN(120,E27) -> 70 | G27: kWh | H27: =MIN(180,E27-F27) -> 0 | I27: kWh | J27: =E27-F27-H27 -> 0 | K27: kWh | L27: =F27+H27+J27 -> 70
B28: 単 価 | R28: 70
B29: 金 額 | E29: kWh
A30: １２月 | B30: 予定数量 | C30: =$C$6 -> 50 | D30: =$D$6 -> A | E30: =R30 -> 70 | F30: =MIN(120,E30) -> 70 | G30: kWh | H30: =MIN(180,E30-F30) -> 0 | I30: kWh | J30: =E30-F30-H30 -> 0 | K30: kWh | L30: =F30+H30+J30 -> 70 | R30: 70
B31: 単 価
B32: 金 額 | E32: kWh | R32: =R26+R28+R30 -> 210
A33: １月 | B33: 予定数量 | C33: =$C$6 -> 50 | D33: =$D$6 -> A | E33: =R34 -> 70 | F33: =MIN(120,E33) -> 70 | G33: kWh | H33: =MIN(180,E33-F33) -> 0 | I33: kWh | J33: =E33-F33-H33 -> 0 | K33: kWh | L33: =F33+H33+J33 -> 70
B34: 単 価 | R34: 70
B35: 金 額 | E35: kWh
A36: ２月 | B36: 予定数量 | C36: =$C$6 -> 50 | D36: =$D$6 -> A | E36: =R36 -> 70 | F36: =MIN(120,E36) -> 70 | G36: kWh | H36: =MIN(180,E36-F36) -> 0 | I36: kWh | J36: =E36-F36-H36 -> 0 | K36: kWh | L36: =F36+H36+J36 -> 70 | R36: 70
B37: 単 価
B38: 金 額 | E38: kWh | R38: 70
A39: ３月 | B39: 予定数量 | C39: =$C$6 -> 50 | D39: =$D$6 -> A | E39: =R38 -> 70 | F39: =MIN(120,E39) -> 70 | G39: kWh | H39: =MIN(180,E39-F39) -> 0 | I39: kWh | J39: =E39-F39-H39 -> 0 | K39: kWh | L39: =F39+H39+J39 -> 70
B40: 単 価 | R40: =R34+R36+R38 -> 210
...

Sheet 演習場１１１
O1: 属紙第１３
A2: 細 部 需 要 場 所 別 内 訳
A3: グループ： | C3: 需要場所： | F3: ='（低圧）内訳'!$T$20 -> 演習場１１１ | L3: 再生可能エネルギー比率
A4: 令和６年度 各月 | B4: 区 分 | C4: 基本料金 | E4: 電 力 量 料 金 | M4: 割引等 | N4: 再エネ付加 価値料金 | O4: 合 計 | R4: 演習場 １１１
C5: 契約電力 | E5: 使用 計画料 | F5: 最初の 120kWhまで | H5: 120kWh超過 300kWhまで | J5: 300kWh 超過分 | L5: 計 | R5: 計画量
A6: ４月 | B6: 予定数量 | C6: ='（低圧）内訳'!U20 -> 10 | D6: ='（低圧）内訳'!V20 -> KVA | E6: =R8 -> 290 | F6: =MIN(120,E6) -> 120 | G6: kWh | H6: =MIN(180,E6-F6) -> 170 | I6: kWh | J6: =E6-F6-H6 -> 0 | K6: kWh | L6: =F6+H6+J6 -> 290 | O6: =SUM(C8,L8)-M6+N6 -> 0 | R6: kWh
B7: 単 価
B8: 金 額 | E8: kWh | L8: =SUM(F8:K8) -> 0 | R8: 290
A9: ５月 | B9: 予定数量 | C9: =$C$6 -> 10 | D9: =$D$6 -> KVA | E9: =R10 -> 185 | F9: =MIN(120,E9) -> 120 | G9: kWh | H9: =MIN(180,E9-F9) -> 65 | I9: kWh | J9: =E9-F9-H9 -> 0 | K9: kWh | L9: =F9+H9+J9 -> 185
B10: 単 価 | R10: 185
B11: 金 額 | E11: kWh
A12: ６月 | B12: 予定数量 | C12: =$C$6 -> 10 | D12: =$D$6 -> KVA | E12: =R12 -> 165 | F12: =MIN(120,E12) -> 120 | G12: kWh | H12: =MIN(180,E12-F12) -> 45 | I12: kWh | J12: =E12-F12-H12 -> 0 | K12: kWh | L12: =F12+H12+J12 -> 165 | R12: 165
B13: 単 価
B14: 金 額 | E14: kWh | R14: =R8+R10+R12 -> 640
A15: ７月 | B15: 予定数量 | C15: =$C$6 -> 10 | D15: =$D$6 -> KVA | E15: =R16 -> 190 | F15: =MIN(120,E15) -> 120 | G15: kWh | H15: =MIN(180,E15-F15) -> 70 | I15: kWh | J15: =E15-F15-H15 -> 0 | K15: kWh | L15: =F15+H15+J15 -> 190
B16: 単 価 | R16: 190
B17: 金 額 | E17: kWh
A18: ８月 | B18: 予定数量 | C18: =$C$6 -> 10 | D18: =$D$6 -> KVA | E18: =R18 -> 220 | F18: =MIN(120,E18) -> 120 | G18: kWh | H18: =MIN(180,E18-F18) -> 100 | I18: kWh | J18: =E18-F18-H18 -> 0 | K18: kWh | L18: =F18+H18+J18 -> 220 | R18: 220
B19: 単 価
B20: 金 額 | E20: kWh | R20: 180
A21: ９月 | B21: 予定数量 | C21: =$C$6 -> 10 | D21: =$D$6 -> KVA | E21: =R20 -> 180 | F21: =MIN(120,E21) -> 120 | G21: kWh | H21: =MIN(180,E21-F21) -> 60 | I21: kWh | J21: =E21-F21-H21 -> 0 | K21: kWh | L21: =F21+H21+J21 -> 180
B22: 単 価 | R22: =R16+R18+R20 -> 590
B23: 金 額 | E23: kWh
