Workbook

Sheet 特定割当計画（駐屯地）
D8: 特定電源割当計画書様式例
R13: 令和 年 月 日
G15: 特 定 電 源 割 当 計 画 書
D17: 分任契約担当官
D18: 陸上自衛隊川内駐屯地
D19: 第３６４会計隊川内派遣隊長 福留 謙 殿
P20: ○○県○○市○○
P21: 株式会社○○○○
P22: 代表取締役 ○○ ○○
D24: 令和８年度に以下の通り陸上自衛隊川内駐屯地に電力を供給することを計画する。
D25: また、供給電源情報に記載の割当電力量に係る環境価値については、●●●●に移転する計画である。
D27: １ お客様情報
D28: お客様番号 | E28: ○○○○
D29: 需要施設名 | E29: 陸上自衛隊 川内駐屯地
D30: 需要施設住所 | E30: 鹿児島県薩摩川内市冷水町字上床５３９－２
D31: 契約電力 | E31: ５６９Kw
D33: ２ 供給期間
D34: 令和８年４月１日～令和９年３月３１日
D36: ３ 再生可能エネルギー由来電力量の情報（再エネ由来電力量の内訳は別紙のとおり）
D38: 区分 | E38: ４月 | F38: ５月 | H38: ６月 | I38: ７月 | J38: ８月 | K38: ９月 | L38: １０月 | M38: １１月 | N38: １２月 | O38: １月 | Q38: ２月 | R38: ３月 | S38: 累積
D39: 再エネ由来電力量
D40: （ｋＷｈ）【Ａ】
D41: 供給電力量
D42: （ｋＷｈ）【Ｂ】
D43: 再エネ比率
D44: （％）【Ａ／Ｂ】
D48: 【別紙】再生可能エネルギー由来電力量の内訳
D50: １ 再エネ電気
D51: 供給元発電所名 | G51: 住所 | K51: 再生可能エネルギー源種類 | P51: 割当電力量（ｋＷｈ）
D52: ○○発電所 | G52: ○○県○○市○○ | K52: 水力 | P52: ○○
K58: 合計（ｋＷｈ）
D60: ２ 証書による環境価値移転量 （環境価値を持つ証書を用いた電力メニューを提供する場合のみ記載）
D61: 供給元発電所名 | G61: 住所 | K61: 再生可能エネルギー源種類 | P61: 環境価値移転量
D62: ○○発電所 | G62: ○○県○○市○○ | K62: 太陽光 | P62: ○○
K68: 合計（ｋＷｈ）
P70: 総計（ｋＷｈ）
C74: ※計画作成時点において、供給元発電所等について未定である場合は、可能な範囲で細部について記載すること

Sheet 特定割当計画（演習場)
D8: 特定電源割当計画書様式例
R13: 令和 年 月 日
G15: 特 定 電 源 割 当 計 画 書
D17: 分任契約担当官
D18: 陸上自衛隊川内駐屯地
D19: 第３６４会計隊川内派遣隊長 福留 謙 殿
P20: ○○県○○市○○
P21: 株式会社○○○○
P22: 代表取締役 ○○ ○○
D24: 令和８年度に以下の通り陸上自衛隊川内演習場に電力を供給することを計画する。
D25: また、供給電源情報に記載の割当電力量に係る環境価値については、●●●●に移転する計画である。
D27: １ お客様情報
D28: お客様番号 | E28: ○○○○
D29: 需要施設名 | E29: 陸上自衛隊川内演習場
D30: 需要施設住所 | E30: 鹿児島県薩摩川内市宮里町字大谷２９７４―１７
D31: 契約電力 | E31: ３０A２か所
D33: ２ 供給期間
D34: 令和８年４月１日～令和９年３月３１日
D36: ３ 再生可能エネルギー由来電力量の情報（再エネ由来電力量の内訳は別紙のとおり）
D38: 区分 | E38: ４月 | F38: ５月 | H38: ６月 | I38: ７月 | J38: ８月 | K38: ９月 | L38: １０月 | M38: １１月 | N38: １２月 | O38: １月 | Q38: ２月 | R38: ３月 | S38: 累積
D39: 再エネ由来電力量
D40: （ｋＷｈ）【Ａ】
D41: 供給電力量
D42: （ｋＷｈ）【Ｂ】
D43: 再エネ比率
D44: （％）【Ａ／Ｂ】
D48: 【別紙】再生可能エネルギー由来電力量の内訳
D50: １ 再エネ電気
D51: 供給元発電所名 | G51: 住所 | K51: 再生可能エネルギー源種類 | P51: 割当電力量（ｋＷｈ）
D52: ○○発電所 | G52: ○○県○○市○○ | K52: 水力 | P52: ○○
K58: 合計（ｋＷｈ）
D60: ２ 証書による環境価値移転量 （環境価値を持つ証書を用いた電力メニューを提供する場合のみ記載）
D61: 供給元発電所名 | G61: 住所 | K61: 再生可能エネルギー源種類 | P61: 環境価値移転量
D62: ○○発電所 | G62: ○○県○○市○○ | K62: 太陽光 | P62: ○○
K68: 合計（ｋＷｈ）
P70: 総計（ｋＷｈ）
C74: ※計画作成時点において、供給元発電所等について未定である場合は、可能な範囲で細部について記載すること

Sheet 市場価格調査書Ａ
R1: 別紙
J2: 内訳書
A3: 市場価格調査書 | J3: (単位：円)
J4: 年 月 | K4: 区 分 | L4: 基 本 料 金 | N4: 電 力 量 料 金 | R4: 合 計
A5: 分任契約担当官 | L5: 常時電力 | M5: 計 | N5: 昼間電力量 | O5: 夜間電力量 | P5: ﾋﾟｰｸ時間電力量 | Q5: 計
A6: 陸上自衛隊国分駐屯地 | J6: 令和8年4月 | K6: 予定数量 | L6: 569 | M6: =L8 -> 0 | N6: 61000 | O6: 54000 | P6: 0 | Q6: =INT(N8+O8+P8) -> 0 | R6: =INT(M6+Q6) -> 0
A7: 第３６４会計隊川内派遣隊長 福留 謙 殿 | K7: 単価
K8: 総価 | L8: =L6*L7 -> 0 | N8: =N6*N7 -> 0 | O8: =O6*O7 -> 0 | P8: =P6*P7 -> 0
J9: 令和8年5月 | K9: 予定数量 | L9: =L6 -> 569 | M9: =L11 -> 0 | N9: 58000 | O9: 63000 | P9: 0 | Q9: =INT(N11+O11+P11) -> 0 | R9: =INT(M9+Q9) -> 0
A10: グループ区分 | C10: Ａ | K10: 単価
K11: 総価 | N11: =N9*N10 -> 0 | O11: =O9*O10 -> 0 | P11: =P9*P10 -> 0
A12: 件 名 | C12: 令和８年度川内駐屯地で使用する電気 | J12: 令和8年6月 | K12: 予定数量 | L12: =L9 -> 569 | M12: =L14 -> 0 | N12: 104000 | O12: 72000 | P12: 0 | Q12: =INT(N14+O14+P14) -> 0 | R12: =INT(M12+Q12) -> 0
K13: 単価
A14: 金 額 | C14: ￥ | K14: 総価 | L14: =L12*L13 -> 0 | N14: =N12*N13 -> 0 | O14: =O12*O13 -> 0 | P14: =P12*P13 -> 0
J15: 令和8年7月 | K15: 予定数量 | L15: =L12 -> 569 | M15: =L17 -> 0 | N15: 99000 | O15: 94000 | P15: 28000 | Q15: =INT(N17+O17+P17) -> 0 | R15: =INT(M15+Q15) -> 0
A16: 金額内訳 | C16: 別紙内訳書のとおり | K16: 単価
K17: 総価 | L17: =L15*L16 -> 0 | N17: =N15*N16 -> 0 | O17: =O15*O16 -> 0 | P17: =P15*P16 -> 0
A18: 納 期 | C18: 令和８年４月１日～令和９年３月３１日 | J18: 令和8年8月 | K18: 予定数量 | L18: =L15 -> 569 | M18: =L20 -> 0 | N18: 94000 | O18: 95000 | P18: 26000 | Q18: =INT(N20+O20+P20) -> 0 | R18: =INT(M18+Q18) -> 0
K19: 単価
A20: 納 地 | C20: 陸上自衛隊川内駐屯地 | K20: 総価 | L20: =L18*L19 -> 0 | N20: =N18*N19 -> 0 | O20: =O18*O19 -> 0 | P20: =P18*P19 -> 0
C21: 鹿児島県薩摩川内市冷水町字上床５３９－２ | J21: 令和8年9月 | K21: 予定数量 | L21: =L18 -> 569 | M21: =L23 -> 0 | N21: 88000 | O21: 87000 | P21: 25000 | Q21: =INT(N23+O23+P23) -> 0 | R21: =INT(M21+Q21) -> 0
K22: 単価
A23: ※提出期限：令和８年２月２４日（金）１７時まで | K23: 総価 | N23: =N21*N22 -> 0 | O23: =O21*O22 -> 0 | P23: =P21*P22 -> 0
J24: 令和8年10月 | K24: 予定数量 | L24: =L21 -> 569 | M24: =L26 -> 0 | N24: 95000 | O24: 70000 | P24: 0 | Q24: =INT(N26+O26+P26) -> 0 | R24: =INT(M24+Q24) -> 0
K25: 単価
K26: 総価 | L26: =L24*L25 -> 0 | N26: =N24*N25 -> 0 | O26: =O24*O25 -> 0 | P26: =P24*P25 -> 0
C27: （入札者） 住 所 | J27: 令和8年11月 | K27: 予定数量 | L27: =L24 -> 569 | M27: =L29 -> 0 | N27: 62000 | O27: 59000 | P27: 0 | Q27: =INT(N29+O29+P29) -> 0 | R27: =INT(M27+Q27) -> 0
E28: 会 社 名 | K28: 単価
E29: 代表者名 | K29: 総価 | L29: =L27*L28 -> 0 | N29: =N27*N28 -> 0 | O29: =O27*O28 -> 0 | P29: =P27*P28 -> 0
E30: 担当者名 | J30: 令和8年12月 | K30: 予定数量 | L30: =L27 -> 569 | M30: =L32 -> 0 | N30: 73000 | O30: 63000 | P30: 0 | Q30: =INT(N32+O32+P32) -> 0 | R30: =INT(M30+Q30) -> 0
E31: 連 絡 先 | K31: 単価
K32: 総価 | L32: =L30*L31 -> 0 | N32: =N30*N31 -> 0 | O32: =O30*O31 -> 0 | P32: =P30*P31 -> 0
J33: 令和9年1月 | K33: 予定数量 | L33: =L30 -> 569 | M33: =L35 -> 0 | N33: 72000 | O33: 71000 | P33: 0 | Q33: =INT(N35+O35+P35) -> 0 | R33: =INT(M33+Q33) -> 0
K34: 単価
K35: 総価 | N35: =N33*N34 -> 0 | O35: =O33*O34 -> 0 | P35: =P33*P34 -> 0
J36: 令和9年2月 | K36: 予定数量 | L36: =L33 -> 569 | M36: =L38 -> 0 | N36: 73000 | O36: 65000 | P36: 0 | Q36: =INT(N38+O38+P38) -> 0 | R36: =INT(M36+Q36) -> 0
K37: 単価
K38: 総価 | L38: =L36*L37 -> 0 | N38: =N36*N37 -> 0 | O38: =O36*O37 -> 0 | P38: =P36*P37 -> 0
A39: ※１ 総価及び毎月ごとの入札金額の内訳が明確であり、入札書の内容を具備していれば別様の様式の使用を可とする。 | J39: 令和9年3月 | K39: 予定数量 | L39: =L36 -> 569 | M39: =L41 -> 0 | N39: 72000 | O39: 61000 | P39: 0 | Q39: =INT(N41+O41+P41) -> 0 | R39: =INT(M39+Q39) -> 0
K40: 単価
...

Sheet 市場価格調査書Ｂ
R1: 別紙 | AA1: 別紙２
J2: 内訳書 | S2: 内訳書
A3: 市場価格調査書 | J3: １．川内演習場（トイレ） | R3: (単位：円) | S3: ２．川内演習場（洗車場） | AA3: (単位：円)
J4: 年 月 | K4: 区 分 | L4: 基 本 料 金 | N4: 電 力 量 料 金 | R4: 合 計 | S4: 年 月 | T4: 区 分 | U4: 基 本 料 金 | W4: 電 力 量 料 金 | AA4: 合 計
A5: 分任契約担当官 | L5: 常時電力 | M5: 計 | N5: 単価 | O5: 使用量 | P5: 電力料金 | Q5: 計 | U5: 常時電力 | V5: 計 | W5: 単価 | X5: 使用量 | Y5: 電力料金 | Z5: 計
A6: 陸上自衛隊国分駐屯地 | J6: =市場価格調査書Ａ!J6 -> 令和8年4月 | K6: 予定数量 | L6: 30 | M6: =L8 -> 0 | O6: 80 | Q6: =N8+O8+P8 -> 0 | R6: =INT(M6+Q6) -> 0 | S6: 令和8年4月 | T6: 予定数量 | U6: 30 | V6: =U8 -> 0 | Z6: =W8+X8+Y8 -> 0 | AA6: =INT(V6+Z6) -> 0
A7: =市場価格調査書Ａ!A7 -> 第３６４会計隊川内派遣隊長 福留 謙 殿 | K7: 単価 | T7: 単価
K8: 総価 | L8: =L6*L7 -> 0 | N8: =N6*N7 -> 0 | O8: =O6*O7 -> 0 | P8: =P6*P7 -> 0 | T8: 総価 | U8: =U6*U7 -> 0 | W8: =W6*W7 -> 0 | X8: =X6*X7 -> 0 | Y8: =Y6*Y7 -> 0
J9: =市場価格調査書Ａ!J9 -> 令和8年5月 | K9: 予定数量 | L9: =L6 -> 30 | M9: =L11 -> 0 | O9: 87 | Q9: =N11+O11+P11 -> 0 | R9: =INT(M9+Q9) -> 0 | S9: 令和8年5月 | T9: 予定数量 | U9: =U$6 -> 30 | V9: =U11 -> 0 | Z9: =W11+X11+Y11 -> 0 | AA9: =INT(V9+Z9) -> 0
A10: グループ区分 | C10: Ｂ | K10: 単価 | L10: =L$7 -> 0 | T10: 単価 | U10: =U$7 -> 0 | W10: =$F$8 -> 0 | X10: =$G$8 -> 0 | Y10: =$H$8 -> 0
K11: 総価 | L11: =L9*L10 -> 0 | N11: =N9*N10 -> 0 | O11: =O9*O10 -> 0 | P11: =P9*P10 -> 0 | T11: 総価 | U11: =U9*U10 -> 0 | W11: =W9*W10 -> 0 | X11: =X9*X10 -> 0 | Y11: =Y9*Y10 -> 0
A12: 件 名 | C12: 令和８年度川内演習場で使用する電気 | J12: =市場価格調査書Ａ!J12 -> 令和8年6月 | K12: 予定数量 | L12: =L9 -> 30 | M12: =L14 -> 0 | O12: 267 | Q12: =N14+O14+P14 -> 0 | R12: =INT(M12+Q12) -> 0 | S12: 令和8年6月 | T12: 予定数量 | U12: =U$6 -> 30 | V12: =U14 -> 0 | Z12: =W14+X14+Y14 -> 0 | AA12: =INT(V12+Z12) -> 0
K13: 単価 | L13: =L$7 -> 0 | T13: 単価 | U13: =U$7 -> 0 | W13: =$F$8 -> 0 | X13: =$G$8 -> 0 | Y13: =$H$8 -> 0
A14: 金 額 | C14: ￥ | K14: 総価 | L14: =L12*L13 -> 0 | N14: =N12*N13 -> 0 | O14: =O12*O13 -> 0 | P14: =P12*P13 -> 0 | T14: 総価 | U14: =U12*U13 -> 0 | W14: =W12*W13 -> 0 | X14: =X12*X13 -> 0 | Y14: =Y12*Y13 -> 0
J15: =市場価格調査書Ａ!J15 -> 令和8年7月 | K15: 予定数量 | L15: =L12 -> 30 | M15: =L17 -> 0 | O15: 147 | Q15: =N17+O17+P17 -> 0 | R15: =INT(M15+Q15) -> 0 | S15: 令和8年7月 | T15: 予定数量 | U15: =U$6 -> 30 | V15: =U17 -> 0 | Z15: =W17+X17+Y17 -> 0 | AA15: =INT(V15+Z15) -> 0
A16: 金額内訳 | C16: 別紙内訳書のとおり | K16: 単価 | L16: =L$7 -> 0 | T16: 単価 | U16: =U$7 -> 0 | W16: =W13 -> 0 | X16: =X13 -> 0 | Y16: =Y13 -> 0
K17: 総価 | L17: =L15*L16 -> 0 | N17: =N15*N16 -> 0 | O17: =O15*O16 -> 0 | P17: =P15*P16 -> 0 | T17: 総価 | U17: =U15*U16 -> 0 | W17: =W15*W16 -> 0 | X17: =X15*X16 -> 0 | Y17: =Y15*Y16 -> 0
A18: 納 期 | C18: =市場価格調査書Ａ!C18 -> 令和８年４月１日～令和９年３月３１日 | J18: =市場価格調査書Ａ!J18 -> 令和8年8月 | K18: 予定数量 | L18: =L15 -> 30 | M18: =L20 -> 0 | O18: 247 | Q18: =N20+O20+P20 -> 0 | R18: =INT(M18+Q18) -> 0 | S18: 令和8年8月 | T18: 予定数量 | U18: =U$6 -> 30 | V18: =U20 -> 0 | Z18: =W20+X20+Y20 -> 0 | AA18: =INT(V18+Z18) -> 0
K19: 単価 | L19: =L$7 -> 0 | T19: 単価 | U19: =U$7 -> 0 | W19: =W16 -> 0 | X19: =X16 -> 0 | Y19: =Y16 -> 0
A20: 納 地 | C20: 陸上自衛隊川内演習場 | K20: 総価 | L20: =L18*L19 -> 0 | N20: =N18*N19 -> 0 | O20: =O18*O19 -> 0 | P20: =P18*P19 -> 0 | T20: 総価 | U20: =U18*U19 -> 0 | W20: =W18*W19 -> 0 | X20: =X18*X19 -> 0 | Y20: =Y18*Y19 -> 0
C21: 鹿児島県薩摩川内市宮里町字大谷２９７４―１７ | J21: =市場価格調査書Ａ!J21 -> 令和8年9月 | K21: 予定数量 | L21: =L18 -> 30 | M21: =L23 -> 0 | O21: 276 | Q21: =N23+O23+P23 -> 0 | R21: =INT(M21+Q21) -> 0 | S21: 令和8年9月 | T21: 予定数量 | U21: =U$6 -> 30 | V21: =U23 -> 0 | Z21: =W23+X23+Y23 -> 0 | AA21: =INT(V21+Z21) -> 0
K22: 単価 | L22: =L$7 -> 0 | T22: 単価 | U22: =U$7 -> 0 | W22: =W19 -> 0 | X22: =X19 -> 0 | Y22: =Y19 -> 0
A23: =市場価格調査書Ａ!A23 -> ※提出期限：令和８年２月２４日（金）１７時まで | K23: 総価 | L23: =L21*L22 -> 0 | N23: =N21*N22 -> 0 | O23: =O21*O22 -> 0 | P23: =P21*P22 -> 0 | T23: 総価 | U23: =U21*U22 -> 0 | W23: =W21*W22 -> 0 | X23: =X21*X22 -> 0 | Y23: =Y21*Y22 -> 0
J24: =市場価格調査書Ａ!J24 -> 令和8年10月 | K24: 予定数量 | L24: =L21 -> 30 | M24: =L26 -> 0 | O24: 84 | Q24: =N26+O26+P26 -> 0 | R24: =INT(M24+Q24) -> 0 | S24: 令和8年10月 | T24: 予定数量 | U24: =U$6 -> 30 | V24: =U26 -> 0 | Z24: =W26+X26+Y26 -> 0 | AA24: =INT(V24+Z24) -> 0
K25: 単価 | L25: =L$7 -> 0 | T25: 単価 | U25: =U$7 -> 0 | W25: =$F$8 -> 0 | X25: =$G$8 -> 0 | Y25: =$H$8 -> 0
K26: 総価 | L26: =L24*L25 -> 0 | N26: =N24*N25 -> 0 | O26: =O24*O25 -> 0 | P26: =P24*P25 -> 0 | T26: 総価 | U26: =U24*U25 -> 0 | W26: =W24*W25 -> 0 | X26: =X24*X25 -> 0 | Y26: =Y24*Y25 -> 0
C27: （入札者） 住 所 | J27: =市場価格調査書Ａ!J27 -> 令和8年11月 | K27: 予定数量 | L27: =L24 -> 30 | M27: =L29 -> 0 | O27: 75 | Q27: =N29+O29+P29 -> 0 | R27: =INT(M27+Q27) -> 0 | S27: 令和8年11月 | T27: 予定数量 | U27: =U$6 -> 30 | V27: =U29 -> 0 | Z27: =W29+X29+Y29 -> 0 | AA27: =INT(V27+Z27) -> 0
E28: 会 社 名 | K28: 単価 | L28: =L$7 -> 0 | T28: 単価 | U28: =U$7 -> 0 | W28: =$F$8 -> 0 | X28: =$G$8 -> 0 | Y28: =$H$8 -> 0
E29: 代表者名 | K29: 総価 | L29: =L27*L28 -> 0 | N29: =N27*N28 -> 0 | O29: =O27*O28 -> 0 | P29: =P27*P28 -> 0 | T29: 総価 | U29: =U27*U28 -> 0 | W29: =W27*W28 -> 0 | X29: =X27*X28 -> 0 | Y29: =Y27*Y28 -> 0
E30: 担当者名 | J30: =市場価格調査書Ａ!J30 -> 令和8年12月 | K30: 予定数量 | L30: =L27 -> 30 | M30: =L32 -> 0 | O30: 68 | Q30: =N32+O32+P32 -> 0 | R30: =INT(M30+Q30) -> 0 | S30: 令和8年12月 | T30: 予定数量 | U30: =U$6 -> 30 | V30: =U32 -> 0 | Z30: =W32+X32+Y32 -> 0 | AA30: =INT(V30+Z30) -> 0
E31: 連 絡 先 | K31: 単価 | L31: =L$7 -> 0 | T31: 単価 | U31: =U$7 -> 0 | W31: =$F$8 -> 0 | X31: =$G$8 -> 0 | Y31: =$H$8 -> 0
K32: 総価 | L32: =L30*L31 -> 0 | N32: =N30*N31 -> 0 | O32: =O30*O31 -> 0 | P32: =P30*P31 -> 0 | T32: 総価 | U32: =U30*U31 -> 0 | W32: =W30*W31 -> 0 | X32: =X30*X31 -> 0 | Y32: =Y30*Y31 -> 0
J33: =市場価格調査書Ａ!J33 -> 令和9年1月 | K33: 予定数量 | L33: =L30 -> 30 | M33: =L35 -> 0 | O33: 94 | Q33: =N35+O35+P35 -> 0 | R33: =INT(M33+Q33) -> 0 | S33: 令和9年1月 | T33: 予定数量 | U33: =U$6 -> 30 | V33: =U35 -> 0 | Z33: =W35+X35+Y35 -> 0 | AA33: =INT(V33+Z33) -> 0
K34: 単価 | L34: =L$7 -> 0 | T34: 単価 | U34: =U$7 -> 0 | W34: =$F$8 -> 0 | X34: =$G$8 -> 0 | Y34: =$H$8 -> 0
K35: 総価 | L35: =L33*L34 -> 0 | N35: =N33*N34 -> 0 | O35: =O33*O34 -> 0 | P35: =P33*P34 -> 0 | T35: 総価 | U35: =U33*U34 -> 0 | W35: =W33*W34 -> 0 | X35: =X33*X34 -> 0 | Y35: =Y33*Y34 -> 0
J36: =市場価格調査書Ａ!J36 -> 令和9年2月 | K36: 予定数量 | L36: =L33 -> 30 | M36: =L38 -> 0 | O36: 79 | Q36: =N38+O38+P38 -> 0 | R36: =INT(M36+Q36) -> 0 | S36: 令和9年2月 | T36: 予定数量 | U36: =U$6 -> 30 | V36: =U38 -> 0 | Z36: =W38+X38+Y38 -> 0 | AA36: =INT(V36+Z36) -> 0
K37: 単価 | L37: =L$7 -> 0 | T37: 単価 | U37: =U$7 -> 0 | W37: =$F$8 -> 0 | X37: =$G$8 -> 0 | Y37: =$H$8 -> 0
K38: 総価 | L38: =L36*L37 -> 0 | N38: =N36*N37 -> 0 | O38: =O36*O37 -> 0 | P38: =P36*P37 -> 0 | T38: 総価 | U38: =U36*U37 -> 0 | W38: =W36*W37 -> 0 | X38: =X36*X37 -> 0 | Y38: =Y36*Y37 -> 0
A39: ※１ 総価及び毎月ごとの入札金額の内訳が明確であり、入札書の内容を具備していれば別様の様式の使用を可とする。 | J39: =市場価格調査書Ａ!J39 -> 令和9年3月 | K39: 予定数量 | L39: =L36 -> 30 | M39: =L41 -> 0 | O39: 90 | Q39: =N41+O41+P41 -> 0 | R39: =INT(M39+Q39) -> 0 | S39: 令和9年3月 | T39: 予定数量 | U39: =U$6 -> 30 | V39: =U41 -> 0 | Z39: =W41+X41+Y41 -> 0 | AA39: =INT(V39+Z39) -> 0
K40: 単価 | L40: =L$7 -> 0 | T40: 単価 | U40: =U$7 -> 0 | W40: =$F$8 -> 0 | X40: =$G$8 -> 0 | Y40: =$H$8 -> 0
...

Sheet 入札書Ａ
R1: 別紙
J2: 内訳書
A3: 入 札 書 | J3: (単位：円)
J4: 年 月 | K4: 区 分 | L4: 基 本 料 金 | N4: 電 力 量 料 金 | R4: 合 計
A5: 分任契約担当官 | L5: 常時電力 | M5: 計 | N5: 昼間電力量 | O5: 夜間電力量 | P5: ﾋﾟｰｸ時間電力量 | Q5: 計
A6: 陸上自衛隊国分駐屯地 | J6: 令和7年4月 | K6: 予定数量 | L6: 569 | M6: =L8 -> 0 | N6: 61000 | O6: 54000 | P6: 0 | Q6: =INT(N8+O8+P8) -> 0 | R6: =INT(M6+Q6) -> 0
A7: 第３６４会計隊川内派遣隊長 福留 謙 殿 | K7: 単価
K8: 総価 | L8: =L6*L7 -> 0 | N8: =N6*N7 -> 0 | O8: =O6*O7 -> 0 | P8: =P6*P7 -> 0
J9: 令和7年5月 | K9: 予定数量 | L9: =L6 -> 569 | M9: =L11 -> 0 | N9: 58000 | O9: 63000 | P9: 0 | Q9: =INT(N11+O11+P11) -> 0 | R9: =INT(M9+Q9) -> 0
A10: グループ区分 | C10: Ａ | K10: 単価
K11: 総価 | L11: =L9*L10 -> 0 | N11: =N9*N10 -> 0 | O11: =O9*O10 -> 0 | P11: =P9*P10 -> 0
A12: 件 名 | C12: 令和８年度川内駐屯地で使用する電気 | J12: 令和7年6月 | K12: 予定数量 | L12: =L9 -> 569 | M12: =L14 -> 0 | N12: 104000 | O12: 72000 | P12: 0 | Q12: =INT(N14+O14+P14) -> 0 | R12: =INT(M12+Q12) -> 0
K13: 単価
A14: 入 札 金 額 | C14: ￥ | K14: 総価 | L14: =L12*L13 -> 0 | N14: =N12*N13 -> 0 | O14: =O12*O13 -> 0 | P14: =P12*P13 -> 0
J15: 令和7年7月 | K15: 予定数量 | L15: =L12 -> 569 | M15: =L17 -> 0 | N15: 99000 | O15: 94000 | P15: 28000 | Q15: =INT(N17+O17+P17) -> 0 | R15: =INT(M15+Q15) -> 0
A16: 入札金額内訳 | C16: 別紙内訳書のとおり | K16: 単価
K17: 総価 | L17: =L15*L16 -> 0 | N17: =N15*N16 -> 0 | O17: =O15*O16 -> 0 | P17: =P15*P16 -> 0
J18: 令和7年8月 | K18: 予定数量 | L18: =L15 -> 569 | M18: =L20 -> 0 | N18: 94000 | O18: 95000 | P18: 26000 | Q18: =INT(N20+O20+P20) -> 0 | R18: =INT(M18+Q18) -> 0
A19: 当社は、上記の公告に対して「入札及び契約心得」及び「標準契約書等」の契約条項等を承諾のうえ入札致します。また、「入札及び契約心得」に定める暴力団排除に関する事項について誓約します。 | K19: 単価
K20: 総価 | L20: =L18*L19 -> 0 | N20: =N18*N19 -> 0 | O20: =O18*O19 -> 0 | P20: =P18*P19 -> 0
J21: 令和7年9月 | K21: 予定数量 | L21: =L18 -> 569 | M21: =L23 -> 0 | N21: 88000 | O21: 87000 | P21: 25000 | Q21: =INT(N23+O23+P23) -> 0 | R21: =INT(M21+Q21) -> 0
K22: 単価
K23: 総価 | N23: =N21*N22 -> 0 | O23: =O21*O22 -> 0 | P23: =P21*P22 -> 0
A24: 45714 | J24: 令和7年10月 | K24: 予定数量 | L24: =L21 -> 569 | M24: =L26 -> 0 | N24: 95000 | O24: 70000 | P24: 0 | Q24: =INT(N26+O26+P26) -> 0 | R24: =INT(M24+Q24) -> 0
K25: 単価
K26: 総価 | L26: =L24*L25 -> 0 | N26: =N24*N25 -> 0 | O26: =O24*O25 -> 0 | P26: =P24*P25 -> 0
C27: （入札者） 住 所 | J27: 令和7年11月 | K27: 予定数量 | L27: =L24 -> 569 | M27: =L29 -> 0 | N27: 62000 | O27: 59000 | P27: 0 | Q27: =INT(N29+O29+P29) -> 0 | R27: =INT(M27+Q27) -> 0
E28: 会 社 名 | K28: 単価
E29: 代表者名 | K29: 総価 | L29: =L27*L28 -> 0 | N29: =N27*N28 -> 0 | O29: =O27*O28 -> 0 | P29: =P27*P28 -> 0
E30: 担当者名 | J30: 令和7年12月 | K30: 予定数量 | L30: =L27 -> 569 | M30: =L32 -> 0 | N30: 73000 | O30: 63000 | P30: 0 | Q30: =INT(N32+O32+P32) -> 0 | R30: =INT(M30+Q30) -> 0
E31: 連 絡 先 | K31: 単価
K32: 総価 | L32: =L30*L31 -> 0 | N32: =N30*N31 -> 0 | O32: =O30*O31 -> 0 | P32: =P30*P31 -> 0
J33: 令和8年1月 | K33: 予定数量 | L33: =L30 -> 569 | M33: =L35 -> 0 | N33: 72000 | O33: 71000 | P33: 0 | Q33: =INT(N35+O35+P35) -> 0 | R33: =INT(M33+Q33) -> 0
K34: 単価
K35: 総価 | N35: =N33*N34 -> 0 | O35: =O33*O34 -> 0 | P35: =P33*P34 -> 0
J36: 令和8年2月 | K36: 予定数量 | L36: =L33 -> 569 | M36: =L38 -> 0 | N36: 73000 | O36: 65000 | P36: 0 | Q36: =INT(N38+O38+P38) -> 0 | R36: =INT(M36+Q36) -> 0
K37: 単価
K38: 総価 | L38: =L36*L37 -> 0 | N38: =N36*N37 -> 0 | O38: =O36*O37 -> 0 | P38: =P36*P37 -> 0
A39: ※１ 総価及び毎月ごとの入札金額の内訳が明確であり、入札書の内容を具備していれば別様の様式の使用を可とする。 | J39: 令和8年3月 | K39: 予定数量 | L39: =L36 -> 569 | M39: =L41 -> 0 | N39: 72000 | O39: 61000 | P39: 0 | Q39: =INT(N41+O41+P41) -> 0 | R39: =INT(M39+Q39) -> 0
K40: 単価
...

Sheet 入札書Ｂ
R1: 別紙 | AA1: 別紙２
J2: 内訳書 | S2: 内訳書
A3: 入 札 書 | J3: １．川内演習場（トイレ） | R3: (単位：円) | S3: ２．川内演習場（洗車場） | AA3: (単位：円)
J4: 年 月 | K4: 区 分 | L4: 基 本 料 金 | N4: 電 力 量 料 金 | R4: 合 計 | S4: 年 月 | T4: 区 分 | U4: 基 本 料 金 | W4: 電 力 量 料 金 | AA4: 合 計
A5: 分任契約担当官 | L5: 常時電力 | M5: 計 | N5: 単価 | O5: 使用量 | P5: 電力料金 | Q5: 計 | U5: 常時電力 | V5: 計 | W5: 単価 | X5: 使用量 | Y5: 電力料金 | Z5: 計
A6: 陸上自衛隊国分駐屯地 | J6: =市場価格調査書Ａ!J6 -> 令和8年4月 | K6: 予定数量 | L6: 30 | M6: =L8 -> 0 | O6: 80 | Q6: =N8+O8+P8 -> 0 | R6: =INT(M6+Q6) -> 0 | S6: 令和8年4月 | T6: 予定数量 | U6: 30 | V6: =U8 -> 0 | X6: 0 | Z6: =W8+X8+Y8 -> 0 | AA6: =INT(V6+Z6) -> 0
A7: =入札書Ａ!A7 -> 第３６４会計隊川内派遣隊長 福留 謙 殿 | K7: 単価 | T7: 単価
K8: 総価 | L8: =L6*L7 -> 0 | N8: =N6*N7 -> 0 | O8: =O6*O7 -> 0 | P8: =P6*P7 -> 0 | T8: 総価 | U8: =U6*U7 -> 0 | W8: =W6*W7 -> 0 | X8: =X6*X7 -> 0 | Y8: =Y6*Y7 -> 0
J9: =市場価格調査書Ａ!J9 -> 令和8年5月 | K9: 予定数量 | L9: =L6 -> 30 | M9: =L11 -> 0 | O9: 87 | Q9: =N11+O11+P11 -> 0 | R9: =INT(M9+Q9) -> 0 | S9: 令和8年5月 | T9: 予定数量 | U9: =U$6 -> 30 | V9: =U11 -> 0 | X9: 0 | Z9: =W11+X11+Y11 -> 0 | AA9: =INT(V9+Z9) -> 0
A10: グループ区分 | C10: Ｂ | K10: 単価 | L10: =L$7 -> 0 | T10: 単価 | U10: =U$7 -> 0 | W10: =$F$8 -> 0 | X10: =$G$8 -> 0 | Y10: =$H$8 -> 0
K11: 総価 | L11: =L9*L10 -> 0 | N11: =N9*N10 -> 0 | O11: =O9*O10 -> 0 | P11: =P9*P10 -> 0 | T11: 総価 | U11: =U9*U10 -> 0 | W11: =W9*W10 -> 0 | X11: =X9*X10 -> 0 | Y11: =Y9*Y10 -> 0
A12: 件 名 | C12: 令和８年度川内演習場で使用する電気 | J12: =市場価格調査書Ａ!J12 -> 令和8年6月 | K12: 予定数量 | L12: =L9 -> 30 | M12: =L14 -> 0 | O12: 267 | Q12: =N14+O14+P14 -> 0 | R12: =INT(M12+Q12) -> 0 | S12: 令和8年6月 | T12: 予定数量 | U12: =U$6 -> 30 | V12: =U14 -> 0 | X12: 0 | Z12: =W14+X14+Y14 -> 0 | AA12: =INT(V12+Z12) -> 0
K13: 単価 | L13: =L$7 -> 0 | T13: 単価 | U13: =U$7 -> 0 | W13: =$F$8 -> 0 | X13: =$G$8 -> 0 | Y13: =$H$8 -> 0
A14: 入 札 金 額 | C14: ￥ | K14: 総価 | L14: =L12*L13 -> 0 | N14: =N12*N13 -> 0 | O14: =O12*O13 -> 0 | P14: =P12*P13 -> 0 | T14: 総価 | U14: =U12*U13 -> 0 | W14: =W12*W13 -> 0 | X14: =X12*X13 -> 0 | Y14: =Y12*Y13 -> 0
J15: =市場価格調査書Ａ!J15 -> 令和8年7月 | K15: 予定数量 | L15: =L12 -> 30 | M15: =L17 -> 0 | O15: 147 | Q15: =N17+O17+P17 -> 0 | R15: =INT(M15+Q15) -> 0 | S15: 令和8年7月 | T15: 予定数量 | U15: =U$6 -> 30 | V15: =U17 -> 0 | X15: 0 | Z15: =W17+X17+Y17 -> 0 | AA15: =INT(V15+Z15) -> 0
A16: 入札金額内訳 | C16: 別紙内訳書のとおり | K16: 単価 | L16: =L$7 -> 0 | T16: 単価 | U16: =U$7 -> 0 | W16: =W13 -> 0 | X16: =X13 -> 0 | Y16: =Y13 -> 0
K17: 総価 | L17: =L15*L16 -> 0 | N17: =N15*N16 -> 0 | O17: =O15*O16 -> 0 | P17: =P15*P16 -> 0 | T17: 総価 | U17: =U15*U16 -> 0 | W17: =W15*W16 -> 0 | X17: =X15*X16 -> 0 | Y17: =Y15*Y16 -> 0
J18: =市場価格調査書Ａ!J18 -> 令和8年8月 | K18: 予定数量 | L18: =L15 -> 30 | M18: =L20 -> 0 | O18: 247 | Q18: =N20+O20+P20 -> 0 | R18: =INT(M18+Q18) -> 0 | S18: 令和8年8月 | T18: 予定数量 | U18: =U$6 -> 30 | V18: =U20 -> 0 | X18: 0 | Z18: =W20+X20+Y20 -> 0 | AA18: =INT(V18+Z18) -> 0
A19: 当社は、上記の公告に対して「入札及び契約心得」及び「標準契約書等」の契約条項等を承諾のうえ入札致します。また、「入札及び契約心得」に定める暴力団排除に関する事項について誓約します。 | K19: 単価 | L19: =L$7 -> 0 | T19: 単価 | U19: =U$7 -> 0 | W19: =W16 -> 0 | X19: =X16 -> 0 | Y19: =Y16 -> 0
K20: 総価 | L20: =L18*L19 -> 0 | N20: =N18*N19 -> 0 | O20: =O18*O19 -> 0 | P20: =P18*P19 -> 0 | T20: 総価 | U20: =U18*U19 -> 0 | W20: =W18*W19 -> 0 | X20: =X18*X19 -> 0 | Y20: =Y18*Y19 -> 0
J21: =市場価格調査書Ａ!J21 -> 令和8年9月 | K21: 予定数量 | L21: =L18 -> 30 | M21: =L23 -> 0 | O21: 276 | Q21: =N23+O23+P23 -> 0 | R21: =INT(M21+Q21) -> 0 | S21: 令和8年9月 | T21: 予定数量 | U21: =U$6 -> 30 | V21: =U23 -> 0 | X21: 0 | Z21: =W23+X23+Y23 -> 0 | AA21: =INT(V21+Z21) -> 0
K22: 単価 | L22: =L$7 -> 0 | T22: 単価 | U22: =U$7 -> 0 | W22: =W19 -> 0 | X22: =X19 -> 0 | Y22: =Y19 -> 0
K23: 総価 | L23: =L21*L22 -> 0 | N23: =N21*N22 -> 0 | O23: =O21*O22 -> 0 | P23: =P21*P22 -> 0 | T23: 総価 | U23: =U21*U22 -> 0 | W23: =W21*W22 -> 0 | X23: =X21*X22 -> 0 | Y23: =Y21*Y22 -> 0
A24: 45714 | J24: =市場価格調査書Ａ!J24 -> 令和8年10月 | K24: 予定数量 | L24: =L21 -> 30 | M24: =L26 -> 0 | O24: 84 | Q24: =N26+O26+P26 -> 0 | R24: =INT(M24+Q24) -> 0 | S24: 令和8年10月 | T24: 予定数量 | U24: =U$6 -> 30 | V24: =U26 -> 0 | X24: 0 | Z24: =W26+X26+Y26 -> 0 | AA24: =INT(V24+Z24) -> 0
K25: 単価 | L25: =L$7 -> 0 | T25: 単価 | U25: =U$7 -> 0 | W25: =$F$8 -> 0 | X25: =$G$8 -> 0 | Y25: =$H$8 -> 0
K26: 総価 | L26: =L24*L25 -> 0 | N26: =N24*N25 -> 0 | O26: =O24*O25 -> 0 | P26: =P24*P25 -> 0 | T26: 総価 | U26: =U24*U25 -> 0 | W26: =W24*W25 -> 0 | X26: =X24*X25 -> 0 | Y26: =Y24*Y25 -> 0
C27: （入札者） 住 所 | J27: =市場価格調査書Ａ!J27 -> 令和8年11月 | K27: 予定数量 | L27: =L24 -> 30 | M27: =L29 -> 0 | O27: 75 | Q27: =N29+O29+P29 -> 0 | R27: =INT(M27+Q27) -> 0 | S27: 令和8年11月 | T27: 予定数量 | U27: =U$6 -> 30 | V27: =U29 -> 0 | X27: 0 | Z27: =W29+X29+Y29 -> 0 | AA27: =INT(V27+Z27) -> 0
E28: 会 社 名 | K28: 単価 | L28: =L$7 -> 0 | T28: 単価 | U28: =U$7 -> 0 | W28: =$F$8 -> 0 | X28: =$G$8 -> 0 | Y28: =$H$8 -> 0
E29: 代表者名 | K29: 総価 | L29: =L27*L28 -> 0 | N29: =N27*N28 -> 0 | O29: =O27*O28 -> 0 | P29: =P27*P28 -> 0 | T29: 総価 | U29: =U27*U28 -> 0 | W29: =W27*W28 -> 0 | X29: =X27*X28 -> 0 | Y29: =Y27*Y28 -> 0
E30: 担当者名 | J30: =市場価格調査書Ａ!J30 -> 令和8年12月 | K30: 予定数量 | L30: =L27 -> 30 | M30: =L32 -> 0 | O30: 68 | Q30: =N32+O32+P32 -> 0 | R30: =INT(M30+Q30) -> 0 | S30: 令和8年12月 | T30: 予定数量 | U30: =U$6 -> 30 | V30: =U32 -> 0 | X30: 0 | Z30: =W32+X32+Y32 -> 0 | AA30: =INT(V30+Z30) -> 0
E31: 連 絡 先 | K31: 単価 | L31: =L$7 -> 0 | T31: 単価 | U31: =U$7 -> 0 | W31: =$F$8 -> 0 | X31: =$G$8 -> 0 | Y31: =$H$8 -> 0
K32: 総価 | L32: =L30*L31 -> 0 | N32: =N30*N31 -> 0 | O32: =O30*O31 -> 0 | P32: =P30*P31 -> 0 | T32: 総価 | U32: =U30*U31 -> 0 | W32: =W30*W31 -> 0 | X32: =X30*X31 -> 0 | Y32: =Y30*Y31 -> 0
J33: =市場価格調査書Ａ!J33 -> 令和9年1月 | K33: 予定数量 | L33: =L30 -> 30 | M33: =L35 -> 0 | O33: 94 | Q33: =N35+O35+P35 -> 0 | R33: =INT(M33+Q33) -> 0 | S33: 令和9年1月 | T33: 予定数量 | U33: =U$6 -> 30 | V33: =U35 -> 0 | X33: 0 | Z33: =W35+X35+Y35 -> 0 | AA33: =INT(V33+Z33) -> 0
K34: 単価 | L34: =L$7 -> 0 | T34: 単価 | U34: =U$7 -> 0 | W34: =$F$8 -> 0 | X34: =$G$8 -> 0 | Y34: =$H$8 -> 0
K35: 総価 | L35: =L33*L34 -> 0 | N35: =N33*N34 -> 0 | O35: =O33*O34 -> 0 | P35: =P33*P34 -> 0 | T35: 総価 | U35: =U33*U34 -> 0 | W35: =W33*W34 -> 0 | X35: =X33*X34 -> 0 | Y35: =Y33*Y34 -> 0
J36: =市場価格調査書Ａ!J36 -> 令和9年2月 | K36: 予定数量 | L36: =L33 -> 30 | M36: =L38 -> 0 | O36: 79 | Q36: =N38+O38+P38 -> 0 | R36: =INT(M36+Q36) -> 0 | S36: 令和9年2月 | T36: 予定数量 | U36: =U$6 -> 30 | V36: =U38 -> 0 | X36: 0 | Z36: =W38+X38+Y38 -> 0 | AA36: =INT(V36+Z36) -> 0
K37: 単価 | L37: =L$7 -> 0 | T37: 単価 | U37: =U$7 -> 0 | W37: =$F$8 -> 0 | X37: =$G$8 -> 0 | Y37: =$H$8 -> 0
K38: 総価 | L38: =L36*L37 -> 0 | N38: =N36*N37 -> 0 | O38: =O36*O37 -> 0 | P38: =P36*P37 -> 0 | T38: 総価 | U38: =U36*U37 -> 0 | W38: =W36*W37 -> 0 | X38: =X36*X37 -> 0 | Y38: =Y36*Y37 -> 0
A39: ※１ 総価及び毎月ごとの入札金額の内訳が明確であり、入札書の内容を具備していれば 別様の様式の使用を可とする。 | J39: =市場価格調査書Ａ!J39 -> 令和9年3月 | K39: 予定数量 | L39: =L36 -> 30 | M39: =L41 -> 0 | O39: 90 | Q39: =N41+O41+P41 -> 0 | R39: =INT(M39+Q39) -> 0 | S39: 令和9年3月 | T39: 予定数量 | U39: =U$6 -> 30 | V39: =U41 -> 0 | X39: 0 | Z39: =W41+X41+Y41 -> 0 | AA39: =INT(V39+Z39) -> 0
K40: 単価 | L40: =L$7 -> 0 | T40: 単価 | U40: =U$7 -> 0 | W40: =$F$8 -> 0 | X40: =$G$8 -> 0 | Y40: =$H$8 -> 0
...
