Workbook
Name 単位: OFFSET([1]選択項目!$C$3,0,0,COUNTA([1]選択項目!$C$1:$C$65536)-1,1)

Sheet 入札書
A1: 入 札 書
A2: 分任契約担当官 | F2: =[2]要求入力!B4 -> 44162
A3: 陸上自衛隊佐賀駐屯地 | F3: 46104
A4: 第３６１会計隊佐賀派遣隊長 内藤 晃 殿
C5: 住 所
C6: 会社名
A7: ￥ | C7: 代表者名
A8: 履行場所： | B8: 佐賀駐屯地 | D8: 0.45833333
A9: 履行期間： | B9: 8.4.1～9.3.31
A10: 品 名 | B10: 規格 | C10: 単位 | D10: 数量 | E10: 単 価 | F10: 金 額 | G10: 備 考
A11: 佐賀（８）隊庁舎エレベーター保守点検 | B11: 仕様書のとおり | C11: ST | D11: 1
B12: 以下余白
G14: =IF($K$10=1,IF([2]要求入力!$A$4>22,"",[2]要求入力!N9),"")
G15: =IF($K$10=1,IF([2]要求入力!$A$4>22,"",[2]要求入力!N10),"")
G16: =IF($K$10=1,IF([2]要求入力!$A$4>22,"",[2]要求入力!N11),"")
G17: 26.11.15 11:00
G18: =IF($K$10=1,IF([2]要求入力!$A$4>22,"",[2]要求入力!N13),"")
G19: =IF($K$10=1,IF([2]要求入力!$A$4>22,"",[2]要求入力!N14),"")
G20: =IF($K$10=1,IF([2]要求入力!$A$4>22,"",[2]要求入力!N15),"")
G21: =IF($K$10=1,IF([2]要求入力!$A$4>22,"",[2]要求入力!N16),"")
G22: =IF($K$10=1,IF([2]要求入力!$A$4>22,"",[2]要求入力!N17),"")
G23: =IF($K$10=1,IF([2]要求入力!$A$4>22,"",[2]要求入力!N18),"")
G24: =IF($K$10=1,IF([2]要求入力!$A$4>22,"",[2]要求入力!N19),"")
G25: =IF($K$10=1,IF([2]要求入力!$A$4>22,"",[2]要求入力!N20),"")
G26: =IF($K$10=1,IF([2]要求入力!$A$4>22,"",[2]要求入力!N21),"")
G27: =IF($K$10=1,IF([2]要求入力!$A$4>22,"",[2]要求入力!N22),"")
A28: =IF([2]要求入力!$A$4>22,"",[2]要求入力!G24) -> 0 | B28: =IF([2]要求入力!$A$4>22,"",[2]要求入力!H24) -> 0 | C28: =IF([2]要求入力!$A$4>22,"",[2]要求入力!I24) -> 0 | D28: =IF([2]要求入力!$A$4>22,"",[2]要求入力!J24) -> 0 | G28: =IF($K$10=1,IF([2]要求入力!$A$4>22,"",[2]要求入力!N24),"")
A29: =IF([2]要求入力!$A$4>22,"",[2]要求入力!G25) -> 0 | B29: =IF([2]要求入力!$A$4>22,"",[2]要求入力!H25) -> 0 | C29: =IF([2]要求入力!$A$4>22,"",[2]要求入力!I25) -> 0 | D29: =IF([2]要求入力!$A$4>22,"",[2]要求入力!J25) -> 0 | G29: =IF($K$10=1,IF([2]要求入力!$A$4>22,"",[2]要求入力!N25),"")
C30: =IF([2]要求入力!$A$4>22,"",[2]要求入力!I26) -> 0 | D30: =IF([2]要求入力!$A$4>22,"",[2]要求入力!J26) -> 0 | G30: =IF($K$10=1,IF([2]要求入力!$A$4>22,"",[2]要求入力!N26),"")
A31: =IF([2]要求入力!$A$4>22,"",[2]要求入力!G27) -> 0 | B31: =IF([2]要求入力!$A$4>22,"",[2]要求入力!H27) -> 0 | C31: =IF([2]要求入力!$A$4>22,"",[2]要求入力!I27) -> 0 | D31: =IF([2]要求入力!$A$4>22,"",[2]要求入力!J27) -> 0 | G31: =IF($K$10=1,IF([2]要求入力!$A$4>22,"",[2]要求入力!N27),"")
A33: 当社（当団体）は、入札心得に定める暴力団排除に関する事項について誓約いたします。

Sheet 市価調査書
B1: 市価調査書
A2: 分任契約担当官 | F2: =[2]要求入力!B4 -> 44162
A3: 陸上自衛隊佐賀駐屯地 | F3: 46100
A4: 第３６１会計隊佐賀派遣隊長 内藤 晃 殿
C5: 住 所
C6: 会社名
C7: 代表者名
A8: 履行場所： | B8: 佐賀駐屯地 | D8: 0.45833333
A9: 履行期間： | B9: 8.4.1～9.3.31
A11: 品 名 | B11: 規格 | C11: 単位 | D11: 数量 | E11: 単 価 | F11: 金 額 | G11: 備 考
A12: 佐賀（８）隊庁舎エレベーター保守点検 | B12: 仕様書のとおり | C12: ST | D12: 1
B13: 以下余白 | G13: =IF($K$11=1,IF([2]要求入力!$A$4>22,"",[2]要求入力!N9),"")
G14: =IF($K$11=1,IF([2]要求入力!$A$4>22,"",[2]要求入力!N10),"")
G15: =IF($K$11=1,IF([2]要求入力!$A$4>22,"",[2]要求入力!N11),"")
G16: 26.11.15 11:00
G17: =IF($K$11=1,IF([2]要求入力!$A$4>22,"",[2]要求入力!N13),"")
G18: =IF($K$11=1,IF([2]要求入力!$A$4>22,"",[2]要求入力!N14),"")
G19: =IF($K$11=1,IF([2]要求入力!$A$4>22,"",[2]要求入力!N15),"")
G20: =IF($K$11=1,IF([2]要求入力!$A$4>22,"",[2]要求入力!N16),"")
G21: =IF($K$11=1,IF([2]要求入力!$A$4>22,"",[2]要求入力!N17),"")
G23: =IF($K$11=1,IF([2]要求入力!$A$4>22,"",[2]要求入力!N18),"")
C24: =IF([2]要求入力!$A$4>22,"",[2]要求入力!I26) -> 0 | D24: =IF([2]要求入力!$A$4>22,"",[2]要求入力!J26) -> 0 | G24: =IF($K$11=1,IF([2]要求入力!$A$4>22,"",[2]要求入力!N26),"")
A25: =IF([2]要求入力!$A$4>22,"",[2]要求入力!G27) -> 0 | B25: =IF([2]要求入力!$A$4>22,"",[2]要求入力!H27) -> 0 | C25: =IF([2]要求入力!$A$4>22,"",[2]要求入力!I27) -> 0 | D25: =IF([2]要求入力!$A$4>22,"",[2]要求入力!J27) -> 0 | G25: =IF($K$11=1,IF([2]要求入力!$A$4>22,"",[2]要求入力!N27),"")
