{"text_format":"3","workbook":"xlsx","n_sheets":26,"sheets":["基本情報","業者一覧","業者登録用紙","契約内容","コンバート","貼り付け","予調内訳","抽選用紙","でんみつ","入札書","見積書 (うち)","市価","市価 (うち)","納品書 (業者)","納品書（内訳）","受領書","角３","長３","支払調書","請求書","請求書 (税込)","請求書 (うち)","売掛","総額（物件１件） ","総額（物件品目）","総額（役務）"],"not_rendered":{"macros":1,"external_links":3,"defined_names":92,"comments":10},"read":"whole","date_system":"1900"}

{"sheet":"基本情報","index":0,"n_rows":18,"n_cols":4,"rows_kept":18,"hidden":true}
["設定"]
["本官","分任契約担当官","陸上自衛隊宮古島駐屯地","第４４４会計隊長　藤澤　竹広"]
["代理官","分任契約担当官代理","陸上自衛隊宮古島駐屯地","第４４４会計隊契約班長　草塲　辰則"]
[]
["現在の設定"]
[{"$f":"契約内容!M7","v":"本官"},{"$f":"VLOOKUP($A$6,$A$2:$E$4,2,FALSE)","v":"分任契約担当官"}]
[null,{"$f":"VLOOKUP($A$6,$A$2:$E$4,3,FALSE)","v":"陸上自衛隊宮古島駐屯地"}]
[null,{"$f":"VLOOKUP($A$6,$A$2:$E$4,4,FALSE)","v":"第４４４会計隊長　藤澤　竹広"}]
[]
[]
["契約相手方",{"$f":"VLOOKUP(業者一覧!$A$2,業者一覧!$B$2:$J$233,7)","v":{"$error":"#N/A"}}]
[null,{"$f":"VLOOKUP(業者一覧!$A$2,業者一覧!$B$2:$J$233,3)","v":{"$error":"#N/A"}}]
[null,{"$f":"VLOOKUP(業者一覧!$A$2,業者一覧!$B$2:$J$233,8) & \"　\" & VLOOKUP(業者一覧!$A$2,業者一覧!$B$2:$J$233,9)","v":{"$error":"#N/A"}}]
[null,{"$f":"\"担当者　　　　　　\" & VLOOKUP(業者一覧!$A$2,業者一覧!$B$2:$M$233,11) & \"　（\" &VLOOKUP(業者一覧!$A$2,業者一覧!$B$2:$M$233,4) &\"）\"","v":{"$error":"#N/A"}}]
[]
["支払","分任資金前渡官吏"]
[null,"陸上自衛隊宮古島駐屯地"]
[null,"第４４４会計隊長　　藤澤　竹広"]

{"sheet":"業者一覧","index":1,"n_rows":231,"n_cols":13,"rows_kept":231,"hidden":true}
[{"$f":"\"番号　→　\" & 請求書!H16","v":{"$error":"#N/A"}},"番号","頭文字","業者名","電話番号","ＦＡＸ番号","郵便番号","住所","職名","代表者名","市町村","担当者","備考"]
[null,1,"あ","アールエム","090-8418-3455","098-854-1038","902-0076","沖縄県那覇市与儀３８０－１　サンヒルズ２０１","代表者","屋比久　孟","那覇市"]
[null,{"$f":"B2+1","v":2},"あ","株式会社　アート企画","0980-72-4402","0980-73-5551","906-0018","沖縄県宮古島市平良字下里１１７７－１","代表取締役","垣花　厳志","宮古島市"]
[null,3,"あ","有限会社　青谷製作所","03-3268-5425","03-3268-5426","162-0801","東京都新宿区山吹町１３０番地","代表取締役","青谷　好憲","新宿区"]
[null,4,"あ","ＲＧＣ　株式会社　","098-961-6800","098-961-6801","901-0345","沖縄県糸満市福地１６９番地","代表取締役","稲嶺　佳乃","糸満市"]
[null,5,"い","有限会社ＥＦＣ沖縄","098-867-0049","098-863-1754","900-0012","沖縄県那覇市泊３丁目１７－８","代表取締役","長嶺　明","那覇市"]
[null,6,"い","株式会社　いわさき　沖縄営業所","098-850-3807","098-850-3897","901-0241","沖縄県豊見城市豊見城７３番地","所長","大城　裕靖","豊見城市"]
[null,7,"い","株式会社　いさむ自動車","0980-72-9654","0980-72-7084","906-0012","沖縄県宮古島市平良字西里８３６番地","代表取締役","来間　勇人","宮古島市"]
[null,8,"う","内川商事　株式会社　","0952-23-5121","0952-24-4195","840-0850","佐賀県佐賀市新栄町二丁目５番２３号","代表取締役","林　俊樹","佐賀市"]
[null,9,"う","株式会社　上原不動産","098-859-9000","098-857-9981","900-0027","沖縄県那覇市山下町10-2","代表取締役","上原　秀夫","那覇市"]
[null,10,"え","株式会社　Ｓ＆Ｋみやこ島","0980-76-4777","0980-76-6144","906-0007","沖縄県宮古島市下地字与那覇２１９番地","代表取締役","瀧澤　篤","宮古島市","契約先"]
[null,11,"え","株式会社　Ｓ＆Ｋみやこ島","0980-76-4777","0980-76-6144","906-0201","沖縄県宮古島市上野字野原1190-212","代表取締役","瀧澤　篤","宮古島市","送付先"]
[null,12,"え","エコラボ合同会社","0120-103-144","0120-103-199","104-6137","東京都中央区晴海1-8-11 トリトンスクエアＹ棟","職務執行者","下元　神志","中央区"]
[null,13,"お","沖縄ツーリスト（株）レンタカー部　宮古空港前店","0980-72-1104","0980-73-1091","906-0007","沖縄県宮古島市平良字下里2199-1","店長","平良　昌人","宮古島市"]
[null,14,"お","株式会社　オカノ","0980-73-3398","0980-75-6113","900-0003","沖縄県那覇市安謝１丁目２３番８号","代表取締役社長","平良　和彦","宮古島市"]
[null,15,"お","株式会社　沖縄ムトウ","098-870-1156","098-875-8688","901-2125","沖縄県浦添市仲西１丁目２２番９号","代表取締役社長","丸山　武志","浦添市"]
[null,16,"お","一般財団法人　沖縄県環境科学センター","098-875-1941","098-875-1943","901-2111","沖縄県浦添市字経塚７２０番地","代表理事","福村　圭介","浦添市"]
[null,17,"お","株式会社　オペレーション・トレーニング・サービス","03-5967-0633","03-6750-6407","179-0073","東京都練馬区田柄２－５１－１Ｆ","代表取締役","畠山　富士男","練馬区"]
[null,18,"お","一般財団法人　沖縄県健康づくり財団","098-889-6474",null,"901-1192","沖縄県島尻郡南風原町字宮平２１２番地","理事長","金城　忠雄","南風原町"]
[null,19,"お","株式会社　沖縄メディコ","098-876-5280","098-873-3457","901-2122","沖縄県浦添市勢理客３丁目３番１１号","代表取締役","末吉　貞重","浦添市"]
[null,20,"お","（一財）沖縄県自動車標板協会宮古支部","0980-72-0194",null,"906-0013","沖縄県宮古島市平良下里１０３７－１","支部長","与那覇　幸子","宮古島市"]
[null,21,"お","沖縄トヨタ自動車株式会社　宮古支店","0980-72-2112",null,"906-0013","沖縄県宮古島市平良字下里１１５８－１","支店長","石垣　敦司","宮古島市"]
[null,22,"お","株式会社　オカノ　宮古営業所","0980-73-3398","0980-75-6113","906-0015","沖縄県宮古島市平良字久貝６５９－５","所長","芳野　将太","宮古島市"]
[null,23,"お","沖縄タイムス宮古南販売センター","0980-72-2050","0980-72-2050","906-0013","沖縄県宮古島市平良字下里１５９－１５","代表者","洲鎌　秀男","宮古島市"]
[null,24,"お","大城産業　株式会社　","098-874-2525","098-878-2219","901-2126","沖縄県浦添市宮城２丁目１６番１３号","代表取締役","大城　永雄","浦添市"]
[null,25,"お","(有)小値賀自動車整備工場","0959-56-2175","0959-56-3276","857-4703","長崎県北松浦郡小値賀町中村郷１２３１－１","代表取締役","戎元　恒夫","小値賀町"]
[null,26,"お","株式会社　オリックスレンタカー宮古島","0980-73-5500","0980-73-1221","906-0012","沖縄県宮古島市平良字西里１３３２－２","代表者","石原　雄","宮古島市",null,"レンタカー"]
[null,27,"お","沖縄教育評価研究所","098-861-9159","098-861-3357","902-0067","沖縄県那覇市安里１－６－１１","所長","喜屋武　一直","那覇市"]
[null,28,"お","有限会社　オリンピア運動具店","098-968-2800","098-968-7050","901-0144","沖縄県那覇市字当間３０１アイランドビュー内","代表取締役","大嶺　悟","那覇市"]
[null,29,"お","ＯＴＳレンタカー新石垣空港前店","0980-84-4323","0980-84-4325","907-0244","沖縄県石垣市盛山２２２－３５","店長","本村　和也","石垣市"]
[null,30,"か","川崎重工業　株式会社　","058-382-6210","058-382-2792","504-8710","岐阜県各務原市川崎町１番地","航空宇宙システムカンパニー防衛宇宙プロジェクト総括部長","杉谷　尚志","各務原市"]
[null,31,"か","有限会社　環境クリーン開発","0980-74-5450","0980-74-5455","906-0506","沖縄県宮古島市伊良部字長浜１３６０－１２","代表取締役","佐久川　直仁","宮古島市","佐久川　直仁"]
[null,32,"き","株式会社　ギコウ","098-943-6430",null,"816-0811","福岡県春日市春日公園７丁目８２番地","代表取締役","松本　光治","春日市"]
[null,33,"き","共和産業　株式会社　","0980-72-2720","0980-72-7672","906-0012","沖縄県宮古島市平良字西里１６１３","代表取締役","武富　和裕","熊本市"]
[null,34,"く","株式会社　クロサカ","03-3291-0016","03-3291-0015","101-0051","東京都千代田区神田神保町１丁目２７番地７","代表取締役","守田　憲治","千代田区"]
[null,35,"ぐ","グリーンフォート","0980-73-5005","0980-73-5005","906-0012","沖縄県宮古島市平良西里667-7","代表者","西平　三幸","宮古島市"]
[null,36,"け","有限会社　健軍ストアー","096-214-2705",null,null,"熊本県熊本市東区東町１－１－１","代表取締役","甲斐　憲明","熊本市"]
[null,37,"こ","ＣＯＣＯハウス","0980-79-2133",null,"906-0601","沖縄県宮古郡多良間村字塩川１５３","代表者","知念　吉信","多良間村"]
[null,38,"こ","光洋商事　株式会社　","098-878-0313","098-878-0317","901-2122","沖縄県浦添市勢理客２－１５－２３","代表取締役","高原　景一","浦添市"]
[null,39,"こ","小西旅館","0959-56-3145","0959-56-3146","857-4701","長崎県北松浦郡小値賀町笛吹郷２７８９","代表者","小西　茂子","小値賀町"]
[null,40,"こ","コットン・手芸の店　サワダ","0980-72-3033",null,null,"沖縄県宮古島市平良字久貝８２１－５","代表者","佐和田　京子","宮古島市"]
[null,41,"さ","佐久川金物店",{"$nulls":3},"沖縄県宮古島市平良字西里９３６－３","代表者","佐久川　ユキ","宮古島市"]
[null,42,"さ","株式会社　三虎","098-871-3188","098-871-3189","901-2101","沖縄県浦添市西原５丁目２番１２号","代表取締役","松岡　次夫","浦添市"]
[null,43,"さ","三栄工業　株式会社　","098-868-0191","098-862-4314","900-0001","沖縄県那覇市港町３丁目２番８号","代表取締役","中村　達","那覇市"]
[null,44,"さ","三晃　株式会社　","097-521-3511","098-521-3513","870-0108","大分県大分市三佐４丁目３－１１","代表取締役","三角　孝一","大分市","都築　整"]
[null,45,"さ","株式会社　サンクック","096-383-4691","096-384-2671","862-0950","熊本県熊本市中央区水前寺３丁目４０-１３","代表取締役","坂口　充洋","熊本市"]
[null,46,"さ","サクセス・ベル株式会社　","0823-45-5555","0823-45-3535","737-2302","広島県江田島市能美町鹿川3642番地1","代表取締役","空本　邦男","江田島市"]
[null,47,"し","シモジ印刷","0980-72-6622","0980-72-6622","906-0007","沖縄県宮古島市平良字東仲宗根４２８番地","代表者","下地　孝志","宮古島市"]
[null,48,"し","有限会社　昭和事務機","0980-72-9849","0980-72-9867","906-0006","沖縄県宮古島市平良字西仲宗根５０６－１","代表取締役","荷川取　恵一","宮古島市"]
[null,49,"し","昭和化学工業　株式会社　宮古ケミカルセンター","0980-75-3000","0980-75-3062","906-0012","沖縄県宮古島市平良字西里５７－４１番地","所長","下地　義信","宮古島市"]
[null,50,"し","昭和化学工業　株式会社　",null,null,"904-2201","沖縄県うるま市字昆布１４５５番地","代表取締役","屋嘉比　康則","宮古島市"]
[null,51,"し","有限会社シンセイ化学","0166-47-9463","0166-47-9464","079-8418","北海道旭川市永山８条３丁目７番６号","代表取締役","齊藤　泰比古","旭川市"]
[null,52,"し","有限会社　新星工業","098-893-3388","098-892-8286","901-2204","沖縄県宜野湾市上原２－２３－１０","代表取締役社長","池田　尚喜","宜野湾市"]
[null,53,"し","株式会社　昭美堂","098-834-2627",null,"900-0023","沖縄県那覇市楚辺２丁目２５－３３","代表取締役","宮城　勝子","那覇市"]
[null,54,"し","医療法人光陽会　下地眼科医院","0980-73-2228",null,"906-0013","沖縄県宮古島市平良下里５７７－１","理事長","下地　輝子","宮古島市","木・土曜休み"]
[null,55,"し","株式会社　新里土木","0980-72-6690","0980-79-0277","906-0006","沖縄県宮古島市平良字西仲宗根６８９番地５","代表取締役","下地　紀孝","宮古島市"]
[null,56,"じ","合同会社　ＧＢ　Ｓｅｒｖｉｃｅ","070-1079-2275",null,"906-0013","沖縄県宮古島市平良字下里７４８－５","代表社員","佐原　淳史","宮古島市"]
[null,57,"じ","株式会社　ジャパンロジスティクスサービス","03-3423-2523","03-3404-6376","107-0062","東京都港区南青山２丁目１１番１３号","代表取締役","玉永　克義","港区"]
[null,58,"じ","株式会社　ジャンボツアーズ","098-860-9221","098-866-4973","900-0015","沖縄県那覇市久茂地２丁目１５番１０号","代表取締役","谷村　勝己","那覇市"]
[null,59,"じ","ジスコホテル　株式会社　","0957-52-7777","0957-52-7756","856-0828","長崎県大村市杭出津３丁目３８５－６","代表取締役","徳永　耕一","大村市"]
[null,60,"す","スマイルホテル沖縄那覇","098-866-8100","098-866-8104","900-0016","沖縄県那覇市前島３丁目２４－１","支配人","中村　勝","那覇市"]
[null,61,"す","有限会社スポーツショップ　ライカム","0980-72-3377","0980-73-1066","906-0012","沖縄県宮古島市平良字西里４７０－３","代表取締役","幸地　誠","宮古島市"]
[null,62,"す","株式会社　スズケン沖縄薬品","0980-72-1112","0980-73-5460","901-1105","沖縄県島尻郡南風原町字新川４３６番地１","代表取締役社長","上原　浩司","南風原町"]
[null,63,"す","株式会社　スズケン沖縄薬品　宮古営業所","0980-72-1112","0980-73-5460","906-0012","沖縄県宮古島市平良西里１１１９－１０",null,null,"宮古島市","郵送先"]
[null,64,"せ","有限会社　成和産業","092-574-3560","092-574-3669","816-0851","福岡県春日市昇町３丁目２１０番地","代表取締役","荒木　進","春日市"]
[null,65,"せ","株式会社　泉州","06-6692-8711","06-6694-6629","546-0014","大阪府大阪市東住吉区鷹合１丁目３番３１号","代表取締役","隅防　嘉之","大阪市"]
[null,{"$f":"B66+1","v":66},"せ","株式会社　セイワ","042-551-2330","042-553-2561","197-0011","東京都福生市福生１９８２","代表取締役","白石　清","福生市"]
[null,67,"せ","株式会社　善林堂","098-878-6565","098-878-6932","901-2122","沖縄県浦添市勢理客１丁目１番６号","代表取締役","仲嶺　剛","浦添市","大城　直之"]
[null,68,"せ","セコム琉球　株式会社　","0980-72-1431","0980-72-0938","900-0015","沖縄県那覇市久茂地１丁目７番１号","代表取締役社長","宮里　一","那覇市"]
[null,69,"せ","西部産業　株式会社　","0956-22-8180","0956-223822","857-0051","長崎県佐世保市浜田町１番１号","代表取締役","相良　圭一郎","宮古島市"]
[null,70,"そ","株式会社　染めＱテクノロジィ","0280-80-0005","0280-80-0006","306-0313","茨城県猿島郡五霞町元栗橋５９７１番地３１","代表取締役","菱木　貞夫","五霞町"]
[null,71,"た","合資会社　多良間海運",null,null,"906-0013","沖縄県宮古島市平良字下里１０８－１１","代表社員","伊良皆　光夫","宮古島市"]
[null,72,"た","タイヤガーデン宮古島","0980-79-8622","0980-72-4855","906-0012","沖縄県宮古島市平良字西里９３３－１","代表者","長間　剛","宮古島市"]
[null,73,"ち","株式会社　チャビラ","098-840-1000","098-840-1001","901-0155","沖縄県那覇市金城５－１１－１","代表取締役","山内　志乃","那覇市"]
[null,74,"ち","地方職員共済組合麹町会館","03-3265-5361","03-3265-6458","102-0093","東京都千代田区平河町２－４－３","支配人","黒木　良一","千代田区"]
[null,75,"ち","株式会社　千代田テクノル","092-262-2233",null,"812-0038","福岡県福岡市博多区祇園町１－２８","代表取締役","細田　敏和","福岡市"]
[null,76,"ち","株式会社　千代田テクノル",{"$nulls":3},"東京都文京区湯島一丁目７番１２号","代表取締役","細田　敏和","文京区"]
[null,77,"と","株式会社　とみや商会","0980-73-5539","0980-72-2877","906-0008","沖縄県宮古島市平良字荷川取３１１番地","代表取締役","中尾　忠筰","宮古島市"]
[null,78,"と","株式会社　東和","0980-73-0505","0980-72-0707","906-0012","沖縄県宮古島市平良字西里８９４－２","代表取締役","新城　浩司","宮古島市"]
[null,79,"と","トキコシステムソリューションズ株式会社　九州支店","098-871-9255","098-871-9256","903-0112","沖縄県中頭郡西原町字我謝241-75",null,null,"中頭郡西原町"]
[null,80,"な","株式会社　南西沖食",null,"0980-72-3877","906-0013","沖縄県宮古島市平良字下里５８３－１","代表取締役","西原　秀憲","宮古島市"]
[null,81,"な","株式会社　ナガノカメラ","0957-52-3275","092-510-1241","856-0832","長崎県大村市本町４２８－２","代表取締役","長野　博人","大村市"]
[null,82,"な","南石開発株式会社　","098-945-4800","098-946-3822","903-0103","沖縄県中頭郡西原町字小那覇１４９８番地","代表取締役","古堅　寿香","西原町"]
[null,83,"な","株式会社　永江印祥堂","0852-21-9950","0852-21-9950","690-0021","島根県松江市矢田町２５０－６３"]
[null,84,"な","長崎ビニール工業株式会社　","095-861-1256","095-861-4144","852-8011","長崎県長崎市稲佐町4-26","代表取締役","出口　隆三","長崎市"]
[null,85,"に","一般社団法人　日本家族計画協会","03-3269-4727","03-3267-2658","162-0843","東京都新宿区市谷田町１－１０　保健会館新館","理事長","北村　邦夫","新宿区"]
[null,86,"に","日本パーカライジング株式会社　","03-3278-4465","03-3278-4328","103-0027","東京都中央区日本端１－１５－１","代表取締役社長","佐藤　乾太郎","中央区"]
[null,87,"に","西日本ビニール工業株式会社　","095-828-1000","095-826-0001","850-0001","長崎県長崎市西山４丁目５４７番地１","代表取締役","下釜　恵子","長崎市"]
[null,88,"に","株式会社　西松屋チェーン　イオンタウン宮古南店","0980-72-7170","0980-72-7170","906-0014","沖縄県宮古島市平良字松原６３１番地","店長","水上　友太","宮古島市"]
[null,89,"に","株式会社　日章","093-561-1731","093-561-1734","803-0835","福岡県北九州市小倉北区井堀１丁目２６－１４","代表取締役","溝口　郁二","苅田町"]
[null,90,"に","日本アサヒ機工販売株式会社　","03-3433-8000","03-3436-1497","105-0011","東京都港区芝公園２－６－１１","代表取締役","菊島　千幸","港区"]
[null,91,"の","株式会社　野津商事","0980-72-2027","0980-72-9355","906-0012","沖縄県宮古島市平良字西里１００１－１１","代表取締役","野津　芳仁","宮古島市"]
[null,92,"は","有限会社　ハマダ歯科商店","098-886-5234","098-886-5275","902-0061","沖縄県那覇市古島２丁目２４－１３","支店長","濵田　次郎","那覇市","濱田　次郎"]
[null,93,"は","株式会社　はまもと","0980-72-1581","0980-72-8302","906-0013","沖縄県宮古島市平良字下里８１２番地","代表取締役","濱元　美和","宮古島市"]
[null,94,"は","八光商事株式会社　","0956-27-8686","0956-27-8688","857-1164","長崎県佐世保市白岳町１０７－５","代表取締役","諸国　正紀","佐世保市"]
[null,95,"は","株式会社　萩原材木店","0956-34-2211","0956-34-2215","857-1165","長崎県佐世保市大和町１－１","代表取締役","服部　明人","佐世保市"]
[null,96,"ぱ","有限会社パラダイスアメニティ","0980-79-0392","0980-79-0394","906-0015","沖縄県宮古島市平良字久貝８６７－１","代表取締役","西里　泰徳","宮古島市"]
[null,97,"ひ","株式会社　兵頭製作所","0985-23-3221","0985-23-5835","880-0837","宮崎県宮崎市角町中尊１７８６番地","代表取締役","兵頭　孝太郎","宮崎市"]
[null,98,"ひ","株式会社　光エンジニア","098-832-3245","098-833-5303","902-0078","沖縄県那覇市字識名１２７９番地","代表取締役","翁長　秀光","那覇市"]
[null,99,"ぶ","ＢＯＯＫｓきょうはん宮古南店","0980-79-0094","0980-79-0094","906-0014","沖縄県宮古島市平良字松原６３１番地","店長","真栄城　久尚","宮古島市"]
[null,100,"ほ","ホクセツ技研株式会社　","06-6452-5271","06-6452-5929","553-0001","大阪府大阪市福島区海老江７丁目１７番１４","代表取締役","平井　隆彦","大阪市"]
[null,101,"ほ","株式会社　ホテルグランビュー","098-859-4890","098-859-4891","901-0154","沖縄県那覇市赤嶺２丁目３番２号","代表取締役","小尾　一","那覇市"]
[null,102,"ほ","株式会社　ホテルチューリップ石垣島","0980-83-8060","0980-83-8055","907-0011","沖縄県石垣市八島町１丁目３－５","代表取締役","仲宗根　政乗","石垣市"]
[null,103,"ぼ","防衛省共済組合陸上宮古島支部",{"$nulls":3},"沖縄県宮古島市上野字野原８３－５","支部長","佐藤　慎二","宮古島市"]
[null,104,"ま","まるみクリーニング",null,null,"906-0013","沖縄県宮古島市平良字下里４８１－２","代表者","杉本　昌子","宮古島市"]
[null,105,"ま","株式会社　丸秀","0980-72-3396","0980-72-9200","906-0007","沖縄県宮古島市平良字東仲宗根３５０番地","代表取締役","伊良皆　榮","宮古島市"]
[null,106,"ま","合同会社　丸高","0980-77-8208","0980-77-8801","906-0103","沖縄県宮古島市城辺字福里８６４－１１","代表","高江洲　修","宮古島市"]
[null,107,"ま","ホテル　マリンウエスト那覇　","098-863-0055","098-863-0051","900-0036","沖縄県那覇市西１－８－１５","総支配人","上原　政彦","那覇市"]
[null,108,"ま","有限会社マサミ金属工芸","096-344-3211","096-344-3214","860-0863","熊本県熊本市中央区坪井５丁目２番８号","代表取締役","中尾　かおる","熊本市"]
[null,109,"ま","株式会社　丸金ストアー","0980-72-2434","0980-73-0612","906-0013","沖縄県宮古島市平良字荷川取１３９－２","代表取締役","大村　正広","宮古島市"]
[null,110,"ま","有限会社　松島開発","0980-722-5255","0980-73-8751","906-0013","沖縄県宮古島市平良字下里１３７９番地","代表取締役","下地　孝司","宮古島市"]
[null,111,"ま","有限会社まるたか","0980-72-0348",null,"906-0012","沖縄県宮古島市平良字西里７９４番地の４","代表取締役","下地　広美","宮古島市"]
[null,112,"み","株式会社　みつわ産業","098-834-1414","098-836-0182","902-0078","沖縄県那覇市識名１１６９","代表取締役社長","與那嶺　達啓","那覇市"]
[null,113,"み","宮古島地区交通安全協会","0980-73-0545",null,null,"沖縄県宮古島市平良字西里１０９２－１","会長","新里　孝行","宮古島市"]
[null,114,"み","宮古ガス株式会社　","0980-72-4935","0980-73-1889","906-0006","沖縄県宮古島市平良字西仲宗根２－３９","代表取締役","富山　忠彦","宮古島市"]
[null,115,"み","株式会社　宮古毎日新聞社","0980-72-2343","0980-72-3733","906-0012","沖縄県宮古島市平良字西里３３７番地","代表取締役","伊志嶺　幹夫","宮古島市"]
[null,116,"み","株式会社　宮古新報","0980-73-1212","098073-1811","906-0008","沖縄県宮古島市平良字荷川取４１１－１１","代表取締役","新城　竜太","宮古島市"]
[null,117,"み","医療法人　祐真会　宮古島リハビリ温泉病院","0980-73-0800","0980-73-0800","906-0011","沖縄県宮古島市平良字東仲宗根添１８９８番地の７","理事長","奥原　典一","宮古島市"]
[null,118,"み","有限会社　三石レンタル","0980-72-3878",null,null,"沖縄県宮古島市平良字西里８６４番地１","代表取締役","平良　勝己","宮古島市"]
[null,119,"み","宮古島生コン協同組合","0980-72-1909","0980-79-0225","906-0012","沖縄県宮古島市平良西里９３５－５３","代表理事","豊見山　景順","宮古島市"]
[null,120,"み","三浦工業株式会社　沖縄支店","098-859-5581","098-859-5583","901-0146","沖縄県豊見城市伊良波619-1","支店長","大塚　峰治雄","那覇市"]
[null,121,"む","株式会社　ムラセ","0957-63-0573","0957-63-5625","855-0878","長崎県島原市大下町丙１１７３番地１","代表取締役","村瀬　英治","島原市"]
[null,122,"め","有限会社　明伸商事","098-857-8295","098-858-6044","901-0152","沖縄県那覇市字小禄１２３８番地","代表取締役","新里　廣光","那覇市"]
[null,123,"も","株式会社　森山商事","098-835-4056","098-835-0044","902-0064","沖縄県那覇市寄宮２－２９－２２","代表取締役","志慶真　稔","那覇市"]
[null,124,"ゆ","夢パティオたらま","0980-79-2988","0980-79-2990","906-0601","沖縄県宮古郡多良間村字塩川１８番地","村長","伊良皆　光夫","多良間村"]
[null,125,"よ","吉田科学器械株式会社　","03-3959-1101","03-3959-1105","173-0024","東京都板橋区大山金井町３０－１６","代表取締役","吉田　智之","板橋区"]
[null,126,"り","株式会社　りゅうせき　宮古支店","0980-72-3192","0980-72-8681","906-0006","沖縄県宮古島市平良字西仲宗根２－４０","統括支店長","赤嶺　安弘","宮古島市",null,"燃料"]
[null,127,"り","株式会社　りゅうせき　宮古支店","0980-72-3192","0980-72-8681","906-0006","沖縄県宮古島市平良字西仲宗根２－４０","統括支店長","赤嶺　安弘","宮古島市","野原　用喬","ガス"]
[null,128,"り","株式会社　琉薬","0980-73-0981","0980-73-0983","906-0013","沖縄県浦添市牧港五丁目６番５号","代表取締役社長","稲嶺　侃","浦添市"]
[null,129,"れ","レンタカー　あだん","0980-79-2088",null,"906-0601","沖縄県宮古郡多良間村字塩川５２８","代表者","知念　祐子","多良間村","知念　祐子"]
[null,{"$f":"B130+1","v":130},"わ","和田機工株式会社　","092-441-1321","092-441-2267","812-0042","福岡県福岡市博多区豊１丁目１０－１９","代表取締役","和田　光一郎","福岡市"]
[null,131,"き","防衛省共済組合陸上宮古島支部",null,null,"906-0201","沖縄県宮古島市上野字野原83-5","支部長","佐藤　慎二"]
[null,132,null,"株式会社　ジャンボツアーズ","098-860-9221","098-866-4973","900-0015","沖縄県那覇市久茂地２丁目１５番１０号","代表取締役","谷村　勝己","那覇市","新里　英知","法人営業"]
[null,133,null,"日本工営株式会社　沖縄支店","098-832-0161","098-832-0162","900-0025","沖縄県那覇市壷川三丁目５番地１","支店長","米城　才文","那覇市"]
[null,134,null,"沖縄民間ピーシーアール検査機構株式会社　","098-868-9500","098-869-7550","900-0036","沖縄県那覇市西１－２０－１３","代表取締役","河村　哲","那覇市"]
[null,135,null,"大村セントラルホテル株式会社　","0957-54-7111","0957-54-7700","856-0826","長崎県大村市東三城町１８番１３","代表取締役","矢野　欽也","大村市"]
[null,136,null,"株式会社　３A","0980-76-3660",null,"600-8029","京都府京都市下京区西橋詰町762　京栄中央ビル6F","代表取締役","橋本　吉弘","京都市","橋本　吉弘"]
[null,137,null,"株式会社　トヨタレンタリース沖縄　宮古島空港店","0980-75-0100","0980-75-0100","906-0012","沖縄県宮古島市平良字西里１２８０番地","店長","當間　祐希","宮古島市"]
[null,138,null,"有限会社　奄美ビジネス","0997-52-2000","0997-53-0600","894-0034","鹿児島県奄美市名瀬入舟町９－２","代表取締役","平良　隆之","奄美市"]
[null,139,null,"有限会社ライズ","0997-54-1421","0997-54-1422","894-0034","鹿児島県奄美市名瀬入舟町１０番１５号","代表取締役","平　朋弘","奄美市"]
[null,140,null,"株式会社　フラットフィールド","0980-73-0404","0980-73-9889","906-0103","沖縄県宮古島市城辺字福里１２１７","代表取締役","平田　海斗","宮古島市"]
[null,141,null,"株式会社　オークマ","0946-52-2800","0946-52-2800","838-1305","福岡県朝倉市菱野１５４８","代表取締役","大隈　賢一郎","朝倉市"]
[null,142,null,"ニチオキ宮古島","0980-76-3568","0980-76-3568","906-0203","沖縄県宮古島市上野字宮国７６５－１","代表者","比屋根　安春","宮古島市"]
[null,143,null,"一般社団法人　日本産業カウンセラー協会","098-975-6061",null,"901-2131","沖縄県浦添市牧港５丁目６番８号","支部長","國仲　郁代"]
[null,144,null,"沖縄塩元売株式会社　宮古営業所","0980-72-3115",null,null,"沖縄県宮古島市平良西里262-2","所長","平良　賢司"]
[null,145,null,"沖縄県冷凍空調設備協会","098-861-1751","098-867-0364","900-0002","沖縄県那覇市曙１－８－１","会長","新垣　光博"]
[null,146,null,"有限会社アイランドフォト","0980-83-1880","0980-83-1819","907-0022","沖縄県石垣市大川５５２番地","代表取締役","冨田　幸弘"]
[null,147,null,"池間シャッター製作所","0980-72-1504","0980-72-7656","906-0012","沖縄県宮古島市平良字西里992-15","代表者","池間　清昌"]
[null,148,null,"株式会社　中央ツーリスト","098-854-5454",null,null,"沖縄県那覇市古波蔵１丁目５番１号","代表取締役","宮平　良一"]
[null,149,null,"クリーンテックス・ジャパン株式会社　","078-991-3694","078-991-3309","651-2271","兵庫県神戸市西区高塚台2-1-11","代表取締役","エリック・デグルート",null,"エリック・デグルート"]
[null,150,null,"沖縄ツーリスト株式会社　","098-856-8877","098-856-7777","901-0224","沖縄県那覇市松尾１丁目２番３号","代表取締役","東　良和",null,"上原　芽衣子"]
[null,151,null,"アグレッサーグループ","078-219-2200","078-219-2200","651-1232","兵庫県神戸市北区松が枝町３丁目４番地８号　アグレッサーグループ","代表者","佐藤　陵一",null,"佐藤　陵一"]
[null,152,null,"太鼓工房　響屋",null,null,"879-5103","大分県由布市湯布院町川南１０７１の１","代表","河野　勝己"]
[null,153,null,"琉球ブリッジ株式会社　","098-879-7642","098-879-7643","901-2131","沖縄県浦添市牧港2-43-16-1F","代表取締役","谷中田　洋樹"]
[null,154,null,"株式会社　サイトロンジャパン","03-6908-3327","03-6908-3443","161-0031","東京都新宿区西落合3-9-19","代表取締役","渡邉　晃"]
[null,155,null,"株式会社　デジスト","050-3821-7502","0974-22-7374","879-7124","大分県豊後大野市三重町内山153-12"]
[null,156,null,"株式会社　オキジム宮古支店","0980-73-3616","0980-72-9732","906-0015","沖縄県宮古島市平良字久貝１０６９－１０","代表取締役","橋本　翔太","当真　正人"]
[null,157,null,"有限会社　あさひ","0980-72-3325","0980-72-1292","906-0012","沖縄県宮古島市平良字西里５８３番地","代表取締役","下地　弘晃"]
[null,158,null,"笹尾商工　株式会社　","098-877-1533","098-877-1558",null,"沖縄県浦添市牧港２丁目５０番１１号","代表取締役会長","笹尾　修司"]
[null,159,null,"株式会社　ＷＳＣ","0980-79-0770","0980-79-0780","906-0201","沖縄県宮古島市上野字野原８９－２９","代表取締役","西　英貴","三浦　洋司"]
[null,160,null,"株式会社　メイクマン　宮古店","0980-73-7100",null,null,"沖縄県宮古島市平良字西里1291","店長","大兼久　潤志",null,"伊波　正広"]
[null,161,null,"株式会社　メイクマン　宮古店","0980-73-7100",null,null,"沖縄県宮古島市平良字西里1291","店長","大兼久　潤志",null,"西里　隆博"]
[null,162,null,"株式会社　メイクマン　宮古店","0980-73-7100",null,null,"沖縄県宮古島市平良字西里1291","店長","大兼久　潤志",null,"仲原　恵美"]
[null,163,null,"株式会社　メイクマン　宮古店","0980-73-7100",null,null,"沖縄県宮古島市平良字西里1291","店長","大兼久　潤志",null,"友利　晴美"]
[null,164,null,"株式会社　メイクマン　宮古店","0980-73-7100",null,null,"沖縄県宮古島市平良字西里1291","店長","大兼久　潤志",null,"山田　義貴"]
[null,165,null,"株式会社　サンエー　エディオン宮古島シティ","0980-73-1500","0980-73-1501","906-0013","沖縄県宮古島市平良字下里2511-43","店長","久場　俊秀","　　　　　　","　　　　　　","玉元　隆治"]
[null,166,null,"川平　いずみ","0980-73-3669",null,null,"沖縄県宮古島市平良久貝1067-7　フローリスト・カビラ","代表","川平　いずみ",null,"川平　いずみ","0980-73-3669"]
[null,167,null,"株式会社　トヨタレンタリース沖縄　石垣島空港店","0980-82-0100","0980-88-0200","907-0244","沖縄県石垣市盛山２２２－８５","店長","大底　勇貴",null,"比嘉　鈴奈"]
[null,168,null,"株式会社　トヨタレンタリース沖縄　石垣島空港店","0980-82-0100","0980-88-0200","907-0244","沖縄県石垣市盛山２２２－８５","店長","大底　勇貴",null,"大嵩　孝史"]
[null,169,null,"ルートイン　グランディア石垣","0980-88-6160","0980-88-6162","907-0014","沖縄県石垣市新栄町21","店長",null,null,"矢島　寿和子"]
[null,170,null,"株式会社　ルートインジャパン"]
[null,171,null,"有限会社　ぽぷら","0980-72-6094",null,"906-0013","沖縄県宮古島市平良字下里１７８","代表取締役","宮国　羨允"]
[null,172,null,"沖縄綜合警備保障株式会社　","098-870-2500","098-899-2306","901-2223","沖縄県宜野湾市大山７丁目１１番１０号","代表取締役社長","金城　唯士"]
[null,173,null,"株式会社　明電エンジニアリング",null,null,"812-0018","福岡県福岡市博多区住吉５丁目５番３号","支店長","神谷　光治"]
[null,174,"れ","あだん","0980-79-2088",null,"906-0601","沖縄県宮古郡多良間村字塩川５２８","代表者","知念　祐子","多良間村","知念　祐子"]
[null,175,null,"ワタナベカラー","0980-72-1850",null,"906-0013","沖縄県宮古島市平良字下里1259-6番地","代表者","國仲　勝吉",null,"國仲　勝吉"]
[null,176,null,"有限会社　ホンダ販売石垣","0980-83-1015","0980-83-1004","907-0002","沖縄県石垣市前里574番地","代表取締役","上地　稔"]
[null,177,null,"宮古ビル管理　株式会社　",null,null,"906-0013","沖縄県宮古島市平良字下里１０８－１１","代表取締役","根路銘　康文"]
[null,178,null,"沖縄県エレベーター保守事業協同組合",null,null,"900-0015","沖縄県那覇市久茂地２－１２－２１　電波堂ビル4S"]
[null,179,null,"セコム株式会社　",null,null,"150-0001","東京都渋谷区神宮前一丁目５番１号","代表取締役社長","尾関　一郎"]
[null,180,null,"水都環境サービス株式会社　","06-6195-4268","06-6885-6522","541-0044","大阪府大阪市中央区伏見町４－４－９　淀屋橋東洋ビル３F","代表取締役","前川　真由美"]
[null,181,null,"個人事業主　　上田　卓也","090-7883-8174",null,null,"千葉県柏市松葉町７丁目３３－９","担当","上田　卓也"]
[null,182,null,"有限会社　うるま産業","098-979-4888","098-979-4855","904-2205","沖縄県うるま市栄野比４５番地１","代表取締役","目差　武博",null,"目差　武博"]
[null,183,null,"アサヒ電機株式会社","0980-73-0695","0980-73-6575","906-0013","沖縄県宮古島市平良字下里１３１４番地","代表取締役","下地　義治",null,"上地　友樹","T8-3600-0101-3726"]
[null,184,null,"具志堅　忠夫","0980-73-3158","0980-73-0916","906-0012","沖縄県宮古島市平良西里１３０７－６","代表者","具志堅　忠夫","宮古島市","具志堅　忠夫"]
[null,185,null,"新沖防災工業株式会社","098-878-1941","098-878-8494",null,"沖縄県浦添市伊祖４丁目１４番１号","代表取締役","比嘉　勉","浦添市","比嘉　勉"]
[null,186,null,"有限会社　金谷向陽党","0985-25-2722",null,"880-0004","宮崎県宮崎市元宮町1－11","代表取締役","金谷　正博","宮崎市","金谷　正博"]
[null,187,null,"株式会社丸仁",null,null,"903-0804","沖縄県那覇市首里石嶺町４－４８３－３"]
[null,188,null,"増山電機株式会社",null,null,"115-0042","東京都北区志茂５丁目４の５"]
[null,189,null,"有限会社ニード・コーポレーション",null,null,"890-0055","鹿児島県鹿児島市上荒田町36-13"]
[null,190,null,"エルマ販売株式会社　福岡営業所",null,null,"810-0073","福岡県福岡市中央区舞鶴３丁目６－１７　第１コーポ舞鶴ビル"]
[null,191,null,"株式会社ネスコ　西日本営業部",null,null,"541-0044","大阪府大阪市中央区伏見町４丁目２番１４号　WAKITA藤村御堂筋ビル３F"]
[null,192,null,"陽光株式会社",null,null,"861-8002","熊本県熊本市北区弓削３丁目９番４５号"]
[null,193,null,"グリーンフラッグ",null,null,"902-0062","沖縄県那覇市松川3-23-58"]
[null,{"$f":"B194+1","v":194},null,"有限会社ニューサウスウインド",null,null,"906-0008","沖縄県宮古島市平良荷川取535"]
[null,195,null,"弘済企業株式会社",null,null,"160-0002","東京都新宿区四谷坂町１２番２０号"]
[null,196,null,"印刷センターよなみね",null,null,"906-0012","沖縄県宮古島市平良字西里８３０番地"]
[null,197,null,"株式会社サンワード",null,null,"811-3431","福岡県宗像市田熊３丁目１番１号"]
[null,198,null,"大成設備工業株式会社",null,null,"903-0804","沖縄県那覇市首里石嶺町４丁目４４４－６"]
[null,199,null,"（株）アンカー",null,null,"890-0045","鹿児島県鹿児島市武１丁目４３番１５号"]
[null,200,null,"株式会社ヤマダデンキ小倉本店営業所",null,null,"803-0812","福岡県北九州市小倉北区室町3-2-25"]
[null,201,null,"宮古テレビ株式会社",null,null,"906-0007","沖縄県宮古島市平良字東仲宗根９６８番地９"]
[null,202,null,"株式会社ジャンボツアーズ",null,null,"900-0015","沖縄県那覇市久茂地２丁目１５番１０号"]
[null,203,null,"郡リース株式会社　沖縄営業所",null,null,"900-0015","沖縄県那覇市久茂地２－１４－１"]
[null,204,null,"ハイテクインター株式会社",null,null,"151-0053","東京都渋谷区代々木3-28-6"]
[null,205,null,"シバタ工業株式会社",null,null,"674-0082","兵庫県明石市魚住町中尾1058番地"]
[null,206,null,"株式会社三井E＆Sパワーシステムズ日本橋営業所",null,null,"103-0023","東京都中央区日本橋本町4-6-7　光洋ビル4F"]
[null,207,null,"株式会社アトラス",null,null,"901-0306","沖縄県糸満市西崎町5丁目6-14"]
[null,208,null,"株式会社　平良土建",null,null,"906-0008","沖縄県宮古島市平良荷川取256-1"]
[null,209,null,"株式会社ティーケーピー内　統一資格ヘルプデスク　宛",null,null,"108-0074","東京都港区高輪3-25-23　京急第２ビル９階　"]
[null,210,null,"ＢＸ沖縄文化シャッター株式会社",null,null,"901-0205","沖縄県豊見城市根差部６６７"]
[null,211,null,"株式会社マリックス",null,null,"105-0003","東京都港区西新橋３丁目２４番１０号"]
[null,212,null,"株式会社丸憲",null,null,"900-0021","沖縄県那覇市泉崎１丁目１６番５号"]
[null,213,null,"株式会社チームライク",null,null,"243-0432","神奈川県海老名市中央２丁目９ー５０　海老名プライムタワー７F北側フロア"]
[null,214,null,"安田産業株式会社　東京支店",null,null,"103-0014","東京都中央区日本橋蛎殻町1-13-1　　ユニゾ蛎殻町北島ビル３階"]
[null,215,null,"株式会社タツノ九州支店",null,null,"812-0892","福岡県福岡市博多区東那珂3-6-13"]
[null,216,null,"株式会社大米建設　宮古本店",null,null,"906-0008","沖縄県宮古島市平良荷川取５８０番地"]
[null,217,null,"宮古タタミ店",null,null,"906-0012","沖縄県宮古島市平良西里826-15"]
[null,218,null,"（株）ジャパンウェイスト　沖縄営業課",null,null,"901-0306","沖縄県糸満市西崎町5-15-2"]
[null,219,null,"(有)南成土木",null,null,"906-0506","沖縄県宮古島市伊良部長浜152-1"]
[null,220,null,"（株）友栄",null,null,"906-0007","沖縄県宮古島市平良東仲宗根888-2"]
[null,221,null,"沖縄工業検査株式会社",null,null,"904-2426","沖縄県うるま市与那城平安座8148番地1"]
[null,222,null,"三栄工業株式会社",null,null,"900-0001","沖縄県那覇市港町３丁目２番８号"]
[null,223,null,"株式会社東海テック　沖縄支店　",null,null,"900-0015","沖縄県那覇市久茂地2-9-1　サニービル4階"]
[null,224,null,"株式会社大米建設　宮古本店",null,null,"906-0008","沖縄県宮古島市平良荷川取580番地"]
[null,225,null,"株式会社エイジェック琉球　",null,null,"900-0021","沖縄県那覇市泉崎1-10-16　沖縄バス本社ビル３Ｆ"]
[null,226,null,"ホシザキ沖縄（株）宮古営業所",null,null,"906-0007","沖縄県宮古島市平良字東仲宗根731-30"]
[null,227,null,"株式会社アトラス",null,null,"901-0306","沖縄県糸満市西崎町５丁目6-14"]
[null,228,null,"合同会社　高江洲たたみ店",null,null,"906-0007","沖縄県宮古島市平良東仲宗根763-14"]
[null,229,null,"株式会社ReR",null,null,"640-8157","和歌山県和歌山市八番丁９番地　パーク県信ビル７０１号"]
[null,230,null,"バンザイ沖縄販売株式会社",null,null,"901-2131","バンザイ沖縄販売株式会社"]

{"sheet":"業者登録用紙","index":2,"n_rows":36,"n_cols":7,"rows_kept":36,"hidden":true,"merged":[[2,1,2,8],[4,1,5,8],[7,1,10,2],[7,3,7,8],[8,3,8,8],[9,3,9,8],[10,3,10,8],[11,1,11,2],[11,3,11,5],[11,6,11,8],[12,1,12,2],[12,3,12,5],[12,6,12,8],[13,1,13,8],[16,1,17,2],[16,4,16,8],[17,4,17,8],[18,1,18,2],[18,3,18,8],[19,1,19,2],[19,3,19,8],[20,1,20,2],[20,3,20,8],[21,1,21,2],[21,3,21,8],[22,1,22,2],[22,3,22,8],[23,1,25,8]]}
[]
[]
[null,"売掛用口座登録用紙"]
[]
[null,"契約支払いに関する事項を登録しますので下記の様式に記入をお願いします。\n記入が終わりましたら折り返しFAXをお願いします。"]
[]
[null,"１　企業（個人）登録"]
[null,"今回お取引する店舗の\n住所及び社名",null,"〒"]
[]
[{"$nulls":3},"TEL：　　　　（　　　　）　　　　"]
[{"$nulls":3},"FAX：　　　　（　　　　）　　　　"]
[null,"その代表者の名前",null,"役　職：\n\n　",null,null,"氏　名：\n\n　"]
[null,"担当者名",null,"氏　名：\n\n　",null,null,"部署等連絡先：\n\n　"]
[null,"※本社等が存在し、請求権や契約権が確認できない場合は本社等の情報を御書入れ下さい"]
[null,"２　口座登録"]
[null,"受領すべき金額は、下記の金融機関に振り込まれたく申請する。"]
[null,"口座名義",null,"フリガナ"]
[{"$nulls":3},"名義"]
[null,"銀　　行　　名"]
[null,"支　　店　　名\n（郵貯の場合は記号番号）"]
[null,"預（貯）金種別",null,"　普 通 　・　当 座　　・　 その他 （　　　　  　　　　　　　）"]
[null,"口座番号"]
[null,"備考"]
[null,"※お手数ではございますが、振込間違い防止のため口座の写しを添付お願いします。\n　名義の漢字とフリガナに相違があり振込できない時があります。\n　事後提出される請求書と名義が違う場合は振り込みができませんのでご注意ください。"]
[]
[]
[]
[null,"３　その他"]
[null,"　入金の時期については、納入日翌月末までに指定口座に御振込み予定です。"]
[]
[]
[]
[null,"※連絡先"]
[null,"陸上自衛隊　宮古島駐屯地　第４４４会計隊　契約班　福士（フクシ）"]
[null,"ＴＥＬ：０９８０－７６－６６６１（内３４８）"]
[null,"ＦＡＸ：０９８０－７６－６７１２（直通）"]

{"sheet":"契約内容","index":3,"n_rows":509,"n_cols":21,"rows_kept":509,"hidden":true,"merged":[[0,3,0,7],[0,15,0,19]]}
[{"$nulls":3},"入力データ",{"$nulls":7},"実計","5S8P1KT02160",null,null,"内訳書"]
[null,null,"№","品　　　　　　名","規　　　　　　格","単位","数量","単価","金額","要求書",null,"契約番号",{"$f":"LEFT(M1,7)&MID(M1,9,3)& \"000\"","v":"5S8P1KT216000"},"参照","№","品名","規格","単位","数量","単価","金額"]
["本官",null,1,{"$f":"コンバート!A5","v":"オープン券（航空券）　宮古／石垣⇔九州内各空港"},{"$f":"コンバート!B5","v":"仕様書のとおり"},{"$f":"コンバート!C5","v":"SH"},{"$f":"コンバート!D5","v":{"v":150,"d":"150 "}},null,null,"58LL1A50096",null,"要求番号","58LL1A50096",{"v":1,"d":"1 "},1,{"$f":"VLOOKUP(N3,$C:$J,2,FALSE)","v":"オープン券（航空券）　宮古／石垣⇔九州内各空港"},{"$f":"VLOOKUP(N3,$C:$J,3,FALSE)","v":"仕様書のとおり"},{"$f":"VLOOKUP(N3,$C:$J,4,FALSE)","v":"SH"},{"$f":"VLOOKUP(N3,$C:$J,5,FALSE)","v":{"v":150,"d":"150 "}},{"$f":"VLOOKUP(N3,$C:$J,6,FALSE)","v":{"v":0,"d":"0 "}},{"$f":"S3*T3","v":{"v":0,"d":"0 "}}]
["代理官",null,2,{"$f":"コンバート!A6","v":{"v":0,"d":"0 "}},{"$f":"コンバート!B6","v":"以下余白"},{"$f":"コンバート!C6","v":{"v":0,"d":"0 "}},{"$f":"コンバート!D6","v":{"v":0,"d":"0 "}},{"$nulls":4},"契約年月日","2026-02-20",{"v":2,"d":"2 "},2,{"v":0,"d":"0 "},"以下余白",0,{"v":0,"d":"0 "},{"v":0,"d":"0 "},{"$f":"S4*T4","v":{"v":0,"d":"0 "}}]
[null,null,3,{"$f":"コンバート!A7","v":{"v":0,"d":"0 "}},{"$f":"コンバート!B7","v":{"v":0,"d":"0 "}},{"$f":"コンバート!C7","v":{"v":0,"d":"0 "}},{"$f":"コンバート!D7","v":{"v":0,"d":"0 "}},{"$nulls":4},"履行期限","2026-02-27",{"v":3,"d":"3 "},3,{"v":0,"d":"0 "},0,0,{"v":0,"d":"0 "},{"v":0,"d":"0 "},{"v":0,"d":"0 "}]
[null,null,4,{"$f":"コンバート!A8","v":{"v":0,"d":"0 "}},{"$f":"コンバート!B8","v":{"v":0,"d":"0 "}},{"$f":"コンバート!C8","v":{"v":0,"d":"0 "}},{"$f":"コンバート!D8","v":{"v":0,"d":"0 "}},{"$nulls":4},"履行場所","陸上自衛隊　宮古島駐屯地",{"v":4,"d":"4 "},4,{"v":0,"d":"0 "},0,0,{"v":0,"d":"0 "},{"v":0,"d":"0 "},{"v":0,"d":"0 "}]
[null,null,5,{"$f":"コンバート!A9","v":{"v":0,"d":"0 "}},{"$f":"コンバート!B9","v":{"v":0,"d":"0 "}},{"$f":"コンバート!C9","v":{"v":0,"d":"0 "}},{"$f":"コンバート!D9","v":{"v":0,"d":"0 "}},{"$nulls":4},"本官情報","本官",{"v":5,"d":"5 "},5,{"v":0,"d":"0 "},0,0,{"v":0,"d":"0 "},{"v":0,"d":"0 "},{"v":0,"d":"0 "}]
[null,null,6,{"$f":"コンバート!A10","v":{"v":0,"d":"0 "}},{"$f":"コンバート!B10","v":{"v":0,"d":"0 "}},{"$f":"コンバート!C10","v":{"v":0,"d":"0 "}},{"$f":"コンバート!D10","v":{"v":0,"d":"0 "}},{"$nulls":6},{"v":6,"d":"6 "},6,{"v":0,"d":"0 "},0,0,{"v":0,"d":"0 "},{"v":0,"d":"0 "},{"v":0,"d":"0 "}]
[null,null,7,{"$f":"コンバート!A11","v":{"v":0,"d":"0 "}},{"$f":"コンバート!B11","v":{"v":0,"d":"0 "}},{"$f":"コンバート!C11","v":{"v":0,"d":"0 "}},{"$f":"コンバート!D11","v":{"v":0,"d":"0 "}},{"$nulls":4},"業者名",{"$f":"業者一覧!A1","v":{"$error":"#N/A"}},{"v":7,"d":"7 "},7,{"v":0,"d":"0 "},0,0,{"v":0,"d":"0 "},{"v":0,"d":"0 "},{"v":0,"d":"0 "}]
[null,null,8,{"$f":"コンバート!A12","v":{"v":0,"d":"0 "}},{"$f":"コンバート!B12","v":{"v":0,"d":"0 "}},{"$f":"コンバート!C12","v":{"v":0,"d":"0 "}},{"$f":"コンバート!D12","v":{"v":0,"d":"0 "}},{"$nulls":6},{"v":8,"d":"8 "},8,{"v":0,"d":"0 "},0,0,{"v":0,"d":"0 "},{"v":0,"d":"0 "},{"v":0,"d":"0 "}]
[null,null,9,{"$f":"コンバート!A13","v":{"v":0,"d":"0 "}},{"$f":"コンバート!B13","v":{"v":0,"d":"0 "}},{"$f":"コンバート!C13","v":{"v":0,"d":"0 "}},{"$f":"コンバート!D13","v":{"v":0,"d":"0 "}},{"$nulls":6},{"v":9,"d":"9 "},9,{"v":0,"d":"0 "},0,0,{"v":0,"d":"0 "},{"v":0,"d":"0 "},{"v":0,"d":"0 "}]
[null,null,10,{"$f":"コンバート!A14","v":{"v":0,"d":"0 "}},{"$f":"コンバート!B14","v":{"v":0,"d":"0 "}},{"$f":"コンバート!C14","v":{"v":0,"d":"0 "}},{"$f":"コンバート!D14","v":{"v":0,"d":"0 "}},{"$nulls":6},{"v":10,"d":"10 "},10,{"v":0,"d":"0 "},0,0,{"v":0,"d":"0 "},{"v":0,"d":"0 "},{"v":0,"d":"0 "}]
[null,null,11,{"$f":"コンバート!A15","v":{"v":0,"d":"0 "}},{"$f":"コンバート!B15","v":{"v":0,"d":"0 "}},{"$f":"コンバート!C15","v":{"v":0,"d":"0 "}},{"$f":"コンバート!D15","v":{"v":0,"d":"0 "}},{"$nulls":6},{"v":11,"d":"11 "},11,{"v":0,"d":"0 "},0,0,{"v":0,"d":"0 "},{"v":0,"d":"0 "},{"v":0,"d":"0 "}]
[null,null,12,{"$f":"コンバート!A16","v":{"v":0,"d":"0 "}},{"$f":"コンバート!B16","v":{"v":0,"d":"0 "}},{"$f":"コンバート!C16","v":{"v":0,"d":"0 "}},{"$f":"コンバート!D16","v":{"v":0,"d":"0 "}},{"$nulls":6},{"v":12,"d":"12 "},12,{"v":0,"d":"0 "},0,0,{"v":0,"d":"0 "},{"v":0,"d":"0 "},{"v":0,"d":"0 "}]
[null,null,13,{"$f":"コンバート!A17","v":{"v":0,"d":"0 "}},{"$f":"コンバート!B17","v":{"v":0,"d":"0 "}},{"$f":"コンバート!C17","v":{"v":0,"d":"0 "}},{"$f":"コンバート!D17","v":{"v":0,"d":"0 "}},{"$nulls":6},{"v":13,"d":"13 "},13,{"v":0,"d":"0 "},0,0,{"v":0,"d":"0 "},{"v":0,"d":"0 "},{"v":0,"d":"0 "}]
[null,null,14,{"$f":"コンバート!A18","v":{"v":0,"d":"0 "}},{"$f":"コンバート!B18","v":{"v":0,"d":"0 "}},{"$f":"コンバート!C18","v":{"v":0,"d":"0 "}},{"$f":"コンバート!D18","v":{"v":0,"d":"0 "}},{"$nulls":6},{"v":14,"d":"14 "},14,{"v":0,"d":"0 "},0,0,{"v":0,"d":"0 "},{"v":0,"d":"0 "},{"v":0,"d":"0 "}]
[null,null,15,{"$f":"コンバート!A19","v":{"v":0,"d":"0 "}},{"$f":"コンバート!B19","v":{"v":0,"d":"0 "}},{"$f":"コンバート!C19","v":{"v":0,"d":"0 "}},{"$f":"コンバート!D19","v":{"v":0,"d":"0 "}},{"$nulls":6},{"v":15,"d":"15 "},15,{"v":0,"d":"0 "},0,0,{"v":0,"d":"0 "},{"v":0,"d":"0 "},{"v":0,"d":"0 "}]
[null,null,16,{"$f":"コンバート!A20","v":{"v":0,"d":"0 "}},{"$f":"コンバート!B20","v":{"v":0,"d":"0 "}},{"$f":"コンバート!C20","v":{"v":0,"d":"0 "}},{"$f":"コンバート!D20","v":{"v":0,"d":"0 "}},{"$nulls":6},{"v":16,"d":"16 "},16,{"v":0,"d":"0 "},0,0,{"v":0,"d":"0 "},{"v":0,"d":"0 "},{"v":0,"d":"0 "}]
[null,null,17,{"$f":"コンバート!A21","v":{"v":0,"d":"0 "}},{"$f":"コンバート!B21","v":{"v":0,"d":"0 "}},{"$f":"コンバート!C21","v":{"v":0,"d":"0 "}},{"$f":"コンバート!D21","v":{"v":0,"d":"0 "}},{"$nulls":6},{"v":17,"d":"17 "},17,{"v":0,"d":"0 "},0,0,{"v":0,"d":"0 "},{"v":0,"d":"0 "},{"v":0,"d":"0 "}]
[null,null,18,{"$f":"コンバート!A22","v":{"v":0,"d":"0 "}},{"$f":"コンバート!B22","v":{"v":0,"d":"0 "}},{"$f":"コンバート!C22","v":{"v":0,"d":"0 "}},{"$f":"コンバート!D22","v":{"v":0,"d":"0 "}},{"$nulls":6},{"v":18,"d":"18 "},18,{"v":0,"d":"0 "},0,0,{"v":0,"d":"0 "},{"v":0,"d":"0 "},{"v":0,"d":"0 "}]
[null,null,19,{"$f":"コンバート!A23","v":{"v":0,"d":"0 "}},{"$f":"コンバート!B23","v":{"v":0,"d":"0 "}},{"$f":"コンバート!C23","v":{"v":0,"d":"0 "}},{"$f":"コンバート!D23","v":{"v":0,"d":"0 "}},{"$nulls":6},{"v":19,"d":"19 "},19,{"v":0,"d":"0 "},0,0,{"v":0,"d":"0 "},{"v":0,"d":"0 "},{"v":0,"d":"0 "}]
[null,null,20,{"$f":"コンバート!A24","v":{"v":0,"d":"0 "}},{"$f":"コンバート!B24","v":{"v":0,"d":"0 "}},{"$f":"コンバート!C24","v":{"v":0,"d":"0 "}},{"$f":"コンバート!D24","v":{"v":0,"d":"0 "}},{"$nulls":6},{"v":20,"d":"20 "},20,{"v":0,"d":"0 "},0,0,{"v":0,"d":"0 "},{"v":0,"d":"0 "},{"v":0,"d":"0 "}]
[null,null,21,{"$f":"コンバート!A25","v":{"v":0,"d":"0 "}},{"$f":"コンバート!B25","v":{"v":0,"d":"0 "}},{"$f":"コンバート!C25","v":{"v":0,"d":"0 "}},{"$f":"コンバート!D25","v":{"v":0,"d":"0 "}},{"$nulls":6},{"v":21,"d":"21 "},21,{"v":0,"d":"0 "},0,0,{"v":0,"d":"0 "},{"v":0,"d":"0 "},{"v":0,"d":"0 "}]
[null,null,22,{"$f":"コンバート!A26","v":{"v":0,"d":"0 "}},{"$f":"コンバート!B26","v":{"v":0,"d":"0 "}},{"$f":"コンバート!C26","v":{"v":0,"d":"0 "}},{"$f":"コンバート!D26","v":{"v":0,"d":"0 "}},{"$nulls":6},{"v":22,"d":"22 "},22,{"v":0,"d":"0 "},0,0,{"v":0,"d":"0 "},{"v":0,"d":"0 "},{"v":0,"d":"0 "}]
[null,null,23,{"$f":"コンバート!A27","v":{"v":0,"d":"0 "}},{"$f":"コンバート!B27","v":{"v":0,"d":"0 "}},{"$f":"コンバート!C27","v":{"v":0,"d":"0 "}},{"$f":"コンバート!D27","v":{"v":0,"d":"0 "}},{"$nulls":6},{"v":23,"d":"23 "},23,{"v":0,"d":"0 "},0,0,{"v":0,"d":"0 "},{"v":0,"d":"0 "},{"v":0,"d":"0 "}]
[null,null,24,{"$f":"コンバート!A28","v":{"v":0,"d":"0 "}},{"$f":"コンバート!B28","v":{"v":0,"d":"0 "}},{"$f":"コンバート!C28","v":{"v":0,"d":"0 "}},{"$f":"コンバート!D28","v":{"v":0,"d":"0 "}},{"$nulls":6},{"v":24,"d":"24 "},24,{"v":0,"d":"0 "},0,0,{"v":0,"d":"0 "},{"v":0,"d":"0 "},{"v":0,"d":"0 "}]
[null,null,25,{"$f":"コンバート!A29","v":{"v":0,"d":"0 "}},{"$f":"コンバート!B29","v":{"v":0,"d":"0 "}},{"$f":"コンバート!C29","v":{"v":0,"d":"0 "}},{"$f":"コンバート!D29","v":{"v":0,"d":"0 "}},{"$nulls":6},{"v":25,"d":"25 "},25,{"v":0,"d":"0 "},0,0,{"v":0,"d":"0 "},{"v":0,"d":"0 "},{"v":0,"d":"0 "}]
[null,null,26,{"$f":"コンバート!A30","v":{"v":0,"d":"0 "}},{"$f":"コンバート!B30","v":{"v":0,"d":"0 "}},{"$f":"コンバート!C30","v":{"v":0,"d":"0 "}},{"$f":"コンバート!D30","v":{"v":0,"d":"0 "}},{"$nulls":6},{"v":26,"d":"26 "},26,{"v":0,"d":"0 "},0,0,{"v":0,"d":"0 "},{"v":0,"d":"0 "}]
[null,null,27,{"$f":"コンバート!A31","v":{"v":0,"d":"0 "}},{"$f":"コンバート!B31","v":{"v":0,"d":"0 "}},{"$f":"コンバート!C31","v":{"v":0,"d":"0 "}},{"$f":"コンバート!D31","v":{"v":0,"d":"0 "}},{"$nulls":6},{"v":27,"d":"27 "},27,{"v":0,"d":"0 "},0,0,{"v":0,"d":"0 "},{"v":0,"d":"0 "}]
[null,null,28,{"$f":"コンバート!A32","v":{"v":0,"d":"0 "}},{"$f":"コンバート!B32","v":{"v":0,"d":"0 "}},{"$f":"コンバート!C32","v":{"v":0,"d":"0 "}},{"$f":"コンバート!D32","v":{"v":0,"d":"0 "}},{"$nulls":6},{"v":28,"d":"28 "},28,{"v":0,"d":"0 "},0,0,{"v":0,"d":"0 "},{"v":0,"d":"0 "}]
[null,null,29,{"$f":"コンバート!A33","v":{"v":0,"d":"0 "}},{"$f":"コンバート!B33","v":{"v":0,"d":"0 "}},{"$f":"コンバート!C33","v":{"v":0,"d":"0 "}},{"$f":"コンバート!D33","v":{"v":0,"d":"0 "}},{"$nulls":6},{"v":29,"d":"29 "},29,{"v":0,"d":"0 "},0,0,{"v":0,"d":"0 "},{"v":0,"d":"0 "}]
[null,null,30,{"$f":"コンバート!A34","v":{"v":0,"d":"0 "}},{"$f":"コンバート!B34","v":{"v":0,"d":"0 "}},{"$f":"コンバート!C34","v":{"v":0,"d":"0 "}},{"$f":"コンバート!D34","v":{"v":0,"d":"0 "}},{"$nulls":6},{"v":30,"d":"30 "},30,{"v":0,"d":"0 "},0,0,{"v":0,"d":"0 "},{"v":0,"d":"0 "}]
[null,null,31,{"$f":"コンバート!A35","v":{"v":0,"d":"0 "}},{"$f":"コンバート!B35","v":{"v":0,"d":"0 "}},{"$f":"コンバート!C35","v":{"v":0,"d":"0 "}},{"$f":"コンバート!D35","v":{"v":0,"d":"0 "}},{"$nulls":8},"計"]
[null,null,32,{"$f":"コンバート!A36","v":{"v":0,"d":"0 "}},{"$f":"コンバート!B36","v":{"v":0,"d":"0 "}},{"$f":"コンバート!C36","v":{"v":0,"d":"0 "}},{"$f":"コンバート!D36","v":{"v":0,"d":"0 "}},{"$nulls":6},{"v":31,"d":"31 "},31,{"$f":"VLOOKUP(N34,$C:$J,2,FALSE)","v":{"v":0,"d":"0 "}},{"$f":"VLOOKUP(N34,$C:$J,3,FALSE)","v":0},{"$f":"VLOOKUP(N34,$C:$J,4,FALSE)","v":0},{"$f":"VLOOKUP(N34,$C:$J,5,FALSE)","v":{"v":0,"d":"0 "}},{"$f":"VLOOKUP(N34,$C:$J,6,FALSE)","v":{"v":0,"d":"0 "}}]
[null,null,33,{"$f":"コンバート!A37","v":{"v":0,"d":"0 "}},{"$f":"コンバート!B37","v":{"v":0,"d":"0 "}},{"$f":"コンバート!C37","v":{"v":0,"d":"0 "}},{"$f":"コンバート!D37","v":{"v":0,"d":"0 "}},{"$nulls":6},{"v":32,"d":"32 "},32,{"$f":"VLOOKUP(N35,$C:$J,2,FALSE)","v":{"v":0,"d":"0 "}},0,0,{"v":0,"d":"0 "},{"$f":"VLOOKUP(N35,$C:$J,6,FALSE)","v":{"v":0,"d":"0 "}}]
[null,null,34,{"$f":"コンバート!A38","v":{"v":0,"d":"0 "}},{"$f":"コンバート!B38","v":{"v":0,"d":"0 "}},{"$f":"コンバート!C38","v":{"v":0,"d":"0 "}},{"$f":"コンバート!D38","v":{"v":0,"d":"0 "}},{"$nulls":6},{"v":33,"d":"33 "},33,{"v":0,"d":"0 "},0,0,{"v":0,"d":"0 "},{"$f":"VLOOKUP(N36,$C:$J,6,FALSE)","v":{"v":0,"d":"0 "}}]
[null,null,35,{"$f":"コンバート!A39","v":{"v":0,"d":"0 "}},{"$f":"コンバート!B39","v":{"v":0,"d":"0 "}},{"$f":"コンバート!C39","v":{"v":0,"d":"0 "}},{"$f":"コンバート!D39","v":{"v":0,"d":"0 "}},{"$nulls":6},{"v":34,"d":"34 "},34,{"v":0,"d":"0 "},0,0,{"v":0,"d":"0 "},{"$f":"VLOOKUP(N37,$C:$J,6,FALSE)","v":{"v":0,"d":"0 "}}]
[null,null,36,{"$f":"コンバート!A40","v":{"v":0,"d":"0 "}},{"$f":"コンバート!B40","v":{"v":0,"d":"0 "}},{"$f":"コンバート!C40","v":{"v":0,"d":"0 "}},{"$f":"コンバート!D40","v":{"v":0,"d":"0 "}},{"$nulls":6},{"v":35,"d":"35 "},35,{"v":0,"d":"0 "},0,0,{"v":0,"d":"0 "}]
[null,null,37,{"$f":"コンバート!A41","v":{"v":0,"d":"0 "}},{"$f":"コンバート!B41","v":{"v":0,"d":"0 "}},{"$f":"コンバート!C41","v":{"v":0,"d":"0 "}},{"$f":"コンバート!D41","v":{"v":0,"d":"0 "}},{"$nulls":6},{"v":36,"d":"36 "},36,{"v":0,"d":"0 "},0,0,{"v":0,"d":"0 "}]
[null,null,38,{"$f":"コンバート!A42","v":{"v":0,"d":"0 "}},{"$f":"コンバート!B42","v":{"v":0,"d":"0 "}},{"$f":"コンバート!C42","v":{"v":0,"d":"0 "}},{"$f":"コンバート!D42","v":{"v":0,"d":"0 "}},{"$nulls":6},{"v":37,"d":"37 "},37,{"v":0,"d":"0 "},0,0,{"v":0,"d":"0 "}]
[null,null,39,{"$f":"コンバート!A43","v":{"v":0,"d":"0 "}},{"$f":"コンバート!B43","v":{"v":0,"d":"0 "}},{"$f":"コンバート!C43","v":{"v":0,"d":"0 "}},{"$f":"コンバート!D43","v":{"v":0,"d":"0 "}},{"$nulls":6},{"v":38,"d":"38 "},38,{"v":0,"d":"0 "},0,0,{"v":0,"d":"0 "}]
[null,null,40,{"$f":"コンバート!A44","v":{"v":0,"d":"0 "}},{"$f":"コンバート!B44","v":{"v":0,"d":"0 "}},{"$f":"コンバート!C44","v":{"v":0,"d":"0 "}},{"$f":"コンバート!D44","v":{"v":0,"d":"0 "}},{"$nulls":6},{"v":39,"d":"39 "},39,{"v":0,"d":"0 "},0,0,{"v":0,"d":"0 "}]
[null,null,41,{"$f":"コンバート!A45","v":{"v":0,"d":"0 "}},{"$f":"コンバート!B45","v":{"v":0,"d":"0 "}},{"$f":"コンバート!C45","v":{"v":0,"d":"0 "}},{"$f":"コンバート!D45","v":{"v":0,"d":"0 "}},{"$nulls":6},{"v":40,"d":"40 "},40,{"v":0,"d":"0 "},0,0,{"v":0,"d":"0 "}]
[null,null,42,{"$f":"コンバート!A46","v":{"v":0,"d":"0 "}},{"$f":"コンバート!B46","v":{"v":0,"d":"0 "}},{"$f":"コンバート!C46","v":{"v":0,"d":"0 "}},{"$f":"コンバート!D46","v":{"v":0,"d":"0 "}},{"$nulls":6},{"v":41,"d":"41 "},41,{"v":0,"d":"0 "},0,0,{"v":0,"d":"0 "}]
[null,null,43,{"$f":"コンバート!A47","v":{"v":0,"d":"0 "}},{"$f":"コンバート!B47","v":{"v":0,"d":"0 "}},{"$f":"コンバート!C47","v":{"v":0,"d":"0 "}},{"$f":"コンバート!D47","v":{"v":0,"d":"0 "}},{"$nulls":6},{"v":42,"d":"42 "},42,{"v":0,"d":"0 "},0,0,{"v":0,"d":"0 "}]
[null,null,44,{"$f":"コンバート!A48","v":{"v":0,"d":"0 "}},{"$f":"コンバート!B48","v":{"v":0,"d":"0 "}},{"$f":"コンバート!C48","v":{"v":0,"d":"0 "}},{"$f":"コンバート!D48","v":{"v":0,"d":"0 "}},{"$nulls":6},{"v":43,"d":"43 "},43,{"v":0,"d":"0 "},0,0,{"v":0,"d":"0 "}]
[null,null,45,{"$f":"コンバート!A49","v":{"v":0,"d":"0 "}},{"$f":"コンバート!B49","v":{"v":0,"d":"0 "}},{"$f":"コンバート!C49","v":{"v":0,"d":"0 "}},{"$f":"コンバート!D49","v":{"v":0,"d":"0 "}},{"$nulls":6},{"v":44,"d":"44 "},44,{"v":0,"d":"0 "},0,0,{"v":0,"d":"0 "}]
[null,null,46,{"$f":"コンバート!A50","v":{"v":0,"d":"0 "}},{"$f":"コンバート!B50","v":{"v":0,"d":"0 "}},{"$f":"コンバート!C50","v":{"v":0,"d":"0 "}},{"$f":"コンバート!D50","v":{"v":0,"d":"0 "}},{"$nulls":6},{"v":45,"d":"45 "},45,{"v":0,"d":"0 "},0,0,{"v":0,"d":"0 "}]
[null,null,47,{"$f":"コンバート!A51","v":{"v":0,"d":"0 "}},{"$f":"コンバート!B51","v":{"v":0,"d":"0 "}},{"$f":"コンバート!C51","v":{"v":0,"d":"0 "}},{"$f":"コンバート!D51","v":{"v":0,"d":"0 "}},{"$nulls":6},{"v":46,"d":"46 "},46,{"v":0,"d":"0 "},0,0,{"v":0,"d":"0 "}]
[null,null,48,{"$f":"コンバート!A52","v":{"v":0,"d":"0 "}},{"$f":"コンバート!B52","v":{"v":0,"d":"0 "}},{"$f":"コンバート!C52","v":{"v":0,"d":"0 "}},{"$f":"コンバート!D52","v":{"v":0,"d":"0 "}},{"$nulls":6},{"v":47,"d":"47 "},47,{"v":0,"d":"0 "},0,0,{"v":0,"d":"0 "}]
[null,null,49,{"$f":"コンバート!A53","v":{"v":0,"d":"0 "}},{"$f":"コンバート!B53","v":{"v":0,"d":"0 "}},{"$f":"コンバート!C53","v":{"v":0,"d":"0 "}},{"$f":"コンバート!D53","v":{"v":0,"d":"0 "}},{"$nulls":6},{"v":48,"d":"48 "},48,{"v":0,"d":"0 "},0,0,{"v":0,"d":"0 "}]
[null,null,50,{"$f":"コンバート!A54","v":{"v":0,"d":"0 "}},{"$f":"コンバート!B54","v":{"v":0,"d":"0 "}},{"$f":"コンバート!C54","v":{"v":0,"d":"0 "}},{"$f":"コンバート!D54","v":{"v":0,"d":"0 "}},{"$nulls":6},{"v":49,"d":"49 "},49,{"v":0,"d":"0 "},0,0,{"v":0,"d":"0 "}]
[null,null,51,{"$f":"コンバート!A55","v":{"v":0,"d":"0 "}},{"$f":"コンバート!B55","v":{"v":0,"d":"0 "}},{"$f":"コンバート!C55","v":{"v":0,"d":"0 "}},{"$f":"コンバート!D55","v":{"v":0,"d":"0 "}},{"$nulls":6},{"v":50,"d":"50 "},50,{"v":0,"d":"0 "},0,0,{"v":0,"d":"0 "}]
[null,null,52,{"$f":"コンバート!A56","v":{"v":0,"d":"0 "}},{"$f":"コンバート!B56","v":{"v":0,"d":"0 "}},{"$f":"コンバート!C56","v":{"v":0,"d":"0 "}},{"$f":"コンバート!D56","v":{"v":0,"d":"0 "}},{"$nulls":6},{"v":51,"d":"51 "},51,{"v":0,"d":"0 "},0,0,{"v":0,"d":"0 "}]
[null,null,53,{"$f":"コンバート!A57","v":{"v":0,"d":"0 "}},{"$f":"コンバート!B57","v":{"v":0,"d":"0 "}},{"$f":"コンバート!C57","v":{"v":0,"d":"0 "}},{"$f":"コンバート!D57","v":{"v":0,"d":"0 "}},{"$nulls":6},{"v":52,"d":"52 "},52,{"v":0,"d":"0 "},0,0,{"v":0,"d":"0 "}]
[null,null,54,{"$f":"コンバート!A58","v":{"v":0,"d":"0 "}},{"$f":"コンバート!B58","v":{"v":0,"d":"0 "}},{"$f":"コンバート!C58","v":{"v":0,"d":"0 "}},{"$f":"コンバート!D58","v":{"v":0,"d":"0 "}},{"$nulls":6},{"v":53,"d":"53 "},53,{"v":0,"d":"0 "},0,0,{"v":0,"d":"0 "}]
[null,null,55,{"$f":"コンバート!A59","v":{"v":0,"d":"0 "}},{"$f":"コンバート!B59","v":{"v":0,"d":"0 "}},{"$f":"コンバート!C59","v":{"v":0,"d":"0 "}},{"$f":"コンバート!D59","v":{"v":0,"d":"0 "}},{"$nulls":6},{"v":54,"d":"54 "},54,{"v":0,"d":"0 "},0,0,{"v":0,"d":"0 "}]
[null,null,56,{"$f":"コンバート!A60","v":{"v":0,"d":"0 "}},{"$f":"コンバート!B60","v":{"v":0,"d":"0 "}},{"$f":"コンバート!C60","v":{"v":0,"d":"0 "}},{"$f":"コンバート!D60","v":{"v":0,"d":"0 "}},{"$nulls":6},{"v":55,"d":"55 "},55,{"v":0,"d":"0 "},0,0,{"v":0,"d":"0 "}]
[null,null,57,{"$f":"コンバート!A61","v":{"v":0,"d":"0 "}},{"$f":"コンバート!B61","v":{"v":0,"d":"0 "}},{"$f":"コンバート!C61","v":{"v":0,"d":"0 "}},{"$f":"コンバート!D61","v":{"v":0,"d":"0 "}},{"$nulls":6},{"v":56,"d":"56 "},56,{"v":0,"d":"0 "},0,0,{"v":0,"d":"0 "}]
[null,null,58,{"$f":"コンバート!A62","v":{"v":0,"d":"0 "}},{"$f":"コンバート!B62","v":{"v":0,"d":"0 "}},{"$f":"コンバート!C62","v":{"v":0,"d":"0 "}},{"$f":"コンバート!D62","v":{"v":0,"d":"0 "}},{"$nulls":6},{"v":57,"d":"57 "},57,{"v":0,"d":"0 "},0,0,{"v":0,"d":"0 "}]
[null,null,59,{"$f":"コンバート!A63","v":{"v":0,"d":"0 "}},{"$f":"コンバート!B63","v":{"v":0,"d":"0 "}},{"$f":"コンバート!C63","v":{"v":0,"d":"0 "}},{"$f":"コンバート!D63","v":{"v":0,"d":"0 "}},{"$nulls":6},{"v":58,"d":"58 "},58,{"v":0,"d":"0 "},0,0,{"v":0,"d":"0 "}]
[null,null,60,{"$f":"コンバート!A64","v":{"v":0,"d":"0 "}},{"$f":"コンバート!B64","v":{"v":0,"d":"0 "}},{"$f":"コンバート!C64","v":{"v":0,"d":"0 "}},{"$f":"コンバート!D64","v":{"v":0,"d":"0 "}},{"$nulls":6},{"v":59,"d":"59 "},59,{"v":0,"d":"0 "},0,0,{"v":0,"d":"0 "}]
[null,null,61,{"$f":"コンバート!A65","v":{"v":0,"d":"0 "}},{"$f":"コンバート!B65","v":{"v":0,"d":"0 "}},{"$f":"コンバート!C65","v":{"v":0,"d":"0 "}},{"$f":"コンバート!D65","v":{"v":0,"d":"0 "}},{"$nulls":6},{"v":60,"d":"60 "},60,{"v":0,"d":"0 "},0,0,{"v":0,"d":"0 "}]
[null,null,62,{"$f":"コンバート!A66","v":{"v":0,"d":"0 "}},{"$f":"コンバート!B66","v":{"v":0,"d":"0 "}},{"$f":"コンバート!C66","v":{"v":0,"d":"0 "}},{"$f":"コンバート!D66","v":{"v":0,"d":"0 "}},{"$nulls":8},"小　計"]
[null,null,63,{"$f":"コンバート!A67","v":{"v":0,"d":"0 "}},{"$f":"コンバート!B67","v":{"v":0,"d":"0 "}},{"$f":"コンバート!C67","v":{"v":0,"d":"0 "}},{"$f":"コンバート!D67","v":{"v":0,"d":"0 "}},{"$nulls":6},{"v":61,"d":"61 "},61,{"$f":"VLOOKUP(N65,$C:$J,2,FALSE)","v":{"v":0,"d":"0 "}},{"$f":"VLOOKUP(N65,$C:$J,3,FALSE)","v":0},{"$f":"VLOOKUP(N65,$C:$J,4,FALSE)","v":0},{"$f":"VLOOKUP(N65,$C:$J,5,FALSE)","v":{"v":0,"d":"0 "}}]
[null,null,64,{"$f":"コンバート!A68","v":{"v":0,"d":"0 "}},{"$f":"コンバート!B68","v":{"v":0,"d":"0 "}},{"$f":"コンバート!C68","v":{"v":0,"d":"0 "}},{"$f":"コンバート!D68","v":{"v":0,"d":"0 "}},{"$nulls":5},498,{"v":62,"d":"62 "},62,{"v":0,"d":"0 "},0,0,{"v":0,"d":"0 "}]
[null,null,65,{"$f":"コンバート!A69","v":{"v":0,"d":"0 "}},{"$f":"コンバート!B69","v":{"v":0,"d":"0 "}},{"$f":"コンバート!C69","v":{"v":0,"d":"0 "}},{"$f":"コンバート!D69","v":{"v":0,"d":"0 "}},{"$nulls":6},{"v":63,"d":"63 "},63,{"v":0,"d":"0 "},0,0,{"v":0,"d":"0 "}]
[null,null,66,{"$f":"コンバート!A70","v":{"v":0,"d":"0 "}},{"$f":"コンバート!B70","v":{"v":0,"d":"0 "}},{"$f":"コンバート!C70","v":{"v":0,"d":"0 "}},{"$f":"コンバート!D70","v":{"v":0,"d":"0 "}},{"$nulls":6},{"v":64,"d":"64 "},64,{"v":0,"d":"0 "},0,0,{"v":0,"d":"0 "}]
[null,null,67,{"$f":"コンバート!A71","v":{"v":0,"d":"0 "}},{"$f":"コンバート!B71","v":{"v":0,"d":"0 "}},{"$f":"コンバート!C71","v":{"v":0,"d":"0 "}},{"$f":"コンバート!D71","v":{"v":0,"d":"0 "}},{"$nulls":6},{"v":65,"d":"65 "},65,{"v":0,"d":"0 "},0,0,{"v":0,"d":"0 "}]
[null,null,68,{"$f":"コンバート!A72","v":{"v":0,"d":"0 "}},{"$f":"コンバート!B72","v":{"v":0,"d":"0 "}},{"$f":"コンバート!C72","v":{"v":0,"d":"0 "}},{"$f":"コンバート!D72","v":{"v":0,"d":"0 "}},{"$nulls":6},{"v":66,"d":"66 "},66,{"v":0,"d":"0 "},0,0,{"v":0,"d":"0 "}]
[null,null,69,{"$f":"コンバート!A73","v":{"v":0,"d":"0 "}},{"$f":"コンバート!B73","v":{"v":0,"d":"0 "}},{"$f":"コンバート!C73","v":{"v":0,"d":"0 "}},{"$f":"コンバート!D73","v":{"v":0,"d":"0 "}},{"$nulls":6},{"v":67,"d":"67 "},67,{"v":0,"d":"0 "},0,0,{"v":0,"d":"0 "}]
[null,null,70,{"$f":"コンバート!A74","v":{"v":0,"d":"0 "}},{"$f":"コンバート!B74","v":{"v":0,"d":"0 "}},{"$f":"コンバート!C74","v":{"v":0,"d":"0 "}},{"$f":"コンバート!D74","v":{"v":0,"d":"0 "}},null,{"$f":"G72*H72","v":{"v":0,"d":"0 "}},{"$nulls":4},{"v":68,"d":"68 "},68,{"v":0,"d":"0 "},0,0,{"v":0,"d":"0 "}]
[null,null,71,{"$f":"コンバート!A75","v":{"v":0,"d":"0 "}},{"$f":"コンバート!B75","v":{"v":0,"d":"0 "}},{"$f":"コンバート!C75","v":{"v":0,"d":"0 "}},{"$f":"コンバート!D75","v":{"v":0,"d":"0 "}},null,{"v":0,"d":"0 "},{"$nulls":4},{"v":69,"d":"69 "},69,{"v":0,"d":"0 "},0,0,{"v":0,"d":"0 "}]
[null,null,72,{"$f":"コンバート!A76","v":{"v":0,"d":"0 "}},{"$f":"コンバート!B76","v":{"v":0,"d":"0 "}},{"$f":"コンバート!C76","v":{"v":0,"d":"0 "}},{"$f":"コンバート!D76","v":{"v":0,"d":"0 "}},null,{"v":0,"d":"0 "},{"$nulls":4},{"v":70,"d":"70 "},70,{"v":0,"d":"0 "},0,0,{"v":0,"d":"0 "}]
[null,null,73,{"$f":"コンバート!A77","v":{"v":0,"d":"0 "}},{"$f":"コンバート!B77","v":{"v":0,"d":"0 "}},{"$f":"コンバート!C77","v":{"v":0,"d":"0 "}},{"$f":"コンバート!D77","v":{"v":0,"d":"0 "}},null,{"v":0,"d":"0 "},{"$nulls":4},{"v":71,"d":"71 "},71,{"v":0,"d":"0 "},0,0,{"v":0,"d":"0 "}]
[null,null,74,{"$f":"コンバート!A78","v":{"v":0,"d":"0 "}},{"$f":"コンバート!B78","v":{"v":0,"d":"0 "}},{"$f":"コンバート!C78","v":{"v":0,"d":"0 "}},{"$f":"コンバート!D78","v":{"v":0,"d":"0 "}},null,{"v":0,"d":"0 "},{"$nulls":4},{"v":72,"d":"72 "},72,{"v":0,"d":"0 "},0,0,{"v":0,"d":"0 "}]
[null,null,75,{"$f":"コンバート!A79","v":{"v":0,"d":"0 "}},{"$f":"コンバート!B79","v":{"v":0,"d":"0 "}},{"$f":"コンバート!C79","v":{"v":0,"d":"0 "}},{"$f":"コンバート!D79","v":{"v":0,"d":"0 "}},null,{"v":0,"d":"0 "},{"$nulls":4},{"v":73,"d":"73 "},73,{"v":0,"d":"0 "},0,0,{"v":0,"d":"0 "}]
[null,null,76,{"$f":"コンバート!A80","v":{"v":0,"d":"0 "}},{"$f":"コンバート!B80","v":{"v":0,"d":"0 "}},{"$f":"コンバート!C80","v":{"v":0,"d":"0 "}},{"$f":"コンバート!D80","v":{"v":0,"d":"0 "}},null,{"v":0,"d":"0 "},{"$nulls":4},{"v":74,"d":"74 "},74,{"v":0,"d":"0 "},0,0,{"v":0,"d":"0 "}]
[null,null,77,{"$f":"コンバート!A81","v":{"v":0,"d":"0 "}},{"$f":"コンバート!B81","v":{"v":0,"d":"0 "}},{"$f":"コンバート!C81","v":{"v":0,"d":"0 "}},{"$f":"コンバート!D81","v":{"v":0,"d":"0 "}},null,{"v":0,"d":"0 "},{"$nulls":4},{"v":75,"d":"75 "},75,{"v":0,"d":"0 "},0,0,{"v":0,"d":"0 "}]
[null,null,78,{"$f":"コンバート!A82","v":{"v":0,"d":"0 "}},{"$f":"コンバート!B82","v":{"v":0,"d":"0 "}},{"$f":"コンバート!C82","v":{"v":0,"d":"0 "}},{"$f":"コンバート!D82","v":{"v":0,"d":"0 "}},null,{"v":0,"d":"0 "},{"$nulls":4},{"v":76,"d":"76 "},76,{"v":0,"d":"0 "},0,0,{"v":0,"d":"0 "}]
[null,null,79,{"$f":"コンバート!A83","v":{"v":0,"d":"0 "}},{"$f":"コンバート!B83","v":{"v":0,"d":"0 "}},{"$f":"コンバート!C83","v":{"v":0,"d":"0 "}},{"$f":"コンバート!D83","v":{"v":0,"d":"0 "}},null,{"v":0,"d":"0 "},{"$nulls":4},{"v":77,"d":"77 "},77,{"v":0,"d":"0 "},0,0,{"v":0,"d":"0 "}]
[null,null,80,{"$f":"コンバート!A84","v":{"v":0,"d":"0 "}},{"$f":"コンバート!B84","v":{"v":0,"d":"0 "}},{"$f":"コンバート!C84","v":{"v":0,"d":"0 "}},{"$f":"コンバート!D84","v":{"v":0,"d":"0 "}},null,{"v":0,"d":"0 "},{"$nulls":4},{"v":78,"d":"78 "},78,{"v":0,"d":"0 "},0,0,{"v":0,"d":"0 "}]
[null,null,81,{"$f":"コンバート!A85","v":{"v":0,"d":"0 "}},{"$f":"コンバート!B85","v":{"v":0,"d":"0 "}},{"$f":"コンバート!C85","v":{"v":0,"d":"0 "}},{"$f":"コンバート!D85","v":{"v":0,"d":"0 "}},null,{"v":0,"d":"0 "},{"$nulls":4},{"v":79,"d":"79 "},79,{"v":0,"d":"0 "},0,0,{"v":0,"d":"0 "}]
[null,null,82,{"$f":"コンバート!A86","v":{"v":0,"d":"0 "}},{"$f":"コンバート!B86","v":{"v":0,"d":"0 "}},{"$f":"コンバート!C86","v":{"v":0,"d":"0 "}},{"$f":"コンバート!D86","v":{"v":0,"d":"0 "}},null,{"v":0,"d":"0 "},{"$nulls":4},{"v":80,"d":"80 "},80,{"v":0,"d":"0 "},0,0,{"v":0,"d":"0 "}]
[null,null,83,{"$f":"コンバート!A87","v":{"v":0,"d":"0 "}},{"$f":"コンバート!B87","v":{"v":0,"d":"0 "}},{"$f":"コンバート!C87","v":{"v":0,"d":"0 "}},{"$f":"コンバート!D87","v":{"v":0,"d":"0 "}},null,{"v":0,"d":"0 "},{"$nulls":4},{"v":81,"d":"81 "},81,{"v":0,"d":"0 "},0,0,{"v":0,"d":"0 "}]
[null,null,84,{"$f":"コンバート!A88","v":{"v":0,"d":"0 "}},{"$f":"コンバート!B88","v":{"v":0,"d":"0 "}},{"$f":"コンバート!C88","v":{"v":0,"d":"0 "}},{"$f":"コンバート!D88","v":{"v":0,"d":"0 "}},null,{"v":0,"d":"0 "},{"$nulls":4},{"v":82,"d":"82 "},82,{"v":0,"d":"0 "},0,0,{"v":0,"d":"0 "}]
[null,null,85,{"$f":"コンバート!A89","v":{"v":0,"d":"0 "}},{"$f":"コンバート!B89","v":{"v":0,"d":"0 "}},{"$f":"コンバート!C89","v":{"v":0,"d":"0 "}},{"$f":"コンバート!D89","v":{"v":0,"d":"0 "}},null,{"v":0,"d":"0 "},{"$nulls":4},{"v":83,"d":"83 "},83,{"v":0,"d":"0 "},0,0,{"v":0,"d":"0 "}]
[null,null,86,{"$f":"コンバート!A90","v":{"v":0,"d":"0 "}},{"$f":"コンバート!B90","v":{"v":0,"d":"0 "}},{"$f":"コンバート!C90","v":{"v":0,"d":"0 "}},{"$f":"コンバート!D90","v":{"v":0,"d":"0 "}},null,{"v":0,"d":"0 "},{"$nulls":4},{"v":84,"d":"84 "},84,{"v":0,"d":"0 "},0,0,{"v":0,"d":"0 "}]
[null,null,87,{"$f":"コンバート!A91","v":{"v":0,"d":"0 "}},{"$f":"コンバート!B91","v":{"v":0,"d":"0 "}},{"$f":"コンバート!C91","v":{"v":0,"d":"0 "}},{"$f":"コンバート!D91","v":{"v":0,"d":"0 "}},null,{"v":0,"d":"0 "},{"$nulls":4},{"v":85,"d":"85 "},85,{"v":0,"d":"0 "},0,0,{"v":0,"d":"0 "}]
[null,null,88,{"$f":"コンバート!A92","v":{"v":0,"d":"0 "}},{"$f":"コンバート!B92","v":{"v":0,"d":"0 "}},{"$f":"コンバート!C92","v":{"v":0,"d":"0 "}},{"$f":"コンバート!D92","v":{"v":0,"d":"0 "}},null,{"v":0,"d":"0 "},{"$nulls":4},{"v":86,"d":"86 "},86,{"v":0,"d":"0 "},0,0,{"v":0,"d":"0 "}]
[null,null,89,{"$f":"コンバート!A93","v":{"v":0,"d":"0 "}},{"$f":"コンバート!B93","v":{"v":0,"d":"0 "}},{"$f":"コンバート!C93","v":{"v":0,"d":"0 "}},{"$f":"コンバート!D93","v":{"v":0,"d":"0 "}},null,{"v":0,"d":"0 "},{"$nulls":4},{"v":87,"d":"87 "},87,{"v":0,"d":"0 "},0,0,{"v":0,"d":"0 "}]
[null,null,90,{"$f":"コンバート!A94","v":{"v":0,"d":"0 "}},{"$f":"コンバート!B94","v":{"v":0,"d":"0 "}},{"$f":"コンバート!C94","v":{"v":0,"d":"0 "}},{"$f":"コンバート!D94","v":{"v":0,"d":"0 "}},null,{"v":0,"d":"0 "},{"$nulls":4},{"v":88,"d":"88 "},88,{"v":0,"d":"0 "},0,0,{"v":0,"d":"0 "}]
[null,null,91,{"$f":"コンバート!A95","v":{"v":0,"d":"0 "}},{"$f":"コンバート!B95","v":{"v":0,"d":"0 "}},{"$f":"コンバート!C95","v":{"v":0,"d":"0 "}},{"$f":"コンバート!D95","v":{"v":0,"d":"0 "}},null,{"v":0,"d":"0 "},{"$nulls":4},{"v":89,"d":"89 "},89,{"v":0,"d":"0 "},0,0,{"v":0,"d":"0 "}]
[null,null,92,{"$f":"コンバート!A96","v":{"v":0,"d":"0 "}},{"$f":"コンバート!B96","v":{"v":0,"d":"0 "}},{"$f":"コンバート!C96","v":{"v":0,"d":"0 "}},{"$f":"コンバート!D96","v":{"v":0,"d":"0 "}},null,{"v":0,"d":"0 "},{"$nulls":4},{"v":90,"d":"90 "},null,"小　計",0,0,{"v":0,"d":"0 "}]
[null,null,93,{"$f":"コンバート!A97","v":{"v":0,"d":"0 "}},{"$f":"コンバート!B97","v":{"v":0,"d":"0 "}},{"$f":"コンバート!C97","v":{"v":0,"d":"0 "}},{"$f":"コンバート!D97","v":{"v":0,"d":"0 "}},null,{"v":0,"d":"0 "},{"$nulls":6},"合　計"]
[null,null,94,{"$f":"コンバート!A98","v":{"v":0,"d":"0 "}},{"$f":"コンバート!B98","v":{"v":0,"d":"0 "}},{"$f":"コンバート!C98","v":{"v":0,"d":"0 "}},{"$f":"コンバート!D98","v":{"v":0,"d":"0 "}},null,{"v":0,"d":"0 "},{"$nulls":4},{"v":91,"d":"91 "},91,{"v":0,"d":"0 "},{"$f":"VLOOKUP(N96,$C:$J,3,FALSE)","v":0},{"$f":"VLOOKUP(N96,$C:$J,4,FALSE)","v":0},{"$f":"VLOOKUP(N96,$C:$J,5,FALSE)","v":{"v":0,"d":"0 "}}]
[null,null,95,{"$f":"コンバート!A99","v":{"v":0,"d":"0 "}},{"$f":"コンバート!B99","v":{"v":0,"d":"0 "}},{"$f":"コンバート!C99","v":{"v":0,"d":"0 "}},{"$f":"コンバート!D99","v":{"v":0,"d":"0 "}},null,{"v":0,"d":"0 "},{"$nulls":3},498,{"v":92,"d":"92 "},92,{"$f":"VLOOKUP(N97,$C:$J,2,FALSE)","v":{"v":0,"d":"0 "}},{"$f":"VLOOKUP(N97,$C:$J,3,FALSE)","v":0},{"$f":"VLOOKUP(N97,$C:$J,4,FALSE)","v":0},{"$f":"VLOOKUP(N97,$C:$J,5,FALSE)","v":{"v":0,"d":"0 "}}]
[null,null,96,{"$f":"コンバート!A100","v":{"v":0,"d":"0 "}},{"$f":"コンバート!B100","v":{"v":0,"d":"0 "}},{"$f":"コンバート!C100","v":{"v":0,"d":"0 "}},{"$f":"コンバート!D100","v":{"v":0,"d":"0 "}},null,{"v":0,"d":"0 "},{"$nulls":4},{"v":93,"d":"93 "},93,{"v":0,"d":"0 "},0,0,{"v":0,"d":"0 "}]
[null,null,97,{"$f":"コンバート!A101","v":{"v":0,"d":"0 "}},{"$f":"コンバート!B101","v":{"v":0,"d":"0 "}},{"$f":"コンバート!C101","v":{"v":0,"d":"0 "}},{"$f":"コンバート!D101","v":{"v":0,"d":"0 "}},null,{"v":0,"d":"0 "},{"$nulls":4},{"v":94,"d":"94 "},94,{"v":0,"d":"0 "},0,0,{"v":0,"d":"0 "}]
[null,null,98,{"$f":"コンバート!A102","v":{"v":0,"d":"0 "}},{"$f":"コンバート!B102","v":{"v":0,"d":"0 "}},{"$f":"コンバート!C102","v":{"v":0,"d":"0 "}},{"$f":"コンバート!D102","v":{"v":0,"d":"0 "}},null,{"v":0,"d":"0 "},{"$nulls":4},{"v":95,"d":"95 "},95,{"v":0,"d":"0 "},0,0,{"v":0,"d":"0 "}]
[null,null,99,{"$f":"コンバート!A103","v":{"v":0,"d":"0 "}},{"$f":"コンバート!B103","v":{"v":0,"d":"0 "}},{"$f":"コンバート!C103","v":{"v":0,"d":"0 "}},{"$f":"コンバート!D103","v":{"v":0,"d":"0 "}},null,{"v":0,"d":"0 "},{"$nulls":4},{"v":96,"d":"96 "},96,{"v":0,"d":"0 "},0,0,{"v":0,"d":"0 "}]
[null,null,100,{"$f":"コンバート!A104","v":{"v":0,"d":"0 "}},{"$f":"コンバート!B104","v":{"v":0,"d":"0 "}},{"$f":"コンバート!C104","v":{"v":0,"d":"0 "}},{"$f":"コンバート!D104","v":{"v":0,"d":"0 "}},null,{"v":0,"d":"0 "},{"$nulls":4},{"v":97,"d":"97 "},97,{"v":0,"d":"0 "},0,0,{"v":0,"d":"0 "}]
[null,null,99,{"$f":"コンバート!A105","v":{"v":0,"d":"0 "}},{"$f":"コンバート!B105","v":{"v":0,"d":"0 "}},{"$f":"コンバート!C105","v":{"v":0,"d":"0 "}},{"$f":"コンバート!D105","v":{"v":0,"d":"0 "}},null,{"v":0,"d":"0 "},{"$nulls":4},{"v":98,"d":"98 "},98,{"v":0,"d":"0 "},0,0,{"v":0,"d":"0 "}]
[null,null,100,{"$f":"コンバート!A106","v":{"v":0,"d":"0 "}},{"$f":"コンバート!B106","v":{"v":0,"d":"0 "}},{"$f":"コンバート!C106","v":{"v":0,"d":"0 "}},{"$f":"コンバート!D106","v":{"v":0,"d":"0 "}},null,{"v":0,"d":"0 "},{"$nulls":4},{"v":99,"d":"99 "},99,{"v":0,"d":"0 "},0,0,{"v":0,"d":"0 "}]
[null,null,101,null,{"$f":"コンバート!B107","v":{"v":0,"d":"0 "}},{"$nulls":3},{"v":0,"d":"0 "},{"$nulls":4},{"v":100,"d":"100 "},100,{"v":0,"d":"0 "},0,0,{"v":0,"d":"0 "}]
[null,null,102,null,{"$f":"コンバート!B108","v":{"v":0,"d":"0 "}},{"$nulls":3},{"v":0,"d":"0 "},{"$nulls":4},{"v":101,"d":"101 "},101,{"v":0,"d":"0 "},0,0,{"v":0,"d":"0 "}]
[null,null,103,null,{"$f":"コンバート!B109","v":{"v":0,"d":"0 "}},{"$nulls":3},{"v":0,"d":"0 "},{"$nulls":4},{"v":103,"d":"103 "},102,{"$f":"VLOOKUP(N107,$C:$J,2,FALSE)","v":{"v":0,"d":"0 "}},{"$f":"VLOOKUP(N107,$C:$J,3,FALSE)","v":0},{"$f":"VLOOKUP(N107,$C:$J,4,FALSE)","v":0},{"$f":"VLOOKUP(N107,$C:$J,5,FALSE)","v":{"v":0,"d":"0 "}}]
[null,null,104,null,{"$f":"コンバート!B110","v":{"v":0,"d":"0 "}},{"$nulls":3},{"v":0,"d":"0 "},{"$nulls":4},{"v":104,"d":"104 "},103,{"v":0,"d":"0 "},0,0,{"v":0,"d":"0 "}]
[null,null,105,null,{"$f":"コンバート!B111","v":{"v":0,"d":"0 "}},{"$nulls":3},{"v":0,"d":"0 "},{"$nulls":4},{"v":105,"d":"105 "},104,{"v":0,"d":"0 "},0,0,{"v":0,"d":"0 "}]
[null,null,106,{"$nulls":5},{"v":0,"d":"0 "},{"$nulls":4},{"v":106,"d":"106 "},105,{"v":0,"d":"0 "},0,0,{"v":0,"d":"0 "}]
[null,null,107,{"$nulls":5},{"v":0,"d":"0 "},{"$nulls":4},{"v":107,"d":"107 "},106,{"v":0,"d":"0 "},0,0,{"v":0,"d":"0 "}]
[null,null,108,{"$nulls":5},{"v":0,"d":"0 "},{"$nulls":4},{"v":108,"d":"108 "},107,{"v":0,"d":"0 "},0,0,{"v":0,"d":"0 "}]
[null,null,109,{"$nulls":5},{"v":0,"d":"0 "},{"$nulls":4},{"v":109,"d":"109 "},108,{"v":0,"d":"0 "},0,0,{"v":0,"d":"0 "}]
[null,null,110,{"$nulls":5},{"v":0,"d":"0 "},{"$nulls":4},{"v":110,"d":"110 "},109,{"v":0,"d":"0 "},0,0,{"v":0,"d":"0 "}]
[null,null,111,{"$nulls":5},{"v":0,"d":"0 "},{"$nulls":4},{"v":111,"d":"111 "},110,{"v":0,"d":"0 "},0,0,{"v":0,"d":"0 "}]
[null,null,112,{"$nulls":5},{"v":0,"d":"0 "},{"$nulls":4},{"v":112,"d":"112 "},111,{"v":0,"d":"0 "},0,0,{"v":0,"d":"0 "}]
[null,null,113,{"$nulls":5},{"v":0,"d":"0 "},{"$nulls":4},{"v":113,"d":"113 "},112,{"v":0,"d":"0 "},0,0,{"v":0,"d":"0 "}]
[null,null,114,{"$nulls":5},{"v":0,"d":"0 "},{"$nulls":4},{"v":114,"d":"114 "},113,{"v":0,"d":"0 "},0,0,{"v":0,"d":"0 "}]
[null,null,115,{"$nulls":5},{"v":0,"d":"0 "},{"$nulls":4},{"v":115,"d":"115 "},114,{"v":0,"d":"0 "},0,0,{"v":0,"d":"0 "}]
[null,null,116,{"$nulls":5},{"v":0,"d":"0 "},{"$nulls":4},{"v":116,"d":"116 "},115,{"v":0,"d":"0 "},0,0,{"v":0,"d":"0 "}]
[null,null,117,{"$nulls":5},{"v":0,"d":"0 "},{"$nulls":4},{"v":117,"d":"117 "},116,{"v":0,"d":"0 "},0,0,{"v":0,"d":"0 "}]
[null,null,118,{"$nulls":5},{"v":0,"d":"0 "},{"$nulls":4},{"v":118,"d":"118 "},117,{"v":0,"d":"0 "},0,0,{"v":0,"d":"0 "}]
[null,null,119,{"$nulls":5},{"v":0,"d":"0 "},{"$nulls":4},{"v":119,"d":"119 "},118,{"v":0,"d":"0 "},0,0,{"v":0,"d":"0 "}]
[null,null,120,{"$nulls":5},{"v":0,"d":"0 "},{"$nulls":4},{"v":120,"d":"120 "},119,{"v":0,"d":"0 "},0,0,{"v":0,"d":"0 "}]
[null,null,121,{"$nulls":5},{"v":0,"d":"0 "},{"$nulls":4},{"v":121,"d":"121 "},120,{"v":0,"d":"0 "},0,0,{"v":0,"d":"0 "}]
[null,null,122,{"$nulls":5},{"v":0,"d":"0 "},{"$nulls":4},{"v":122,"d":"122 "},null,"小　計",0,0,{"v":0,"d":"0 "}]
[null,null,123,{"$nulls":5},{"v":0,"d":"0 "},{"$nulls":3},"ここまで設定済み→",{"v":123,"d":"123 "},null,"合　計",0,0,{"v":0,"d":"0 "}]
[null,null,124,{"$nulls":5},{"v":0,"d":"0 "},{"$nulls":4},{"v":124,"d":"124 "},null,null,0,0,{"v":0,"d":"0 "}]
[null,null,125,{"$nulls":5},{"v":0,"d":"0 "},{"$nulls":4},{"v":125,"d":"125 "},121,{"$f":"VLOOKUP(N129,$C:$J,2,FALSE)","v":{"v":0,"d":"0 "}},{"$f":"VLOOKUP(N129,$C:$J,3,FALSE)","v":0},{"$f":"VLOOKUP(N129,$C:$J,4,FALSE)","v":0},{"$f":"VLOOKUP(N129,$C:$J,5,FALSE)","v":{"v":0,"d":"0 "}}]
[null,null,126,{"$nulls":5},{"v":0,"d":"0 "},{"$nulls":4},{"v":126,"d":"126 "},122,{"v":0,"d":"0 "},0,0,{"v":0,"d":"0 "}]
[null,null,127,{"$nulls":5},{"v":0,"d":"0 "},{"$nulls":4},{"v":127,"d":"127 "},123,{"v":0,"d":"0 "},0,0,{"v":0,"d":"0 "}]
[null,null,128,{"$nulls":5},{"v":0,"d":"0 "},{"$nulls":4},{"v":128,"d":"128 "},124,{"v":0,"d":"0 "},0,0,{"v":0,"d":"0 "}]
[null,null,129,{"$nulls":5},{"v":0,"d":"0 "},{"$nulls":4},{"v":129,"d":"129 "},125,{"v":0,"d":"0 "},0,0,{"v":0,"d":"0 "}]
[null,null,130,{"$nulls":5},{"$f":"G134*H134","v":{"v":0,"d":"0 "}},{"$nulls":4},{"v":130,"d":"130 "},126,{"v":0,"d":"0 "},0,0,{"v":0,"d":"0 "}]
[null,null,131,{"$nulls":5},{"v":0,"d":"0 "},{"$nulls":4},{"v":131,"d":"131 "},127,{"v":0,"d":"0 "},0,0,{"v":0,"d":"0 "}]
[null,null,132,{"$nulls":5},{"v":0,"d":"0 "},{"$nulls":4},{"v":132,"d":"132 "},128,{"v":0,"d":"0 "},0,0,{"v":0,"d":"0 "}]
[null,null,133,{"$nulls":5},{"v":0,"d":"0 "},{"$nulls":4},{"v":133,"d":"133 "},129,{"v":0,"d":"0 "},0,0,{"v":0,"d":"0 "}]
[null,null,134,{"$nulls":5},{"v":0,"d":"0 "},{"$nulls":4},{"v":134,"d":"134 "},130,{"v":0,"d":"0 "},0,0,{"v":0,"d":"0 "}]
[null,null,135,{"$nulls":5},{"v":0,"d":"0 "},{"$nulls":4},{"v":135,"d":"135 "},131,{"v":0,"d":"0 "},0,0,{"v":0,"d":"0 "}]
[null,null,136,{"$nulls":5},{"v":0,"d":"0 "},{"$nulls":4},{"v":136,"d":"136 "},132,{"v":0,"d":"0 "},0,0,{"v":0,"d":"0 "}]
[null,null,137,{"$nulls":5},{"v":0,"d":"0 "},{"$nulls":4},{"v":137,"d":"137 "},133,{"v":0,"d":"0 "},0,0,{"v":0,"d":"0 "}]
[null,null,138,{"$nulls":5},{"v":0,"d":"0 "},{"$nulls":4},{"v":138,"d":"138 "},134,{"v":0,"d":"0 "},0,0,{"v":0,"d":"0 "}]
[null,null,139,{"$nulls":5},{"v":0,"d":"0 "},{"$nulls":4},{"v":139,"d":"139 "},135,{"v":0,"d":"0 "},0,0,{"v":0,"d":"0 "}]
[null,null,140,{"$nulls":5},{"v":0,"d":"0 "},{"$nulls":4},{"v":140,"d":"140 "},136,{"v":0,"d":"0 "},0,0,{"v":0,"d":"0 "}]
[null,null,141,{"$nulls":5},{"v":0,"d":"0 "},{"$nulls":4},{"v":141,"d":"141 "},137,{"v":0,"d":"0 "},0,0,{"v":0,"d":"0 "}]
[null,null,142,{"$nulls":5},{"v":0,"d":"0 "},{"$nulls":4},{"v":142,"d":"142 "},138,{"v":0,"d":"0 "},0,0,{"v":0,"d":"0 "}]
[null,null,143,{"$nulls":5},{"v":0,"d":"0 "},{"$nulls":4},{"v":143,"d":"143 "},139,{"v":0,"d":"0 "},0,0,{"v":0,"d":"0 "}]
[null,null,144,{"$nulls":5},{"v":0,"d":"0 "},{"$nulls":4},{"v":144,"d":"144 "},140,{"v":0,"d":"0 "},0,0,{"v":0,"d":"0 "}]
[null,null,145,{"$nulls":5},{"v":0,"d":"0 "},{"$nulls":4},{"v":145,"d":"145 "},141,{"v":0,"d":"0 "},0,0,{"v":0,"d":"0 "}]
[null,null,146,{"$nulls":5},{"v":0,"d":"0 "},{"$nulls":4},{"v":146,"d":"146 "},142,{"v":0,"d":"0 "},0,0,{"v":0,"d":"0 "}]
[null,null,147,{"$nulls":5},{"v":0,"d":"0 "},{"$nulls":4},{"v":147,"d":"147 "},143,{"v":0,"d":"0 "},0,0,{"v":0,"d":"0 "}]
[null,null,148,{"$nulls":5},{"v":0,"d":"0 "},{"$nulls":4},{"v":148,"d":"148 "},144,{"v":0,"d":"0 "},0,0,{"v":0,"d":"0 "}]
[null,null,149,{"$nulls":5},{"v":0,"d":"0 "},{"$nulls":4},{"v":149,"d":"149 "},145,{"v":0,"d":"0 "},0,0,{"v":0,"d":"0 "}]
[null,null,150,{"$nulls":5},{"v":0,"d":"0 "},{"$nulls":4},{"v":150,"d":"150 "},146,{"v":0,"d":"0 "},0,0,{"v":0,"d":"0 "}]
[null,null,151,{"$nulls":5},{"v":0,"d":"0 "},{"$nulls":4},{"v":151,"d":"151 "},147,{"v":0,"d":"0 "},0,0,{"v":0,"d":"0 "}]
[null,null,152,{"$nulls":5},{"v":0,"d":"0 "},{"$nulls":4},{"v":152,"d":"152 "},148,{"v":0,"d":"0 "},0,0,{"v":0,"d":"0 "}]
[null,null,153,{"$nulls":5},{"v":0,"d":"0 "},{"$nulls":4},{"v":153,"d":"153 "},149,{"v":0,"d":"0 "},0,0,{"v":0,"d":"0 "}]
[null,null,154,{"$nulls":5},{"v":0,"d":"0 "},{"$nulls":4},{"v":154,"d":"154 "},150,{"v":0,"d":"0 "},0,0,{"v":0,"d":"0 "}]
[{"$nulls":15},"小計"]
[null,null,155,{"$nulls":5},{"v":0,"d":"0 "},{"$nulls":4},{"v":155,"d":"155 "},151,{"$f":"VLOOKUP(N160,$C:$J,2,FALSE)","v":{"v":0,"d":"0 "}},{"$f":"VLOOKUP(N160,$C:$J,3,FALSE)","v":0},{"$f":"VLOOKUP(N160,$C:$J,4,FALSE)","v":0},{"$f":"VLOOKUP(N160,$C:$J,5,FALSE)","v":{"v":0,"d":"0 "}}]
[null,null,156,{"$nulls":5},{"v":0,"d":"0 "},{"$nulls":4},{"v":156,"d":"156 "},152,{"v":0,"d":"0 "},0,0,{"v":0,"d":"0 "}]
[null,null,157,{"$nulls":5},{"v":0,"d":"0 "},{"$nulls":4},{"v":157,"d":"157 "},153,{"v":0,"d":"0 "},0,0,{"v":0,"d":"0 "}]
[null,null,158,{"$nulls":5},{"v":0,"d":"0 "},{"$nulls":4},{"v":158,"d":"158 "},154,{"v":0,"d":"0 "},0,0,{"v":0,"d":"0 "}]
[null,null,159,{"$nulls":5},{"v":0,"d":"0 "},{"$nulls":4},{"v":159,"d":"159 "},155,{"v":0,"d":"0 "},0,0,{"v":0,"d":"0 "}]
[null,null,160,{"$nulls":5},{"v":0,"d":"0 "},{"$nulls":4},{"v":160,"d":"160 "},156,{"v":0,"d":"0 "},0,0,{"v":0,"d":"0 "}]
[null,null,161,{"$nulls":5},{"v":0,"d":"0 "},{"$nulls":4},{"v":161,"d":"161 "},157,{"v":0,"d":"0 "},0,0,{"v":0,"d":"0 "}]
[null,null,162,{"$nulls":5},{"v":0,"d":"0 "},{"$nulls":4},{"v":162,"d":"162 "},158,{"v":0,"d":"0 "},0,0,{"v":0,"d":"0 "}]
[null,null,163,{"$nulls":5},{"v":0,"d":"0 "},{"$nulls":4},{"v":163,"d":"163 "},159,{"v":0,"d":"0 "},0,0,{"v":0,"d":"0 "}]
[null,null,164,{"$nulls":5},{"v":0,"d":"0 "},{"$nulls":4},{"v":164,"d":"164 "},160,{"v":0,"d":"0 "},0,0,{"v":0,"d":"0 "}]
[null,null,165,{"$nulls":5},{"v":0,"d":"0 "},{"$nulls":4},{"v":165,"d":"165 "},161,{"v":0,"d":"0 "},0,0,{"v":0,"d":"0 "}]
[null,null,166,{"$nulls":5},{"v":0,"d":"0 "},{"$nulls":4},{"v":166,"d":"166 "},162,{"v":0,"d":"0 "},0,0,{"v":0,"d":"0 "}]
[null,null,167,{"$nulls":5},{"v":0,"d":"0 "},{"$nulls":4},{"v":167,"d":"167 "},163,{"v":0,"d":"0 "},0,0,{"v":0,"d":"0 "}]
[null,null,168,{"$nulls":5},{"v":0,"d":"0 "},{"$nulls":4},{"v":168,"d":"168 "},164,{"v":0,"d":"0 "},0,0,{"v":0,"d":"0 "}]
[null,null,169,{"$nulls":5},{"v":0,"d":"0 "},{"$nulls":4},{"v":169,"d":"169 "},165,{"v":0,"d":"0 "},0,0,{"v":0,"d":"0 "}]
[null,null,170,{"$nulls":5},{"v":0,"d":"0 "},{"$nulls":4},{"v":170,"d":"170 "},166,{"v":0,"d":"0 "},0,0,{"v":0,"d":"0 "}]
[null,null,171,{"$nulls":5},{"v":0,"d":"0 "},{"$nulls":4},{"v":171,"d":"171 "},167,{"v":0,"d":"0 "},0,0,{"v":0,"d":"0 "}]
[null,null,172,{"$nulls":5},{"v":0,"d":"0 "},{"$nulls":4},{"v":172,"d":"172 "},168,{"v":0,"d":"0 "},0,0,{"v":0,"d":"0 "}]
[null,null,173,{"$nulls":5},{"v":0,"d":"0 "},{"$nulls":4},{"v":173,"d":"173 "},169,{"v":0,"d":"0 "},0,0,{"v":0,"d":"0 "}]
[null,null,174,{"$nulls":5},{"v":0,"d":"0 "},{"$nulls":4},{"v":174,"d":"174 "},170,{"v":0,"d":"0 "},0,0,{"v":0,"d":"0 "}]
[null,null,175,{"$nulls":5},{"v":0,"d":"0 "},{"$nulls":4},{"v":175,"d":"175 "},171,{"v":0,"d":"0 "},0,0,{"v":0,"d":"0 "}]
[null,null,176,{"$nulls":5},{"v":0,"d":"0 "},{"$nulls":4},{"v":176,"d":"176 "},172,{"v":0,"d":"0 "},0,0,{"v":0,"d":"0 "}]
[null,null,177,{"$nulls":5},{"v":0,"d":"0 "},{"$nulls":4},{"v":177,"d":"177 "},173,{"v":0,"d":"0 "},0,0,{"v":0,"d":"0 "}]
[null,null,178,{"$nulls":5},{"v":0,"d":"0 "},{"$nulls":4},{"v":178,"d":"178 "},174,{"v":0,"d":"0 "},0,0,{"v":0,"d":"0 "}]
[null,null,179,{"$nulls":5},{"v":0,"d":"0 "},{"$nulls":4},{"v":179,"d":"179 "},175,{"v":0,"d":"0 "},0,0,{"v":0,"d":"0 "}]
[null,null,180,{"$nulls":5},{"v":0,"d":"0 "},{"$nulls":4},{"v":180,"d":"180 "},176,{"v":0,"d":"0 "},0,0,{"v":0,"d":"0 "}]
[null,null,181,{"$nulls":5},{"v":0,"d":"0 "},{"$nulls":4},{"v":181,"d":"181 "},177,{"v":0,"d":"0 "},0,0,{"v":0,"d":"0 "}]
[null,null,182,{"$nulls":5},{"v":0,"d":"0 "},{"$nulls":4},{"v":182,"d":"182 "},178,{"v":0,"d":"0 "},0,0,{"v":0,"d":"0 "}]
[null,null,183,{"$nulls":5},{"v":0,"d":"0 "},{"$nulls":4},{"v":183,"d":"183 "},179,{"v":0,"d":"0 "},0,0,{"v":0,"d":"0 "}]
[null,null,184,{"$nulls":5},{"v":0,"d":"0 "},{"$nulls":4},{"v":184,"d":"184 "},180,{"v":0,"d":"0 "},0,0,{"v":0,"d":"0 "}]
[{"$nulls":15},"小計"]
[null,null,185,{"$nulls":5},{"v":0,"d":"0 "},{"$nulls":4},{"v":185,"d":"185 "},181,{"$f":"VLOOKUP(N191,$C:$J,2,FALSE)","v":{"v":0,"d":"0 "}},{"$f":"VLOOKUP(N191,$C:$J,3,FALSE)","v":0},{"$f":"VLOOKUP(N191,$C:$J,4,FALSE)","v":0},{"$f":"VLOOKUP(N191,$C:$J,5,FALSE)","v":{"v":0,"d":"0 "}}]
[null,null,186,{"$nulls":5},{"v":0,"d":"0 "},{"$nulls":4},{"v":186,"d":"186 "},182,{"v":0,"d":"0 "},0,0,{"v":0,"d":"0 "}]
[null,null,187,{"$nulls":5},{"v":0,"d":"0 "},{"$nulls":4},{"v":187,"d":"187 "},183,{"v":0,"d":"0 "},0,0,{"v":0,"d":"0 "}]
[null,null,188,{"$nulls":5},{"v":0,"d":"0 "},{"$nulls":4},{"v":188,"d":"188 "},184,{"v":0,"d":"0 "},0,0,{"v":0,"d":"0 "}]
[null,null,189,{"$nulls":5},{"v":0,"d":"0 "},{"$nulls":4},{"v":189,"d":"189 "},185,{"v":0,"d":"0 "},0,0,{"v":0,"d":"0 "}]
[null,null,190,{"$nulls":5},{"v":0,"d":"0 "},{"$nulls":4},{"v":190,"d":"190 "},186,{"v":0,"d":"0 "},0,0,{"v":0,"d":"0 "}]
[null,null,191,{"$nulls":5},{"v":0,"d":"0 "},{"$nulls":4},{"v":191,"d":"191 "},187,{"v":0,"d":"0 "},0,0,{"v":0,"d":"0 "}]
[null,null,192,{"$nulls":5},{"v":0,"d":"0 "},{"$nulls":4},{"v":192,"d":"192 "},188,{"v":0,"d":"0 "},0,0,{"v":0,"d":"0 "}]
[null,null,193,{"$nulls":5},{"v":0,"d":"0 "},{"$nulls":4},{"v":193,"d":"193 "},189,{"v":0,"d":"0 "},0,0,{"v":0,"d":"0 "}]
[null,null,194,{"$nulls":5},{"$f":"G200*H200","v":{"v":0,"d":"0 "}},{"$nulls":4},{"v":194,"d":"194 "},190,{"v":0,"d":"0 "},0,0,{"v":0,"d":"0 "}]
[null,null,195,{"$nulls":5},{"v":0,"d":"0 "},{"$nulls":4},{"v":195,"d":"195 "},191,{"v":0,"d":"0 "},0,0,{"v":0,"d":"0 "}]
[null,null,196,{"$nulls":5},{"v":0,"d":"0 "},{"$nulls":4},{"v":196,"d":"196 "},192,{"v":0,"d":"0 "},0,0,{"v":0,"d":"0 "}]
[null,null,197,{"$nulls":5},{"v":0,"d":"0 "},{"$nulls":4},{"v":197,"d":"197 "},193,{"v":0,"d":"0 "},0,0,{"v":0,"d":"0 "}]
[null,null,198,{"$nulls":5},{"v":0,"d":"0 "},{"$nulls":4},{"v":198,"d":"198 "},194,{"v":0,"d":"0 "},0,0,{"v":0,"d":"0 "}]
[null,null,199,{"$nulls":5},{"v":0,"d":"0 "},{"$nulls":4},{"v":199,"d":"199 "},195,{"v":0,"d":"0 "},0,0,{"v":0,"d":"0 "}]
[null,null,200,{"$nulls":5},{"v":0,"d":"0 "},{"$nulls":4},{"v":200,"d":"200 "},196,{"v":0,"d":"0 "},0,0,{"v":0,"d":"0 "}]
[null,null,201,{"$nulls":5},{"v":0,"d":"0 "},{"$nulls":4},{"v":201,"d":"201 "},197,{"v":0,"d":"0 "},0,0,{"v":0,"d":"0 "}]
[null,null,202,{"$nulls":5},{"v":0,"d":"0 "},{"$nulls":4},{"v":202,"d":"202 "},198,{"v":0,"d":"0 "},0,0,{"v":0,"d":"0 "}]
[null,null,203,{"$nulls":5},{"v":0,"d":"0 "},{"$nulls":4},{"v":203,"d":"203 "},199,{"v":0,"d":"0 "},0,0,{"v":0,"d":"0 "}]
[null,null,204,{"$nulls":5},{"v":0,"d":"0 "},{"$nulls":4},{"v":204,"d":"204 "},200,{"v":0,"d":"0 "},0,0,{"v":0,"d":"0 "}]
[null,null,205,{"$nulls":5},{"v":0,"d":"0 "},{"$nulls":4},{"v":205,"d":"205 "},201,{"v":0,"d":"0 "},0,0,{"v":0,"d":"0 "}]
[null,null,206,{"$nulls":5},{"v":0,"d":"0 "},{"$nulls":4},{"v":206,"d":"206 "},202,{"v":0,"d":"0 "},0,0,{"v":0,"d":"0 "}]
[null,null,207,{"$nulls":5},{"v":0,"d":"0 "},{"$nulls":4},{"v":207,"d":"207 "},203,{"v":0,"d":"0 "},0,0,{"v":0,"d":"0 "}]
[null,null,208,{"$nulls":5},{"v":0,"d":"0 "},{"$nulls":4},{"v":208,"d":"208 "},204,{"v":0,"d":"0 "},0,0,{"v":0,"d":"0 "}]
[null,null,209,{"$nulls":5},{"v":0,"d":"0 "},{"$nulls":4},{"v":209,"d":"209 "},205,{"v":0,"d":"0 "},0,0,{"v":0,"d":"0 "}]
[null,null,210,{"$nulls":5},{"v":0,"d":"0 "},{"$nulls":4},{"v":210,"d":"210 "},206,{"v":0,"d":"0 "},0,0,{"v":0,"d":"0 "}]
[null,null,211,{"$nulls":5},{"v":0,"d":"0 "},{"$nulls":4},{"v":211,"d":"211 "},207,{"v":0,"d":"0 "},0,0,{"v":0,"d":"0 "}]
[null,null,212,{"$nulls":5},{"v":0,"d":"0 "},{"$nulls":4},{"v":212,"d":"212 "},208,{"v":0,"d":"0 "},0,0,{"v":0,"d":"0 "}]
[null,null,213,{"$nulls":5},{"v":0,"d":"0 "},{"$nulls":4},{"v":213,"d":"213 "},209,{"v":0,"d":"0 "},0,0,{"v":0,"d":"0 "}]
[null,null,214,{"$nulls":5},{"v":0,"d":"0 "},{"$nulls":4},{"v":214,"d":"214 "},210,{"v":0,"d":"0 "},0,0,{"v":0,"d":"0 "}]
[{"$nulls":15},"小計"]
[null,null,215,{"$nulls":5},{"v":0,"d":"0 "},{"$nulls":4},{"v":215,"d":"215 "},211,{"$f":"VLOOKUP(N222,$C:$J,2,FALSE)","v":{"v":0,"d":"0 "}},{"$f":"VLOOKUP(N222,$C:$J,3,FALSE)","v":0},{"$f":"VLOOKUP(N222,$C:$J,4,FALSE)","v":0},{"$f":"VLOOKUP(N222,$C:$J,5,FALSE)","v":{"v":0,"d":"0 "}}]
[null,null,216,{"$nulls":5},{"v":0,"d":"0 "},{"$nulls":4},{"v":216,"d":"216 "},212,{"v":0,"d":"0 "},0,0,{"v":0,"d":"0 "}]
[null,null,217,{"$nulls":5},{"v":0,"d":"0 "},{"$nulls":4},{"v":217,"d":"217 "},213,{"v":0,"d":"0 "},0,0,{"v":0,"d":"0 "}]
[null,null,218,{"$nulls":5},{"v":0,"d":"0 "},{"$nulls":4},{"v":218,"d":"218 "},214,{"v":0,"d":"0 "},0,0,{"v":0,"d":"0 "}]
[null,null,219,{"$nulls":5},{"v":0,"d":"0 "},{"$nulls":4},{"v":219,"d":"219 "},215,{"v":0,"d":"0 "},0,0,{"v":0,"d":"0 "}]
[null,null,220,{"$nulls":5},{"v":0,"d":"0 "},{"$nulls":4},{"v":220,"d":"220 "},216,{"v":0,"d":"0 "},0,0,{"v":0,"d":"0 "}]
[null,null,221,{"$nulls":5},{"v":0,"d":"0 "},{"$nulls":4},{"v":221,"d":"221 "},217,{"v":0,"d":"0 "},0,0,{"v":0,"d":"0 "}]
[null,null,222,{"$nulls":5},{"v":0,"d":"0 "},{"$nulls":4},{"v":222,"d":"222 "},218,{"v":0,"d":"0 "},0,0,{"v":0,"d":"0 "}]
[null,null,223,{"$nulls":5},{"v":0,"d":"0 "},{"$nulls":4},{"v":223,"d":"223 "},219,{"v":0,"d":"0 "},0,0,{"v":0,"d":"0 "}]
[null,null,224,{"$nulls":5},{"v":0,"d":"0 "},{"$nulls":4},{"v":224,"d":"224 "},220,{"v":0,"d":"0 "},0,0,{"v":0,"d":"0 "}]
[null,null,225,{"$nulls":5},{"v":0,"d":"0 "},{"$nulls":4},{"v":225,"d":"225 "},221,{"v":0,"d":"0 "},0,0,{"v":0,"d":"0 "}]
[null,null,226,{"$nulls":5},{"v":0,"d":"0 "},{"$nulls":4},{"v":226,"d":"226 "},222,{"v":0,"d":"0 "},0,0,{"v":0,"d":"0 "}]
[null,null,227,{"$nulls":5},{"v":0,"d":"0 "},{"$nulls":4},{"v":227,"d":"227 "},223,{"v":0,"d":"0 "},0,0,{"v":0,"d":"0 "}]
[null,null,228,{"$nulls":5},{"v":0,"d":"0 "},{"$nulls":4},{"v":228,"d":"228 "},224,{"v":0,"d":"0 "},0,0,{"v":0,"d":"0 "}]
[null,null,229,{"$nulls":5},{"v":0,"d":"0 "},{"$nulls":4},{"v":229,"d":"229 "},225,{"v":0,"d":"0 "},0,0,{"v":0,"d":"0 "}]
[null,null,230,{"$nulls":5},{"v":0,"d":"0 "},{"$nulls":4},{"v":230,"d":"230 "},226,{"v":0,"d":"0 "},0,0,{"v":0,"d":"0 "}]
[null,null,231,{"$nulls":5},{"v":0,"d":"0 "},{"$nulls":4},{"v":231,"d":"231 "},227,{"v":0,"d":"0 "},0,0,{"v":0,"d":"0 "}]
[null,null,232,{"$nulls":5},{"v":0,"d":"0 "},{"$nulls":4},{"v":232,"d":"232 "},228,{"v":0,"d":"0 "},0,0,{"v":0,"d":"0 "}]
[null,null,233,{"$nulls":5},{"v":0,"d":"0 "},{"$nulls":4},{"v":233,"d":"233 "},229,{"v":0,"d":"0 "},0,0,{"v":0,"d":"0 "}]
[null,null,234,{"$nulls":5},{"v":0,"d":"0 "},{"$nulls":4},{"v":234,"d":"234 "},230,{"v":0,"d":"0 "},0,0,{"v":0,"d":"0 "}]
[null,null,235,{"$nulls":5},{"v":0,"d":"0 "},{"$nulls":4},{"v":235,"d":"235 "},231,{"v":0,"d":"0 "},0,0,{"v":0,"d":"0 "}]
[null,null,236,{"$nulls":5},{"v":0,"d":"0 "},{"$nulls":4},{"v":236,"d":"236 "},232,{"v":0,"d":"0 "},0,0,{"v":0,"d":"0 "}]
[null,null,237,{"$nulls":5},{"v":0,"d":"0 "},{"$nulls":4},{"v":237,"d":"237 "},233,{"v":0,"d":"0 "},0,0,{"v":0,"d":"0 "}]
[null,null,238,{"$nulls":5},{"v":0,"d":"0 "},{"$nulls":4},{"v":238,"d":"238 "},234,{"v":0,"d":"0 "},0,0,{"v":0,"d":"0 "}]
[null,null,239,{"$nulls":5},{"v":0,"d":"0 "},{"$nulls":4},{"v":239,"d":"239 "},235,{"v":0,"d":"0 "},0,0,{"v":0,"d":"0 "}]
[null,null,240,{"$nulls":5},{"v":0,"d":"0 "},{"$nulls":4},{"v":240,"d":"240 "},236,{"v":0,"d":"0 "},0,0,{"v":0,"d":"0 "}]
[null,null,241,{"$nulls":5},{"v":0,"d":"0 "},{"$nulls":4},{"v":241,"d":"241 "},237,{"v":0,"d":"0 "},0,0,{"v":0,"d":"0 "}]
[null,null,242,{"$nulls":5},{"v":0,"d":"0 "},{"$nulls":4},{"v":242,"d":"242 "},238,{"v":0,"d":"0 "},0,0,{"v":0,"d":"0 "}]
[null,null,243,{"$nulls":5},{"v":0,"d":"0 "},{"$nulls":4},{"v":243,"d":"243 "},239,{"v":0,"d":"0 "},0,0,{"v":0,"d":"0 "}]
[null,null,244,{"$nulls":5},{"v":0,"d":"0 "},{"$nulls":4},{"v":244,"d":"244 "},240,{"v":0,"d":"0 "},0,0,{"v":0,"d":"0 "}]
[{"$nulls":15},"小計"]
[null,null,245,{"$nulls":5},{"v":0,"d":"0 "},{"$nulls":4},{"v":245,"d":"245 "},241,{"$f":"VLOOKUP(N253,$C:$J,2,FALSE)","v":{"v":0,"d":"0 "}},{"$f":"VLOOKUP(N253,$C:$J,3,FALSE)","v":0},{"$f":"VLOOKUP(N253,$C:$J,4,FALSE)","v":0},{"$f":"VLOOKUP(N253,$C:$J,5,FALSE)","v":{"v":0,"d":"0 "}}]
[null,null,246,{"$nulls":5},{"v":0,"d":"0 "},{"$nulls":4},{"v":246,"d":"246 "},242,{"v":0,"d":"0 "},0,0,{"v":0,"d":"0 "}]
[null,null,247,{"$nulls":5},{"v":0,"d":"0 "},{"$nulls":4},{"v":247,"d":"247 "},243,{"v":0,"d":"0 "},0,0,{"v":0,"d":"0 "}]
[null,null,248,{"$nulls":5},{"v":0,"d":"0 "},{"$nulls":4},{"v":248,"d":"248 "},244,{"v":0,"d":"0 "},0,0,{"v":0,"d":"0 "}]
[null,null,249,{"$nulls":5},{"v":0,"d":"0 "},{"$nulls":4},{"v":249,"d":"249 "},245,{"v":0,"d":"0 "},0,0,{"v":0,"d":"0 "}]
[null,null,250,{"$nulls":5},{"v":0,"d":"0 "},{"$nulls":4},{"v":250,"d":"250 "},246,{"v":0,"d":"0 "},0,0,{"v":0,"d":"0 "}]
[null,null,251,{"$nulls":5},{"v":0,"d":"0 "},{"$nulls":4},{"v":251,"d":"251 "},247,{"v":0,"d":"0 "},0,0,{"v":0,"d":"0 "}]
[null,null,252,{"$nulls":5},{"v":0,"d":"0 "},{"$nulls":4},{"v":252,"d":"252 "},248,{"v":0,"d":"0 "},0,0,{"v":0,"d":"0 "}]
[null,null,253,{"$nulls":5},{"v":0,"d":"0 "},{"$nulls":4},{"v":253,"d":"253 "},249,{"v":0,"d":"0 "},0,0,{"v":0,"d":"0 "}]
[null,null,254,{"$nulls":5},{"v":0,"d":"0 "},{"$nulls":4},{"v":254,"d":"254 "},250,{"v":0,"d":"0 "},0,0,{"v":0,"d":"0 "}]
[null,null,255,{"$nulls":5},{"v":0,"d":"0 "},{"$nulls":4},{"v":255,"d":"255 "},251,{"v":0,"d":"0 "},0,0,{"v":0,"d":"0 "}]
[null,null,256,{"$nulls":5},{"v":0,"d":"0 "},{"$nulls":4},{"v":256,"d":"256 "},252,{"v":0,"d":"0 "},0,0,{"v":0,"d":"0 "}]
[null,null,257,{"$nulls":5},{"v":0,"d":"0 "},{"$nulls":4},{"v":257,"d":"257 "},253,{"v":0,"d":"0 "},0,0,{"v":0,"d":"0 "}]
[null,null,258,{"$nulls":5},{"$f":"G266*H266","v":{"v":0,"d":"0 "}},{"$nulls":4},{"v":258,"d":"258 "},254,{"v":0,"d":"0 "},0,0,{"v":0,"d":"0 "}]
[null,null,259,{"$nulls":5},{"v":0,"d":"0 "},{"$nulls":4},{"v":259,"d":"259 "},255,{"v":0,"d":"0 "},0,0,{"v":0,"d":"0 "}]
[null,null,260,{"$nulls":5},{"v":0,"d":"0 "},{"$nulls":4},{"v":260,"d":"260 "},256,{"v":0,"d":"0 "},0,0,{"v":0,"d":"0 "}]
[null,null,261,{"$nulls":5},{"v":0,"d":"0 "},{"$nulls":4},{"v":261,"d":"261 "},257,{"v":0,"d":"0 "},0,0,{"v":0,"d":"0 "}]
[null,null,262,{"$nulls":5},{"v":0,"d":"0 "},{"$nulls":4},{"v":262,"d":"262 "},258,{"v":0,"d":"0 "},0,0,{"v":0,"d":"0 "}]
[null,null,263,{"$nulls":5},{"v":0,"d":"0 "},{"$nulls":4},{"v":263,"d":"263 "},259,{"v":0,"d":"0 "},0,0,{"v":0,"d":"0 "}]
[null,null,264,{"$nulls":5},{"v":0,"d":"0 "},{"$nulls":4},{"v":264,"d":"264 "},260,{"v":0,"d":"0 "},0,0,{"v":0,"d":"0 "}]
[null,null,265,{"$nulls":5},{"v":0,"d":"0 "},{"$nulls":4},{"v":265,"d":"265 "},261,{"v":0,"d":"0 "},0,0,{"v":0,"d":"0 "}]
[null,null,266,{"$nulls":5},{"v":0,"d":"0 "},{"$nulls":4},{"v":266,"d":"266 "},262,{"v":0,"d":"0 "},0,0,{"v":0,"d":"0 "}]
[null,null,267,{"$nulls":5},{"v":0,"d":"0 "},{"$nulls":4},{"v":267,"d":"267 "},263,{"v":0,"d":"0 "},0,0,{"v":0,"d":"0 "}]
[null,null,268,{"$nulls":5},{"v":0,"d":"0 "},{"$nulls":4},{"v":268,"d":"268 "},264,{"v":0,"d":"0 "},0,0,{"v":0,"d":"0 "}]
[null,null,269,{"$nulls":5},{"v":0,"d":"0 "},{"$nulls":4},{"v":269,"d":"269 "},265,{"v":0,"d":"0 "},0,0,{"v":0,"d":"0 "}]
[null,null,270,{"$nulls":5},{"v":0,"d":"0 "},{"$nulls":4},{"v":270,"d":"270 "},266,{"v":0,"d":"0 "},0,0,{"v":0,"d":"0 "}]
[null,null,271,{"$nulls":5},{"v":0,"d":"0 "},{"$nulls":4},{"v":271,"d":"271 "},267,{"v":0,"d":"0 "},0,0,{"v":0,"d":"0 "}]
[null,null,272,{"$nulls":5},{"v":0,"d":"0 "},{"$nulls":4},{"v":272,"d":"272 "},268,{"v":0,"d":"0 "},0,0,{"v":0,"d":"0 "}]
[null,null,273,{"$nulls":5},{"v":0,"d":"0 "},{"$nulls":4},{"v":273,"d":"273 "},269,{"v":0,"d":"0 "},0,0,{"v":0,"d":"0 "}]
[null,null,274,{"$nulls":5},{"v":0,"d":"0 "},{"$nulls":4},{"v":274,"d":"274 "},270,{"v":0,"d":"0 "},0,0,{"v":0,"d":"0 "}]
[{"$nulls":15},"小計"]
[null,null,275,{"$nulls":5},{"v":0,"d":"0 "},{"$nulls":4},{"v":275,"d":"275 "},271,{"$f":"VLOOKUP(N284,$C:$J,2,FALSE)","v":{"v":0,"d":"0 "}},{"$f":"VLOOKUP(N284,$C:$J,3,FALSE)","v":0},{"$f":"VLOOKUP(N284,$C:$J,4,FALSE)","v":0},{"$f":"VLOOKUP(N284,$C:$J,5,FALSE)","v":{"v":0,"d":"0 "}}]
[null,null,276,{"$nulls":5},{"v":0,"d":"0 "},{"$nulls":4},{"v":276,"d":"276 "},272,{"v":0,"d":"0 "},0,0,{"v":0,"d":"0 "}]
[null,null,277,{"$nulls":5},{"v":0,"d":"0 "},{"$nulls":4},{"v":277,"d":"277 "},273,{"v":0,"d":"0 "},0,0,{"v":0,"d":"0 "}]
[null,null,278,{"$nulls":5},{"v":0,"d":"0 "},{"$nulls":4},{"v":278,"d":"278 "},274,{"v":0,"d":"0 "},0,0,{"v":0,"d":"0 "}]
[null,null,279,{"$nulls":5},{"v":0,"d":"0 "},{"$nulls":4},{"v":279,"d":"279 "},275,{"v":0,"d":"0 "},0,0,{"v":0,"d":"0 "}]
[null,null,280,{"$nulls":5},{"v":0,"d":"0 "},{"$nulls":4},{"v":280,"d":"280 "},276,{"v":0,"d":"0 "},0,0,{"v":0,"d":"0 "}]
[null,null,281,{"$nulls":5},{"v":0,"d":"0 "},{"$nulls":4},{"v":281,"d":"281 "},277,{"v":0,"d":"0 "},0,0,{"v":0,"d":"0 "}]
[null,null,282,{"$nulls":5},{"v":0,"d":"0 "},{"$nulls":4},{"v":282,"d":"282 "},278,{"v":0,"d":"0 "},0,0,{"v":0,"d":"0 "}]
[null,null,283,{"$nulls":5},{"v":0,"d":"0 "},{"$nulls":4},{"v":283,"d":"283 "},279,{"v":0,"d":"0 "},0,0,{"v":0,"d":"0 "}]
[null,null,284,{"$nulls":5},{"v":0,"d":"0 "},{"$nulls":4},{"v":284,"d":"284 "},280,{"v":0,"d":"0 "},0,0,{"v":0,"d":"0 "}]
[null,null,285,{"$nulls":5},{"v":0,"d":"0 "},{"$nulls":4},{"v":285,"d":"285 "},281,{"v":0,"d":"0 "},0,0,{"v":0,"d":"0 "}]
[null,null,286,{"$nulls":5},{"v":0,"d":"0 "},{"$nulls":4},{"v":286,"d":"286 "},282,{"v":0,"d":"0 "},0,0,{"v":0,"d":"0 "}]
[null,null,287,{"$nulls":5},{"v":0,"d":"0 "},{"$nulls":4},{"v":287,"d":"287 "},283,{"v":0,"d":"0 "},0,0,{"v":0,"d":"0 "}]
[null,null,288,{"$nulls":5},{"v":0,"d":"0 "},{"$nulls":4},{"v":288,"d":"288 "},284,{"v":0,"d":"0 "},0,0,{"v":0,"d":"0 "}]
[null,null,289,{"$nulls":5},{"v":0,"d":"0 "},{"$nulls":4},{"v":289,"d":"289 "},285,{"v":0,"d":"0 "},0,0,{"v":0,"d":"0 "}]
[null,null,290,{"$nulls":5},{"v":0,"d":"0 "},{"$nulls":4},{"v":290,"d":"290 "},286,{"v":0,"d":"0 "},0,0,{"v":0,"d":"0 "}]
[null,null,291,{"$nulls":5},{"v":0,"d":"0 "},{"$nulls":4},{"v":291,"d":"291 "},287,{"v":0,"d":"0 "},0,0,{"v":0,"d":"0 "}]
[null,null,292,{"$nulls":5},{"v":0,"d":"0 "},{"$nulls":4},{"v":292,"d":"292 "},288,{"v":0,"d":"0 "},0,0,{"v":0,"d":"0 "}]
[null,null,293,{"$nulls":5},{"v":0,"d":"0 "},{"$nulls":4},{"v":293,"d":"293 "},289,{"v":0,"d":"0 "},0,0,{"v":0,"d":"0 "}]
[null,null,294,{"$nulls":5},{"v":0,"d":"0 "},{"$nulls":4},{"v":294,"d":"294 "},290,{"v":0,"d":"0 "},0,0,{"v":0,"d":"0 "}]
[null,null,295,{"$nulls":5},{"v":0,"d":"0 "},{"$nulls":4},{"v":295,"d":"295 "},291,{"v":0,"d":"0 "},0,0,{"v":0,"d":"0 "}]
[null,null,296,{"$nulls":5},{"v":0,"d":"0 "},{"$nulls":4},{"v":296,"d":"296 "},292,{"v":0,"d":"0 "},0,0,{"v":0,"d":"0 "}]
[null,null,297,{"$nulls":5},{"v":0,"d":"0 "},{"$nulls":4},{"v":297,"d":"297 "},293,{"v":0,"d":"0 "},0,0,{"v":0,"d":"0 "}]
[null,null,298,{"$nulls":5},{"v":0,"d":"0 "},{"$nulls":4},{"v":298,"d":"298 "},294,{"v":0,"d":"0 "},0,0,{"v":0,"d":"0 "}]
[null,null,299,{"$nulls":5},{"v":0,"d":"0 "},{"$nulls":4},{"v":299,"d":"299 "},295,{"v":0,"d":"0 "},0,0,{"v":0,"d":"0 "}]
[null,null,300,{"$nulls":5},{"v":0,"d":"0 "},{"$nulls":4},{"v":300,"d":"300 "},296,{"v":0,"d":"0 "},0,0,{"v":0,"d":"0 "}]
[null,null,301,{"$nulls":5},{"v":0,"d":"0 "},{"$nulls":4},{"v":301,"d":"301 "},297,{"v":0,"d":"0 "},0,0,{"v":0,"d":"0 "}]
[null,null,302,{"$nulls":5},{"v":0,"d":"0 "},{"$nulls":4},{"v":302,"d":"302 "},298,{"v":0,"d":"0 "},0,0,{"v":0,"d":"0 "}]
[null,null,303,{"$nulls":5},{"v":0,"d":"0 "},{"$nulls":4},{"v":303,"d":"303 "},299,{"v":0,"d":"0 "},0,0,{"v":0,"d":"0 "}]
[null,null,304,{"$nulls":5},{"v":0,"d":"0 "},{"$nulls":4},{"v":304,"d":"304 "},300,{"v":0,"d":"0 "},0,0,{"v":0,"d":"0 "}]
[null,null,305,{"$nulls":5},{"v":0,"d":"0 "},{"$nulls":4},{"v":305,"d":"305 "},301,{"v":0,"d":"0 "},0,0,{"v":0,"d":"0 "}]
[null,null,306,{"$nulls":5},{"v":0,"d":"0 "},{"$nulls":4},{"v":306,"d":"306 "},302,{"v":0,"d":"0 "},0,0,{"v":0,"d":"0 "}]
[null,null,307,{"$nulls":5},{"v":0,"d":"0 "},{"$nulls":4},{"v":307,"d":"307 "},303,{"v":0,"d":"0 "},0,0,{"v":0,"d":"0 "}]
[null,null,308,{"$nulls":5},{"v":0,"d":"0 "},{"$nulls":4},{"v":308,"d":"308 "},304,{"v":0,"d":"0 "},0,0,{"v":0,"d":"0 "}]
[null,null,309,{"$nulls":5},{"v":0,"d":"0 "},{"$nulls":4},{"v":309,"d":"309 "},305,{"v":0,"d":"0 "},0,0,{"v":0,"d":"0 "}]
[null,null,310,{"$nulls":5},{"v":0,"d":"0 "},{"$nulls":4},{"v":310,"d":"310 "},306,{"v":0,"d":"0 "},0,0,{"v":0,"d":"0 "}]
[null,null,311,{"$nulls":5},{"v":0,"d":"0 "},{"$nulls":4},{"v":311,"d":"311 "},307,{"v":0,"d":"0 "},0,0,{"v":0,"d":"0 "}]
[null,null,312,{"$nulls":5},{"v":0,"d":"0 "},{"$nulls":4},{"v":312,"d":"312 "},308,{"v":0,"d":"0 "},0,0,{"v":0,"d":"0 "}]
[null,null,313,{"$nulls":5},{"v":0,"d":"0 "},{"$nulls":4},{"v":313,"d":"313 "},309,{"v":0,"d":"0 "},0,0,{"v":0,"d":"0 "}]
[null,null,314,{"$nulls":5},{"v":0,"d":"0 "},{"$nulls":4},{"v":314,"d":"314 "},310,{"v":0,"d":"0 "},0,0,{"v":0,"d":"0 "}]
[null,null,315,{"$nulls":5},{"v":0,"d":"0 "},{"$nulls":4},{"v":315,"d":"315 "},311,{"v":0,"d":"0 "},0,0,{"v":0,"d":"0 "}]
[null,null,316,{"$nulls":5},{"v":0,"d":"0 "},{"$nulls":4},{"v":316,"d":"316 "},312,{"v":0,"d":"0 "},0,0,{"v":0,"d":"0 "}]
[null,null,317,{"$nulls":5},{"v":0,"d":"0 "},{"$nulls":4},{"v":317,"d":"317 "},313,{"v":0,"d":"0 "},0,0,{"v":0,"d":"0 "}]
[null,null,318,{"$nulls":5},{"v":0,"d":"0 "},{"$nulls":4},{"v":318,"d":"318 "},314,{"v":0,"d":"0 "},0,0,{"v":0,"d":"0 "}]
[null,null,319,{"$nulls":5},{"v":0,"d":"0 "},{"$nulls":4},{"v":319,"d":"319 "},315,{"v":0,"d":"0 "},0,0,{"v":0,"d":"0 "}]
[null,null,320,{"$nulls":5},{"v":0,"d":"0 "},{"$nulls":4},{"v":320,"d":"320 "},316,{"v":0,"d":"0 "},0,0,{"v":0,"d":"0 "}]
[null,null,321,{"$nulls":5},{"v":0,"d":"0 "},{"$nulls":4},{"v":321,"d":"321 "},317,{"v":0,"d":"0 "},0,0,{"v":0,"d":"0 "}]
[null,null,322,{"$nulls":5},{"$f":"G331*H331","v":{"v":0,"d":"0 "}},{"$nulls":4},{"v":322,"d":"322 "},318,{"v":0,"d":"0 "},0,0,{"v":0,"d":"0 "}]
[null,null,323,{"$nulls":5},{"v":0,"d":"0 "},{"$nulls":4},{"v":323,"d":"323 "},319,{"v":0,"d":"0 "},0,0,{"v":0,"d":"0 "}]
[null,null,324,{"$nulls":5},{"v":0,"d":"0 "},{"$nulls":4},{"v":324,"d":"324 "},320,{"v":0,"d":"0 "},0,0,{"v":0,"d":"0 "}]
[null,null,325,{"$nulls":5},{"v":0,"d":"0 "},{"$nulls":4},{"v":325,"d":"325 "},321,{"v":0,"d":"0 "},0,0,{"v":0,"d":"0 "}]
[null,null,326,{"$nulls":5},{"v":0,"d":"0 "},{"$nulls":4},{"v":326,"d":"326 "},322,{"v":0,"d":"0 "},0,0,{"v":0,"d":"0 "}]
[null,null,327,{"$nulls":5},{"v":0,"d":"0 "},{"$nulls":4},{"v":327,"d":"327 "},323,{"v":0,"d":"0 "},0,0,{"v":0,"d":"0 "}]
[null,null,328,{"$nulls":5},{"v":0,"d":"0 "},{"$nulls":4},{"v":328,"d":"328 "},324,{"v":0,"d":"0 "},0,0,{"v":0,"d":"0 "}]
[null,null,329,{"$nulls":5},{"v":0,"d":"0 "},{"$nulls":4},{"v":329,"d":"329 "},325,{"v":0,"d":"0 "},0,0,{"v":0,"d":"0 "}]
[null,null,330,{"$nulls":5},{"v":0,"d":"0 "},{"$nulls":4},{"v":330,"d":"330 "},326,{"v":0,"d":"0 "},0,0,{"v":0,"d":"0 "}]
[null,null,331,{"$nulls":5},{"v":0,"d":"0 "},{"$nulls":4},{"v":331,"d":"331 "},327,{"v":0,"d":"0 "},0,0,{"v":0,"d":"0 "}]
[null,null,332,{"$nulls":5},{"v":0,"d":"0 "},{"$nulls":4},{"v":332,"d":"332 "},328,{"v":0,"d":"0 "},0,0,{"v":0,"d":"0 "}]
[null,null,333,{"$nulls":5},{"v":0,"d":"0 "},{"$nulls":4},{"v":333,"d":"333 "},329,{"v":0,"d":"0 "},0,0,{"v":0,"d":"0 "}]
[null,null,334,{"$nulls":5},{"v":0,"d":"0 "},{"$nulls":4},{"v":334,"d":"334 "},330,{"v":0,"d":"0 "},0,0,{"v":0,"d":"0 "}]
[null,null,335,{"$nulls":5},{"v":0,"d":"0 "},{"$nulls":4},{"v":335,"d":"335 "},331,{"v":0,"d":"0 "},0,0,{"v":0,"d":"0 "}]
[null,null,336,{"$nulls":5},{"v":0,"d":"0 "},{"$nulls":4},{"v":336,"d":"336 "},332,{"v":0,"d":"0 "},0,0,{"v":0,"d":"0 "}]
[null,null,337,{"$nulls":5},{"v":0,"d":"0 "},{"$nulls":4},{"v":337,"d":"337 "},333,{"v":0,"d":"0 "},0,0,{"v":0,"d":"0 "}]
[null,null,338,{"$nulls":5},{"v":0,"d":"0 "},{"$nulls":4},{"v":338,"d":"338 "},334,{"v":0,"d":"0 "},0,0,{"v":0,"d":"0 "}]
[null,null,339,{"$nulls":5},{"v":0,"d":"0 "},{"$nulls":4},{"v":339,"d":"339 "},335,{"$f":"VLOOKUP(N348,$C:$J,2,FALSE)","v":{"v":0,"d":"0 "}},{"$f":"VLOOKUP(N348,$C:$J,3,FALSE)","v":0},{"$f":"VLOOKUP(N348,$C:$J,4,FALSE)","v":0},{"$f":"VLOOKUP(N348,$C:$J,5,FALSE)","v":{"v":0,"d":"0 "}}]
[null,null,340,{"$nulls":5},{"v":0,"d":"0 "},{"$nulls":4},{"v":340,"d":"340 "},336,{"v":0,"d":"0 "},0,0,{"v":0,"d":"0 "}]
[null,null,341,{"$nulls":5},{"v":0,"d":"0 "},{"$nulls":4},{"v":341,"d":"341 "},337,{"v":0,"d":"0 "},0,0,{"v":0,"d":"0 "}]
[null,null,342,{"$nulls":5},{"v":0,"d":"0 "},{"$nulls":4},{"v":342,"d":"342 "},338,{"v":0,"d":"0 "},0,0,{"v":0,"d":"0 "}]
[null,null,343,{"$nulls":5},{"v":0,"d":"0 "},{"$nulls":4},{"v":343,"d":"343 "},339,{"v":0,"d":"0 "},0,0,{"v":0,"d":"0 "}]
[null,null,344,{"$nulls":5},{"v":0,"d":"0 "},{"$nulls":4},{"v":344,"d":"344 "},340,{"v":0,"d":"0 "},0,0,{"v":0,"d":"0 "}]
[null,null,345,{"$nulls":5},{"v":0,"d":"0 "},{"$nulls":4},{"v":345,"d":"345 "},341,{"v":0,"d":"0 "},0,0,{"v":0,"d":"0 "}]
[null,null,346,{"$nulls":5},{"v":0,"d":"0 "},{"$nulls":4},{"v":346,"d":"346 "},342,{"v":0,"d":"0 "},0,0,{"v":0,"d":"0 "}]
[null,null,347,{"$nulls":5},{"v":0,"d":"0 "},{"$nulls":4},{"v":347,"d":"347 "},343,{"v":0,"d":"0 "},0,0,{"v":0,"d":"0 "}]
[null,null,348,{"$nulls":5},{"v":0,"d":"0 "},{"$nulls":4},{"v":348,"d":"348 "},344,{"v":0,"d":"0 "},0,0,{"v":0,"d":"0 "}]
[null,null,349,{"$nulls":5},{"v":0,"d":"0 "},{"$nulls":4},{"v":349,"d":"349 "},345,{"v":0,"d":"0 "},0,0,{"v":0,"d":"0 "}]
[null,null,350,{"$nulls":5},{"v":0,"d":"0 "},{"$nulls":4},{"v":350,"d":"350 "},346,{"v":0,"d":"0 "},0,0,{"v":0,"d":"0 "}]
[null,null,351,{"$nulls":5},{"v":0,"d":"0 "},{"$nulls":4},{"v":351,"d":"351 "},347,{"v":0,"d":"0 "},0,0,{"v":0,"d":"0 "}]
[null,null,352,{"$nulls":5},{"v":0,"d":"0 "},{"$nulls":4},{"v":352,"d":"352 "},348,{"v":0,"d":"0 "},0,0,{"v":0,"d":"0 "}]
[null,null,353,{"$nulls":5},{"v":0,"d":"0 "},{"$nulls":4},{"v":353,"d":"353 "},349,{"v":0,"d":"0 "},0,0,{"v":0,"d":"0 "}]
[null,null,354,{"$nulls":5},{"v":0,"d":"0 "},{"$nulls":4},{"v":354,"d":"354 "},350,{"v":0,"d":"0 "},0,0,{"v":0,"d":"0 "}]
[null,null,355,{"$nulls":5},{"v":0,"d":"0 "},{"$nulls":4},{"v":355,"d":"355 "},351,{"v":0,"d":"0 "},0,0,{"v":0,"d":"0 "}]
[null,null,356,{"$nulls":5},{"v":0,"d":"0 "},{"$nulls":4},{"v":356,"d":"356 "},352,{"v":0,"d":"0 "},0,0,{"v":0,"d":"0 "}]
[null,null,357,{"$nulls":5},{"v":0,"d":"0 "},{"$nulls":4},{"v":357,"d":"357 "},353,{"v":0,"d":"0 "},0,0,{"v":0,"d":"0 "}]
[null,null,358,{"$nulls":5},{"v":0,"d":"0 "},{"$nulls":4},{"v":358,"d":"358 "},354,{"v":0,"d":"0 "},0,0,{"v":0,"d":"0 "}]
[null,null,359,{"$nulls":5},{"v":0,"d":"0 "},{"$nulls":4},{"v":359,"d":"359 "},355,{"v":0,"d":"0 "},0,0,{"v":0,"d":"0 "}]
[null,null,360,{"$nulls":5},{"v":0,"d":"0 "},{"$nulls":4},{"v":360,"d":"360 "},356,{"v":0,"d":"0 "},0,0,{"v":0,"d":"0 "}]
[null,null,361,{"$nulls":5},{"v":0,"d":"0 "},{"$nulls":4},{"v":361,"d":"361 "},357,{"v":0,"d":"0 "},0,0,{"v":0,"d":"0 "}]
[null,null,362,{"$nulls":5},{"v":0,"d":"0 "},{"$nulls":4},{"v":362,"d":"362 "},358,{"v":0,"d":"0 "},0,0,{"v":0,"d":"0 "}]
[null,null,363,{"$nulls":5},{"v":0,"d":"0 "},{"$nulls":4},{"v":363,"d":"363 "},359,{"v":0,"d":"0 "},0,0,{"v":0,"d":"0 "}]
[null,null,364,{"$nulls":5},{"v":0,"d":"0 "},{"$nulls":4},{"v":364,"d":"364 "},360,{"v":0,"d":"0 "},0,0,{"v":0,"d":"0 "}]
[null,null,365,{"$nulls":5},{"v":0,"d":"0 "},{"$nulls":4},{"v":365,"d":"365 "},361,{"v":0,"d":"0 "},0,0,{"v":0,"d":"0 "}]
[null,null,366,{"$nulls":5},{"v":0,"d":"0 "},{"$nulls":4},{"v":366,"d":"366 "},362,{"v":0,"d":"0 "},0,0,{"v":0,"d":"0 "}]
[null,null,367,{"$nulls":5},{"v":0,"d":"0 "},{"$nulls":4},{"v":367,"d":"367 "},363,{"v":0,"d":"0 "},0,0,{"v":0,"d":"0 "}]
[null,null,368,{"$nulls":5},{"v":0,"d":"0 "},{"$nulls":4},{"v":368,"d":"368 "},364,{"v":0,"d":"0 "},0,0,{"v":0,"d":"0 "}]
[null,null,369,{"$nulls":5},{"v":0,"d":"0 "},{"$nulls":4},{"v":369,"d":"369 "},365,{"v":0,"d":"0 "},0,0,{"v":0,"d":"0 "}]
[null,null,370,{"$nulls":5},{"v":0,"d":"0 "},{"$nulls":4},{"v":370,"d":"370 "},366,{"v":0,"d":"0 "},0,0,{"v":0,"d":"0 "}]
[null,null,371,{"$nulls":5},{"v":0,"d":"0 "},{"$nulls":4},{"v":371,"d":"371 "},367,{"v":0,"d":"0 "},0,0,{"v":0,"d":"0 "}]
[null,null,372,{"$nulls":5},{"v":0,"d":"0 "},{"$nulls":4},{"v":372,"d":"372 "},368,{"v":0,"d":"0 "},0,0,{"v":0,"d":"0 "}]
[null,null,373,{"$nulls":5},{"v":0,"d":"0 "},{"$nulls":4},{"v":373,"d":"373 "},369,{"v":0,"d":"0 "},0,0,{"v":0,"d":"0 "}]
[null,null,374,{"$nulls":5},{"v":0,"d":"0 "},{"$nulls":4},{"v":374,"d":"374 "},370,{"v":0,"d":"0 "},0,0,{"v":0,"d":"0 "}]
[null,null,375,{"$nulls":5},{"v":0,"d":"0 "},{"$nulls":4},{"v":375,"d":"375 "},371,{"v":0,"d":"0 "},0,0,{"v":0,"d":"0 "}]
[null,null,376,{"$nulls":5},{"v":0,"d":"0 "},{"$nulls":4},{"v":376,"d":"376 "},372,{"v":0,"d":"0 "},0,0,{"v":0,"d":"0 "}]
[null,null,377,{"$nulls":5},{"v":0,"d":"0 "},{"$nulls":4},{"v":377,"d":"377 "},373,{"v":0,"d":"0 "},0,0,{"v":0,"d":"0 "}]
[null,null,378,{"$nulls":5},{"v":0,"d":"0 "},{"$nulls":4},{"v":378,"d":"378 "},374,{"v":0,"d":"0 "},0,0,{"v":0,"d":"0 "}]
[null,null,379,{"$nulls":5},{"v":0,"d":"0 "},{"$nulls":4},{"v":379,"d":"379 "},375,{"v":0,"d":"0 "},0,0,{"v":0,"d":"0 "}]
[null,null,380,{"$nulls":5},{"v":0,"d":"0 "},{"$nulls":4},{"v":380,"d":"380 "},376,{"v":0,"d":"0 "},0,0,{"v":0,"d":"0 "}]
[null,null,381,{"$nulls":5},{"v":0,"d":"0 "},{"$nulls":4},{"v":381,"d":"381 "},377,{"v":0,"d":"0 "},0,0,{"v":0,"d":"0 "}]
[null,null,382,{"$nulls":5},{"v":0,"d":"0 "},{"$nulls":4},{"v":382,"d":"382 "},378,{"v":0,"d":"0 "},0,0,{"v":0,"d":"0 "}]
[null,null,383,{"$nulls":5},{"v":0,"d":"0 "},{"$nulls":4},{"v":383,"d":"383 "},379,{"v":0,"d":"0 "},0,0,{"v":0,"d":"0 "}]
[null,null,384,{"$nulls":5},{"v":0,"d":"0 "},{"$nulls":4},{"v":384,"d":"384 "},380,{"v":0,"d":"0 "},0,0,{"v":0,"d":"0 "}]
[null,null,385,{"$nulls":5},{"v":0,"d":"0 "},{"$nulls":4},{"v":385,"d":"385 "},381,{"v":0,"d":"0 "},0,0,{"v":0,"d":"0 "}]
[null,null,386,{"$nulls":5},{"$f":"G395*H395","v":{"v":0,"d":"0 "}},{"$nulls":4},{"v":386,"d":"386 "},382,{"v":0,"d":"0 "},0,0,{"v":0,"d":"0 "}]
[null,null,387,{"$nulls":5},{"v":0,"d":"0 "},{"$nulls":4},{"v":387,"d":"387 "},383,{"v":0,"d":"0 "},0,0,{"v":0,"d":"0 "}]
[null,null,388,{"$nulls":5},{"v":0,"d":"0 "},{"$nulls":4},{"v":388,"d":"388 "},384,{"v":0,"d":"0 "},0,0,{"v":0,"d":"0 "}]
[null,null,389,{"$nulls":5},{"v":0,"d":"0 "},{"$nulls":4},{"v":389,"d":"389 "},385,{"v":0,"d":"0 "},0,0,{"v":0,"d":"0 "}]
[null,null,390,{"$nulls":5},{"v":0,"d":"0 "},{"$nulls":4},{"v":390,"d":"390 "},386,{"v":0,"d":"0 "},0,0,{"v":0,"d":"0 "}]
[null,null,391,{"$nulls":5},{"v":0,"d":"0 "},{"$nulls":4},{"v":391,"d":"391 "},387,{"v":0,"d":"0 "},0,0,{"v":0,"d":"0 "}]
[null,null,392,{"$nulls":5},{"v":0,"d":"0 "},{"$nulls":4},{"v":392,"d":"392 "},388,{"v":0,"d":"0 "},0,0,{"v":0,"d":"0 "}]
[null,null,393,{"$nulls":5},{"v":0,"d":"0 "},{"$nulls":4},{"v":393,"d":"393 "},389,{"v":0,"d":"0 "},0,0,{"v":0,"d":"0 "}]
[null,null,394,{"$nulls":5},{"v":0,"d":"0 "},{"$nulls":4},{"v":394,"d":"394 "},390,{"v":0,"d":"0 "},0,0,{"v":0,"d":"0 "}]
[null,null,395,{"$nulls":5},{"v":0,"d":"0 "},{"$nulls":4},{"v":395,"d":"395 "},391,{"v":0,"d":"0 "},0,0,{"v":0,"d":"0 "}]
[null,null,396,{"$nulls":5},{"v":0,"d":"0 "},{"$nulls":4},{"v":396,"d":"396 "},392,{"v":0,"d":"0 "},0,0,{"v":0,"d":"0 "}]
[null,null,397,{"$nulls":5},{"v":0,"d":"0 "},{"$nulls":4},{"v":397,"d":"397 "},393,{"v":0,"d":"0 "},0,0,{"v":0,"d":"0 "}]
[null,null,398,{"$nulls":5},{"v":0,"d":"0 "},{"$nulls":4},{"v":398,"d":"398 "},394,{"v":0,"d":"0 "},0,0,{"v":0,"d":"0 "}]
[null,null,399,{"$nulls":5},{"v":0,"d":"0 "},{"$nulls":4},{"v":399,"d":"399 "},395,{"v":0,"d":"0 "},0,0,{"v":0,"d":"0 "}]
[null,null,400,{"$nulls":5},{"v":0,"d":"0 "},{"$nulls":4},{"v":400,"d":"400 "},396,{"v":0,"d":"0 "},0,0,{"v":0,"d":"0 "}]
[null,null,401,{"$nulls":5},{"v":0,"d":"0 "},{"$nulls":4},{"v":401,"d":"401 "},397,{"v":0,"d":"0 "},0,0,{"v":0,"d":"0 "}]
[null,null,402,{"$nulls":5},{"v":0,"d":"0 "},{"$nulls":4},{"v":402,"d":"402 "},398,{"v":0,"d":"0 "},0,0,{"v":0,"d":"0 "}]
[null,null,403,{"$nulls":5},{"v":0,"d":"0 "},{"$nulls":4},{"v":403,"d":"403 "},399,{"$f":"VLOOKUP(N412,$C:$J,2,FALSE)","v":{"v":0,"d":"0 "}},{"$f":"VLOOKUP(N412,$C:$J,3,FALSE)","v":0},{"$f":"VLOOKUP(N412,$C:$J,4,FALSE)","v":0},{"$f":"VLOOKUP(N412,$C:$J,5,FALSE)","v":{"v":0,"d":"0 "}}]
[null,null,404,{"$nulls":5},{"v":0,"d":"0 "},{"$nulls":4},{"v":404,"d":"404 "},400,{"v":0,"d":"0 "},0,0,{"v":0,"d":"0 "}]
[null,null,405,{"$nulls":5},{"v":0,"d":"0 "},{"$nulls":4},{"v":405,"d":"405 "},401,{"v":0,"d":"0 "},0,0,{"v":0,"d":"0 "}]
[null,null,406,{"$nulls":5},{"v":0,"d":"0 "},{"$nulls":4},{"v":406,"d":"406 "},402,{"v":0,"d":"0 "},0,0,{"v":0,"d":"0 "}]
[null,null,407,{"$nulls":5},{"v":0,"d":"0 "},{"$nulls":4},{"v":407,"d":"407 "},403,{"v":0,"d":"0 "},0,0,{"v":0,"d":"0 "}]
[null,null,408,{"$nulls":5},{"v":0,"d":"0 "},{"$nulls":4},{"v":408,"d":"408 "},404,{"v":0,"d":"0 "},0,0,{"v":0,"d":"0 "}]
[null,null,409,{"$nulls":5},{"v":0,"d":"0 "},{"$nulls":4},{"v":409,"d":"409 "},405,{"v":0,"d":"0 "},0,0,{"v":0,"d":"0 "}]
[null,null,410,{"$nulls":5},{"v":0,"d":"0 "},{"$nulls":4},{"v":410,"d":"410 "},406,{"v":0,"d":"0 "},0,0,{"v":0,"d":"0 "}]
[null,null,411,{"$nulls":5},{"v":0,"d":"0 "},{"$nulls":4},{"v":411,"d":"411 "},407,{"v":0,"d":"0 "},0,0,{"v":0,"d":"0 "}]
[null,null,412,{"$nulls":5},{"v":0,"d":"0 "},{"$nulls":4},{"v":412,"d":"412 "},408,{"v":0,"d":"0 "},0,0,{"v":0,"d":"0 "}]
[null,null,413,{"$nulls":5},{"v":0,"d":"0 "},{"$nulls":4},{"v":413,"d":"413 "},409,{"v":0,"d":"0 "},0,0,{"v":0,"d":"0 "}]
[null,null,414,{"$nulls":5},{"v":0,"d":"0 "},{"$nulls":4},{"v":414,"d":"414 "},410,{"v":0,"d":"0 "},0,0,{"v":0,"d":"0 "}]
[null,null,415,{"$nulls":5},{"v":0,"d":"0 "},{"$nulls":4},{"v":415,"d":"415 "},411,{"v":0,"d":"0 "},0,0,{"v":0,"d":"0 "}]
[null,null,416,{"$nulls":5},{"v":0,"d":"0 "},{"$nulls":4},{"v":416,"d":"416 "},412,{"v":0,"d":"0 "},0,0,{"v":0,"d":"0 "}]
[null,null,417,{"$nulls":5},{"v":0,"d":"0 "},{"$nulls":4},{"v":417,"d":"417 "},413,{"v":0,"d":"0 "},0,0,{"v":0,"d":"0 "}]
[null,null,418,{"$nulls":5},{"v":0,"d":"0 "},{"$nulls":4},{"v":418,"d":"418 "},414,{"v":0,"d":"0 "},0,0,{"v":0,"d":"0 "}]
[null,null,419,{"$nulls":5},{"v":0,"d":"0 "},{"$nulls":4},{"v":419,"d":"419 "},415,{"v":0,"d":"0 "},0,0,{"v":0,"d":"0 "}]
[null,null,420,{"$nulls":5},{"v":0,"d":"0 "},{"$nulls":4},{"v":420,"d":"420 "},416,{"v":0,"d":"0 "},0,0,{"v":0,"d":"0 "}]
[null,null,421,{"$nulls":5},{"v":0,"d":"0 "},{"$nulls":4},{"v":421,"d":"421 "},417,{"v":0,"d":"0 "},0,0,{"v":0,"d":"0 "}]
[null,null,422,{"$nulls":5},{"v":0,"d":"0 "},{"$nulls":4},{"v":422,"d":"422 "},418,{"v":0,"d":"0 "},0,0,{"v":0,"d":"0 "}]
[null,null,423,{"$nulls":5},{"v":0,"d":"0 "},{"$nulls":4},{"v":423,"d":"423 "},419,{"v":0,"d":"0 "},0,0,{"v":0,"d":"0 "}]
[null,null,424,{"$nulls":5},{"v":0,"d":"0 "},{"$nulls":4},{"v":424,"d":"424 "},420,{"v":0,"d":"0 "},0,0,{"v":0,"d":"0 "}]
[null,null,425,{"$nulls":5},{"v":0,"d":"0 "},{"$nulls":4},{"v":425,"d":"425 "},421,{"v":0,"d":"0 "},0,0,{"v":0,"d":"0 "}]
[null,null,426,{"$nulls":5},{"v":0,"d":"0 "},{"$nulls":4},{"v":426,"d":"426 "},422,{"v":0,"d":"0 "},0,0,{"v":0,"d":"0 "}]
[null,null,427,{"$nulls":5},{"v":0,"d":"0 "},{"$nulls":4},{"v":427,"d":"427 "},423,{"v":0,"d":"0 "},0,0,{"v":0,"d":"0 "}]
[null,null,428,{"$nulls":5},{"v":0,"d":"0 "},{"$nulls":4},{"v":428,"d":"428 "},424,{"v":0,"d":"0 "},0,0,{"v":0,"d":"0 "}]
[null,null,429,{"$nulls":5},{"v":0,"d":"0 "},{"$nulls":4},{"v":429,"d":"429 "},425,{"v":0,"d":"0 "},0,0,{"v":0,"d":"0 "}]
[null,null,430,{"$nulls":5},{"v":0,"d":"0 "},{"$nulls":4},{"v":430,"d":"430 "},426,{"v":0,"d":"0 "},0,0,{"v":0,"d":"0 "}]
[null,null,431,{"$nulls":5},{"v":0,"d":"0 "},{"$nulls":4},{"v":431,"d":"431 "},427,{"v":0,"d":"0 "},0,0,{"v":0,"d":"0 "}]
[null,null,432,{"$nulls":5},{"v":0,"d":"0 "},{"$nulls":4},{"v":432,"d":"432 "},428,{"v":0,"d":"0 "},0,0,{"v":0,"d":"0 "}]
[null,null,433,{"$nulls":5},{"v":0,"d":"0 "},{"$nulls":4},{"v":433,"d":"433 "},429,{"v":0,"d":"0 "},0,0,{"v":0,"d":"0 "}]
[null,null,434,{"$nulls":5},{"v":0,"d":"0 "},{"$nulls":4},{"v":434,"d":"434 "},430,{"v":0,"d":"0 "},0,0,{"v":0,"d":"0 "}]
[null,null,435,{"$nulls":5},{"v":0,"d":"0 "},{"$nulls":4},{"v":435,"d":"435 "},431,{"v":0,"d":"0 "},0,0,{"v":0,"d":"0 "}]
[null,null,436,{"$nulls":5},{"v":0,"d":"0 "},{"$nulls":4},{"v":436,"d":"436 "},432,{"v":0,"d":"0 "},0,0,{"v":0,"d":"0 "}]
[null,null,437,{"$nulls":5},{"v":0,"d":"0 "},{"$nulls":4},{"v":437,"d":"437 "},433,{"v":0,"d":"0 "},0,0,{"v":0,"d":"0 "}]
[null,null,438,{"$nulls":5},{"v":0,"d":"0 "},{"$nulls":4},{"v":438,"d":"438 "},434,{"v":0,"d":"0 "},0,0,{"v":0,"d":"0 "}]
[null,null,439,{"$nulls":5},{"v":0,"d":"0 "},{"$nulls":4},{"v":439,"d":"439 "},435,{"v":0,"d":"0 "},0,0,{"v":0,"d":"0 "}]
[null,null,440,{"$nulls":5},{"v":0,"d":"0 "},{"$nulls":4},{"v":440,"d":"440 "},436,{"v":0,"d":"0 "},0,0,{"v":0,"d":"0 "}]
[null,null,441,{"$nulls":5},{"v":0,"d":"0 "},{"$nulls":4},{"v":441,"d":"441 "},437,{"v":0,"d":"0 "},0,0,{"v":0,"d":"0 "}]
[null,null,442,{"$nulls":5},{"v":0,"d":"0 "},{"$nulls":4},{"v":442,"d":"442 "},438,{"v":0,"d":"0 "},0,0,{"v":0,"d":"0 "}]
[null,null,443,{"$nulls":5},{"v":0,"d":"0 "},{"$nulls":4},{"v":443,"d":"443 "},439,{"v":0,"d":"0 "},0,0,{"v":0,"d":"0 "}]
[null,null,444,{"$nulls":5},{"v":0,"d":"0 "},{"$nulls":4},{"v":444,"d":"444 "},440,{"v":0,"d":"0 "},0,0,{"v":0,"d":"0 "}]
[null,null,445,{"$nulls":5},{"v":0,"d":"0 "},{"$nulls":4},{"v":445,"d":"445 "},441,{"v":0,"d":"0 "},0,0,{"v":0,"d":"0 "}]
[null,null,446,{"$nulls":5},{"v":0,"d":"0 "},{"$nulls":4},{"v":446,"d":"446 "},442,{"v":0,"d":"0 "},0,0,{"v":0,"d":"0 "}]
[null,null,447,{"$nulls":5},{"v":0,"d":"0 "},{"$nulls":4},{"v":447,"d":"447 "},443,{"v":0,"d":"0 "},0,0,{"v":0,"d":"0 "}]
[null,null,448,{"$nulls":5},{"v":0,"d":"0 "},{"$nulls":4},{"v":448,"d":"448 "},444,{"v":0,"d":"0 "},0,0,{"v":0,"d":"0 "}]
[null,null,449,{"$nulls":5},{"v":0,"d":"0 "},{"$nulls":4},{"v":449,"d":"449 "},445,{"v":0,"d":"0 "},0,0,{"v":0,"d":"0 "}]
[null,null,450,{"$nulls":5},{"$f":"G459*H459","v":{"v":0,"d":"0 "}},{"$nulls":4},{"v":450,"d":"450 "},446,{"v":0,"d":"0 "},0,0,{"v":0,"d":"0 "}]
[null,null,451,{"$nulls":5},{"v":0,"d":"0 "},{"$nulls":4},{"v":451,"d":"451 "},447,{"v":0,"d":"0 "},0,0,{"v":0,"d":"0 "}]
[null,null,452,{"$nulls":5},{"v":0,"d":"0 "},{"$nulls":4},{"v":452,"d":"452 "},448,{"v":0,"d":"0 "},0,0,{"v":0,"d":"0 "}]
[null,null,453,{"$nulls":5},{"v":0,"d":"0 "},{"$nulls":4},{"v":453,"d":"453 "},449,{"v":0,"d":"0 "},0,0,{"v":0,"d":"0 "}]
[null,null,454,{"$nulls":5},{"v":0,"d":"0 "},{"$nulls":4},{"v":454,"d":"454 "},450,{"v":0,"d":"0 "},0,0,{"v":0,"d":"0 "}]
[null,null,455,{"$nulls":5},{"v":0,"d":"0 "},{"$nulls":4},{"v":455,"d":"455 "},451,{"v":0,"d":"0 "},0,0,{"v":0,"d":"0 "}]
[null,null,456,{"$nulls":5},{"v":0,"d":"0 "},{"$nulls":4},{"v":456,"d":"456 "},452,{"v":0,"d":"0 "},0,0,{"v":0,"d":"0 "}]
[null,null,457,{"$nulls":5},{"v":0,"d":"0 "},{"$nulls":4},{"v":457,"d":"457 "},453,{"v":0,"d":"0 "},0,0,{"v":0,"d":"0 "}]
[null,null,458,{"$nulls":5},{"v":0,"d":"0 "},{"$nulls":4},{"v":458,"d":"458 "},454,{"v":0,"d":"0 "},0,0,{"v":0,"d":"0 "}]
[null,null,459,{"$nulls":5},{"v":0,"d":"0 "},{"$nulls":4},{"v":459,"d":"459 "},455,{"v":0,"d":"0 "},0,0,{"v":0,"d":"0 "}]
[null,null,460,{"$nulls":5},{"v":0,"d":"0 "},{"$nulls":4},{"v":460,"d":"460 "},456,{"v":0,"d":"0 "},0,0,{"v":0,"d":"0 "}]
[null,null,461,{"$nulls":5},{"v":0,"d":"0 "},{"$nulls":4},{"v":461,"d":"461 "},457,{"v":0,"d":"0 "},0,0,{"v":0,"d":"0 "}]
[null,null,462,{"$nulls":5},{"v":0,"d":"0 "},{"$nulls":4},{"v":462,"d":"462 "},458,{"v":0,"d":"0 "},0,0,{"v":0,"d":"0 "}]
[null,null,463,{"$nulls":5},{"v":0,"d":"0 "},{"$nulls":4},{"v":463,"d":"463 "},459,{"v":0,"d":"0 "},0,0,{"v":0,"d":"0 "}]
[null,null,464,{"$nulls":5},{"v":0,"d":"0 "},{"$nulls":4},{"v":464,"d":"464 "},460,{"v":0,"d":"0 "},0,0,{"v":0,"d":"0 "}]
[null,null,465,{"$nulls":5},{"v":0,"d":"0 "},{"$nulls":4},{"v":465,"d":"465 "},461,{"v":0,"d":"0 "},0,0,{"v":0,"d":"0 "}]
[null,null,466,{"$nulls":5},{"v":0,"d":"0 "},{"$nulls":4},{"v":466,"d":"466 "},462,{"v":0,"d":"0 "},0,0,{"v":0,"d":"0 "}]
[null,null,467,{"$nulls":5},{"v":0,"d":"0 "},{"$nulls":4},{"v":467,"d":"467 "},463,{"$f":"VLOOKUP(N476,$C:$J,2,FALSE)","v":{"v":0,"d":"0 "}},{"$f":"VLOOKUP(N476,$C:$J,3,FALSE)","v":0},{"$f":"VLOOKUP(N476,$C:$J,4,FALSE)","v":0},{"$f":"VLOOKUP(N476,$C:$J,5,FALSE)","v":{"v":0,"d":"0 "}}]
[null,null,468,{"$nulls":5},{"v":0,"d":"0 "},{"$nulls":4},{"v":468,"d":"468 "},464,{"v":0,"d":"0 "},0,0,{"v":0,"d":"0 "}]
[null,null,469,{"$nulls":5},{"v":0,"d":"0 "},{"$nulls":4},{"v":469,"d":"469 "},465,{"v":0,"d":"0 "},0,0,{"v":0,"d":"0 "}]
[null,null,470,{"$nulls":5},{"v":0,"d":"0 "},{"$nulls":4},{"v":470,"d":"470 "},466,{"v":0,"d":"0 "},0,0,{"v":0,"d":"0 "}]
[null,null,471,{"$nulls":5},{"v":0,"d":"0 "},{"$nulls":4},{"v":471,"d":"471 "},467,{"v":0,"d":"0 "},0,0,{"v":0,"d":"0 "}]
[null,null,472,{"$nulls":5},{"v":0,"d":"0 "},{"$nulls":4},{"v":472,"d":"472 "},468,{"v":0,"d":"0 "},0,0,{"v":0,"d":"0 "}]
[null,null,473,{"$nulls":5},{"v":0,"d":"0 "},{"$nulls":4},{"v":473,"d":"473 "},469,{"v":0,"d":"0 "},0,0,{"v":0,"d":"0 "}]
[null,null,474,{"$nulls":5},{"v":0,"d":"0 "},{"$nulls":4},{"v":474,"d":"474 "},470,{"v":0,"d":"0 "},0,0,{"v":0,"d":"0 "}]
[null,null,475,{"$nulls":5},{"v":0,"d":"0 "},{"$nulls":4},{"v":475,"d":"475 "},471,{"v":0,"d":"0 "},0,0,{"v":0,"d":"0 "}]
[null,null,476,{"$nulls":5},{"v":0,"d":"0 "},{"$nulls":4},{"v":476,"d":"476 "},472,{"v":0,"d":"0 "},0,0,{"v":0,"d":"0 "}]
[null,null,477,{"$nulls":5},{"v":0,"d":"0 "},{"$nulls":4},{"v":477,"d":"477 "},473,{"v":0,"d":"0 "},0,0,{"v":0,"d":"0 "}]
[null,null,478,{"$nulls":5},{"v":0,"d":"0 "},{"$nulls":4},{"v":478,"d":"478 "},474,{"v":0,"d":"0 "},0,0,{"v":0,"d":"0 "}]
[null,null,479,{"$nulls":5},{"v":0,"d":"0 "},{"$nulls":4},{"v":479,"d":"479 "},475,{"v":0,"d":"0 "},0,0,{"v":0,"d":"0 "}]
[null,null,480,{"$nulls":5},{"v":0,"d":"0 "},{"$nulls":4},{"v":480,"d":"480 "},476,{"v":0,"d":"0 "},0,0,{"v":0,"d":"0 "}]
[null,null,481,{"$nulls":5},{"v":0,"d":"0 "},{"$nulls":4},{"v":481,"d":"481 "},477,{"v":0,"d":"0 "},0,0,{"v":0,"d":"0 "}]
[null,null,482,{"$nulls":5},{"v":0,"d":"0 "},{"$nulls":4},{"v":482,"d":"482 "},478,{"v":0,"d":"0 "},0,0,{"v":0,"d":"0 "}]
[null,null,483,{"$nulls":5},{"v":0,"d":"0 "},{"$nulls":4},{"v":483,"d":"483 "},479,{"v":0,"d":"0 "},0,0,{"v":0,"d":"0 "}]
[null,null,484,{"$nulls":5},{"v":0,"d":"0 "},{"$nulls":4},{"v":484,"d":"484 "},480,{"v":0,"d":"0 "},0,0,{"v":0,"d":"0 "}]
[null,null,485,{"$nulls":5},{"v":0,"d":"0 "},{"$nulls":4},{"v":485,"d":"485 "},481,{"v":0,"d":"0 "},0,0,{"v":0,"d":"0 "}]
[null,null,486,{"$nulls":5},{"v":0,"d":"0 "},{"$nulls":4},{"v":486,"d":"486 "},482,{"v":0,"d":"0 "},0,0,{"v":0,"d":"0 "}]
[null,null,487,{"$nulls":5},{"v":0,"d":"0 "},{"$nulls":4},{"v":487,"d":"487 "},483,{"v":0,"d":"0 "},0,0,{"v":0,"d":"0 "}]
[null,null,488,{"$nulls":5},{"v":0,"d":"0 "},{"$nulls":4},{"v":488,"d":"488 "},484,{"v":0,"d":"0 "},0,0,{"v":0,"d":"0 "}]
[null,null,489,{"$nulls":5},{"v":0,"d":"0 "},{"$nulls":4},{"v":489,"d":"489 "},485,{"v":0,"d":"0 "},0,0,{"v":0,"d":"0 "}]
[null,null,490,{"$nulls":5},{"v":0,"d":"0 "},{"$nulls":4},{"v":490,"d":"490 "},486,{"v":0,"d":"0 "},0,0,{"v":0,"d":"0 "}]
[null,null,491,{"$nulls":5},{"v":0,"d":"0 "},{"$nulls":4},{"v":491,"d":"491 "},487,{"v":0,"d":"0 "},0,0,{"v":0,"d":"0 "}]
[null,null,492,{"$nulls":5},{"v":0,"d":"0 "},{"$nulls":4},{"v":492,"d":"492 "},488,{"v":0,"d":"0 "},0,0,{"v":0,"d":"0 "}]
[null,null,493,{"$nulls":5},{"v":0,"d":"0 "},{"$nulls":4},{"v":493,"d":"493 "},489,{"v":0,"d":"0 "},0,0,{"v":0,"d":"0 "}]
[null,null,494,{"$nulls":5},{"v":0,"d":"0 "},{"$nulls":4},{"v":494,"d":"494 "},490,{"v":0,"d":"0 "},0,0,{"v":0,"d":"0 "}]
[null,null,495,{"$nulls":5},{"v":0,"d":"0 "},{"$nulls":4},{"v":495,"d":"495 "},491,{"v":0,"d":"0 "},0,0,{"v":0,"d":"0 "}]
[null,null,496,{"$nulls":5},{"v":0,"d":"0 "},{"$nulls":4},{"v":496,"d":"496 "},492,{"v":0,"d":"0 "},0,0,{"v":0,"d":"0 "}]
[null,null,497,{"$nulls":5},{"v":0,"d":"0 "},{"$nulls":4},{"v":497,"d":"497 "},493,{"v":0,"d":"0 "},0,0,{"v":0,"d":"0 "}]
[null,null,498,"小計",{"$nulls":4},{"v":0,"d":"0 "},{"$nulls":4},{"v":498,"d":"498 "},494,"小計",0,0,{"v":0,"d":"0 "}]
[null,null,499,"合計",{"$nulls":4},{"v":0,"d":"0 "},{"$nulls":4},{"v":499,"d":"499 "},495,"合計",0,0,{"v":0,"d":"0 "}]
[null,null,500,"以下余白",{"$nulls":4},{"v":0,"d":"0 "},{"$nulls":4},{"v":500,"d":"500 "},496,"以下余白",0,0,{"v":0,"d":"0 "}]

{"sheet":"コンバート","index":4,"n_rows":6,"n_cols":5,"rows_kept":6,"hidden":true}
[]
[]
[]
[]
["オープン券（航空券）　宮古／石垣⇔九州内各空港","仕様書のとおり","SH",{"v":150,"d":"150.00"},{"v":29840,"d":"29,840.00"}]
[null,"以下余白"]

{"sheet":"貼り付け","index":5,"n_rows":2,"n_cols":38,"rows_kept":2,"hidden":true}
["オープン券（航空券）　宮古／石垣⇔九州内各空港",null,null,{"v":150,"d":"150.00"},{"v":29840,"d":"29,840.00"},"宮古島駐屯地７高特群第４科","2026-02-27",null,42020,5,"S8P",1,"KT",null,0,null,"CYK20260210418592",2,"JKK20260210963765",1,"HMK20260210313185",1,3,null,11,150,1,1,3,{"$nulls":5},"仕様書のとおり",null,1,0]
["仕様書のとおり",null,"補給用（連接外）","SH",{"v":4476000,"d":"4,476,000.00"},"宮古島駐屯地７高特群第４科"]

{"sheet":"予調内訳","index":6,"n_rows":55,"n_cols":16,"rows_kept":55,"hidden":true,"merged":[[0,1,0,2],[1,7,1,8],[1,11,1,12]]}
[null,"積算資料"]
["№","品名","規格","単位","数量","カタログ\n単価",{"$f":"\"カタログ\" & CHAR(10) & TEXT(P2,\"#%\") &\"引単価\"","v":"カタログ\n%引単価"},"金額",null,"三晃（株）","光洋商事\n（株）","金額",null,"備考",null,{"v":0,"d":"0%"}]
[1,"エレベーター三脚用延長アダプター","ＥＡ７８０ＴＭ－２０","EA",1,{"v":5890,"d":"5,890 "},{"$f":"F3-INT(F3*$P$2)","v":{"v":5890,"d":"5,890 "}},{"$f":"E3*G3","v":{"v":5890,"d":"5,890 "}},{"$nulls":3},{"$f":"E3*J3","v":{"v":0,"d":"0 "}},null,"カタログ割引採用（エスコ採用）"]
[2,"アルミポール","ＤＬＣ－ＡＰ９３Ｍ","EA",1,{"v":70000,"d":"70,000 "},{"$f":"F4-INT(F4*$P$2)","v":{"v":70000,"d":"70,000 "}},{"$f":"E4*G4","v":{"v":70000,"d":"70,000 "}},{"$nulls":3},{"$f":"E4*J4","v":{"v":0,"d":"0 "}},null,"〃"]
[3,"ＬＥＤパランドル","ＰＤＬ－ＶＦ３０Ｊ","EA",3,{"v":32000,"d":"32,000 "},{"v":32000,"d":"32,000 "},{"v":96000,"d":"96,000 "},{"$nulls":3},{"v":0,"d":"0 "},null,"〃"]
[4,{"$nulls":5},{"$f":"F6-INT(F6*$P$2)","v":{"v":0,"d":"0 "}},{"$f":"E6*G6","v":{"v":0,"d":"0 "}},{"$nulls":3},{"v":0,"d":"0 "},null,"〃"]
[5,{"$nulls":5},{"v":0,"d":"0 "},{"v":0,"d":"0 "},{"$nulls":3},{"v":0,"d":"0 "},null,"〃"]
[6,{"$nulls":5},{"v":0,"d":"0 "},{"v":0,"d":"0 "},{"$nulls":3},{"v":0,"d":"0 "},null,"〃"]
[7,{"$nulls":5},{"v":0,"d":"0 "},{"v":0,"d":"0 "},{"$nulls":3},{"v":0,"d":"0 "},null,"〃"]
[8,{"$nulls":5},{"v":0,"d":"0 "},{"v":0,"d":"0 "},{"$nulls":3},{"v":0,"d":"0 "},null,"〃"]
[9,{"$nulls":5},{"v":0,"d":"0 "},{"v":0,"d":"0 "},{"$nulls":3},{"v":0,"d":"0 "},null,"〃"]
[10,{"$nulls":5},{"v":0,"d":"0 "},{"v":0,"d":"0 "},{"$nulls":3},{"v":0,"d":"0 "},null,"〃"]
[11,{"$nulls":5},{"v":0,"d":"0 "},{"v":0,"d":"0 "},{"$nulls":3},{"v":0,"d":"0 "},null,"〃"]
[12,{"$nulls":5},{"v":0,"d":"0 "},{"v":0,"d":"0 "},{"$nulls":3},{"v":0,"d":"0 "},null,"〃"]
[13,{"$nulls":5},{"v":0,"d":"0 "},{"v":0,"d":"0 "},{"$nulls":3},{"v":0,"d":"0 "},null,"〃"]
[14,{"$nulls":5},{"v":0,"d":"0 "},{"v":0,"d":"0 "},{"$nulls":3},{"v":0,"d":"0 "},null,"〃"]
[15,{"$nulls":5},{"v":0,"d":"0 "},{"v":0,"d":"0 "},{"$nulls":3},{"v":0,"d":"0 "},null,"〃"]
[16,{"$nulls":5},{"v":0,"d":"0 "},{"v":0,"d":"0 "},{"$nulls":3},{"v":0,"d":"0 "},null,"〃"]
[17,{"$nulls":5},{"$f":"F19-INT(F19*$P$2)","v":{"v":0,"d":"0 "}},{"$f":"E19*G19","v":{"v":0,"d":"0 "}},{"$nulls":5},"〃"]
[18,{"$nulls":5},{"$f":"F20-INT(F20*$P$2)","v":{"v":0,"d":"0 "}},{"$f":"E20*G20","v":{"v":0,"d":"0 "}},{"$nulls":5},"〃"]
[19,{"$nulls":5},{"v":0,"d":"0 "},{"v":0,"d":"0 "},{"$nulls":5},"〃"]
[20,{"$nulls":5},{"v":0,"d":"0 "},{"v":0,"d":"0 "},{"$nulls":5},"〃"]
[21,{"$nulls":5},{"v":0,"d":"0 "},{"v":0,"d":"0 "},{"$nulls":5},"〃"]
[22,{"$nulls":5},{"v":0,"d":"0 "},{"v":0,"d":"0 "},{"$nulls":5},"〃"]
[23,{"$nulls":5},{"v":0,"d":"0 "},{"v":0,"d":"0 "},{"$nulls":5},"〃"]
[24,{"$nulls":5},{"v":0,"d":"0 "},{"v":0,"d":"0 "},{"$nulls":5},"〃"]
[25,{"$nulls":5},{"v":0,"d":"0 "},{"v":0,"d":"0 "},{"$nulls":5},"〃"]
[26,{"$nulls":5},{"v":0,"d":"0 "},{"v":0,"d":"0 "},{"$nulls":5},"〃"]
[27,{"$nulls":5},{"v":0,"d":"0 "},{"v":0,"d":"0 "},{"$nulls":5},"〃"]
[28,{"$nulls":5},{"v":0,"d":"0 "},{"v":0,"d":"0 "},{"$nulls":5},"〃"]
[29,{"$nulls":5},{"$f":"F31-INT(F31*$P$2)","v":{"v":0,"d":"0 "}},{"$f":"E31*G31","v":{"v":0,"d":"0 "}},{"$nulls":3},{"$f":"E31*J31","v":{"v":0,"d":"0 "}},null,"〃"]
[30,{"$nulls":5},{"$f":"F32-INT(F32*$P$2)","v":{"v":0,"d":"0 "}},{"$f":"E32*G32","v":{"v":0,"d":"0 "}},{"$nulls":3},{"v":0,"d":"0 "},null,"〃"]
[31,{"$nulls":5},{"v":0,"d":"0 "},{"v":0,"d":"0 "},{"$nulls":5},"〃"]
[32,{"$nulls":5},{"v":0,"d":"0 "},{"v":0,"d":"0 "},{"$nulls":5},"〃"]
[33,{"$nulls":5},{"v":0,"d":"0 "},{"v":0,"d":"0 "},{"$nulls":5},"〃"]
[34,{"$nulls":5},{"v":0,"d":"0 "},{"v":0,"d":"0 "},{"$nulls":5},"〃"]
[35,{"$nulls":5},{"v":0,"d":"0 "},{"v":0,"d":"0 "},{"$nulls":5},"〃"]
[36,{"$nulls":5},{"v":0,"d":"0 "},{"v":0,"d":"0 "},{"$nulls":5},"〃"]
[37]
[38]
[39]
[40]
[41]
[42]
[43]
[44,{"$nulls":5},{"v":0,"d":"0 "},{"v":0,"d":"0 "},{"$nulls":5},"〃"]
[45,{"$nulls":5},{"v":0,"d":"0 "},{"v":0,"d":"0 "},{"$nulls":5},"〃"]
[46,{"$nulls":5},{"v":0,"d":"0 "},{"v":0,"d":"0 "},{"$nulls":5},"〃"]
[47,{"$nulls":5},{"v":0,"d":"0 "},{"v":0,"d":"0 "},{"$nulls":3},{"v":0,"d":"0 "},null,"〃"]
[48,{"$nulls":5},{"v":0,"d":"0 "},{"v":0,"d":"0 "},{"$nulls":3},{"v":0,"d":"0 "},null,"〃"]
[49,{"$nulls":5},{"v":0,"d":"0 "},{"v":0,"d":"0 "},{"$nulls":3},{"v":0,"d":"0 "},null,"〃"]
[50,{"$nulls":5},{"v":0,"d":"0 "},{"v":0,"d":"0 "},{"$nulls":3},{"v":9999999,"d":"9,999,999 "}]
[null,"小計",{"$nulls":5},{"$f":"SUM(H3:H52)","v":{"v":171890,"d":"171,890 "}},{"$f":"IF(MIN(H53,L53)=H53,\"○\")","v":"○"},{"v":592640,"d":"592,640 "},{"v":683254,"d":"683,254 "},{"$f":"SUM(L3:L52)","v":{"v":9999999,"d":"9,999,999 "}},{"$f":"IF(I53<>\"○\",\"○\",\"\")","v":""}]
[null,"消費税",{"v":0.1,"d":"10%"},{"$nulls":4},{"$f":"IF(I53=\"○\",INT(H53*C54))","v":{"v":17189,"d":"17,189 "}},{"$nulls":3},{"$f":"IF(M53=\"〇\",INT(L53*F54),\"\")","v":""}]
[null,"合計",{"$nulls":5},{"$f":"IF(I53=\"○\",H53+INT(H53*C54))","v":{"v":189079,"d":"189,079 "}},{"$nulls":3},{"$f":"IF(M53=\"〇\",L53+INT(L53*F54),\"\")","v":""}]

{"sheet":"抽選用紙","index":7,"n_rows":28,"n_cols":21,"rows_kept":28,"hidden":true,"merged":[[0,1,3,11],[5,9,5,11],[7,2,9,5],[7,8,9,11],[11,2,13,5],[11,8,13,11],[55,2,58,3],[55,4,58,5],[55,7,58,8],[55,9,58,10]]}
[null,"抽選紙"]
[]
[]
[]
[]
[{"$nulls":9},"2024-02-26"]
[]
[null,null,{"$f":"VLOOKUP($A$14,$N$8:$T$28,5,FALSE)","v":0},{"$nulls":5},{"$f":"VLOOKUP($A$14,$N$8:$T$28,6,FALSE)","v":0},{"$nulls":4},"選択","区分","№","品名","単価","候補１","候補２","業者一覧"]
[null,"金額",{"$nulls":5},"業者名",{"$nulls":5},1]
[{"$nulls":13},2]
[{"$nulls":13},3]
[null,null,{"$f":"VLOOKUP($A$14,$N$8:$R$28,2,FALSE) & \"　\" & VLOOKUP($A$14,$N$8:$R$28,3,FALSE) &\"  \" &VLOOKUP($A$14,$N$8:$R$28,4,FALSE)","v":"　  "},{"$nulls":5},{"$f":"VLOOKUP($A$14,$N$8:$T$28,7,FALSE)","v":0},{"$nulls":4},4]
["選択","品名",{"$nulls":5},"業者名",{"$nulls":5},5]
[2,{"$nulls":12},6]
[{"$nulls":13},7]
[{"$nulls":13},8]
[{"$nulls":13},9]
[{"$nulls":13},10]
[{"$nulls":13},11]
[{"$nulls":13},12]
[{"$nulls":13},13]
[{"$nulls":13},14]
[{"$nulls":13},15]
[{"$nulls":13},16]
[{"$nulls":13},17]
[{"$nulls":13},18]
[{"$nulls":13},19]
[{"$nulls":13},20]

{"sheet":"でんみつ","index":8,"n_rows":11,"n_cols":8,"rows_kept":11,"hidden":true,"merged":[[0,1,1,7],[5,0,6,0],[5,1,6,1],[5,3,6,3],[5,4,6,4],[5,5,6,5],[5,6,6,6],[5,7,6,7],[7,0,8,0],[7,1,8,1],[7,3,8,3],[7,4,8,4],[7,5,8,5],[7,6,8,6],[7,7,8,7],[9,0,10,0],[9,1,10,1],[9,3,10,3],[9,4,10,4],[9,5,10,5],[9,6,10,6],[9,7,10,7]]}
[null,"電話見積もり"]
[]
[]
[null,null,"件名：",{"$f":"'見積書 (うち)'!B10","v":"オープン券（航空券）　宮古／石垣⇔九州内各空港　ほか　19件 内訳書のとおり"},null,null,"作成年月日：","2024-04-04"]
["業者№","№","業者名\n連絡先","数量","単位","単価","消費税","金額"]
[30,1,{"$f":"VLOOKUP(A6,業者一覧!$B$2:$J$233,3)","v":"川崎重工業　株式会社　"},"EA",1]
[null,null,{"$f":"\"担当者　\" & VLOOKUP(A6,業者一覧!$B$2:$M$233,11) & \"　（\" &VLOOKUP(A6,業者一覧!$B$2:$M$233,4) &\"）\"","v":"担当者　　（058-382-6210）"}]
[164,2,{"$f":"VLOOKUP(A8,業者一覧!$B$2:$J$233,3)","v":"株式会社　メイクマン　宮古店"},"EA",1]
[null,null,{"$f":"\"担当者　\" & VLOOKUP(A8,業者一覧!$B$2:$M$233,11) & \"　（\" &VLOOKUP(A8,業者一覧!$B$2:$M$233,4) &\"）\"","v":"担当者　山田　義貴　（0980-73-7100）"}]
[null,3,{"$f":"VLOOKUP(A10,業者一覧!$B$2:$J$233,3)","v":{"$error":"#N/A"}}]
[null,null,{"$f":"\"担当者　\" & VLOOKUP(A10,業者一覧!$B$2:$M$233,11) & \"　（\" &VLOOKUP(A10,業者一覧!$B$2:$M$233,4) &\"）\"","v":{"$error":"#N/A"}}]

{"sheet":"入札書","index":9,"n_rows":47,"n_cols":11,"rows_kept":47,"merged":[[0,2,0,5],[1,1,1,7],[3,2,3,3],[4,2,4,3],[8,6,8,7],[9,6,9,7],[10,6,10,7],[11,6,11,7],[12,6,12,7],[13,6,13,7],[14,6,14,7],[15,6,15,7],[16,6,16,7],[17,6,17,7],[18,6,18,7],[19,6,19,7],[20,6,20,7],[21,6,21,7],[22,6,22,7],[23,6,23,7],[24,6,24,7],[25,6,25,7],[26,6,26,7],[27,6,27,7],[28,6,28,7],[29,6,29,7],[30,0,30,1],[30,3,30,4],[30,5,30,7],[31,0,31,1],[31,3,31,5],[31,6,31,7],[31,10,31,24],[32,0,32,7],[33,1,36,7],[33,11,33,12],[34,11,34,12],[37,1,37,2],[39,1,39,2],[40,1,40,2],[41,1,41,2],[42,2,42,3],[42,4,42,7],[43,2,43,3],[43,4,43,7],[44,2,44,3],[44,4,44,7],[45,2,45,3],[45,4,45,7],[46,2,46,3],[46,4,46,7]]}
[]
[null,"入札書",{"$nulls":7},"見積書","件名リスト一連番号"]
[{"$nulls":9},"入札書","公告番号"]
[null,{"$f":"VLOOKUP($B$2,$J:$K,2,FALSE)","v":"公告番号"},115,{"$nulls":6},"下見積書"]
[null,"契約実施計画番号",{"$f":"契約内容!M1","v":"5S8P1KT02160"},{"$f":"契約内容!#REF!","v":{"$error":"#REF!"}}]
[{"$nulls":9},{"$f":"G30","v":{"v":0,"d":"0 "}},"（消費税及び地方税を含まない。）"]
[null,{"$f":"LEFT(B2,2)&\"金額　￥\"","v":"入札金額　￥"},{"v":0,"d":"0.-"},"（消費税及び地方税を含まない。）",{"$nulls":5},"単価による","（税込）"]
[{"$nulls":10},{"$f":"\"税込（うち消費税　\" & TEXT(C7-INT(C7*100/110),\"#,#\") & \"円）\"","v":"税込（うち消費税　円）"}]
["№","品　　　　名","規　　　　格","単位","数量","単価","金額",null,null,"数量"]
[{"v":1,"d":"1 "},{"$f":"契約内容!P3","v":"オープン券（航空券）　宮古／石垣⇔九州内各空港"},{"$f":"契約内容!Q3","v":"仕様書のとおり"},{"$f":"契約内容!R3","v":"SH"},{"$f":"契約内容!S3","v":150},{"$f":"契約内容!T3","v":{"v":0,"d":"0 "}},{"$f":"E10*F10","v":{"v":0,"d":"0 "}},null,null,"予定\n数量"]
[{"v":2,"d":"2 "},{"$f":"契約内容!P4","v":{"v":0,"d":"0 "}},{"$f":"契約内容!Q4","v":"以下余白"},{"$f":"契約内容!R4","v":{"v":0,"d":"0 "}},{"$f":"契約内容!S4","v":0},{"$f":"契約内容!T4","v":{"v":0,"d":"0 "}},{"$f":"E11*F11","v":{"v":0,"d":"0 "}},{"$nulls":3},"税込（うち消費税　5,212円）"]
[{"v":3,"d":"3 "},{"$f":"契約内容!P5","v":{"v":0,"d":"0 "}},{"$f":"契約内容!Q5","v":0},{"$f":"契約内容!R5","v":{"v":0,"d":"0 "}},{"$f":"契約内容!S5","v":0},{"$f":"契約内容!T5","v":{"v":0,"d":"0 "}},{"v":0,"d":"0 "}]
[{"v":4,"d":"4 "},{"$f":"契約内容!P6","v":{"v":0,"d":"0 "}},{"$f":"契約内容!Q6","v":0},{"$f":"契約内容!R6","v":{"v":0,"d":"0 "}},{"$f":"契約内容!S6","v":0},{"$f":"契約内容!T6","v":{"v":0,"d":"0 "}},{"v":0,"d":"0 "}]
[{"v":5,"d":"5 "},{"$f":"契約内容!P7","v":{"v":0,"d":"0 "}},{"$f":"契約内容!Q7","v":0},{"$f":"契約内容!R7","v":{"v":0,"d":"0 "}},{"$f":"契約内容!S7","v":0},{"$f":"契約内容!T7","v":{"v":0,"d":"0 "}},{"v":0,"d":"0 "}]
[{"v":6,"d":"6 "},{"$f":"契約内容!P8","v":{"v":0,"d":"0 "}},{"$f":"契約内容!Q8","v":0},{"$f":"契約内容!R8","v":{"v":0,"d":"0 "}},{"$f":"契約内容!S8","v":0},{"$f":"契約内容!T8","v":{"v":0,"d":"0 "}}]
[{"v":7,"d":"7 "},{"$f":"契約内容!P9","v":{"v":0,"d":"0 "}},{"$f":"契約内容!Q9","v":0},{"$f":"契約内容!R9","v":{"v":0,"d":"0 "}},{"$f":"契約内容!S9","v":0},{"$f":"契約内容!T9","v":{"v":0,"d":"0 "}}]
[{"v":8,"d":"8 "},{"$f":"契約内容!P10","v":{"v":0,"d":"0 "}},{"$f":"契約内容!Q10","v":0},{"$f":"契約内容!R10","v":{"v":0,"d":"0 "}},{"$f":"契約内容!S10","v":0},{"$f":"契約内容!T10","v":{"v":0,"d":"0 "}}]
[{"v":9,"d":"9 "},{"$f":"契約内容!P11","v":{"v":0,"d":"0 "}},{"$f":"契約内容!Q11","v":0},{"$f":"契約内容!R11","v":{"v":0,"d":"0 "}},{"$f":"契約内容!S11","v":0},{"$f":"契約内容!T11","v":{"v":0,"d":"0 "}},{"v":0,"d":"0 "}]
[{"v":10,"d":"10 "},{"$f":"契約内容!P12","v":{"v":0,"d":"0 "}},{"$f":"契約内容!Q12","v":0},{"$f":"契約内容!R12","v":{"v":0,"d":"0 "}},{"$f":"契約内容!S12","v":0},{"$f":"契約内容!T12","v":{"v":0,"d":"0 "}},{"$f":"E19*F19","v":{"v":0,"d":"0 "}}]
[{"v":11,"d":"11 "},{"$f":"契約内容!P13","v":{"v":0,"d":"0 "}},{"$f":"契約内容!Q13","v":0},{"$f":"契約内容!R13","v":{"v":0,"d":"0 "}},{"$f":"契約内容!S13","v":0},{"$f":"契約内容!T13","v":{"v":0,"d":"0 "}},{"v":0,"d":"0 "}]
[{"v":12,"d":"12 "},{"$f":"契約内容!P14","v":{"v":0,"d":"0 "}},{"$f":"契約内容!Q14","v":0},{"$f":"契約内容!R14","v":{"v":0,"d":"0 "}},{"$f":"契約内容!S14","v":0},{"$f":"契約内容!T14","v":{"v":0,"d":"0 "}},{"v":0,"d":"0 "}]
[{"v":13,"d":"13 "},{"$f":"契約内容!P15","v":{"v":0,"d":"0 "}},{"$f":"契約内容!Q15","v":0},{"$f":"契約内容!R15","v":{"v":0,"d":"0 "}},{"$f":"契約内容!S15","v":0},{"$f":"契約内容!T15","v":{"v":0,"d":"0 "}},{"v":0,"d":"0 "}]
[{"v":14,"d":"14 "},{"$f":"契約内容!P16","v":{"v":0,"d":"0 "}},{"$f":"契約内容!Q16","v":0},{"$f":"契約内容!R16","v":{"v":0,"d":"0 "}},{"$f":"契約内容!S16","v":0},{"$f":"契約内容!T16","v":{"v":0,"d":"0 "}},{"v":0,"d":"0 "}]
[{"v":15,"d":"15 "},{"$f":"契約内容!P17","v":{"v":0,"d":"0 "}},{"$f":"契約内容!Q17","v":0},{"$f":"契約内容!R17","v":{"v":0,"d":"0 "}},{"$f":"契約内容!S17","v":0},{"$f":"契約内容!T17","v":{"v":0,"d":"0 "}},{"v":0,"d":"0 "}]
[{"v":16,"d":"16 "},{"$f":"契約内容!P18","v":{"v":0,"d":"0 "}},{"$f":"契約内容!Q18","v":0},{"$f":"契約内容!R18","v":{"v":0,"d":"0 "}},{"$f":"契約内容!S18","v":0},{"$f":"契約内容!T18","v":{"v":0,"d":"0 "}},{"v":0,"d":"0 "}]
[{"v":17,"d":"17 "},{"$f":"契約内容!P19","v":{"v":0,"d":"0 "}},{"$f":"契約内容!Q19","v":0},{"$f":"契約内容!R19","v":{"v":0,"d":"0 "}},{"$f":"契約内容!S19","v":0},{"$f":"契約内容!T19","v":{"v":0,"d":"0 "}},{"v":0,"d":"0 "}]
[{"v":18,"d":"18 "},{"$f":"契約内容!P20","v":{"v":0,"d":"0 "}},{"$f":"契約内容!Q20","v":0},{"$f":"契約内容!R20","v":{"v":0,"d":"0 "}},{"$f":"契約内容!S20","v":0},{"$f":"契約内容!T20","v":{"v":0,"d":"0 "}},{"v":0,"d":"0 "}]
[{"v":19,"d":"19 "},{"$f":"契約内容!P21","v":{"v":0,"d":"0 "}},{"$f":"契約内容!Q21","v":0},{"$f":"契約内容!R21","v":{"v":0,"d":"0 "}},{"$f":"契約内容!S21","v":0},{"$f":"契約内容!T21","v":{"v":0,"d":"0 "}},{"v":0,"d":"0 "}]
[{"v":20,"d":"20 "},{"$f":"契約内容!P22","v":{"v":0,"d":"0 "}},{"$f":"契約内容!Q22","v":0},{"$f":"契約内容!R22","v":{"v":0,"d":"0 "}},{"$f":"契約内容!S22","v":0},{"$f":"契約内容!T22","v":{"v":0,"d":"0 "}},{"v":0,"d":"0 "}]
[null,"小計",{"$nulls":4},{"$f":"SUM(G10:H29)","v":{"v":0,"d":"0 "}}]
["納入（履行）場所",null,{"$f":"契約内容!M6","v":"陸上自衛隊　宮古島駐屯地"},"納期（工期）",null,{"$f":"契約内容!M5","v":"2026-02-27"},{"$f":"契約内容!W6","v":"00:00:00"},{"$f":"契約内容!#REF!","v":{"$error":"#REF!"}}]
["契約保証金",null,"（免　除）","入札（見積）書有効期間"]
["注文から納品にかかるおおよその日数："]
[null,"　上記に関して「入札及び契約心得」、「標準契約書等」の契約条項等を承諾の上、入札見積りいたします。また、当社（私（個人の場合）、当団体（団体の場合））は「入札及び契約心得」に示された暴力団排除に関する誓約事項について、誓約いたします。"]
[{"$nulls":9},"随契","　上記に関して「入札及び契約心得」、「標準契約書等」の契約条項等を承諾の上、入札見積りいたします。また、当社（私（個人の場合）、当団体（団体の場合））は「入札及び契約心得」に示された暴力団排除に関する誓約事項について、誓約いたします。"]
[{"$nulls":9},"OP","　上記に関して「入札及び契約心得」、「陸上自衛隊宮古島駐屯地オープンカウンター方式実施要項」及び「標準契約書等」の契約条項等を承諾のうえ見積りいたします。また、当社（私（個人の場合）、当団体（団体の場合））は「入札及び契約心得」に示された暴力団排除に関する誓約事項について誓約いたします。"]
[]
[null,{"$f":"契約内容!M4","v":"2026-02-20"}]
[]
[null,{"$f":"基本情報!$B$6","v":"分任契約担当官"}]
[null,{"$f":"基本情報!$B$7","v":"陸上自衛隊宮古島駐屯地"}]
[null,{"$f":"基本情報!$B$8 & \"　　殿\"","v":"第４４４会計隊長　藤澤　竹広　　殿"}]
[null,null,"住　　　　　所"]
[null,null,"会    社    名"]
[null,null,"役　　　    職\n代 表 者 氏 名"]
[null,null,"担 当 者 氏 名"]
[null,null,"担当者電話番号"]

{"sheet":"見積書 (うち)","index":10,"n_rows":46,"n_cols":11,"rows_kept":46,"hidden":true,"merged":[[0,2,0,5],[1,1,1,7],[3,2,3,3],[4,2,4,3],[8,6,8,7],[9,1,9,5],[9,6,9,7],[10,6,10,7],[11,6,11,7],[12,6,12,7],[13,6,13,7],[14,6,14,7],[15,6,15,7],[16,6,16,7],[28,6,28,7],[29,3,29,4],[29,5,29,7],[30,3,30,5],[30,6,30,7],[31,1,31,7],[32,1,35,7],[32,11,32,12],[33,11,33,12],[36,1,36,2],[38,1,38,2],[39,1,39,2],[40,1,40,2],[41,2,41,3],[41,4,41,7],[42,2,42,3],[42,4,42,7],[43,2,43,3],[43,4,43,7],[44,2,44,3],[44,4,44,7],[45,2,45,3],[45,4,45,7]]}
[]
[null,"入札書",{"$nulls":7},"見積書"]
[{"$nulls":9},"入札書"]
[null,"件名リスト一連番号",114,{"$nulls":6},"下見積書"]
[null,"契約実施計画番号",{"$f":"契約内容!M1","v":"5S8P1KT02160"},{"$f":"契約内容!#REF!","v":{"$error":"#REF!"}}]
[{"$nulls":9},{"$f":"G29","v":{"v":0,"d":"0 "}},"（消費税及び地方税を含まない。）"]
[null,{"$f":"LEFT(B2,2)&\"金額　￥\"","v":"入札金額　￥"},null,"（消費税及び地方税を含まない。）",{"$nulls":5},"グループ別総額による","（税込）"]
[{"$nulls":10},{"$f":"\"税込（うち消費税　\" & TEXT(C7-INT(C7*100/110),\"#,#\") & \"円）\"","v":"税込（うち消費税　円）"}]
[null,"品　　　　名","規　　　　格","単位","数量","単価","金額",null,null,"数量"]
[null,{"$f":"契約内容!D3 & \"　ほか　\" &J11 & \"件 内訳書のとおり\"","v":"オープン券（航空券）　宮古／石垣⇔九州内各空港　ほか　19件 内訳書のとおり"},{"$nulls":4},{"$f":"E10*F10","v":{"v":0,"d":"0 "}},null,null,"予定\n数量"]
[null,"以下余白",{"$nulls":7},{"v":19,"d":"19 "},"←内訳の件数"]
{"$rows_empty":9}
[null,{"$f":"契約内容!P14","v":{"v":0,"d":"0 "}},{"$f":"契約内容!Q14","v":0},{"$f":"契約内容!R14","v":{"v":0,"d":"0 "}},{"$f":"契約内容!S14","v":0},{"$f":"契約内容!T14","v":{"v":0,"d":"0 "}},{"$f":"E21*F21","v":{"v":0,"d":"0 "}}]
[null,{"$f":"契約内容!P15","v":{"v":0,"d":"0 "}},{"$f":"契約内容!Q15","v":0},{"$f":"契約内容!R15","v":{"v":0,"d":"0 "}},{"$f":"契約内容!S15","v":0},{"$f":"契約内容!T15","v":{"v":0,"d":"0 "}},{"v":0,"d":"0 "}]
[null,{"$f":"契約内容!P16","v":{"v":0,"d":"0 "}},{"$f":"契約内容!Q16","v":0},{"$f":"契約内容!R16","v":{"v":0,"d":"0 "}},{"$f":"契約内容!S16","v":0},{"$f":"契約内容!T16","v":{"v":0,"d":"0 "}},{"v":0,"d":"0 "}]
[null,{"$f":"契約内容!P17","v":{"v":0,"d":"0 "}},{"$f":"契約内容!Q17","v":0},{"$f":"契約内容!R17","v":{"v":0,"d":"0 "}},{"$f":"契約内容!S17","v":0},{"$f":"契約内容!T17","v":{"v":0,"d":"0 "}},{"v":0,"d":"0 "}]
[null,{"$f":"契約内容!P18","v":{"v":0,"d":"0 "}},{"$f":"契約内容!Q18","v":0},{"$f":"契約内容!R18","v":{"v":0,"d":"0 "}},{"$f":"契約内容!S18","v":0},{"$f":"契約内容!T18","v":{"v":0,"d":"0 "}},{"v":0,"d":"0 "}]
[null,{"$f":"契約内容!P19","v":{"v":0,"d":"0 "}},{"$f":"契約内容!Q19","v":0},{"$f":"契約内容!R19","v":{"v":0,"d":"0 "}},{"$f":"契約内容!S19","v":0},{"$f":"契約内容!T19","v":{"v":0,"d":"0 "}},{"v":0,"d":"0 "}]
[null,{"$f":"契約内容!P20","v":{"v":0,"d":"0 "}},{"$f":"契約内容!Q20","v":0},{"$f":"契約内容!R20","v":{"v":0,"d":"0 "}},{"$f":"契約内容!S20","v":0},{"$f":"契約内容!T20","v":{"v":0,"d":"0 "}},{"v":0,"d":"0 "}]
[null,{"$f":"契約内容!P21","v":{"v":0,"d":"0 "}},{"$f":"契約内容!Q21","v":0},{"$f":"契約内容!R21","v":{"v":0,"d":"0 "}},{"$f":"契約内容!S21","v":0},{"$f":"契約内容!T21","v":{"v":0,"d":"0 "}},{"v":0,"d":"0 "}]
[null,"計",{"$nulls":4},{"$f":"SUM(G10:H18)","v":{"v":0,"d":"0 "}}]
[null,"納入（履行）場所",{"$f":"契約内容!M6","v":"陸上自衛隊　宮古島駐屯地"},"納期（工期）",null,{"$f":"契約内容!M5","v":"2026-02-27"},{"$f":"契約内容!W6","v":"00:00:00"},{"$f":"契約内容!#REF!","v":{"$error":"#REF!"}}]
[null,"契約保証金","（免　除）","入札（見積）書有効期間"]
[null,"注文から納品にかかるおおよその日数："]
[null,"　上記に関して「入札及び契約心得」、「標準契約書等」の契約条項等を承諾の上、入札見積りいたします。また、当社（私（個人の場合）、当団体（団体の場合））は「入札及び契約心得」に示された暴力団排除に関する誓約事項について、誓約いたします。"]
[{"$nulls":9},"随契","　上記に関して「入札及び契約心得」、「標準契約書等」の契約条項等を承諾の上、入札見積りいたします。また、当社（私（個人の場合）、当団体（団体の場合））は「入札及び契約心得」に示された暴力団排除に関する誓約事項について、誓約いたします。"]
[{"$nulls":9},"OP","　上記に関して「入札及び契約心得」、「陸上自衛隊宮古島駐屯地オープンカウンター方式実施要項」及び「標準契約書等」の契約条項等を承諾のうえ見積りいたします。また、当社（私（個人の場合）、当団体（団体の場合））は「入札及び契約心得」に示された暴力団排除に関する誓約事項について誓約いたします。"]
[]
[null,{"$f":"契約内容!M4","v":"2026-02-20"}]
[]
[null,{"$f":"基本情報!$B$6","v":"分任契約担当官"}]
[null,{"$f":"基本情報!$B$7","v":"陸上自衛隊宮古島駐屯地"}]
[null,{"$f":"基本情報!$B$8 & \"　　殿\"","v":"第４４４会計隊長　藤澤　竹広　　殿"}]
[null,null,"住　　　　　所",null,{"$f":"基本情報!B11","v":{"$error":"#N/A"}}]
[null,null,"会    社    名",null,{"$f":"基本情報!B12","v":{"$error":"#N/A"}}]
[null,null,"役　　　    職\n代 表 者 氏 名",null,{"$f":"基本情報!B13","v":{"$error":"#N/A"}}]
[null,null,"担 当 者 氏 名"]
[null,null,"担当者電話番号",null,{"$f":"基本情報!B14","v":{"$error":"#N/A"}}]

{"sheet":"市価","index":11,"n_rows":48,"n_cols":17,"rows_kept":48,"merged":[[1,0,2,14],[1,15,4,15],[4,9,4,13],[6,4,8,5],[10,1,11,1],[10,2,11,3],[13,4,13,5],[13,7,13,13],[15,4,15,5],[15,7,16,13],[17,4,17,5],[17,7,19,13],[19,4,19,5],[20,4,20,5],[20,7,20,13],[21,4,21,5],[21,7,21,13],[22,1,22,13],[23,1,23,13],[25,1,25,2],[25,3,25,4],[25,5,25,7],[25,9,25,10],[25,11,25,12],[25,13,25,14],[26,1,26,2],[26,3,26,4],[26,5,26,7],[26,13,26,14],[27,1,27,2],[27,3,27,4],[27,5,27,7],[27,13,27,14],[28,1,28,2],[28,3,28,4],[28,5,28,7],[28,13,28,14],[29,1,29,2],[29,3,29,4],[29,5,29,7],[29,13,29,14],[30,1,30,2],[30,3,30,4],[30,5,30,7],[30,13,30,14],[31,1,31,2],[31,3,31,4],[31,5,31,7],[31,13,31,14],[32,1,32,2],[32,3,32,4],[32,5,32,7],[32,13,32,14],[33,1,33,2],[33,3,33,4],[33,5,33,7],[33,13,33,14],[34,1,34,2],[34,3,34,4],[34,5,34,7],[34,13,34,14],[35,1,35,2],[35,3,35,4],[35,5,35,7],[35,13,35,14],[36,1,36,2],[36,3,36,4],[36,5,36,7],[36,13,36,14],[37,1,37,2],[37,3,37,4],[37,5,37,7],[37,13,37,14],[38,1,38,2],[38,3,38,4],[38,5,38,7],[38,13,38,14],[39,1,39,2],[39,3,39,4],[39,5,39,7],[39,13,39,14],[40,1,40,2],[40,3,40,4],[40,5,40,7],[40,13,40,14],[41,0,41,2],[41,3,41,4],[41,5,41,7],[41,13,41,14],[42,0,42,2],[42,3,42,4],[42,5,42,7],[42,13,42,14],[43,0,43,2],[43,3,43,4],[43,5,43,7],[43,13,43,14],[44,0,44,2],[44,3,44,14],[45,0,45,14],[46,0,46,2],[46,3,46,14],[47,0,47,14]]}
[]
["市場価格調書"]
[]
[]
[{"$nulls":9},"令和８年２月18日"]
[]
[null,{"$f":"基本情報!$B$6","v":"分任契約担当官"},null,null,"殿"]
[null,{"$f":"基本情報!$B$7","v":"陸上自衛隊宮古島駐屯地"}]
[null,{"$f":"基本情報!$B$8","v":"第４４４会計隊長　藤澤　竹広"}]
[]
[null,"￥",{"$f":"SUM(L27:L28)","v":{"v":0,"d":"0.-"}}]
[{"$nulls":7},{"$f":"入札書!D7","v":"（消費税及び地方税を含まない。）"}]
[]
[{"$nulls":4},"住　所"]
[]
[{"$nulls":4},"会社名"]
[]
[{"$nulls":4},"役　職"]
[]
[{"$nulls":4},"代表者氏名"]
[{"$nulls":4},"担当者氏名"]
[{"$nulls":4},"担当者電話番号"]
[null,"上記のとおり見積致します"]
[null,"内　　　訳"]
[]
["№","品　　　目",null,"規　　　格",null,"単位",null,null,"数量","単　　　価",null,"金　　　額",null,"摘　要"]
[{"v":1,"d":"1 "},{"$f":"契約内容!P3","v":"オープン券（航空券）　宮古／石垣⇔九州内各空港"},null,{"$f":"契約内容!Q3","v":"仕様書のとおり"},null,{"$f":"契約内容!R3","v":"SH"},null,null,{"$f":"契約内容!S3","v":150},{"$f":"契約内容!T3","v":0},null,{"$f":"I27*J27","v":0}]
[{"v":2,"d":"2 "},{"$f":"契約内容!P4","v":{"v":0,"d":"0 "}},null,{"$f":"契約内容!Q4","v":"以下余白"},null,{"$f":"契約内容!R4","v":0},null,null,{"$f":"契約内容!S4","v":0},{"$f":"契約内容!T4","v":0},null,{"$f":"I28*J28","v":0}]
[{"v":3,"d":"3 "},{"$f":"契約内容!P5","v":{"v":0,"d":"0 "}},null,{"$f":"契約内容!Q5","v":0},null,{"$f":"契約内容!R5","v":0},null,null,{"$f":"契約内容!S5","v":0},{"$f":"契約内容!T5","v":0},null,{"$f":"I29*J29","v":0}]
[{"v":4,"d":"4 "},{"$f":"契約内容!P6","v":{"v":0,"d":"0 "}},null,{"$f":"契約内容!Q6","v":0},null,{"$f":"契約内容!R6","v":0},null,null,{"$f":"契約内容!S6","v":0},{"$f":"契約内容!T6","v":0},null,{"$f":"I30*J30","v":0}]
[{"v":5,"d":"5 "},{"$f":"契約内容!P7","v":{"v":0,"d":"0 "}},null,{"$f":"契約内容!Q7","v":0},null,{"$f":"契約内容!R7","v":0},null,null,{"$f":"契約内容!S7","v":0},{"$f":"契約内容!T7","v":0},null,0]
[{"v":6,"d":"6 "},{"$f":"契約内容!P8","v":{"v":0,"d":"0 "}},null,{"$f":"契約内容!Q8","v":0},null,{"$f":"契約内容!R8","v":0},null,null,{"$f":"契約内容!S8","v":0},null,null,0]
[{"v":7,"d":"7 "},{"$f":"契約内容!P9","v":{"v":0,"d":"0 "}},null,{"$f":"契約内容!Q9","v":0},null,{"$f":"契約内容!R9","v":0},null,null,{"$f":"契約内容!S9","v":0},null,null,0]
[{"v":8,"d":"8 "},{"$f":"契約内容!P10","v":{"v":0,"d":"0 "}},null,{"$f":"契約内容!Q10","v":0},null,{"$f":"契約内容!R10","v":0},null,null,{"$f":"契約内容!S10","v":0},{"$f":"契約内容!T10","v":0},null,0]
[{"v":9,"d":"9 "},{"$f":"契約内容!P11","v":{"v":0,"d":"0 "}},null,{"$f":"契約内容!Q11","v":0},null,{"$f":"契約内容!R11","v":0},null,null,{"$f":"契約内容!S11","v":0},{"$f":"契約内容!T11","v":0},null,0]
[{"v":10,"d":"10 "},{"$f":"契約内容!P12","v":{"v":0,"d":"0 "}},null,{"$f":"契約内容!Q12","v":0},null,{"$f":"契約内容!R12","v":0},null,null,{"$f":"契約内容!S12","v":0},{"$f":"契約内容!T12","v":0},null,0]
[{"v":11,"d":"11 "},{"$f":"契約内容!P13","v":{"v":0,"d":"0 "}},null,{"$f":"契約内容!Q13","v":0},null,{"$f":"契約内容!R13","v":0},null,null,{"$f":"契約内容!S13","v":0},{"$f":"契約内容!T13","v":0},null,0]
[{"v":12,"d":"12 "},{"$f":"契約内容!P14","v":{"v":0,"d":"0 "}},null,{"$f":"契約内容!Q14","v":0},null,{"$f":"契約内容!R14","v":0},null,null,{"$f":"契約内容!S14","v":0},{"$f":"契約内容!T14","v":0},null,0]
[{"v":13,"d":"13 "},{"$f":"契約内容!P15","v":{"v":0,"d":"0 "}},null,{"$f":"契約内容!Q15","v":0},null,{"$f":"契約内容!R15","v":0},null,null,{"$f":"契約内容!S15","v":0},{"$f":"契約内容!T15","v":0},null,0]
[{"v":14,"d":"14 "},{"$f":"契約内容!P16","v":{"v":0,"d":"0 "}},null,{"$f":"契約内容!Q16","v":0},null,{"$f":"契約内容!R16","v":0},null,null,{"$f":"契約内容!S16","v":0},{"$f":"契約内容!T16","v":0},null,0]
[{"v":15,"d":"15 "},{"$f":"契約内容!P17","v":{"v":0,"d":"0 "}},null,{"$f":"契約内容!Q17","v":0},null,{"$f":"契約内容!R17","v":0},null,null,{"$f":"契約内容!S17","v":0},{"$f":"契約内容!T17","v":0},null,0]
["小計",{"$nulls":10},{"$f":"SUM(L27:L41)","v":0}]
["消費税",null,null,{"v":0.1,"d":"10%"},{"$nulls":7},{"$f":"INT(L42*D43)","v":0}]
["合計",{"$nulls":10},{"$f":"L42+L43","v":0},{"$nulls":4},"税抜"]
["納地",null,null,{"$f":"契約内容!M6","v":"陸上自衛隊　宮古島駐屯地"},{"$nulls":12},{"$f":"\"税込\n（うち消費税　\" & TEXT(L44-INT(L44*100/110),\"#,#\") & \"円）\"","v":"税込\n（うち消費税　円）"}]
["注文から納品にかかるおおよその日数："]
["納期",null,null,{"$f":"契約内容!M5","v":"2026-02-27"}]
["当社（当団体）は、入札心得に定める暴力団排除に関する事項について誓約いたします。"]

{"sheet":"市価 (うち)","index":12,"n_rows":56,"n_cols":17,"rows_kept":56,"hidden":true,"merged":[[1,0,2,14],[1,15,4,15],[4,9,4,13],[6,4,8,5],[10,1,11,1],[10,2,11,3],[13,4,13,5],[13,7,13,13],[15,4,15,5],[15,7,16,13],[17,4,17,5],[17,7,19,13],[19,4,19,5],[20,4,20,5],[20,7,20,13],[21,4,21,5],[21,7,21,13],[22,1,22,13],[23,1,23,13],[25,1,25,2],[25,3,25,4],[25,5,25,7],[25,9,25,10],[25,11,25,12],[25,13,25,14],[26,1,26,10],[26,13,26,14],[27,1,27,2],[27,3,27,4],[27,5,27,7],[27,13,27,14],[28,1,28,2],[28,3,28,4],[28,5,28,7],[28,13,28,14],[29,1,29,2],[29,3,29,4],[29,5,29,7],[29,13,29,14],[30,1,30,2],[30,3,30,4],[30,5,30,7],[30,13,30,14],[31,1,31,2],[31,3,31,4],[31,5,31,7],[31,13,31,14],[32,1,32,2],[32,3,32,4],[32,5,32,7],[32,13,32,14],[33,1,33,2],[33,3,33,4],[33,5,33,7],[33,13,33,14],[34,1,34,2],[34,3,34,4],[34,5,34,7],[34,13,34,14],[35,1,35,2],[35,3,35,4],[35,5,35,7],[35,13,35,14],[36,1,36,2],[36,3,36,4],[36,5,36,7],[36,13,36,14],[37,1,37,2],[37,3,37,4],[37,5,37,7],[37,13,37,14],[38,1,38,2],[38,3,38,4],[38,5,38,7],[38,13,38,14],[39,1,39,2],[39,3,39,4],[39,5,39,7],[39,13,39,14],[40,1,40,2],[40,3,40,4],[40,5,40,7],[40,13,40,14],[41,1,41,2],[41,3,41,4],[41,5,41,7],[41,13,41,14],[42,1,42,2],[42,3,42,4],[42,5,42,7],[42,13,42,14],[43,1,43,2],[43,3,43,4],[43,5,43,7],[43,13,43,14],[44,1,44,2],[44,3,44,4],[44,5,44,7],[44,13,44,14],[45,1,45,2],[45,3,45,4],[45,5,45,7],[45,13,45,14],[46,1,46,2],[46,3,46,4],[46,5,46,7],[46,13,46,14],[47,1,47,2],[47,3,47,4],[47,5,47,7],[47,13,47,14],[48,1,48,2],[48,3,48,4],[48,5,48,7],[48,13,48,14],[49,0,49,2],[49,3,49,4],[49,5,49,7],[49,13,49,14],[50,0,50,2],[50,3,50,4],[50,5,50,7],[50,13,50,14],[51,0,51,2],[51,3,51,4],[51,5,51,7],[51,13,51,14],[52,0,52,2],[52,3,52,14],[53,0,53,14],[54,0,54,2],[54,3,54,14],[55,0,55,14]]}
[]
["市場価格調書"]
[]
[]
[{"$nulls":9},"令和８年２月17日"]
[]
[null,{"$f":"基本情報!$B$6","v":"分任契約担当官"},null,null,"殿"]
[null,{"$f":"基本情報!$B$7","v":"陸上自衛隊宮古島駐屯地"}]
[null,{"$f":"基本情報!$B$8","v":"第４４４会計隊長　藤澤　竹広"}]
[]
[null,"金￥",{"$f":"L27","v":{"v":0,"d":"0.-"}}]
[{"$nulls":7},{"$f":"入札書!D7","v":"（消費税及び地方税を含まない。）"}]
[]
[{"$nulls":4},"住　所",null,null,{"$f":"基本情報!B11","v":{"$error":"#N/A"}}]
[]
[{"$nulls":4},"会社名",null,null,{"$f":"基本情報!B12","v":{"$error":"#N/A"}}]
[]
[{"$nulls":4},"役　職",null,null,{"$f":"基本情報!B13","v":{"$error":"#N/A"}}]
[]
[{"$nulls":4},"代表者氏名"]
[{"$nulls":4},"担当者氏名"]
[{"$nulls":4},"担当者電話番号"]
[null,"上記のとおり見積致します"]
[null,"内　　　訳"]
[]
["№","品　　　目",null,"規　　　格",null,"単位",null,null,"数量","単　　　価",null,"金　　　額",null,"摘　要"]
[{"v":1,"d":"1 "},{"$f":"'見積書 (うち)'!B10","v":"オープン券（航空券）　宮古／石垣⇔九州内各空港　ほか　19件 内訳書のとおり"},{"$nulls":9},{"$f":"I27*J27","v":0}]
[{"v":2,"d":"2 "},"以下余白"]
[{"v":3,"d":"3 "}]
[{"v":4,"d":"4 "}]
[{"v":5,"d":"5 "}]
[{"v":6,"d":"6 "}]
[{"v":7,"d":"7 "}]
[{"v":8,"d":"8 "}]
[{"v":9,"d":"9 "}]
[{"v":10,"d":"10 "}]
[{"v":11,"d":"11 "}]
[{"v":12,"d":"12 "}]
[{"v":13,"d":"13 "}]
[{"v":14,"d":"14 "}]
[{"v":15,"d":"15 "}]
[{"v":16,"d":"16 "}]
[{"v":17,"d":"17 "}]
[{"v":18,"d":"18 "}]
[{"v":19,"d":"19 "}]
[{"v":20,"d":"20 "}]
[{"v":21,"d":"21 "},{"$f":"契約内容!P23","v":{"v":0,"d":"0 "}},null,{"$f":"契約内容!Q23","v":0},null,{"$f":"契約内容!R23","v":0},null,null,{"$f":"契約内容!S23","v":0}]
[{"v":22,"d":"22 "},{"$f":"契約内容!P24","v":{"v":0,"d":"0 "}},null,{"$f":"契約内容!Q24","v":0},null,{"$f":"契約内容!R24","v":0},null,null,{"$f":"契約内容!S24","v":0}]
[{"v":23,"d":"23 "},{"$f":"契約内容!P25","v":{"v":0,"d":"0 "}},null,{"$f":"契約内容!Q25","v":0},null,{"$f":"契約内容!R25","v":0},null,null,{"$f":"契約内容!S25","v":0}]
["小計",{"$nulls":10},{"$f":"SUM(L27:L49)","v":0}]
["消費税",null,null,{"v":0.1,"d":"10%"}]
["合計",{"$nulls":15},"税抜"]
["納地",null,null,{"$f":"契約内容!M6","v":"陸上自衛隊　宮古島駐屯地"},{"$nulls":12},{"$f":"\"税込\n（うち消費税　\" & TEXT(L52-INT(L52*100/110),\"#,#\") & \"円）\"","v":"税込\n（うち消費税　円）"}]
["注文から納品にかかるおおよその日数："]
["納期",null,null,{"$f":"契約内容!M5","v":"2026-02-27"}]
["当社（当団体）は、入札心得に定める暴力団排除に関する事項について誓約いたします。"]

{"sheet":"納品書 (業者)","index":13,"n_rows":34,"n_cols":22,"rows_kept":34,"hidden":true,"merged":[[0,1,2,5],[0,6,2,15],[3,8,3,9],[4,6,4,7],[4,11,10,13],[4,14,4,15],[5,1,5,5],[5,8,5,9],[6,6,6,7],[6,14,6,15],[7,1,7,5],[7,8,7,9],[8,1,8,5],[8,6,8,7],[9,1,9,5],[9,8,9,9],[10,6,10,7],[11,0,11,1],[11,2,11,3],[11,4,11,5],[11,7,11,8],[11,9,11,10],[11,11,11,12],[12,0,12,1],[12,2,12,3],[12,4,12,5],[12,7,12,8],[12,9,12,10],[12,14,12,15],[13,1,13,2],[13,3,13,4],[13,5,13,7],[13,12,13,13],[14,1,14,2],[14,3,14,4],[14,5,14,7],[14,12,14,13],[15,1,15,2],[15,3,15,4],[15,5,15,7],[15,12,15,13],[16,1,16,2],[16,3,16,4],[16,5,16,7],[16,12,16,13],[17,3,17,4],[17,5,17,7],[17,12,17,13],[18,3,18,4],[18,5,18,7],[18,12,18,13],[19,3,19,4],[19,5,19,7],[19,12,19,13],[20,3,20,4],[20,5,20,7],[20,12,20,13],[21,1,21,2],[21,3,21,4],[21,5,21,7],[21,12,21,13],[22,1,22,2],[22,3,22,4],[22,5,22,7],[22,12,22,13],[23,3,23,4],[23,5,23,7],[23,12,23,13],[24,1,24,2],[24,3,24,4],[24,5,24,7],[24,12,24,13],[26,4,26,5],[28,4,28,5]]}
["納",{"$f":"IFERROR(契約内容!M6 &\"　\" & R6,契約内容!M6)","v":"陸上自衛隊　宮古島駐屯地"},{"$nulls":4},"納品書・（受領）検査調書"]
["入"]
["先",{"$nulls":16},{"$f":"MID(G5,2,3)","v":"8LL"}]
[null,"住所、会社名、代表者印",{"$nulls":4},"調達要求番号",null,"発送年月日",null,null,"物品管理官命令印",null,null,"命令年月日",null,null,{"$f":" MID(G5,7,1)","v":"8"},"部隊","部課班"]
["契",{"$nulls":5},"58LL1A80093",null,null,"・　　・　　・",{"$nulls":4},"・　　・　　・",null,null,{"$f":"R3&R4","v":"8LL8"},"8LL",1,{"$f":"S5&T5","v":"8LL1"},"７高群１科"]
[null,{"$f":"入札書!E43","v":{"v":0,"d":"0 "}},{"$nulls":4},"確認番号（認証番号）",null,"輸送方法",{"$nulls":5},"管理簿登記年月日",null,null,{"$f":"VLOOKUP($R$5,$U:$V,2,FALSE)","v":{"$error":"#N/A"}},"8LL",2,{"$f":"S6&T6","v":"8LL2"},"７高群４科"]
["約",{"$nulls":5},{"$f":"契約内容!M2","v":"5S8P1KT216000"},{"$nulls":7},"・　　・　　・",{"$nulls":3},"8LL",3,"8LL3","７高群３科"]
[null,{"$f":"入札書!E44","v":{"v":0,"d":"0 "}},{"$nulls":4},"契約年月日",null,"発 送 駅",{"$nulls":5},"証　書　番　号",{"$nulls":3},"8LL",4,"8LL4","７高群"]
["者",{"$f":"入札書!E45","v":{"v":0,"d":"0 "}},{"$nulls":4},{"$f":"契約内容!M4","v":"2026-02-20"},{"$nulls":11},"8LL",6,"8LL6","７高群４科"]
[null,{"$f":"入札書!E47","v":{"v":0,"d":"0 "}},{"$nulls":4},"納　期",null,"分割納入",{"$nulls":5},"同上付与年月日",null,null,"92S","8LL",7,"8LL7","７高群４科"]
[{"$nulls":6},{"$f":"契約内容!M5","v":"2026-02-27"},{"$nulls":10},"SY1","92S",5,"92S5","宮古警備隊　司令職務室"]
["資 料 種 別",null,"相 手 方 番 号",null,"処 理 年 月 日",null,"物 品 区 分 ","要 求 番 号",null,"証 書 番 号",null,"納　　　期",null,"分 納 区 分","備　　考",{"$nulls":3},"92S",6,"92S6","宮古警備隊　第１科"]
[{"$nulls":4},"・　 ・ 　・",{"$nulls":6},"　　・　・　・",null,"1.2.3.X",{"$nulls":4},"92S",7,"92S7","宮古警備隊　第３科"]
["番 号","物 品 番 号",null,"品　　      　　名",null,"会 社 部 品 番 号 又 は 規 格",null,null,"程度","数　　量","単位","単　　価","金　　　額",null,"受領数量","処置コード","参照番号↓",null,"92S",8,"92S8","宮古警備隊　第４科"]
[1,null,null,{"$f":"VLOOKUP(Q15,契約内容!$O:$U,2,FALSE)","v":"オープン券（航空券）　宮古／石垣⇔九州内各空港"},null,{"$f":"VLOOKUP(Q15,契約内容!$O:$U,3,FALSE)","v":"仕様書のとおり"},{"$nulls":3},{"$f":"VLOOKUP(Q15,契約内容!$O:$U,5,FALSE)","v":{"v":150,"d":"150 "}},{"$f":"VLOOKUP(Q15,契約内容!$O:$U,4,FALSE)","v":"SH"},{"$f":"VLOOKUP(Q15,契約内容!$O:$U,6,FALSE)","v":{"v":0,"d":"0 "}},{"$f":"IFERROR(J15*L15,\"\")","v":{"v":0,"d":"0 "}},{"$nulls":3},1,null,"SY1",0,"SY10","業務隊　補給科"]
[2,null,null,{"$f":"VLOOKUP(Q16,契約内容!$O:$U,2,FALSE)","v":{"v":0,"d":"0 "}},null,{"$f":"VLOOKUP(Q16,契約内容!$O:$U,3,FALSE)","v":"以下余白"},{"$nulls":3},{"$f":"VLOOKUP(Q16,契約内容!$O:$U,5,FALSE)","v":{"v":0,"d":"0 "}},{"$f":"VLOOKUP(Q16,契約内容!$O:$U,4,FALSE)","v":{"v":0,"d":"0 "}},{"$f":"VLOOKUP(Q16,契約内容!$O:$U,6,FALSE)","v":{"v":0,"d":"0 "}},{"$f":"IFERROR(J16*L16,\"\")","v":{"v":0,"d":"0 "}},{"$nulls":3},2,null,"SY1",1,{"$f":"S16&T16","v":"SY11"},"業務隊　総務科"]
[{"$nulls":3},{"$f":"VLOOKUP(Q17,契約内容!$O:$U,2,FALSE)","v":{"v":0,"d":"0 "}},null,{"$f":"VLOOKUP(Q17,契約内容!$O:$U,3,FALSE)","v":0},{"$nulls":3},{"$f":"VLOOKUP(Q17,契約内容!$O:$U,5,FALSE)","v":{"v":0,"d":"0 "}},{"$f":"VLOOKUP(Q17,契約内容!$O:$U,4,FALSE)","v":{"v":0,"d":"0 "}},{"$f":"VLOOKUP(Q17,契約内容!$O:$U,6,FALSE)","v":{"v":0,"d":"0 "}},{"v":0,"d":"0 "},{"$nulls":3},3,null,"SY1",4,"SY14","業務隊　補給科糧食班"]
[{"$nulls":3},{"$f":"VLOOKUP(Q18,契約内容!$O:$U,2,FALSE)","v":{"v":0,"d":"0 "}},null,{"$f":"VLOOKUP(Q18,契約内容!$O:$U,3,FALSE)","v":0},{"$nulls":3},{"$f":"VLOOKUP(Q18,契約内容!$O:$U,5,FALSE)","v":{"v":0,"d":"0 "}},{"$f":"VLOOKUP(Q18,契約内容!$O:$U,4,FALSE)","v":{"v":0,"d":"0 "}},{"$f":"VLOOKUP(Q18,契約内容!$O:$U,6,FALSE)","v":{"v":0,"d":"0 "}},{"v":0,"d":"0 "},{"$nulls":3},4,null,"SY1",5,"SY15","業務隊　厚生科"]
[{"$nulls":3},{"$f":"VLOOKUP(Q19,契約内容!$O:$U,2,FALSE)","v":{"v":0,"d":"0 "}},null,{"$f":"VLOOKUP(Q19,契約内容!$O:$U,3,FALSE)","v":0},{"$nulls":3},{"$f":"VLOOKUP(Q19,契約内容!$O:$U,5,FALSE)","v":{"v":0,"d":"0 "}},{"$f":"VLOOKUP(Q19,契約内容!$O:$U,4,FALSE)","v":{"v":0,"d":"0 "}},{"$f":"VLOOKUP(Q19,契約内容!$O:$U,6,FALSE)","v":{"v":0,"d":"0 "}},{"v":0,"d":"0 "},{"$nulls":3},5,null,"SY1",6,"SY16","業務隊　衛生科"]
[{"$nulls":3},{"$f":"VLOOKUP(Q20,契約内容!$O:$U,2,FALSE)","v":{"v":0,"d":"0 "}},null,{"$f":"VLOOKUP(Q20,契約内容!$O:$U,3,FALSE)","v":0},{"$nulls":3},{"$f":"VLOOKUP(Q20,契約内容!$O:$U,5,FALSE)","v":{"v":0,"d":"0 "}},{"$f":"VLOOKUP(Q20,契約内容!$O:$U,4,FALSE)","v":{"v":0,"d":"0 "}},{"$f":"VLOOKUP(Q20,契約内容!$O:$U,6,FALSE)","v":{"v":0,"d":"0 "}},{"v":0,"d":"0 "},{"$nulls":3},50,null,"SY1",7,"SY17","業務隊　管理科営繕班"]
[{"$nulls":3},{"$f":"VLOOKUP(Q21,契約内容!$O:$U,2,FALSE)","v":{"v":0,"d":"0 "}},null,{"$f":"VLOOKUP(Q21,契約内容!$O:$U,3,FALSE)","v":0},{"$nulls":3},{"$f":"VLOOKUP(Q21,契約内容!$O:$U,5,FALSE)","v":{"v":0,"d":"0 "}},{"$f":"VLOOKUP(Q21,契約内容!$O:$U,4,FALSE)","v":{"v":0,"d":"0 "}},{"$f":"VLOOKUP(Q21,契約内容!$O:$U,6,FALSE)","v":{"v":0,"d":"0 "}},{"v":0,"d":"0 "},{"$nulls":3},50,null,"SY1",8,"SY18","業務隊　管理科輸送班"]
[{"$nulls":3},{"$f":"VLOOKUP(Q22,契約内容!$O:$U,2,FALSE)","v":{"v":0,"d":"0 "}},null,{"$f":"VLOOKUP(Q22,契約内容!$O:$U,3,FALSE)","v":0},{"$nulls":3},{"$f":"VLOOKUP(Q22,契約内容!$O:$U,5,FALSE)","v":{"v":0,"d":"0 "}},{"$f":"VLOOKUP(Q22,契約内容!$O:$U,4,FALSE)","v":{"v":0,"d":"0 "}},{"$f":"VLOOKUP(Q22,契約内容!$O:$U,6,FALSE)","v":{"v":0,"d":"0 "}},{"v":0,"d":"0 "},{"$nulls":3},50,null,"SY1","M","SY1M","会計隊"]
[{"$nulls":3},{"$f":"VLOOKUP(Q23,契約内容!$O:$U,2,FALSE)","v":{"v":0,"d":"0 "}},null,{"$f":"VLOOKUP(Q23,契約内容!$O:$U,3,FALSE)","v":0},{"$nulls":3},{"$f":"VLOOKUP(Q23,契約内容!$O:$U,5,FALSE)","v":{"v":0,"d":"0 "}},{"$f":"VLOOKUP(Q23,契約内容!$O:$U,4,FALSE)","v":{"v":0,"d":"0 "}},{"$f":"VLOOKUP(Q23,契約内容!$O:$U,6,FALSE)","v":{"v":0,"d":"0 "}},{"v":0,"d":"0 "},{"$nulls":3},50]
[{"$nulls":3},{"$f":"VLOOKUP(Q24,契約内容!$O:$U,2,FALSE)","v":{"v":0,"d":"0 "}},null,{"$f":"VLOOKUP(Q24,契約内容!$O:$U,3,FALSE)","v":0},{"$nulls":3},{"$f":"VLOOKUP(Q24,契約内容!$O:$U,5,FALSE)","v":{"v":0,"d":"0 "}},{"$f":"VLOOKUP(Q24,契約内容!$O:$U,4,FALSE)","v":{"v":0,"d":"0 "}},{"$f":"VLOOKUP(Q24,契約内容!$O:$U,6,FALSE)","v":{"v":0,"d":"0 "}},{"v":0,"d":"0 "},{"$nulls":3},50]
[{"$nulls":11},"計",{"$f":"SUM(M15:N24)","v":{"v":0,"d":"0 "}}]
[null,"指令番号",null,"方式","納入年月日",null,"判定",null,null,"検査結果及び物品管理官の受入命令（受領命令）により受領した。"]
[{"$nulls":4},"    ･    ･    ･",{"$nulls":3},"受"]
[null,"種類",null,"場所","検査年月日",null,"所見",null,"入","       令和　　年　　月　　日"]
["検",{"$nulls":3},"    ･    ･    ･",{"$nulls":3},"・"]
[null,"上記のとおり検査結果を報告する。",{"$nulls":6},"受",null,"受領者"]
[null,"　　　令和　　年　　月　　日",{"$nulls":6},"領"]
[null,"検査官",{"$nulls":8},"   所    属"]
["査","　　所    属",{"$nulls":8},"   官職氏名"]
[null,"　　官職氏名"]

{"sheet":"納品書（内訳）","index":14,"n_rows":509,"n_cols":22,"rows_kept":509,"hidden":true,"merged":[[0,3,0,7],[0,15,0,19]]}
[{"$nulls":3},"入力データ",{"$nulls":7},"実計","5S8P10501070",null,null,"内訳書"]
[null,null,"№","品　　　　　　名","規　　　　　　格","単位","数量","単価","金額","要求書",null,"契約番号",{"$f":"LEFT(M1,7)&MID(M1,9,3)& \"000\"","v":"5S8P105107000"},"参照","№","品名","規格","単位","数量","単価","金額","受領　　　　　　　　数量"]
["本官",null,1,{"$nulls":8},"要求番号",{"$f":"J3","v":{"v":0,"d":"0 "}},{"v":1,"d":"1 "},1,{"$f":"VLOOKUP(N3,$C:$J,2,FALSE)","v":{"v":0,"d":"0 "}},{"$f":"VLOOKUP(N3,$C:$J,3,FALSE)","v":0},{"$f":"VLOOKUP(N3,$C:$J,4,FALSE)","v":0},{"$f":"VLOOKUP(N3,$C:$J,5,FALSE)","v":{"v":0,"d":"0 "}},{"$f":"VLOOKUP(N3,$C:$J,6,FALSE)","v":{"v":0,"d":"0 "}},{"$f":"S3*T3","v":{"v":0,"d":"0 "}}]
["代理官",null,2,{"$nulls":8},"契約年月日","2025-10-29",{"v":2,"d":"2 "},2,{"v":0,"d":"0 "},0,0,{"v":0,"d":"0 "},{"v":0,"d":"0 "},{"$f":"S4*T4","v":{"v":0,"d":"0 "}}]
[null,null,3,{"$nulls":8},"履行期限","2025-12-15",{"v":3,"d":"3 "},3,{"v":0,"d":"0 "},0,0,{"v":0,"d":"0 "},{"v":0,"d":"0 "},{"v":0,"d":"0 "}]
[null,null,4,{"$nulls":8},"履行場所","宮古島駐屯地",{"v":4,"d":"4 "},4,{"v":0,"d":"0 "},0,0,{"v":0,"d":"0 "},{"v":0,"d":"0 "},{"v":0,"d":"0 "}]
[null,null,5,{"$nulls":8},"本官情報","本官",{"v":5,"d":"5 "},5,{"v":0,"d":"0 "},0,0,{"v":0,"d":"0 "},{"v":0,"d":"0 "},{"v":0,"d":"0 "}]
[null,null,6,{"$nulls":10},{"v":6,"d":"6 "},6,{"v":0,"d":"0 "},0,0,{"v":0,"d":"0 "},{"v":0,"d":"0 "},{"v":0,"d":"0 "}]
[null,null,7,{"$nulls":8},"業者名",{"$f":"業者一覧!A1","v":{"$error":"#N/A"}},{"v":7,"d":"7 "},7,{"v":0,"d":"0 "},0,0,{"v":0,"d":"0 "},{"v":0,"d":"0 "},{"v":0,"d":"0 "}]
[null,null,8,{"$nulls":10},{"v":8,"d":"8 "},8,{"v":0,"d":"0 "},0,0,{"v":0,"d":"0 "},{"v":0,"d":"0 "},{"v":0,"d":"0 "}]
[null,null,9,{"$nulls":10},{"v":9,"d":"9 "},9,{"v":0,"d":"0 "},0,0,{"v":0,"d":"0 "},{"v":0,"d":"0 "},{"v":0,"d":"0 "}]
[null,null,10,{"$nulls":10},{"v":10,"d":"10 "},10,{"v":0,"d":"0 "},0,0,{"v":0,"d":"0 "},{"v":0,"d":"0 "},{"v":0,"d":"0 "}]
[null,null,11,{"$nulls":10},{"v":11,"d":"11 "},11,{"v":0,"d":"0 "},0,0,{"v":0,"d":"0 "},{"v":0,"d":"0 "},{"v":0,"d":"0 "}]
[null,null,12,{"$nulls":10},{"v":12,"d":"12 "},12,{"v":0,"d":"0 "},0,0,{"v":0,"d":"0 "},{"v":0,"d":"0 "},{"v":0,"d":"0 "}]
[null,null,13,{"$nulls":10},{"v":13,"d":"13 "},13,{"v":0,"d":"0 "},0,0,{"v":0,"d":"0 "},{"v":0,"d":"0 "},{"v":0,"d":"0 "}]
[null,null,14,{"$nulls":10},{"v":14,"d":"14 "},14,{"v":0,"d":"0 "},0,0,{"v":0,"d":"0 "},{"v":0,"d":"0 "},{"v":0,"d":"0 "}]
[null,null,15,{"$nulls":10},{"v":15,"d":"15 "},15,{"v":0,"d":"0 "},0,0,{"v":0,"d":"0 "},{"v":0,"d":"0 "},{"v":0,"d":"0 "}]
[null,null,16,{"$nulls":10},{"v":16,"d":"16 "},16,{"v":0,"d":"0 "},0,0,{"v":0,"d":"0 "},{"v":0,"d":"0 "},{"v":0,"d":"0 "}]
[null,null,17,{"$nulls":10},{"v":17,"d":"17 "},17,{"v":0,"d":"0 "},0,0,{"v":0,"d":"0 "},{"v":0,"d":"0 "},{"v":0,"d":"0 "}]
[null,null,18,{"$nulls":10},{"v":18,"d":"18 "},18,{"v":0,"d":"0 "},0,0,{"v":0,"d":"0 "},{"v":0,"d":"0 "},{"v":0,"d":"0 "}]
[null,null,19,{"$nulls":10},{"v":19,"d":"19 "},19,{"v":0,"d":"0 "},0,0,{"v":0,"d":"0 "},{"v":0,"d":"0 "},{"v":0,"d":"0 "}]
[null,null,20,{"$nulls":10},{"v":20,"d":"20 "},20,{"v":0,"d":"0 "},0,0,{"v":0,"d":"0 "},{"v":0,"d":"0 "},{"v":0,"d":"0 "}]
[null,null,21,{"$nulls":10},{"v":21,"d":"21 "},21,{"v":0,"d":"0 "},0,0,{"v":0,"d":"0 "},{"v":0,"d":"0 "},{"v":0,"d":"0 "}]
[null,null,22,{"$nulls":10},{"v":22,"d":"22 "},22,{"v":0,"d":"0 "},0,0,{"v":0,"d":"0 "},{"v":0,"d":"0 "},{"v":0,"d":"0 "}]
[null,null,23,{"$nulls":10},{"v":23,"d":"23 "},23,{"v":0,"d":"0 "},0,0,{"v":0,"d":"0 "},{"v":0,"d":"0 "},{"v":0,"d":"0 "}]
[null,null,24,{"$nulls":10},{"v":24,"d":"24 "},24,{"v":0,"d":"0 "},0,0,{"v":0,"d":"0 "},{"v":0,"d":"0 "},{"v":0,"d":"0 "}]
[null,null,25,{"$nulls":10},{"v":25,"d":"25 "},25,{"v":0,"d":"0 "},0,0,{"v":0,"d":"0 "},{"v":0,"d":"0 "},{"v":0,"d":"0 "}]
[null,null,26,{"$nulls":10},{"v":26,"d":"26 "},26,{"v":0,"d":"0 "},0,0,{"v":0,"d":"0 "},{"v":0,"d":"0 "}]
[null,null,27,{"$nulls":10},{"v":27,"d":"27 "},27,{"v":0,"d":"0 "},0,0,{"v":0,"d":"0 "},{"v":0,"d":"0 "}]
[null,null,28,{"$nulls":10},{"v":28,"d":"28 "},28,{"v":0,"d":"0 "},0,0,{"v":0,"d":"0 "},{"v":0,"d":"0 "}]
[null,null,29,{"$nulls":10},{"v":29,"d":"29 "},29,{"v":0,"d":"0 "},0,0,{"v":0,"d":"0 "},{"v":0,"d":"0 "}]
[null,null,30,{"$nulls":10},{"v":30,"d":"30 "},30,{"v":0,"d":"0 "},0,0,{"v":0,"d":"0 "},{"v":0,"d":"0 "}]
[{"$nulls":15},"小計"]
[null,null,31,{"$nulls":10},{"v":31,"d":"31 "},31,{"$f":"VLOOKUP(N34,$C:$J,2,FALSE)","v":{"v":0,"d":"0 "}},{"$f":"VLOOKUP(N34,$C:$J,3,FALSE)","v":0},{"$f":"VLOOKUP(N34,$C:$J,4,FALSE)","v":0},{"$f":"VLOOKUP(N34,$C:$J,5,FALSE)","v":{"v":0,"d":"0 "}},{"$f":"VLOOKUP(N34,$C:$J,6,FALSE)","v":{"v":0,"d":"0 "}}]
[null,null,32,{"$nulls":10},{"v":32,"d":"32 "},32,{"v":0,"d":"0 "},0,0,{"v":0,"d":"0 "},{"$f":"VLOOKUP(N35,$C:$J,6,FALSE)","v":{"v":0,"d":"0 "}}]
[null,null,33,{"$nulls":10},{"v":33,"d":"33 "},33,{"v":0,"d":"0 "},0,0,{"v":0,"d":"0 "},{"$f":"VLOOKUP(N36,$C:$J,6,FALSE)","v":{"v":0,"d":"0 "}}]
[null,null,34,{"$nulls":10},{"v":34,"d":"34 "},34,{"v":0,"d":"0 "},0,0,{"v":0,"d":"0 "},{"$f":"VLOOKUP(N37,$C:$J,6,FALSE)","v":{"v":0,"d":"0 "}}]
[null,null,35,{"$nulls":10},{"v":35,"d":"35 "},35,{"v":0,"d":"0 "},0,0,{"v":0,"d":"0 "}]
[null,null,36,{"$nulls":10},{"v":36,"d":"36 "},36,{"v":0,"d":"0 "},0,0,{"v":0,"d":"0 "}]
[null,null,37,{"$nulls":10},{"v":37,"d":"37 "},37,{"v":0,"d":"0 "},0,0,{"v":0,"d":"0 "}]
[null,null,38,{"$nulls":10},{"v":38,"d":"38 "},38,{"v":0,"d":"0 "},0,0,{"v":0,"d":"0 "}]
[null,null,39,{"$nulls":10},{"v":39,"d":"39 "},39,{"v":0,"d":"0 "},0,0,{"v":0,"d":"0 "}]
[null,null,40,{"$nulls":10},{"v":40,"d":"40 "},40,{"v":0,"d":"0 "},0,0,{"v":0,"d":"0 "}]
[null,null,41,{"$nulls":10},{"v":41,"d":"41 "},41,{"v":0,"d":"0 "},0,0,{"v":0,"d":"0 "}]
[null,null,42,{"$nulls":10},{"v":42,"d":"42 "},42,{"v":0,"d":"0 "},0,0,{"v":0,"d":"0 "}]
[null,null,43,{"$nulls":10},{"v":43,"d":"43 "},43,{"v":0,"d":"0 "},0,0,{"v":0,"d":"0 "}]
[null,null,44,{"$nulls":10},{"v":44,"d":"44 "},44,{"v":0,"d":"0 "},0,0,{"v":0,"d":"0 "}]
[null,null,45,{"$nulls":10},{"v":45,"d":"45 "},45,{"v":0,"d":"0 "},0,0,{"v":0,"d":"0 "}]
[null,null,46,{"$nulls":10},{"v":46,"d":"46 "},46,{"v":0,"d":"0 "},0,0,{"v":0,"d":"0 "}]
[null,null,47,{"$nulls":10},{"v":47,"d":"47 "},47,{"v":0,"d":"0 "},0,0,{"v":0,"d":"0 "}]
[null,null,48,{"$nulls":10},{"v":48,"d":"48 "},48,{"v":0,"d":"0 "},0,0,{"v":0,"d":"0 "}]
[null,null,49,{"$nulls":10},{"v":49,"d":"49 "},49,{"v":0,"d":"0 "},0,0,{"v":0,"d":"0 "}]
[null,null,50,{"$nulls":10},{"v":50,"d":"50 "},50,{"v":0,"d":"0 "},0,0,{"v":0,"d":"0 "}]
[null,null,51,{"$nulls":10},{"v":51,"d":"51 "},51,{"v":0,"d":"0 "},0,0,{"v":0,"d":"0 "}]
[null,null,52,{"$nulls":10},{"v":52,"d":"52 "},52,{"v":0,"d":"0 "},0,0,{"v":0,"d":"0 "}]
[null,null,53,{"$nulls":10},{"v":53,"d":"53 "},53,{"v":0,"d":"0 "},0,0,{"v":0,"d":"0 "}]
[null,null,54,{"$nulls":10},{"v":54,"d":"54 "},54,{"v":0,"d":"0 "},0,0,{"v":0,"d":"0 "}]
[null,null,55,{"$nulls":10},{"v":55,"d":"55 "},55,{"v":0,"d":"0 "},0,0,{"v":0,"d":"0 "}]
[null,null,56,{"$nulls":10},{"v":56,"d":"56 "},56,{"v":0,"d":"0 "},0,0,{"v":0,"d":"0 "}]
[null,null,57,{"$nulls":10},{"v":57,"d":"57 "},57,{"v":0,"d":"0 "},0,0,{"v":0,"d":"0 "}]
[null,null,58,{"$nulls":10},{"v":58,"d":"58 "},58,{"v":0,"d":"0 "},0,0,{"v":0,"d":"0 "}]
[null,null,59,{"$nulls":10},{"v":59,"d":"59 "},59,{"v":0,"d":"0 "},0,0,{"v":0,"d":"0 "}]
[null,null,60,{"$nulls":10},{"v":60,"d":"60 "},60,{"v":0,"d":"0 "},0,0,{"v":0,"d":"0 "}]
[{"$nulls":15},"小計"]
[null,null,61,{"$nulls":10},{"v":61,"d":"61 "},61,{"$f":"VLOOKUP(N65,$C:$J,2,FALSE)","v":{"v":0,"d":"0 "}},{"$f":"VLOOKUP(N65,$C:$J,3,FALSE)","v":0},{"$f":"VLOOKUP(N65,$C:$J,4,FALSE)","v":0},{"$f":"VLOOKUP(N65,$C:$J,5,FALSE)","v":{"v":0,"d":"0 "}}]
[null,null,62,{"$nulls":9},498,{"v":62,"d":"62 "},62,{"v":0,"d":"0 "},0,0,{"v":0,"d":"0 "}]
[null,null,63,{"$nulls":10},{"v":63,"d":"63 "},63,{"v":0,"d":"0 "},0,0,{"v":0,"d":"0 "}]
[null,null,64,{"$nulls":10},{"v":64,"d":"64 "},64,{"v":0,"d":"0 "},0,0,{"v":0,"d":"0 "}]
[null,null,65,{"$nulls":10},{"v":65,"d":"65 "},65,{"v":0,"d":"0 "},0,0,{"v":0,"d":"0 "}]
[null,null,66,{"$nulls":10},{"v":66,"d":"66 "},66,{"v":0,"d":"0 "},0,0,{"v":0,"d":"0 "}]
[null,null,67,{"$nulls":10},{"v":67,"d":"67 "},67,{"v":0,"d":"0 "},0,0,{"v":0,"d":"0 "}]
[null,null,68,{"$nulls":5},{"$f":"G72*H72","v":{"v":0,"d":"0 "}},{"$nulls":4},{"v":68,"d":"68 "},68,{"v":0,"d":"0 "},0,0,{"v":0,"d":"0 "}]
[null,null,69,{"$nulls":5},{"v":0,"d":"0 "},{"$nulls":4},{"v":69,"d":"69 "},69,{"v":0,"d":"0 "},0,0,{"v":0,"d":"0 "}]
[null,null,70,{"$nulls":5},{"v":0,"d":"0 "},{"$nulls":4},{"v":70,"d":"70 "},70,{"v":0,"d":"0 "},0,0,{"v":0,"d":"0 "}]
[null,null,71,{"$nulls":5},{"v":0,"d":"0 "},{"$nulls":4},{"v":71,"d":"71 "},71,{"v":0,"d":"0 "},0,0,{"v":0,"d":"0 "}]
[null,null,72,{"$nulls":5},{"v":0,"d":"0 "},{"$nulls":4},{"v":72,"d":"72 "},72,{"v":0,"d":"0 "},0,0,{"v":0,"d":"0 "}]
[null,null,73,{"$nulls":5},{"v":0,"d":"0 "},{"$nulls":4},{"v":73,"d":"73 "},73,{"v":0,"d":"0 "},0,0,{"v":0,"d":"0 "}]
[null,null,74,{"$nulls":5},{"v":0,"d":"0 "},{"$nulls":4},{"v":74,"d":"74 "},74,{"v":0,"d":"0 "},0,0,{"v":0,"d":"0 "}]
[null,null,75,{"$nulls":5},{"v":0,"d":"0 "},{"$nulls":4},{"v":75,"d":"75 "},75,{"v":0,"d":"0 "},0,0,{"v":0,"d":"0 "}]
[null,null,76,{"$nulls":5},{"v":0,"d":"0 "},{"$nulls":4},{"v":76,"d":"76 "},76,{"v":0,"d":"0 "},0,0,{"v":0,"d":"0 "}]
[null,null,77,{"$nulls":5},{"v":0,"d":"0 "},{"$nulls":4},{"v":77,"d":"77 "},77,{"v":0,"d":"0 "},0,0,{"v":0,"d":"0 "}]
[null,null,78,{"$nulls":5},{"v":0,"d":"0 "},{"$nulls":4},{"v":78,"d":"78 "},78,{"v":0,"d":"0 "},0,0,{"v":0,"d":"0 "}]
[null,null,79,{"$nulls":5},{"v":0,"d":"0 "},{"$nulls":4},{"v":79,"d":"79 "},79,{"v":0,"d":"0 "},0,0,{"v":0,"d":"0 "}]
[null,null,80,{"$nulls":5},{"v":0,"d":"0 "},{"$nulls":4},{"v":80,"d":"80 "},80,{"v":0,"d":"0 "},0,0,{"v":0,"d":"0 "}]
[null,null,81,{"$nulls":5},{"v":0,"d":"0 "},{"$nulls":4},{"v":81,"d":"81 "},81,{"v":0,"d":"0 "},0,0,{"v":0,"d":"0 "}]
[null,null,82,{"$nulls":5},{"v":0,"d":"0 "},{"$nulls":4},{"v":82,"d":"82 "},82,{"v":0,"d":"0 "},0,0,{"v":0,"d":"0 "}]
[null,null,83,{"$nulls":5},{"v":0,"d":"0 "},{"$nulls":4},{"v":83,"d":"83 "},83,{"v":0,"d":"0 "},0,0,{"v":0,"d":"0 "}]
[null,null,84,{"$nulls":5},{"v":0,"d":"0 "},{"$nulls":4},{"v":84,"d":"84 "},84,{"v":0,"d":"0 "},0,0,{"v":0,"d":"0 "}]
[null,null,85,{"$nulls":5},{"v":0,"d":"0 "},{"$nulls":4},{"v":85,"d":"85 "},85,{"v":0,"d":"0 "},0,0,{"v":0,"d":"0 "}]
[null,null,86,{"$nulls":5},{"v":0,"d":"0 "},{"$nulls":4},{"v":86,"d":"86 "},86,{"v":0,"d":"0 "},0,0,{"v":0,"d":"0 "}]
[null,null,87,{"$nulls":5},{"v":0,"d":"0 "},{"$nulls":4},{"v":87,"d":"87 "},87,{"v":0,"d":"0 "},0,0,{"v":0,"d":"0 "}]
[null,null,88,{"$nulls":5},{"v":0,"d":"0 "},{"$nulls":4},{"v":88,"d":"88 "},88,{"v":0,"d":"0 "},0,0,{"v":0,"d":"0 "}]
[null,null,89,{"$nulls":5},{"v":0,"d":"0 "},{"$nulls":4},{"v":89,"d":"89 "},89,{"v":0,"d":"0 "},0,0,{"v":0,"d":"0 "}]
[null,null,90,{"$nulls":5},{"v":0,"d":"0 "},{"$nulls":4},{"v":90,"d":"90 "},90,{"v":0,"d":"0 "},0,0,{"v":0,"d":"0 "}]
[null,null,91,{"$nulls":5},{"v":0,"d":"0 "},{"$nulls":4},{"v":91,"d":"91 "},91,{"v":0,"d":"0 "},0,0,{"v":0,"d":"0 "}]
[null,null,92,{"$nulls":5},{"v":0,"d":"0 "},{"$nulls":4},{"v":92,"d":"92 "},92,{"v":0,"d":"0 "},0,0,{"v":0,"d":"0 "}]
[null,null,93,{"$nulls":5},{"v":0,"d":"0 "},{"$nulls":3},498,{"v":93,"d":"93 "},null,"小計",0,0,{"v":0,"d":"0 "}]
[null,null,94,{"$nulls":5},{"v":0,"d":"0 "},{"$nulls":4},{"v":94,"d":"94 "},91,{"$f":"VLOOKUP(N98,$C:$J,2,FALSE)","v":{"v":0,"d":"0 "}},0,0,{"v":0,"d":"0 "}]
[null,null,95,{"$nulls":5},{"v":0,"d":"0 "},{"$nulls":4},{"v":95,"d":"95 "},92,{"v":0,"d":"0 "},0,0,{"v":0,"d":"0 "}]
[null,null,96,{"$nulls":5},{"v":0,"d":"0 "},{"$nulls":4},{"v":96,"d":"96 "},93,{"v":0,"d":"0 "},0,0,{"v":0,"d":"0 "}]
[null,null,97,{"$nulls":5},{"v":0,"d":"0 "},{"$nulls":4},{"v":97,"d":"97 "},94,{"v":0,"d":"0 "},0,0,{"v":0,"d":"0 "}]
[null,null,98,{"$nulls":5},{"v":0,"d":"0 "},{"$nulls":4},{"v":98,"d":"98 "},95,{"v":0,"d":"0 "},0,0,{"v":0,"d":"0 "}]
[null,null,99,{"$nulls":5},{"v":0,"d":"0 "},{"$nulls":4},{"v":99,"d":"99 "},96,{"v":0,"d":"0 "},0,0,{"v":0,"d":"0 "}]
[null,null,100,{"$nulls":5},{"v":0,"d":"0 "},{"$nulls":4},{"v":100,"d":"100 "},97,{"v":0,"d":"0 "},0,0,{"v":0,"d":"0 "}]
[null,null,101,{"$nulls":5},{"v":0,"d":"0 "},{"$nulls":4},{"v":101,"d":"101 "},98,{"v":0,"d":"0 "},0,0,{"v":0,"d":"0 "}]
[null,null,102,{"$nulls":5},{"v":0,"d":"0 "},{"$nulls":4},{"v":102,"d":"102 "},99,{"v":0,"d":"0 "},0,0,{"v":0,"d":"0 "}]
[null,null,103,{"$nulls":5},{"v":0,"d":"0 "},{"$nulls":4},{"v":103,"d":"103 "},100,{"v":0,"d":"0 "},0,0,{"v":0,"d":"0 "}]
[null,null,104,{"$nulls":5},{"v":0,"d":"0 "},{"$nulls":4},{"v":104,"d":"104 "},101,{"v":0,"d":"0 "},0,0,{"v":0,"d":"0 "}]
[null,null,105,{"$nulls":5},{"v":0,"d":"0 "},{"$nulls":4},{"v":105,"d":"105 "},102,{"v":0,"d":"0 "},0,0,{"v":0,"d":"0 "}]
[null,null,106,{"$nulls":5},{"v":0,"d":"0 "},{"$nulls":4},{"v":106,"d":"106 "},103,{"v":0,"d":"0 "},0,0,{"v":0,"d":"0 "}]
[null,null,107,{"$nulls":5},{"v":0,"d":"0 "},{"$nulls":4},{"v":107,"d":"107 "},104,{"v":0,"d":"0 "},0,0,{"v":0,"d":"0 "}]
[null,null,108,{"$nulls":5},{"v":0,"d":"0 "},{"$nulls":4},{"v":108,"d":"108 "},105,{"v":0,"d":"0 "},0,0,{"v":0,"d":"0 "}]
[null,null,109,{"$nulls":5},{"v":0,"d":"0 "},{"$nulls":4},{"v":109,"d":"109 "},106,{"v":0,"d":"0 "},0,0,{"v":0,"d":"0 "}]
[null,null,110,{"$nulls":5},{"v":0,"d":"0 "},{"$nulls":4},{"v":110,"d":"110 "},107,{"v":0,"d":"0 "},0,0,{"v":0,"d":"0 "}]
[null,null,111,{"$nulls":5},{"v":0,"d":"0 "},{"$nulls":4},{"v":111,"d":"111 "},108,{"v":0,"d":"0 "},0,0,{"v":0,"d":"0 "}]
[null,null,112,{"$nulls":5},{"v":0,"d":"0 "},{"$nulls":4},{"v":112,"d":"112 "},109,{"v":0,"d":"0 "},0,0,{"v":0,"d":"0 "}]
[null,null,113,{"$nulls":5},{"v":0,"d":"0 "},{"$nulls":4},{"v":113,"d":"113 "},110,{"v":0,"d":"0 "},0,0,{"v":0,"d":"0 "}]
[null,null,114,{"$nulls":5},{"v":0,"d":"0 "},{"$nulls":4},{"v":114,"d":"114 "},111,{"v":0,"d":"0 "},0,0,{"v":0,"d":"0 "}]
[null,null,115,{"$nulls":5},{"v":0,"d":"0 "},{"$nulls":4},{"v":115,"d":"115 "},112,{"v":0,"d":"0 "},0,0,{"v":0,"d":"0 "}]
[null,null,116,{"$nulls":5},{"v":0,"d":"0 "},{"$nulls":4},{"v":116,"d":"116 "},113,{"v":0,"d":"0 "},0,0,{"v":0,"d":"0 "}]
[null,null,117,{"$nulls":5},{"v":0,"d":"0 "},{"$nulls":4},{"v":117,"d":"117 "},114,{"v":0,"d":"0 "},0,0,{"v":0,"d":"0 "}]
[null,null,118,{"$nulls":5},{"v":0,"d":"0 "},{"$nulls":4},{"v":118,"d":"118 "},115,{"v":0,"d":"0 "},0,0,{"v":0,"d":"0 "}]
[null,null,119,{"$nulls":5},{"v":0,"d":"0 "},{"$nulls":4},{"v":119,"d":"119 "},116,{"v":0,"d":"0 "},0,0,{"v":0,"d":"0 "}]
[null,null,120,{"$nulls":5},{"v":0,"d":"0 "},{"$nulls":4},{"v":120,"d":"120 "},117,{"v":0,"d":"0 "},0,0,{"v":0,"d":"0 "}]
[null,null,121,{"$nulls":5},{"v":0,"d":"0 "},{"$nulls":4},{"v":121,"d":"121 "},118,{"v":0,"d":"0 "},0,0,{"v":0,"d":"0 "}]
[null,null,122,{"$nulls":5},{"v":0,"d":"0 "},{"$nulls":4},{"v":122,"d":"122 "},119,{"v":0,"d":"0 "},0,0,{"v":0,"d":"0 "}]
[null,null,123,{"$nulls":5},{"v":0,"d":"0 "},{"$nulls":3},"ここまで設定済み→",{"v":123,"d":"123 "},120,null,0,0,{"v":0,"d":"0 "}]
[null,null,124,{"$nulls":5},{"v":0,"d":"0 "},{"$nulls":4},{"v":124,"d":"124 "},null,"小計",0,0,{"v":0,"d":"0 "}]
[null,null,125,{"$nulls":5},{"v":0,"d":"0 "},{"$nulls":4},{"v":125,"d":"125 "},121,{"$f":"VLOOKUP(N129,$C:$J,2,FALSE)","v":{"v":0,"d":"0 "}},{"$f":"VLOOKUP(N129,$C:$J,3,FALSE)","v":0},{"$f":"VLOOKUP(N129,$C:$J,4,FALSE)","v":0},{"$f":"VLOOKUP(N129,$C:$J,5,FALSE)","v":{"v":0,"d":"0 "}}]
[null,null,126,{"$nulls":5},{"v":0,"d":"0 "},{"$nulls":4},{"v":126,"d":"126 "},122,{"v":0,"d":"0 "},0,0,{"v":0,"d":"0 "}]
[null,null,127,{"$nulls":5},{"v":0,"d":"0 "},{"$nulls":4},{"v":127,"d":"127 "},123,{"v":0,"d":"0 "},0,0,{"v":0,"d":"0 "}]
[null,null,128,{"$nulls":5},{"v":0,"d":"0 "},{"$nulls":4},{"v":128,"d":"128 "},124,{"v":0,"d":"0 "},0,0,{"v":0,"d":"0 "}]
[null,null,129,{"$nulls":5},{"v":0,"d":"0 "},{"$nulls":4},{"v":129,"d":"129 "},125,{"v":0,"d":"0 "},0,0,{"v":0,"d":"0 "}]
[null,null,130,{"$nulls":5},{"v":0,"d":"0 "},{"$nulls":4},{"v":130,"d":"130 "},126,{"v":0,"d":"0 "},0,0,{"v":0,"d":"0 "}]
[null,null,131,{"$nulls":5},{"v":0,"d":"0 "},{"$nulls":4},{"v":131,"d":"131 "},127,{"v":0,"d":"0 "},0,0,{"v":0,"d":"0 "}]
[null,null,132,{"$nulls":5},{"$f":"G136*H136","v":{"v":0,"d":"0 "}},{"$nulls":4},{"v":132,"d":"132 "},128,{"v":0,"d":"0 "},0,0,{"v":0,"d":"0 "}]
[null,null,133,{"$nulls":5},{"v":0,"d":"0 "},{"$nulls":4},{"v":133,"d":"133 "},129,{"v":0,"d":"0 "},0,0,{"v":0,"d":"0 "}]
[null,null,134,{"$nulls":5},{"v":0,"d":"0 "},{"$nulls":4},{"v":134,"d":"134 "},130,{"v":0,"d":"0 "},0,0,{"v":0,"d":"0 "}]
[null,null,135,{"$nulls":5},{"v":0,"d":"0 "},{"$nulls":4},{"v":135,"d":"135 "},131,{"v":0,"d":"0 "},0,0,{"v":0,"d":"0 "}]
[null,null,136,{"$nulls":5},{"v":0,"d":"0 "},{"$nulls":4},{"v":136,"d":"136 "},132,{"v":0,"d":"0 "},0,0,{"v":0,"d":"0 "}]
[null,null,137,{"$nulls":5},{"v":0,"d":"0 "},{"$nulls":4},{"v":137,"d":"137 "},133,{"v":0,"d":"0 "},0,0,{"v":0,"d":"0 "}]
[null,null,138,{"$nulls":5},{"v":0,"d":"0 "},{"$nulls":4},{"v":138,"d":"138 "},134,{"v":0,"d":"0 "},0,0,{"v":0,"d":"0 "}]
[null,null,139,{"$nulls":5},{"v":0,"d":"0 "},{"$nulls":4},{"v":139,"d":"139 "},135,{"v":0,"d":"0 "},0,0,{"v":0,"d":"0 "}]
[null,null,140,{"$nulls":5},{"v":0,"d":"0 "},{"$nulls":4},{"v":140,"d":"140 "},136,{"v":0,"d":"0 "},0,0,{"v":0,"d":"0 "}]
[null,null,141,{"$nulls":5},{"v":0,"d":"0 "},{"$nulls":4},{"v":141,"d":"141 "},137,{"v":0,"d":"0 "},0,0,{"v":0,"d":"0 "}]
[null,null,142,{"$nulls":5},{"v":0,"d":"0 "},{"$nulls":4},{"v":142,"d":"142 "},138,{"v":0,"d":"0 "},0,0,{"v":0,"d":"0 "}]
[null,null,143,{"$nulls":5},{"v":0,"d":"0 "},{"$nulls":4},{"v":143,"d":"143 "},139,{"v":0,"d":"0 "},0,0,{"v":0,"d":"0 "}]
[null,null,144,{"$nulls":5},{"v":0,"d":"0 "},{"$nulls":4},{"v":144,"d":"144 "},140,{"v":0,"d":"0 "},0,0,{"v":0,"d":"0 "}]
[null,null,145,{"$nulls":5},{"v":0,"d":"0 "},{"$nulls":4},{"v":145,"d":"145 "},141,{"v":0,"d":"0 "},0,0,{"v":0,"d":"0 "}]
[null,null,146,{"$nulls":5},{"v":0,"d":"0 "},{"$nulls":4},{"v":146,"d":"146 "},142,{"v":0,"d":"0 "},0,0,{"v":0,"d":"0 "}]
[null,null,147,{"$nulls":5},{"v":0,"d":"0 "},{"$nulls":4},{"v":147,"d":"147 "},143,{"v":0,"d":"0 "},0,0,{"v":0,"d":"0 "}]
[null,null,148,{"$nulls":5},{"v":0,"d":"0 "},{"$nulls":4},{"v":148,"d":"148 "},144,{"v":0,"d":"0 "},0,0,{"v":0,"d":"0 "}]
[null,null,149,{"$nulls":5},{"v":0,"d":"0 "},{"$nulls":4},{"v":149,"d":"149 "},145,{"v":0,"d":"0 "},0,0,{"v":0,"d":"0 "}]
[null,null,150,{"$nulls":5},{"v":0,"d":"0 "},{"$nulls":4},{"v":150,"d":"150 "},146,{"v":0,"d":"0 "},0,0,{"v":0,"d":"0 "}]
[null,null,151,{"$nulls":5},{"v":0,"d":"0 "},{"$nulls":4},{"v":151,"d":"151 "},147,{"v":0,"d":"0 "},0,0,{"v":0,"d":"0 "}]
[null,null,152,{"$nulls":5},{"v":0,"d":"0 "},{"$nulls":4},{"v":152,"d":"152 "},148,{"v":0,"d":"0 "},0,0,{"v":0,"d":"0 "}]
[null,null,153,{"$nulls":5},{"v":0,"d":"0 "},{"$nulls":4},{"v":153,"d":"153 "},149,{"v":0,"d":"0 "},0,0,{"v":0,"d":"0 "}]
[null,null,154,{"$nulls":5},{"v":0,"d":"0 "},{"$nulls":4},{"v":154,"d":"154 "},150,{"v":0,"d":"0 "},0,0,{"v":0,"d":"0 "}]
[{"$nulls":15},"小計"]
[null,null,155,{"$nulls":5},{"v":0,"d":"0 "},{"$nulls":4},{"v":155,"d":"155 "},151,{"$f":"VLOOKUP(N160,$C:$J,2,FALSE)","v":{"v":0,"d":"0 "}},{"$f":"VLOOKUP(N160,$C:$J,3,FALSE)","v":0},{"$f":"VLOOKUP(N160,$C:$J,4,FALSE)","v":0},{"$f":"VLOOKUP(N160,$C:$J,5,FALSE)","v":{"v":0,"d":"0 "}}]
[null,null,156,{"$nulls":5},{"v":0,"d":"0 "},{"$nulls":4},{"v":156,"d":"156 "},152,{"v":0,"d":"0 "},0,0,{"v":0,"d":"0 "}]
[null,null,157,{"$nulls":5},{"v":0,"d":"0 "},{"$nulls":4},{"v":157,"d":"157 "},153,{"v":0,"d":"0 "},0,0,{"v":0,"d":"0 "}]
[null,null,158,{"$nulls":5},{"v":0,"d":"0 "},{"$nulls":4},{"v":158,"d":"158 "},154,{"v":0,"d":"0 "},0,0,{"v":0,"d":"0 "}]
[null,null,159,{"$nulls":5},{"v":0,"d":"0 "},{"$nulls":4},{"v":159,"d":"159 "},155,{"v":0,"d":"0 "},0,0,{"v":0,"d":"0 "}]
[null,null,160,{"$nulls":5},{"v":0,"d":"0 "},{"$nulls":4},{"v":160,"d":"160 "},156,{"v":0,"d":"0 "},0,0,{"v":0,"d":"0 "}]
[null,null,161,{"$nulls":5},{"v":0,"d":"0 "},{"$nulls":4},{"v":161,"d":"161 "},157,{"v":0,"d":"0 "},0,0,{"v":0,"d":"0 "}]
[null,null,162,{"$nulls":5},{"v":0,"d":"0 "},{"$nulls":4},{"v":162,"d":"162 "},158,{"v":0,"d":"0 "},0,0,{"v":0,"d":"0 "}]
[null,null,163,{"$nulls":5},{"v":0,"d":"0 "},{"$nulls":4},{"v":163,"d":"163 "},159,{"v":0,"d":"0 "},0,0,{"v":0,"d":"0 "}]
[null,null,164,{"$nulls":5},{"v":0,"d":"0 "},{"$nulls":4},{"v":164,"d":"164 "},160,{"v":0,"d":"0 "},0,0,{"v":0,"d":"0 "}]
[null,null,165,{"$nulls":5},{"v":0,"d":"0 "},{"$nulls":4},{"v":165,"d":"165 "},161,{"v":0,"d":"0 "},0,0,{"v":0,"d":"0 "}]
[null,null,166,{"$nulls":5},{"v":0,"d":"0 "},{"$nulls":4},{"v":166,"d":"166 "},162,{"v":0,"d":"0 "},0,0,{"v":0,"d":"0 "}]
[null,null,167,{"$nulls":5},{"v":0,"d":"0 "},{"$nulls":4},{"v":167,"d":"167 "},163,{"v":0,"d":"0 "},0,0,{"v":0,"d":"0 "}]
[null,null,168,{"$nulls":5},{"v":0,"d":"0 "},{"$nulls":4},{"v":168,"d":"168 "},164,{"v":0,"d":"0 "},0,0,{"v":0,"d":"0 "}]
[null,null,169,{"$nulls":5},{"v":0,"d":"0 "},{"$nulls":4},{"v":169,"d":"169 "},165,{"v":0,"d":"0 "},0,0,{"v":0,"d":"0 "}]
[null,null,170,{"$nulls":5},{"v":0,"d":"0 "},{"$nulls":4},{"v":170,"d":"170 "},166,{"v":0,"d":"0 "},0,0,{"v":0,"d":"0 "}]
[null,null,171,{"$nulls":5},{"v":0,"d":"0 "},{"$nulls":4},{"v":171,"d":"171 "},167,{"v":0,"d":"0 "},0,0,{"v":0,"d":"0 "}]
[null,null,172,{"$nulls":5},{"v":0,"d":"0 "},{"$nulls":4},{"v":172,"d":"172 "},168,{"v":0,"d":"0 "},0,0,{"v":0,"d":"0 "}]
[null,null,173,{"$nulls":5},{"v":0,"d":"0 "},{"$nulls":4},{"v":173,"d":"173 "},169,{"v":0,"d":"0 "},0,0,{"v":0,"d":"0 "}]
[null,null,174,{"$nulls":5},{"v":0,"d":"0 "},{"$nulls":4},{"v":174,"d":"174 "},170,{"v":0,"d":"0 "},0,0,{"v":0,"d":"0 "}]
[null,null,175,{"$nulls":5},{"v":0,"d":"0 "},{"$nulls":4},{"v":175,"d":"175 "},171,{"v":0,"d":"0 "},0,0,{"v":0,"d":"0 "}]
[null,null,176,{"$nulls":5},{"v":0,"d":"0 "},{"$nulls":4},{"v":176,"d":"176 "},172,{"v":0,"d":"0 "},0,0,{"v":0,"d":"0 "}]
[null,null,177,{"$nulls":5},{"v":0,"d":"0 "},{"$nulls":4},{"v":177,"d":"177 "},173,{"v":0,"d":"0 "},0,0,{"v":0,"d":"0 "}]
[null,null,178,{"$nulls":5},{"v":0,"d":"0 "},{"$nulls":4},{"v":178,"d":"178 "},174,{"v":0,"d":"0 "},0,0,{"v":0,"d":"0 "}]
[null,null,179,{"$nulls":5},{"v":0,"d":"0 "},{"$nulls":4},{"v":179,"d":"179 "},175,{"v":0,"d":"0 "},0,0,{"v":0,"d":"0 "}]
[null,null,180,{"$nulls":5},{"v":0,"d":"0 "},{"$nulls":4},{"v":180,"d":"180 "},176,{"v":0,"d":"0 "},0,0,{"v":0,"d":"0 "}]
[null,null,181,{"$nulls":5},{"v":0,"d":"0 "},{"$nulls":4},{"v":181,"d":"181 "},177,{"v":0,"d":"0 "},0,0,{"v":0,"d":"0 "}]
[null,null,182,{"$nulls":5},{"v":0,"d":"0 "},{"$nulls":4},{"v":182,"d":"182 "},178,{"v":0,"d":"0 "},0,0,{"v":0,"d":"0 "}]
[null,null,183,{"$nulls":5},{"v":0,"d":"0 "},{"$nulls":4},{"v":183,"d":"183 "},179,{"v":0,"d":"0 "},0,0,{"v":0,"d":"0 "}]
[null,null,184,{"$nulls":5},{"v":0,"d":"0 "},{"$nulls":4},{"v":184,"d":"184 "},180,{"v":0,"d":"0 "},0,0,{"v":0,"d":"0 "}]
[{"$nulls":15},"小計"]
[null,null,185,{"$nulls":5},{"v":0,"d":"0 "},{"$nulls":4},{"v":185,"d":"185 "},181,{"$f":"VLOOKUP(N191,$C:$J,2,FALSE)","v":{"v":0,"d":"0 "}},{"$f":"VLOOKUP(N191,$C:$J,3,FALSE)","v":0},{"$f":"VLOOKUP(N191,$C:$J,4,FALSE)","v":0},{"$f":"VLOOKUP(N191,$C:$J,5,FALSE)","v":{"v":0,"d":"0 "}}]
[null,null,186,{"$nulls":5},{"v":0,"d":"0 "},{"$nulls":4},{"v":186,"d":"186 "},182,{"v":0,"d":"0 "},0,0,{"v":0,"d":"0 "}]
[null,null,187,{"$nulls":5},{"v":0,"d":"0 "},{"$nulls":4},{"v":187,"d":"187 "},183,{"v":0,"d":"0 "},0,0,{"v":0,"d":"0 "}]
[null,null,188,{"$nulls":5},{"v":0,"d":"0 "},{"$nulls":4},{"v":188,"d":"188 "},184,{"v":0,"d":"0 "},0,0,{"v":0,"d":"0 "}]
[null,null,189,{"$nulls":5},{"v":0,"d":"0 "},{"$nulls":4},{"v":189,"d":"189 "},185,{"v":0,"d":"0 "},0,0,{"v":0,"d":"0 "}]
[null,null,190,{"$nulls":5},{"v":0,"d":"0 "},{"$nulls":4},{"v":190,"d":"190 "},186,{"v":0,"d":"0 "},0,0,{"v":0,"d":"0 "}]
[null,null,191,{"$nulls":5},{"v":0,"d":"0 "},{"$nulls":4},{"v":191,"d":"191 "},187,{"v":0,"d":"0 "},0,0,{"v":0,"d":"0 "}]
[null,null,192,{"$nulls":5},{"v":0,"d":"0 "},{"$nulls":4},{"v":192,"d":"192 "},188,{"v":0,"d":"0 "},0,0,{"v":0,"d":"0 "}]
[null,null,193,{"$nulls":5},{"v":0,"d":"0 "},{"$nulls":4},{"v":193,"d":"193 "},189,{"v":0,"d":"0 "},0,0,{"v":0,"d":"0 "}]
[null,null,194,{"$nulls":5},{"v":0,"d":"0 "},{"$nulls":4},{"v":194,"d":"194 "},190,{"v":0,"d":"0 "},0,0,{"v":0,"d":"0 "}]
[null,null,195,{"$nulls":5},{"v":0,"d":"0 "},{"$nulls":4},{"v":195,"d":"195 "},191,{"v":0,"d":"0 "},0,0,{"v":0,"d":"0 "}]
[null,null,196,{"$nulls":5},{"$f":"G202*H202","v":{"v":0,"d":"0 "}},{"$nulls":4},{"v":196,"d":"196 "},192,{"v":0,"d":"0 "},0,0,{"v":0,"d":"0 "}]
[null,null,197,{"$nulls":5},{"v":0,"d":"0 "},{"$nulls":4},{"v":197,"d":"197 "},193,{"v":0,"d":"0 "},0,0,{"v":0,"d":"0 "}]
[null,null,198,{"$nulls":5},{"v":0,"d":"0 "},{"$nulls":4},{"v":198,"d":"198 "},194,{"v":0,"d":"0 "},0,0,{"v":0,"d":"0 "}]
[null,null,199,{"$nulls":5},{"v":0,"d":"0 "},{"$nulls":4},{"v":199,"d":"199 "},195,{"v":0,"d":"0 "},0,0,{"v":0,"d":"0 "}]
[null,null,200,{"$nulls":5},{"v":0,"d":"0 "},{"$nulls":4},{"v":200,"d":"200 "},196,{"v":0,"d":"0 "},0,0,{"v":0,"d":"0 "}]
[null,null,201,{"$nulls":5},{"v":0,"d":"0 "},{"$nulls":4},{"v":201,"d":"201 "},197,{"v":0,"d":"0 "},0,0,{"v":0,"d":"0 "}]
[null,null,202,{"$nulls":5},{"v":0,"d":"0 "},{"$nulls":4},{"v":202,"d":"202 "},198,{"v":0,"d":"0 "},0,0,{"v":0,"d":"0 "}]
[null,null,203,{"$nulls":5},{"v":0,"d":"0 "},{"$nulls":4},{"v":203,"d":"203 "},199,{"v":0,"d":"0 "},0,0,{"v":0,"d":"0 "}]
[null,null,204,{"$nulls":5},{"v":0,"d":"0 "},{"$nulls":4},{"v":204,"d":"204 "},200,{"v":0,"d":"0 "},0,0,{"v":0,"d":"0 "}]
[null,null,205,{"$nulls":5},{"v":0,"d":"0 "},{"$nulls":4},{"v":205,"d":"205 "},201,{"v":0,"d":"0 "},0,0,{"v":0,"d":"0 "}]
[null,null,206,{"$nulls":5},{"v":0,"d":"0 "},{"$nulls":4},{"v":206,"d":"206 "},202,{"v":0,"d":"0 "},0,0,{"v":0,"d":"0 "}]
[null,null,207,{"$nulls":5},{"v":0,"d":"0 "},{"$nulls":4},{"v":207,"d":"207 "},203,{"v":0,"d":"0 "},0,0,{"v":0,"d":"0 "}]
[null,null,208,{"$nulls":5},{"v":0,"d":"0 "},{"$nulls":4},{"v":208,"d":"208 "},204,{"v":0,"d":"0 "},0,0,{"v":0,"d":"0 "}]
[null,null,209,{"$nulls":5},{"v":0,"d":"0 "},{"$nulls":4},{"v":209,"d":"209 "},205,{"v":0,"d":"0 "},0,0,{"v":0,"d":"0 "}]
[null,null,210,{"$nulls":5},{"v":0,"d":"0 "},{"$nulls":4},{"v":210,"d":"210 "},206,{"v":0,"d":"0 "},0,0,{"v":0,"d":"0 "}]
[null,null,211,{"$nulls":5},{"v":0,"d":"0 "},{"$nulls":4},{"v":211,"d":"211 "},207,{"v":0,"d":"0 "},0,0,{"v":0,"d":"0 "}]
[null,null,212,{"$nulls":5},{"v":0,"d":"0 "},{"$nulls":4},{"v":212,"d":"212 "},208,{"v":0,"d":"0 "},0,0,{"v":0,"d":"0 "}]
[null,null,213,{"$nulls":5},{"v":0,"d":"0 "},{"$nulls":4},{"v":213,"d":"213 "},209,{"v":0,"d":"0 "},0,0,{"v":0,"d":"0 "}]
[null,null,214,{"$nulls":5},{"v":0,"d":"0 "},{"$nulls":4},{"v":214,"d":"214 "},210,{"v":0,"d":"0 "},0,0,{"v":0,"d":"0 "}]
[{"$nulls":15},"小計"]
[null,null,215,{"$nulls":5},{"v":0,"d":"0 "},{"$nulls":4},{"v":215,"d":"215 "},211,{"$f":"VLOOKUP(N222,$C:$J,2,FALSE)","v":{"v":0,"d":"0 "}},{"$f":"VLOOKUP(N222,$C:$J,3,FALSE)","v":0},{"$f":"VLOOKUP(N222,$C:$J,4,FALSE)","v":0},{"$f":"VLOOKUP(N222,$C:$J,5,FALSE)","v":{"v":0,"d":"0 "}}]
[null,null,216,{"$nulls":5},{"v":0,"d":"0 "},{"$nulls":4},{"v":216,"d":"216 "},212,{"v":0,"d":"0 "},0,0,{"v":0,"d":"0 "}]
[null,null,217,{"$nulls":5},{"v":0,"d":"0 "},{"$nulls":4},{"v":217,"d":"217 "},213,{"v":0,"d":"0 "},0,0,{"v":0,"d":"0 "}]
[null,null,218,{"$nulls":5},{"v":0,"d":"0 "},{"$nulls":4},{"v":218,"d":"218 "},214,{"v":0,"d":"0 "},0,0,{"v":0,"d":"0 "}]
[null,null,219,{"$nulls":5},{"v":0,"d":"0 "},{"$nulls":4},{"v":219,"d":"219 "},215,{"v":0,"d":"0 "},0,0,{"v":0,"d":"0 "}]
[null,null,220,{"$nulls":5},{"v":0,"d":"0 "},{"$nulls":4},{"v":220,"d":"220 "},216,{"v":0,"d":"0 "},0,0,{"v":0,"d":"0 "}]
[null,null,221,{"$nulls":5},{"v":0,"d":"0 "},{"$nulls":4},{"v":221,"d":"221 "},217,{"v":0,"d":"0 "},0,0,{"v":0,"d":"0 "}]
[null,null,222,{"$nulls":5},{"v":0,"d":"0 "},{"$nulls":4},{"v":222,"d":"222 "},218,{"v":0,"d":"0 "},0,0,{"v":0,"d":"0 "}]
[null,null,223,{"$nulls":5},{"v":0,"d":"0 "},{"$nulls":4},{"v":223,"d":"223 "},219,{"v":0,"d":"0 "},0,0,{"v":0,"d":"0 "}]
[null,null,224,{"$nulls":5},{"v":0,"d":"0 "},{"$nulls":4},{"v":224,"d":"224 "},220,{"v":0,"d":"0 "},0,0,{"v":0,"d":"0 "}]
[null,null,225,{"$nulls":5},{"v":0,"d":"0 "},{"$nulls":4},{"v":225,"d":"225 "},221,{"v":0,"d":"0 "},0,0,{"v":0,"d":"0 "}]
[null,null,226,{"$nulls":5},{"v":0,"d":"0 "},{"$nulls":4},{"v":226,"d":"226 "},222,{"v":0,"d":"0 "},0,0,{"v":0,"d":"0 "}]
[null,null,227,{"$nulls":5},{"v":0,"d":"0 "},{"$nulls":4},{"v":227,"d":"227 "},223,{"v":0,"d":"0 "},0,0,{"v":0,"d":"0 "}]
[null,null,228,{"$nulls":5},{"v":0,"d":"0 "},{"$nulls":4},{"v":228,"d":"228 "},224,{"v":0,"d":"0 "},0,0,{"v":0,"d":"0 "}]
[null,null,229,{"$nulls":5},{"v":0,"d":"0 "},{"$nulls":4},{"v":229,"d":"229 "},225,{"v":0,"d":"0 "},0,0,{"v":0,"d":"0 "}]
[null,null,230,{"$nulls":5},{"v":0,"d":"0 "},{"$nulls":4},{"v":230,"d":"230 "},226,{"v":0,"d":"0 "},0,0,{"v":0,"d":"0 "}]
[null,null,231,{"$nulls":5},{"v":0,"d":"0 "},{"$nulls":4},{"v":231,"d":"231 "},227,{"v":0,"d":"0 "},0,0,{"v":0,"d":"0 "}]
[null,null,232,{"$nulls":5},{"v":0,"d":"0 "},{"$nulls":4},{"v":232,"d":"232 "},228,{"v":0,"d":"0 "},0,0,{"v":0,"d":"0 "}]
[null,null,233,{"$nulls":5},{"v":0,"d":"0 "},{"$nulls":4},{"v":233,"d":"233 "},229,{"v":0,"d":"0 "},0,0,{"v":0,"d":"0 "}]
[null,null,234,{"$nulls":5},{"v":0,"d":"0 "},{"$nulls":4},{"v":234,"d":"234 "},230,{"v":0,"d":"0 "},0,0,{"v":0,"d":"0 "}]
[null,null,235,{"$nulls":5},{"v":0,"d":"0 "},{"$nulls":4},{"v":235,"d":"235 "},231,{"v":0,"d":"0 "},0,0,{"v":0,"d":"0 "}]
[null,null,236,{"$nulls":5},{"v":0,"d":"0 "},{"$nulls":4},{"v":236,"d":"236 "},232,{"v":0,"d":"0 "},0,0,{"v":0,"d":"0 "}]
[null,null,237,{"$nulls":5},{"v":0,"d":"0 "},{"$nulls":4},{"v":237,"d":"237 "},233,{"v":0,"d":"0 "},0,0,{"v":0,"d":"0 "}]
[null,null,238,{"$nulls":5},{"v":0,"d":"0 "},{"$nulls":4},{"v":238,"d":"238 "},234,{"v":0,"d":"0 "},0,0,{"v":0,"d":"0 "}]
[null,null,239,{"$nulls":5},{"v":0,"d":"0 "},{"$nulls":4},{"v":239,"d":"239 "},235,{"v":0,"d":"0 "},0,0,{"v":0,"d":"0 "}]
[null,null,240,{"$nulls":5},{"v":0,"d":"0 "},{"$nulls":4},{"v":240,"d":"240 "},236,{"v":0,"d":"0 "},0,0,{"v":0,"d":"0 "}]
[null,null,241,{"$nulls":5},{"v":0,"d":"0 "},{"$nulls":4},{"v":241,"d":"241 "},237,{"v":0,"d":"0 "},0,0,{"v":0,"d":"0 "}]
[null,null,242,{"$nulls":5},{"v":0,"d":"0 "},{"$nulls":4},{"v":242,"d":"242 "},238,{"v":0,"d":"0 "},0,0,{"v":0,"d":"0 "}]
[null,null,243,{"$nulls":5},{"v":0,"d":"0 "},{"$nulls":4},{"v":243,"d":"243 "},239,{"v":0,"d":"0 "},0,0,{"v":0,"d":"0 "}]
[null,null,244,{"$nulls":5},{"v":0,"d":"0 "},{"$nulls":4},{"v":244,"d":"244 "},240,{"v":0,"d":"0 "},0,0,{"v":0,"d":"0 "}]
[{"$nulls":15},"小計"]
[null,null,245,{"$nulls":5},{"v":0,"d":"0 "},{"$nulls":4},{"v":245,"d":"245 "},241,{"$f":"VLOOKUP(N253,$C:$J,2,FALSE)","v":{"v":0,"d":"0 "}},{"$f":"VLOOKUP(N253,$C:$J,3,FALSE)","v":0},{"$f":"VLOOKUP(N253,$C:$J,4,FALSE)","v":0},{"$f":"VLOOKUP(N253,$C:$J,5,FALSE)","v":{"v":0,"d":"0 "}}]
[null,null,246,{"$nulls":5},{"v":0,"d":"0 "},{"$nulls":4},{"v":246,"d":"246 "},242,{"v":0,"d":"0 "},0,0,{"v":0,"d":"0 "}]
[null,null,247,{"$nulls":5},{"v":0,"d":"0 "},{"$nulls":4},{"v":247,"d":"247 "},243,{"v":0,"d":"0 "},0,0,{"v":0,"d":"0 "}]
[null,null,248,{"$nulls":5},{"v":0,"d":"0 "},{"$nulls":4},{"v":248,"d":"248 "},244,{"v":0,"d":"0 "},0,0,{"v":0,"d":"0 "}]
[null,null,249,{"$nulls":5},{"v":0,"d":"0 "},{"$nulls":4},{"v":249,"d":"249 "},245,{"v":0,"d":"0 "},0,0,{"v":0,"d":"0 "}]
[null,null,250,{"$nulls":5},{"v":0,"d":"0 "},{"$nulls":4},{"v":250,"d":"250 "},246,{"v":0,"d":"0 "},0,0,{"v":0,"d":"0 "}]
[null,null,251,{"$nulls":5},{"v":0,"d":"0 "},{"$nulls":4},{"v":251,"d":"251 "},247,{"v":0,"d":"0 "},0,0,{"v":0,"d":"0 "}]
[null,null,252,{"$nulls":5},{"v":0,"d":"0 "},{"$nulls":4},{"v":252,"d":"252 "},248,{"v":0,"d":"0 "},0,0,{"v":0,"d":"0 "}]
[null,null,253,{"$nulls":5},{"v":0,"d":"0 "},{"$nulls":4},{"v":253,"d":"253 "},249,{"v":0,"d":"0 "},0,0,{"v":0,"d":"0 "}]
[null,null,254,{"$nulls":5},{"v":0,"d":"0 "},{"$nulls":4},{"v":254,"d":"254 "},250,{"v":0,"d":"0 "},0,0,{"v":0,"d":"0 "}]
[null,null,255,{"$nulls":5},{"v":0,"d":"0 "},{"$nulls":4},{"v":255,"d":"255 "},251,{"v":0,"d":"0 "},0,0,{"v":0,"d":"0 "}]
[null,null,256,{"$nulls":5},{"v":0,"d":"0 "},{"$nulls":4},{"v":256,"d":"256 "},252,{"v":0,"d":"0 "},0,0,{"v":0,"d":"0 "}]
[null,null,257,{"$nulls":5},{"v":0,"d":"0 "},{"$nulls":4},{"v":257,"d":"257 "},253,{"v":0,"d":"0 "},0,0,{"v":0,"d":"0 "}]
[null,null,258,{"$nulls":5},{"v":0,"d":"0 "},{"$nulls":4},{"v":258,"d":"258 "},254,{"v":0,"d":"0 "},0,0,{"v":0,"d":"0 "}]
[null,null,259,{"$nulls":5},{"v":0,"d":"0 "},{"$nulls":4},{"v":259,"d":"259 "},255,{"v":0,"d":"0 "},0,0,{"v":0,"d":"0 "}]
[null,null,260,{"$nulls":5},{"$f":"G268*H268","v":{"v":0,"d":"0 "}},{"$nulls":4},{"v":260,"d":"260 "},256,{"v":0,"d":"0 "},0,0,{"v":0,"d":"0 "}]
[null,null,261,{"$nulls":5},{"v":0,"d":"0 "},{"$nulls":4},{"v":261,"d":"261 "},257,{"v":0,"d":"0 "},0,0,{"v":0,"d":"0 "}]
[null,null,262,{"$nulls":5},{"v":0,"d":"0 "},{"$nulls":4},{"v":262,"d":"262 "},258,{"v":0,"d":"0 "},0,0,{"v":0,"d":"0 "}]
[null,null,263,{"$nulls":5},{"v":0,"d":"0 "},{"$nulls":4},{"v":263,"d":"263 "},259,{"v":0,"d":"0 "},0,0,{"v":0,"d":"0 "}]
[null,null,264,{"$nulls":5},{"v":0,"d":"0 "},{"$nulls":4},{"v":264,"d":"264 "},260,{"v":0,"d":"0 "},0,0,{"v":0,"d":"0 "}]
[null,null,265,{"$nulls":5},{"v":0,"d":"0 "},{"$nulls":4},{"v":265,"d":"265 "},261,{"v":0,"d":"0 "},0,0,{"v":0,"d":"0 "}]
[null,null,266,{"$nulls":5},{"v":0,"d":"0 "},{"$nulls":4},{"v":266,"d":"266 "},262,{"v":0,"d":"0 "},0,0,{"v":0,"d":"0 "}]
[null,null,267,{"$nulls":5},{"v":0,"d":"0 "},{"$nulls":4},{"v":267,"d":"267 "},263,{"v":0,"d":"0 "},0,0,{"v":0,"d":"0 "}]
[null,null,268,{"$nulls":5},{"v":0,"d":"0 "},{"$nulls":4},{"v":268,"d":"268 "},264,{"v":0,"d":"0 "},0,0,{"v":0,"d":"0 "}]
[null,null,269,{"$nulls":5},{"v":0,"d":"0 "},{"$nulls":4},{"v":269,"d":"269 "},265,{"v":0,"d":"0 "},0,0,{"v":0,"d":"0 "}]
[null,null,270,{"$nulls":5},{"v":0,"d":"0 "},{"$nulls":4},{"v":270,"d":"270 "},266,{"v":0,"d":"0 "},0,0,{"v":0,"d":"0 "}]
[null,null,271,{"$nulls":5},{"v":0,"d":"0 "},{"$nulls":4},{"v":271,"d":"271 "},267,{"v":0,"d":"0 "},0,0,{"v":0,"d":"0 "}]
[null,null,272,{"$nulls":5},{"v":0,"d":"0 "},{"$nulls":4},{"v":272,"d":"272 "},268,{"v":0,"d":"0 "},0,0,{"v":0,"d":"0 "}]
[null,null,273,{"$nulls":5},{"v":0,"d":"0 "},{"$nulls":4},{"v":273,"d":"273 "},269,{"v":0,"d":"0 "},0,0,{"v":0,"d":"0 "}]
[null,null,274,{"$nulls":5},{"v":0,"d":"0 "},{"$nulls":4},{"v":274,"d":"274 "},270,{"v":0,"d":"0 "},0,0,{"v":0,"d":"0 "}]
[{"$nulls":15},"小計"]
[null,null,275,{"$nulls":5},{"v":0,"d":"0 "},{"$nulls":4},{"v":275,"d":"275 "},271,{"$f":"VLOOKUP(N284,$C:$J,2,FALSE)","v":{"v":0,"d":"0 "}},{"$f":"VLOOKUP(N284,$C:$J,3,FALSE)","v":0},{"$f":"VLOOKUP(N284,$C:$J,4,FALSE)","v":0},{"$f":"VLOOKUP(N284,$C:$J,5,FALSE)","v":{"v":0,"d":"0 "}}]
[null,null,276,{"$nulls":5},{"v":0,"d":"0 "},{"$nulls":4},{"v":276,"d":"276 "},272,{"v":0,"d":"0 "},0,0,{"v":0,"d":"0 "}]
[null,null,277,{"$nulls":5},{"v":0,"d":"0 "},{"$nulls":4},{"v":277,"d":"277 "},273,{"v":0,"d":"0 "},0,0,{"v":0,"d":"0 "}]
[null,null,278,{"$nulls":5},{"v":0,"d":"0 "},{"$nulls":4},{"v":278,"d":"278 "},274,{"v":0,"d":"0 "},0,0,{"v":0,"d":"0 "}]
[null,null,279,{"$nulls":5},{"v":0,"d":"0 "},{"$nulls":4},{"v":279,"d":"279 "},275,{"v":0,"d":"0 "},0,0,{"v":0,"d":"0 "}]
[null,null,280,{"$nulls":5},{"v":0,"d":"0 "},{"$nulls":4},{"v":280,"d":"280 "},276,{"v":0,"d":"0 "},0,0,{"v":0,"d":"0 "}]
[null,null,281,{"$nulls":5},{"v":0,"d":"0 "},{"$nulls":4},{"v":281,"d":"281 "},277,{"v":0,"d":"0 "},0,0,{"v":0,"d":"0 "}]
[null,null,282,{"$nulls":5},{"v":0,"d":"0 "},{"$nulls":4},{"v":282,"d":"282 "},278,{"v":0,"d":"0 "},0,0,{"v":0,"d":"0 "}]
[null,null,283,{"$nulls":5},{"v":0,"d":"0 "},{"$nulls":4},{"v":283,"d":"283 "},279,{"v":0,"d":"0 "},0,0,{"v":0,"d":"0 "}]
[null,null,284,{"$nulls":5},{"v":0,"d":"0 "},{"$nulls":4},{"v":284,"d":"284 "},280,{"v":0,"d":"0 "},0,0,{"v":0,"d":"0 "}]
[null,null,285,{"$nulls":5},{"v":0,"d":"0 "},{"$nulls":4},{"v":285,"d":"285 "},281,{"v":0,"d":"0 "},0,0,{"v":0,"d":"0 "}]
[null,null,286,{"$nulls":5},{"v":0,"d":"0 "},{"$nulls":4},{"v":286,"d":"286 "},282,{"v":0,"d":"0 "},0,0,{"v":0,"d":"0 "}]
[null,null,287,{"$nulls":5},{"v":0,"d":"0 "},{"$nulls":4},{"v":287,"d":"287 "},283,{"v":0,"d":"0 "},0,0,{"v":0,"d":"0 "}]
[null,null,288,{"$nulls":5},{"v":0,"d":"0 "},{"$nulls":4},{"v":288,"d":"288 "},284,{"v":0,"d":"0 "},0,0,{"v":0,"d":"0 "}]
[null,null,289,{"$nulls":5},{"v":0,"d":"0 "},{"$nulls":4},{"v":289,"d":"289 "},285,{"v":0,"d":"0 "},0,0,{"v":0,"d":"0 "}]
[null,null,290,{"$nulls":5},{"v":0,"d":"0 "},{"$nulls":4},{"v":290,"d":"290 "},286,{"v":0,"d":"0 "},0,0,{"v":0,"d":"0 "}]
[null,null,291,{"$nulls":5},{"v":0,"d":"0 "},{"$nulls":4},{"v":291,"d":"291 "},287,{"v":0,"d":"0 "},0,0,{"v":0,"d":"0 "}]
[null,null,292,{"$nulls":5},{"v":0,"d":"0 "},{"$nulls":4},{"v":292,"d":"292 "},288,{"v":0,"d":"0 "},0,0,{"v":0,"d":"0 "}]
[null,null,293,{"$nulls":5},{"v":0,"d":"0 "},{"$nulls":4},{"v":293,"d":"293 "},289,{"v":0,"d":"0 "},0,0,{"v":0,"d":"0 "}]
[null,null,294,{"$nulls":5},{"v":0,"d":"0 "},{"$nulls":4},{"v":294,"d":"294 "},290,{"v":0,"d":"0 "},0,0,{"v":0,"d":"0 "}]
[null,null,295,{"$nulls":5},{"v":0,"d":"0 "},{"$nulls":4},{"v":295,"d":"295 "},291,{"v":0,"d":"0 "},0,0,{"v":0,"d":"0 "}]
[null,null,296,{"$nulls":5},{"v":0,"d":"0 "},{"$nulls":4},{"v":296,"d":"296 "},292,{"v":0,"d":"0 "},0,0,{"v":0,"d":"0 "}]
[null,null,297,{"$nulls":5},{"v":0,"d":"0 "},{"$nulls":4},{"v":297,"d":"297 "},293,{"v":0,"d":"0 "},0,0,{"v":0,"d":"0 "}]
[null,null,298,{"$nulls":5},{"v":0,"d":"0 "},{"$nulls":4},{"v":298,"d":"298 "},294,{"v":0,"d":"0 "},0,0,{"v":0,"d":"0 "}]
[null,null,299,{"$nulls":5},{"v":0,"d":"0 "},{"$nulls":4},{"v":299,"d":"299 "},295,{"v":0,"d":"0 "},0,0,{"v":0,"d":"0 "}]
[null,null,300,{"$nulls":5},{"v":0,"d":"0 "},{"$nulls":4},{"v":300,"d":"300 "},296,{"v":0,"d":"0 "},0,0,{"v":0,"d":"0 "}]
[null,null,301,{"$nulls":5},{"v":0,"d":"0 "},{"$nulls":4},{"v":301,"d":"301 "},297,{"v":0,"d":"0 "},0,0,{"v":0,"d":"0 "}]
[null,null,302,{"$nulls":5},{"v":0,"d":"0 "},{"$nulls":4},{"v":302,"d":"302 "},298,{"v":0,"d":"0 "},0,0,{"v":0,"d":"0 "}]
[null,null,303,{"$nulls":5},{"v":0,"d":"0 "},{"$nulls":4},{"v":303,"d":"303 "},299,{"v":0,"d":"0 "},0,0,{"v":0,"d":"0 "}]
[null,null,304,{"$nulls":5},{"v":0,"d":"0 "},{"$nulls":4},{"v":304,"d":"304 "},300,{"v":0,"d":"0 "},0,0,{"v":0,"d":"0 "}]
[null,null,305,{"$nulls":5},{"v":0,"d":"0 "},{"$nulls":4},{"v":305,"d":"305 "},301,{"v":0,"d":"0 "},0,0,{"v":0,"d":"0 "}]
[null,null,306,{"$nulls":5},{"v":0,"d":"0 "},{"$nulls":4},{"v":306,"d":"306 "},302,{"v":0,"d":"0 "},0,0,{"v":0,"d":"0 "}]
[null,null,307,{"$nulls":5},{"v":0,"d":"0 "},{"$nulls":4},{"v":307,"d":"307 "},303,{"v":0,"d":"0 "},0,0,{"v":0,"d":"0 "}]
[null,null,308,{"$nulls":5},{"v":0,"d":"0 "},{"$nulls":4},{"v":308,"d":"308 "},304,{"v":0,"d":"0 "},0,0,{"v":0,"d":"0 "}]
[null,null,309,{"$nulls":5},{"v":0,"d":"0 "},{"$nulls":4},{"v":309,"d":"309 "},305,{"v":0,"d":"0 "},0,0,{"v":0,"d":"0 "}]
[null,null,310,{"$nulls":5},{"v":0,"d":"0 "},{"$nulls":4},{"v":310,"d":"310 "},306,{"v":0,"d":"0 "},0,0,{"v":0,"d":"0 "}]
[null,null,311,{"$nulls":5},{"v":0,"d":"0 "},{"$nulls":4},{"v":311,"d":"311 "},307,{"v":0,"d":"0 "},0,0,{"v":0,"d":"0 "}]
[null,null,312,{"$nulls":5},{"v":0,"d":"0 "},{"$nulls":4},{"v":312,"d":"312 "},308,{"v":0,"d":"0 "},0,0,{"v":0,"d":"0 "}]
[null,null,313,{"$nulls":5},{"v":0,"d":"0 "},{"$nulls":4},{"v":313,"d":"313 "},309,{"v":0,"d":"0 "},0,0,{"v":0,"d":"0 "}]
[null,null,314,{"$nulls":5},{"v":0,"d":"0 "},{"$nulls":4},{"v":314,"d":"314 "},310,{"v":0,"d":"0 "},0,0,{"v":0,"d":"0 "}]
[null,null,315,{"$nulls":5},{"v":0,"d":"0 "},{"$nulls":4},{"v":315,"d":"315 "},311,{"v":0,"d":"0 "},0,0,{"v":0,"d":"0 "}]
[null,null,316,{"$nulls":5},{"v":0,"d":"0 "},{"$nulls":4},{"v":316,"d":"316 "},312,{"v":0,"d":"0 "},0,0,{"v":0,"d":"0 "}]
[null,null,317,{"$nulls":5},{"v":0,"d":"0 "},{"$nulls":4},{"v":317,"d":"317 "},313,{"v":0,"d":"0 "},0,0,{"v":0,"d":"0 "}]
[null,null,318,{"$nulls":5},{"v":0,"d":"0 "},{"$nulls":4},{"v":318,"d":"318 "},314,{"v":0,"d":"0 "},0,0,{"v":0,"d":"0 "}]
[null,null,319,{"$nulls":5},{"v":0,"d":"0 "},{"$nulls":4},{"v":319,"d":"319 "},315,{"v":0,"d":"0 "},0,0,{"v":0,"d":"0 "}]
[null,null,320,{"$nulls":5},{"v":0,"d":"0 "},{"$nulls":4},{"v":320,"d":"320 "},316,{"v":0,"d":"0 "},0,0,{"v":0,"d":"0 "}]
[null,null,321,{"$nulls":5},{"v":0,"d":"0 "},{"$nulls":4},{"v":321,"d":"321 "},317,{"v":0,"d":"0 "},0,0,{"v":0,"d":"0 "}]
[null,null,322,{"$nulls":5},{"v":0,"d":"0 "},{"$nulls":4},{"v":322,"d":"322 "},318,{"v":0,"d":"0 "},0,0,{"v":0,"d":"0 "}]
[null,null,323,{"$nulls":5},{"v":0,"d":"0 "},{"$nulls":4},{"v":323,"d":"323 "},319,{"v":0,"d":"0 "},0,0,{"v":0,"d":"0 "}]
[null,null,324,{"$nulls":5},{"$f":"G333*H333","v":{"v":0,"d":"0 "}},{"$nulls":4},{"v":324,"d":"324 "},320,{"v":0,"d":"0 "},0,0,{"v":0,"d":"0 "}]
[null,null,325,{"$nulls":5},{"v":0,"d":"0 "},{"$nulls":4},{"v":325,"d":"325 "},321,{"v":0,"d":"0 "},0,0,{"v":0,"d":"0 "}]
[null,null,326,{"$nulls":5},{"v":0,"d":"0 "},{"$nulls":4},{"v":326,"d":"326 "},322,{"v":0,"d":"0 "},0,0,{"v":0,"d":"0 "}]
[null,null,327,{"$nulls":5},{"v":0,"d":"0 "},{"$nulls":4},{"v":327,"d":"327 "},323,{"v":0,"d":"0 "},0,0,{"v":0,"d":"0 "}]
[null,null,328,{"$nulls":5},{"v":0,"d":"0 "},{"$nulls":4},{"v":328,"d":"328 "},324,{"v":0,"d":"0 "},0,0,{"v":0,"d":"0 "}]
[null,null,329,{"$nulls":5},{"v":0,"d":"0 "},{"$nulls":4},{"v":329,"d":"329 "},325,{"v":0,"d":"0 "},0,0,{"v":0,"d":"0 "}]
[null,null,330,{"$nulls":5},{"v":0,"d":"0 "},{"$nulls":4},{"v":330,"d":"330 "},326,{"v":0,"d":"0 "},0,0,{"v":0,"d":"0 "}]
[null,null,331,{"$nulls":5},{"v":0,"d":"0 "},{"$nulls":4},{"v":331,"d":"331 "},327,{"v":0,"d":"0 "},0,0,{"v":0,"d":"0 "}]
[null,null,332,{"$nulls":5},{"v":0,"d":"0 "},{"$nulls":4},{"v":332,"d":"332 "},328,{"v":0,"d":"0 "},0,0,{"v":0,"d":"0 "}]
[null,null,333,{"$nulls":5},{"v":0,"d":"0 "},{"$nulls":4},{"v":333,"d":"333 "},329,{"v":0,"d":"0 "},0,0,{"v":0,"d":"0 "}]
[null,null,334,{"$nulls":5},{"v":0,"d":"0 "},{"$nulls":4},{"v":334,"d":"334 "},330,{"v":0,"d":"0 "},0,0,{"v":0,"d":"0 "}]
[null,null,335,{"$nulls":5},{"v":0,"d":"0 "},{"$nulls":4},{"v":335,"d":"335 "},331,{"v":0,"d":"0 "},0,0,{"v":0,"d":"0 "}]
[null,null,336,{"$nulls":5},{"v":0,"d":"0 "},{"$nulls":4},{"v":336,"d":"336 "},332,{"v":0,"d":"0 "},0,0,{"v":0,"d":"0 "}]
[null,null,337,{"$nulls":5},{"v":0,"d":"0 "},{"$nulls":4},{"v":337,"d":"337 "},333,{"v":0,"d":"0 "},0,0,{"v":0,"d":"0 "}]
[null,null,338,{"$nulls":5},{"v":0,"d":"0 "},{"$nulls":4},{"v":338,"d":"338 "},334,{"v":0,"d":"0 "},0,0,{"v":0,"d":"0 "}]
[null,null,339,{"$nulls":5},{"v":0,"d":"0 "},{"$nulls":4},{"v":339,"d":"339 "},335,{"$f":"VLOOKUP(N348,$C:$J,2,FALSE)","v":{"v":0,"d":"0 "}},{"$f":"VLOOKUP(N348,$C:$J,3,FALSE)","v":0},{"$f":"VLOOKUP(N348,$C:$J,4,FALSE)","v":0},{"$f":"VLOOKUP(N348,$C:$J,5,FALSE)","v":{"v":0,"d":"0 "}}]
[null,null,340,{"$nulls":5},{"v":0,"d":"0 "},{"$nulls":4},{"v":340,"d":"340 "},336,{"v":0,"d":"0 "},0,0,{"v":0,"d":"0 "}]
[null,null,341,{"$nulls":5},{"v":0,"d":"0 "},{"$nulls":4},{"v":341,"d":"341 "},337,{"v":0,"d":"0 "},0,0,{"v":0,"d":"0 "}]
[null,null,342,{"$nulls":5},{"v":0,"d":"0 "},{"$nulls":4},{"v":342,"d":"342 "},338,{"v":0,"d":"0 "},0,0,{"v":0,"d":"0 "}]
[null,null,343,{"$nulls":5},{"v":0,"d":"0 "},{"$nulls":4},{"v":343,"d":"343 "},339,{"v":0,"d":"0 "},0,0,{"v":0,"d":"0 "}]
[null,null,344,{"$nulls":5},{"v":0,"d":"0 "},{"$nulls":4},{"v":344,"d":"344 "},340,{"v":0,"d":"0 "},0,0,{"v":0,"d":"0 "}]
[null,null,345,{"$nulls":5},{"v":0,"d":"0 "},{"$nulls":4},{"v":345,"d":"345 "},341,{"v":0,"d":"0 "},0,0,{"v":0,"d":"0 "}]
[null,null,346,{"$nulls":5},{"v":0,"d":"0 "},{"$nulls":4},{"v":346,"d":"346 "},342,{"v":0,"d":"0 "},0,0,{"v":0,"d":"0 "}]
[null,null,347,{"$nulls":5},{"v":0,"d":"0 "},{"$nulls":4},{"v":347,"d":"347 "},343,{"v":0,"d":"0 "},0,0,{"v":0,"d":"0 "}]
[null,null,348,{"$nulls":5},{"v":0,"d":"0 "},{"$nulls":4},{"v":348,"d":"348 "},344,{"v":0,"d":"0 "},0,0,{"v":0,"d":"0 "}]
[null,null,349,{"$nulls":5},{"v":0,"d":"0 "},{"$nulls":4},{"v":349,"d":"349 "},345,{"v":0,"d":"0 "},0,0,{"v":0,"d":"0 "}]
[null,null,350,{"$nulls":5},{"v":0,"d":"0 "},{"$nulls":4},{"v":350,"d":"350 "},346,{"v":0,"d":"0 "},0,0,{"v":0,"d":"0 "}]
[null,null,351,{"$nulls":5},{"v":0,"d":"0 "},{"$nulls":4},{"v":351,"d":"351 "},347,{"v":0,"d":"0 "},0,0,{"v":0,"d":"0 "}]
[null,null,352,{"$nulls":5},{"v":0,"d":"0 "},{"$nulls":4},{"v":352,"d":"352 "},348,{"v":0,"d":"0 "},0,0,{"v":0,"d":"0 "}]
[null,null,353,{"$nulls":5},{"v":0,"d":"0 "},{"$nulls":4},{"v":353,"d":"353 "},349,{"v":0,"d":"0 "},0,0,{"v":0,"d":"0 "}]
[null,null,354,{"$nulls":5},{"v":0,"d":"0 "},{"$nulls":4},{"v":354,"d":"354 "},350,{"v":0,"d":"0 "},0,0,{"v":0,"d":"0 "}]
[null,null,355,{"$nulls":5},{"v":0,"d":"0 "},{"$nulls":4},{"v":355,"d":"355 "},351,{"v":0,"d":"0 "},0,0,{"v":0,"d":"0 "}]
[null,null,356,{"$nulls":5},{"v":0,"d":"0 "},{"$nulls":4},{"v":356,"d":"356 "},352,{"v":0,"d":"0 "},0,0,{"v":0,"d":"0 "}]
[null,null,357,{"$nulls":5},{"v":0,"d":"0 "},{"$nulls":4},{"v":357,"d":"357 "},353,{"v":0,"d":"0 "},0,0,{"v":0,"d":"0 "}]
[null,null,358,{"$nulls":5},{"v":0,"d":"0 "},{"$nulls":4},{"v":358,"d":"358 "},354,{"v":0,"d":"0 "},0,0,{"v":0,"d":"0 "}]
[null,null,359,{"$nulls":5},{"v":0,"d":"0 "},{"$nulls":4},{"v":359,"d":"359 "},355,{"v":0,"d":"0 "},0,0,{"v":0,"d":"0 "}]
[null,null,360,{"$nulls":5},{"v":0,"d":"0 "},{"$nulls":4},{"v":360,"d":"360 "},356,{"v":0,"d":"0 "},0,0,{"v":0,"d":"0 "}]
[null,null,361,{"$nulls":5},{"v":0,"d":"0 "},{"$nulls":4},{"v":361,"d":"361 "},357,{"v":0,"d":"0 "},0,0,{"v":0,"d":"0 "}]
[null,null,362,{"$nulls":5},{"v":0,"d":"0 "},{"$nulls":4},{"v":362,"d":"362 "},358,{"v":0,"d":"0 "},0,0,{"v":0,"d":"0 "}]
[null,null,363,{"$nulls":5},{"v":0,"d":"0 "},{"$nulls":4},{"v":363,"d":"363 "},359,{"v":0,"d":"0 "},0,0,{"v":0,"d":"0 "}]
[null,null,364,{"$nulls":5},{"v":0,"d":"0 "},{"$nulls":4},{"v":364,"d":"364 "},360,{"v":0,"d":"0 "},0,0,{"v":0,"d":"0 "}]
[null,null,365,{"$nulls":5},{"v":0,"d":"0 "},{"$nulls":4},{"v":365,"d":"365 "},361,{"v":0,"d":"0 "},0,0,{"v":0,"d":"0 "}]
[null,null,366,{"$nulls":5},{"v":0,"d":"0 "},{"$nulls":4},{"v":366,"d":"366 "},362,{"v":0,"d":"0 "},0,0,{"v":0,"d":"0 "}]
[null,null,367,{"$nulls":5},{"v":0,"d":"0 "},{"$nulls":4},{"v":367,"d":"367 "},363,{"v":0,"d":"0 "},0,0,{"v":0,"d":"0 "}]
[null,null,368,{"$nulls":5},{"v":0,"d":"0 "},{"$nulls":4},{"v":368,"d":"368 "},364,{"v":0,"d":"0 "},0,0,{"v":0,"d":"0 "}]
[null,null,369,{"$nulls":5},{"v":0,"d":"0 "},{"$nulls":4},{"v":369,"d":"369 "},365,{"v":0,"d":"0 "},0,0,{"v":0,"d":"0 "}]
[null,null,370,{"$nulls":5},{"v":0,"d":"0 "},{"$nulls":4},{"v":370,"d":"370 "},366,{"v":0,"d":"0 "},0,0,{"v":0,"d":"0 "}]
[null,null,371,{"$nulls":5},{"v":0,"d":"0 "},{"$nulls":4},{"v":371,"d":"371 "},367,{"v":0,"d":"0 "},0,0,{"v":0,"d":"0 "}]
[null,null,372,{"$nulls":5},{"v":0,"d":"0 "},{"$nulls":4},{"v":372,"d":"372 "},368,{"v":0,"d":"0 "},0,0,{"v":0,"d":"0 "}]
[null,null,373,{"$nulls":5},{"v":0,"d":"0 "},{"$nulls":4},{"v":373,"d":"373 "},369,{"v":0,"d":"0 "},0,0,{"v":0,"d":"0 "}]
[null,null,374,{"$nulls":5},{"v":0,"d":"0 "},{"$nulls":4},{"v":374,"d":"374 "},370,{"v":0,"d":"0 "},0,0,{"v":0,"d":"0 "}]
[null,null,375,{"$nulls":5},{"v":0,"d":"0 "},{"$nulls":4},{"v":375,"d":"375 "},371,{"v":0,"d":"0 "},0,0,{"v":0,"d":"0 "}]
[null,null,376,{"$nulls":5},{"v":0,"d":"0 "},{"$nulls":4},{"v":376,"d":"376 "},372,{"v":0,"d":"0 "},0,0,{"v":0,"d":"0 "}]
[null,null,377,{"$nulls":5},{"v":0,"d":"0 "},{"$nulls":4},{"v":377,"d":"377 "},373,{"v":0,"d":"0 "},0,0,{"v":0,"d":"0 "}]
[null,null,378,{"$nulls":5},{"v":0,"d":"0 "},{"$nulls":4},{"v":378,"d":"378 "},374,{"v":0,"d":"0 "},0,0,{"v":0,"d":"0 "}]
[null,null,379,{"$nulls":5},{"v":0,"d":"0 "},{"$nulls":4},{"v":379,"d":"379 "},375,{"v":0,"d":"0 "},0,0,{"v":0,"d":"0 "}]
[null,null,380,{"$nulls":5},{"v":0,"d":"0 "},{"$nulls":4},{"v":380,"d":"380 "},376,{"v":0,"d":"0 "},0,0,{"v":0,"d":"0 "}]
[null,null,381,{"$nulls":5},{"v":0,"d":"0 "},{"$nulls":4},{"v":381,"d":"381 "},377,{"v":0,"d":"0 "},0,0,{"v":0,"d":"0 "}]
[null,null,382,{"$nulls":5},{"v":0,"d":"0 "},{"$nulls":4},{"v":382,"d":"382 "},378,{"v":0,"d":"0 "},0,0,{"v":0,"d":"0 "}]
[null,null,383,{"$nulls":5},{"v":0,"d":"0 "},{"$nulls":4},{"v":383,"d":"383 "},379,{"v":0,"d":"0 "},0,0,{"v":0,"d":"0 "}]
[null,null,384,{"$nulls":5},{"v":0,"d":"0 "},{"$nulls":4},{"v":384,"d":"384 "},380,{"v":0,"d":"0 "},0,0,{"v":0,"d":"0 "}]
[null,null,385,{"$nulls":5},{"v":0,"d":"0 "},{"$nulls":4},{"v":385,"d":"385 "},381,{"v":0,"d":"0 "},0,0,{"v":0,"d":"0 "}]
[null,null,386,{"$nulls":5},{"v":0,"d":"0 "},{"$nulls":4},{"v":386,"d":"386 "},382,{"v":0,"d":"0 "},0,0,{"v":0,"d":"0 "}]
[null,null,387,{"$nulls":5},{"v":0,"d":"0 "},{"$nulls":4},{"v":387,"d":"387 "},383,{"v":0,"d":"0 "},0,0,{"v":0,"d":"0 "}]
[null,null,388,{"$nulls":5},{"$f":"G397*H397","v":{"v":0,"d":"0 "}},{"$nulls":4},{"v":388,"d":"388 "},384,{"v":0,"d":"0 "},0,0,{"v":0,"d":"0 "}]
[null,null,389,{"$nulls":5},{"v":0,"d":"0 "},{"$nulls":4},{"v":389,"d":"389 "},385,{"v":0,"d":"0 "},0,0,{"v":0,"d":"0 "}]
[null,null,390,{"$nulls":5},{"v":0,"d":"0 "},{"$nulls":4},{"v":390,"d":"390 "},386,{"v":0,"d":"0 "},0,0,{"v":0,"d":"0 "}]
[null,null,391,{"$nulls":5},{"v":0,"d":"0 "},{"$nulls":4},{"v":391,"d":"391 "},387,{"v":0,"d":"0 "},0,0,{"v":0,"d":"0 "}]
[null,null,392,{"$nulls":5},{"v":0,"d":"0 "},{"$nulls":4},{"v":392,"d":"392 "},388,{"v":0,"d":"0 "},0,0,{"v":0,"d":"0 "}]
[null,null,393,{"$nulls":5},{"v":0,"d":"0 "},{"$nulls":4},{"v":393,"d":"393 "},389,{"v":0,"d":"0 "},0,0,{"v":0,"d":"0 "}]
[null,null,394,{"$nulls":5},{"v":0,"d":"0 "},{"$nulls":4},{"v":394,"d":"394 "},390,{"v":0,"d":"0 "},0,0,{"v":0,"d":"0 "}]
[null,null,395,{"$nulls":5},{"v":0,"d":"0 "},{"$nulls":4},{"v":395,"d":"395 "},391,{"v":0,"d":"0 "},0,0,{"v":0,"d":"0 "}]
[null,null,396,{"$nulls":5},{"v":0,"d":"0 "},{"$nulls":4},{"v":396,"d":"396 "},392,{"v":0,"d":"0 "},0,0,{"v":0,"d":"0 "}]
[null,null,397,{"$nulls":5},{"v":0,"d":"0 "},{"$nulls":4},{"v":397,"d":"397 "},393,{"v":0,"d":"0 "},0,0,{"v":0,"d":"0 "}]
[null,null,398,{"$nulls":5},{"v":0,"d":"0 "},{"$nulls":4},{"v":398,"d":"398 "},394,{"v":0,"d":"0 "},0,0,{"v":0,"d":"0 "}]
[null,null,399,{"$nulls":5},{"v":0,"d":"0 "},{"$nulls":4},{"v":399,"d":"399 "},395,{"v":0,"d":"0 "},0,0,{"v":0,"d":"0 "}]
[null,null,400,{"$nulls":5},{"v":0,"d":"0 "},{"$nulls":4},{"v":400,"d":"400 "},396,{"v":0,"d":"0 "},0,0,{"v":0,"d":"0 "}]
[null,null,401,{"$nulls":5},{"v":0,"d":"0 "},{"$nulls":4},{"v":401,"d":"401 "},397,{"v":0,"d":"0 "},0,0,{"v":0,"d":"0 "}]
[null,null,402,{"$nulls":5},{"v":0,"d":"0 "},{"$nulls":4},{"v":402,"d":"402 "},398,{"v":0,"d":"0 "},0,0,{"v":0,"d":"0 "}]
[null,null,403,{"$nulls":5},{"v":0,"d":"0 "},{"$nulls":4},{"v":403,"d":"403 "},399,{"$f":"VLOOKUP(N412,$C:$J,2,FALSE)","v":{"v":0,"d":"0 "}},{"$f":"VLOOKUP(N412,$C:$J,3,FALSE)","v":0},{"$f":"VLOOKUP(N412,$C:$J,4,FALSE)","v":0},{"$f":"VLOOKUP(N412,$C:$J,5,FALSE)","v":{"v":0,"d":"0 "}}]
[null,null,404,{"$nulls":5},{"v":0,"d":"0 "},{"$nulls":4},{"v":404,"d":"404 "},400,{"v":0,"d":"0 "},0,0,{"v":0,"d":"0 "}]
[null,null,405,{"$nulls":5},{"v":0,"d":"0 "},{"$nulls":4},{"v":405,"d":"405 "},401,{"v":0,"d":"0 "},0,0,{"v":0,"d":"0 "}]
[null,null,406,{"$nulls":5},{"v":0,"d":"0 "},{"$nulls":4},{"v":406,"d":"406 "},402,{"v":0,"d":"0 "},0,0,{"v":0,"d":"0 "}]
[null,null,407,{"$nulls":5},{"v":0,"d":"0 "},{"$nulls":4},{"v":407,"d":"407 "},403,{"v":0,"d":"0 "},0,0,{"v":0,"d":"0 "}]
[null,null,408,{"$nulls":5},{"v":0,"d":"0 "},{"$nulls":4},{"v":408,"d":"408 "},404,{"v":0,"d":"0 "},0,0,{"v":0,"d":"0 "}]
[null,null,409,{"$nulls":5},{"v":0,"d":"0 "},{"$nulls":4},{"v":409,"d":"409 "},405,{"v":0,"d":"0 "},0,0,{"v":0,"d":"0 "}]
[null,null,410,{"$nulls":5},{"v":0,"d":"0 "},{"$nulls":4},{"v":410,"d":"410 "},406,{"v":0,"d":"0 "},0,0,{"v":0,"d":"0 "}]
[null,null,411,{"$nulls":5},{"v":0,"d":"0 "},{"$nulls":4},{"v":411,"d":"411 "},407,{"v":0,"d":"0 "},0,0,{"v":0,"d":"0 "}]
[null,null,412,{"$nulls":5},{"v":0,"d":"0 "},{"$nulls":4},{"v":412,"d":"412 "},408,{"v":0,"d":"0 "},0,0,{"v":0,"d":"0 "}]
[null,null,413,{"$nulls":5},{"v":0,"d":"0 "},{"$nulls":4},{"v":413,"d":"413 "},409,{"v":0,"d":"0 "},0,0,{"v":0,"d":"0 "}]
[null,null,414,{"$nulls":5},{"v":0,"d":"0 "},{"$nulls":4},{"v":414,"d":"414 "},410,{"v":0,"d":"0 "},0,0,{"v":0,"d":"0 "}]
[null,null,415,{"$nulls":5},{"v":0,"d":"0 "},{"$nulls":4},{"v":415,"d":"415 "},411,{"v":0,"d":"0 "},0,0,{"v":0,"d":"0 "}]
[null,null,416,{"$nulls":5},{"v":0,"d":"0 "},{"$nulls":4},{"v":416,"d":"416 "},412,{"v":0,"d":"0 "},0,0,{"v":0,"d":"0 "}]
[null,null,417,{"$nulls":5},{"v":0,"d":"0 "},{"$nulls":4},{"v":417,"d":"417 "},413,{"v":0,"d":"0 "},0,0,{"v":0,"d":"0 "}]
[null,null,418,{"$nulls":5},{"v":0,"d":"0 "},{"$nulls":4},{"v":418,"d":"418 "},414,{"v":0,"d":"0 "},0,0,{"v":0,"d":"0 "}]
[null,null,419,{"$nulls":5},{"v":0,"d":"0 "},{"$nulls":4},{"v":419,"d":"419 "},415,{"v":0,"d":"0 "},0,0,{"v":0,"d":"0 "}]
[null,null,420,{"$nulls":5},{"v":0,"d":"0 "},{"$nulls":4},{"v":420,"d":"420 "},416,{"v":0,"d":"0 "},0,0,{"v":0,"d":"0 "}]
[null,null,421,{"$nulls":5},{"v":0,"d":"0 "},{"$nulls":4},{"v":421,"d":"421 "},417,{"v":0,"d":"0 "},0,0,{"v":0,"d":"0 "}]
[null,null,422,{"$nulls":5},{"v":0,"d":"0 "},{"$nulls":4},{"v":422,"d":"422 "},418,{"v":0,"d":"0 "},0,0,{"v":0,"d":"0 "}]
[null,null,423,{"$nulls":5},{"v":0,"d":"0 "},{"$nulls":4},{"v":423,"d":"423 "},419,{"v":0,"d":"0 "},0,0,{"v":0,"d":"0 "}]
[null,null,424,{"$nulls":5},{"v":0,"d":"0 "},{"$nulls":4},{"v":424,"d":"424 "},420,{"v":0,"d":"0 "},0,0,{"v":0,"d":"0 "}]
[null,null,425,{"$nulls":5},{"v":0,"d":"0 "},{"$nulls":4},{"v":425,"d":"425 "},421,{"v":0,"d":"0 "},0,0,{"v":0,"d":"0 "}]
[null,null,426,{"$nulls":5},{"v":0,"d":"0 "},{"$nulls":4},{"v":426,"d":"426 "},422,{"v":0,"d":"0 "},0,0,{"v":0,"d":"0 "}]
[null,null,427,{"$nulls":5},{"v":0,"d":"0 "},{"$nulls":4},{"v":427,"d":"427 "},423,{"v":0,"d":"0 "},0,0,{"v":0,"d":"0 "}]
[null,null,428,{"$nulls":5},{"v":0,"d":"0 "},{"$nulls":4},{"v":428,"d":"428 "},424,{"v":0,"d":"0 "},0,0,{"v":0,"d":"0 "}]
[null,null,429,{"$nulls":5},{"v":0,"d":"0 "},{"$nulls":4},{"v":429,"d":"429 "},425,{"v":0,"d":"0 "},0,0,{"v":0,"d":"0 "}]
[null,null,430,{"$nulls":5},{"v":0,"d":"0 "},{"$nulls":4},{"v":430,"d":"430 "},426,{"v":0,"d":"0 "},0,0,{"v":0,"d":"0 "}]
[null,null,431,{"$nulls":5},{"v":0,"d":"0 "},{"$nulls":4},{"v":431,"d":"431 "},427,{"v":0,"d":"0 "},0,0,{"v":0,"d":"0 "}]
[null,null,432,{"$nulls":5},{"v":0,"d":"0 "},{"$nulls":4},{"v":432,"d":"432 "},428,{"v":0,"d":"0 "},0,0,{"v":0,"d":"0 "}]
[null,null,433,{"$nulls":5},{"v":0,"d":"0 "},{"$nulls":4},{"v":433,"d":"433 "},429,{"v":0,"d":"0 "},0,0,{"v":0,"d":"0 "}]
[null,null,434,{"$nulls":5},{"v":0,"d":"0 "},{"$nulls":4},{"v":434,"d":"434 "},430,{"v":0,"d":"0 "},0,0,{"v":0,"d":"0 "}]
[null,null,435,{"$nulls":5},{"v":0,"d":"0 "},{"$nulls":4},{"v":435,"d":"435 "},431,{"v":0,"d":"0 "},0,0,{"v":0,"d":"0 "}]
[null,null,436,{"$nulls":5},{"v":0,"d":"0 "},{"$nulls":4},{"v":436,"d":"436 "},432,{"v":0,"d":"0 "},0,0,{"v":0,"d":"0 "}]
[null,null,437,{"$nulls":5},{"v":0,"d":"0 "},{"$nulls":4},{"v":437,"d":"437 "},433,{"v":0,"d":"0 "},0,0,{"v":0,"d":"0 "}]
[null,null,438,{"$nulls":5},{"v":0,"d":"0 "},{"$nulls":4},{"v":438,"d":"438 "},434,{"v":0,"d":"0 "},0,0,{"v":0,"d":"0 "}]
[null,null,439,{"$nulls":5},{"v":0,"d":"0 "},{"$nulls":4},{"v":439,"d":"439 "},435,{"v":0,"d":"0 "},0,0,{"v":0,"d":"0 "}]
[null,null,440,{"$nulls":5},{"v":0,"d":"0 "},{"$nulls":4},{"v":440,"d":"440 "},436,{"v":0,"d":"0 "},0,0,{"v":0,"d":"0 "}]
[null,null,441,{"$nulls":5},{"v":0,"d":"0 "},{"$nulls":4},{"v":441,"d":"441 "},437,{"v":0,"d":"0 "},0,0,{"v":0,"d":"0 "}]
[null,null,442,{"$nulls":5},{"v":0,"d":"0 "},{"$nulls":4},{"v":442,"d":"442 "},438,{"v":0,"d":"0 "},0,0,{"v":0,"d":"0 "}]
[null,null,443,{"$nulls":5},{"v":0,"d":"0 "},{"$nulls":4},{"v":443,"d":"443 "},439,{"v":0,"d":"0 "},0,0,{"v":0,"d":"0 "}]
[null,null,444,{"$nulls":5},{"v":0,"d":"0 "},{"$nulls":4},{"v":444,"d":"444 "},440,{"v":0,"d":"0 "},0,0,{"v":0,"d":"0 "}]
[null,null,445,{"$nulls":5},{"v":0,"d":"0 "},{"$nulls":4},{"v":445,"d":"445 "},441,{"v":0,"d":"0 "},0,0,{"v":0,"d":"0 "}]
[null,null,446,{"$nulls":5},{"v":0,"d":"0 "},{"$nulls":4},{"v":446,"d":"446 "},442,{"v":0,"d":"0 "},0,0,{"v":0,"d":"0 "}]
[null,null,447,{"$nulls":5},{"v":0,"d":"0 "},{"$nulls":4},{"v":447,"d":"447 "},443,{"v":0,"d":"0 "},0,0,{"v":0,"d":"0 "}]
[null,null,448,{"$nulls":5},{"v":0,"d":"0 "},{"$nulls":4},{"v":448,"d":"448 "},444,{"v":0,"d":"0 "},0,0,{"v":0,"d":"0 "}]
[null,null,449,{"$nulls":5},{"v":0,"d":"0 "},{"$nulls":4},{"v":449,"d":"449 "},445,{"v":0,"d":"0 "},0,0,{"v":0,"d":"0 "}]
[null,null,450,{"$nulls":5},{"v":0,"d":"0 "},{"$nulls":4},{"v":450,"d":"450 "},446,{"v":0,"d":"0 "},0,0,{"v":0,"d":"0 "}]
[null,null,451,{"$nulls":5},{"v":0,"d":"0 "},{"$nulls":4},{"v":451,"d":"451 "},447,{"v":0,"d":"0 "},0,0,{"v":0,"d":"0 "}]
[null,null,452,{"$nulls":5},{"$f":"G461*H461","v":{"v":0,"d":"0 "}},{"$nulls":4},{"v":452,"d":"452 "},448,{"v":0,"d":"0 "},0,0,{"v":0,"d":"0 "}]
[null,null,453,{"$nulls":5},{"v":0,"d":"0 "},{"$nulls":4},{"v":453,"d":"453 "},449,{"v":0,"d":"0 "},0,0,{"v":0,"d":"0 "}]
[null,null,454,{"$nulls":5},{"v":0,"d":"0 "},{"$nulls":4},{"v":454,"d":"454 "},450,{"v":0,"d":"0 "},0,0,{"v":0,"d":"0 "}]
[null,null,455,{"$nulls":5},{"v":0,"d":"0 "},{"$nulls":4},{"v":455,"d":"455 "},451,{"v":0,"d":"0 "},0,0,{"v":0,"d":"0 "}]
[null,null,456,{"$nulls":5},{"v":0,"d":"0 "},{"$nulls":4},{"v":456,"d":"456 "},452,{"v":0,"d":"0 "},0,0,{"v":0,"d":"0 "}]
[null,null,457,{"$nulls":5},{"v":0,"d":"0 "},{"$nulls":4},{"v":457,"d":"457 "},453,{"v":0,"d":"0 "},0,0,{"v":0,"d":"0 "}]
[null,null,458,{"$nulls":5},{"v":0,"d":"0 "},{"$nulls":4},{"v":458,"d":"458 "},454,{"v":0,"d":"0 "},0,0,{"v":0,"d":"0 "}]
[null,null,459,{"$nulls":5},{"v":0,"d":"0 "},{"$nulls":4},{"v":459,"d":"459 "},455,{"v":0,"d":"0 "},0,0,{"v":0,"d":"0 "}]
[null,null,460,{"$nulls":5},{"v":0,"d":"0 "},{"$nulls":4},{"v":460,"d":"460 "},456,{"v":0,"d":"0 "},0,0,{"v":0,"d":"0 "}]
[null,null,461,{"$nulls":5},{"v":0,"d":"0 "},{"$nulls":4},{"v":461,"d":"461 "},457,{"v":0,"d":"0 "},0,0,{"v":0,"d":"0 "}]
[null,null,462,{"$nulls":5},{"v":0,"d":"0 "},{"$nulls":4},{"v":462,"d":"462 "},458,{"v":0,"d":"0 "},0,0,{"v":0,"d":"0 "}]
[null,null,463,{"$nulls":5},{"v":0,"d":"0 "},{"$nulls":4},{"v":463,"d":"463 "},459,{"v":0,"d":"0 "},0,0,{"v":0,"d":"0 "}]
[null,null,464,{"$nulls":5},{"v":0,"d":"0 "},{"$nulls":4},{"v":464,"d":"464 "},460,{"v":0,"d":"0 "},0,0,{"v":0,"d":"0 "}]
[null,null,465,{"$nulls":5},{"v":0,"d":"0 "},{"$nulls":4},{"v":465,"d":"465 "},461,{"v":0,"d":"0 "},0,0,{"v":0,"d":"0 "}]
[null,null,466,{"$nulls":5},{"v":0,"d":"0 "},{"$nulls":4},{"v":466,"d":"466 "},462,{"v":0,"d":"0 "},0,0,{"v":0,"d":"0 "}]
[null,null,467,{"$nulls":5},{"v":0,"d":"0 "},{"$nulls":4},{"v":467,"d":"467 "},463,{"$f":"VLOOKUP(N476,$C:$J,2,FALSE)","v":{"v":0,"d":"0 "}},{"$f":"VLOOKUP(N476,$C:$J,3,FALSE)","v":0},{"$f":"VLOOKUP(N476,$C:$J,4,FALSE)","v":0},{"$f":"VLOOKUP(N476,$C:$J,5,FALSE)","v":{"v":0,"d":"0 "}}]
[null,null,468,{"$nulls":5},{"v":0,"d":"0 "},{"$nulls":4},{"v":468,"d":"468 "},464,{"v":0,"d":"0 "},0,0,{"v":0,"d":"0 "}]
[null,null,469,{"$nulls":5},{"v":0,"d":"0 "},{"$nulls":4},{"v":469,"d":"469 "},465,{"v":0,"d":"0 "},0,0,{"v":0,"d":"0 "}]
[null,null,470,{"$nulls":5},{"v":0,"d":"0 "},{"$nulls":4},{"v":470,"d":"470 "},466,{"v":0,"d":"0 "},0,0,{"v":0,"d":"0 "}]
[null,null,471,{"$nulls":5},{"v":0,"d":"0 "},{"$nulls":4},{"v":471,"d":"471 "},467,{"v":0,"d":"0 "},0,0,{"v":0,"d":"0 "}]
[null,null,472,{"$nulls":5},{"v":0,"d":"0 "},{"$nulls":4},{"v":472,"d":"472 "},468,{"v":0,"d":"0 "},0,0,{"v":0,"d":"0 "}]
[null,null,473,{"$nulls":5},{"v":0,"d":"0 "},{"$nulls":4},{"v":473,"d":"473 "},469,{"v":0,"d":"0 "},0,0,{"v":0,"d":"0 "}]
[null,null,474,{"$nulls":5},{"v":0,"d":"0 "},{"$nulls":4},{"v":474,"d":"474 "},470,{"v":0,"d":"0 "},0,0,{"v":0,"d":"0 "}]
[null,null,475,{"$nulls":5},{"v":0,"d":"0 "},{"$nulls":4},{"v":475,"d":"475 "},471,{"v":0,"d":"0 "},0,0,{"v":0,"d":"0 "}]
[null,null,476,{"$nulls":5},{"v":0,"d":"0 "},{"$nulls":4},{"v":476,"d":"476 "},472,{"v":0,"d":"0 "},0,0,{"v":0,"d":"0 "}]
[null,null,477,{"$nulls":5},{"v":0,"d":"0 "},{"$nulls":4},{"v":477,"d":"477 "},473,{"v":0,"d":"0 "},0,0,{"v":0,"d":"0 "}]
[null,null,478,{"$nulls":5},{"v":0,"d":"0 "},{"$nulls":4},{"v":478,"d":"478 "},474,{"v":0,"d":"0 "},0,0,{"v":0,"d":"0 "}]
[null,null,479,{"$nulls":5},{"v":0,"d":"0 "},{"$nulls":4},{"v":479,"d":"479 "},475,{"v":0,"d":"0 "},0,0,{"v":0,"d":"0 "}]
[null,null,480,{"$nulls":5},{"v":0,"d":"0 "},{"$nulls":4},{"v":480,"d":"480 "},476,{"v":0,"d":"0 "},0,0,{"v":0,"d":"0 "}]
[null,null,481,{"$nulls":5},{"v":0,"d":"0 "},{"$nulls":4},{"v":481,"d":"481 "},477,{"v":0,"d":"0 "},0,0,{"v":0,"d":"0 "}]
[null,null,482,{"$nulls":5},{"v":0,"d":"0 "},{"$nulls":4},{"v":482,"d":"482 "},478,{"v":0,"d":"0 "},0,0,{"v":0,"d":"0 "}]
[null,null,483,{"$nulls":5},{"v":0,"d":"0 "},{"$nulls":4},{"v":483,"d":"483 "},479,{"v":0,"d":"0 "},0,0,{"v":0,"d":"0 "}]
[null,null,484,{"$nulls":5},{"v":0,"d":"0 "},{"$nulls":4},{"v":484,"d":"484 "},480,{"v":0,"d":"0 "},0,0,{"v":0,"d":"0 "}]
[null,null,485,{"$nulls":5},{"v":0,"d":"0 "},{"$nulls":4},{"v":485,"d":"485 "},481,{"v":0,"d":"0 "},0,0,{"v":0,"d":"0 "}]
[null,null,486,{"$nulls":5},{"v":0,"d":"0 "},{"$nulls":4},{"v":486,"d":"486 "},482,{"v":0,"d":"0 "},0,0,{"v":0,"d":"0 "}]
[null,null,487,{"$nulls":5},{"v":0,"d":"0 "},{"$nulls":4},{"v":487,"d":"487 "},483,{"v":0,"d":"0 "},0,0,{"v":0,"d":"0 "}]
[null,null,488,{"$nulls":5},{"v":0,"d":"0 "},{"$nulls":4},{"v":488,"d":"488 "},484,{"v":0,"d":"0 "},0,0,{"v":0,"d":"0 "}]
[null,null,489,{"$nulls":5},{"v":0,"d":"0 "},{"$nulls":4},{"v":489,"d":"489 "},485,{"v":0,"d":"0 "},0,0,{"v":0,"d":"0 "}]
[null,null,490,{"$nulls":5},{"v":0,"d":"0 "},{"$nulls":4},{"v":490,"d":"490 "},486,{"v":0,"d":"0 "},0,0,{"v":0,"d":"0 "}]
[null,null,491,{"$nulls":5},{"v":0,"d":"0 "},{"$nulls":4},{"v":491,"d":"491 "},487,{"v":0,"d":"0 "},0,0,{"v":0,"d":"0 "}]
[null,null,492,{"$nulls":5},{"v":0,"d":"0 "},{"$nulls":4},{"v":492,"d":"492 "},488,{"v":0,"d":"0 "},0,0,{"v":0,"d":"0 "}]
[null,null,493,{"$nulls":5},{"v":0,"d":"0 "},{"$nulls":4},{"v":493,"d":"493 "},489,{"v":0,"d":"0 "},0,0,{"v":0,"d":"0 "}]
[null,null,494,{"$nulls":5},{"v":0,"d":"0 "},{"$nulls":4},{"v":494,"d":"494 "},490,{"v":0,"d":"0 "},0,0,{"v":0,"d":"0 "}]
[null,null,495,{"$nulls":5},{"v":0,"d":"0 "},{"$nulls":4},{"v":495,"d":"495 "},491,{"v":0,"d":"0 "},0,0,{"v":0,"d":"0 "}]
[null,null,496,{"$nulls":5},{"v":0,"d":"0 "},{"$nulls":4},{"v":496,"d":"496 "},492,{"v":0,"d":"0 "},0,0,{"v":0,"d":"0 "}]
[null,null,497,{"$nulls":5},{"v":0,"d":"0 "},{"$nulls":4},{"v":497,"d":"497 "},493,{"v":0,"d":"0 "},0,0,{"v":0,"d":"0 "}]
[null,null,498,"小計",{"$nulls":4},{"v":0,"d":"0 "},{"$nulls":4},{"v":498,"d":"498 "},494,"小計",0,0,{"v":0,"d":"0 "}]
[null,null,499,"合計",{"$nulls":4},{"v":0,"d":"0 "},{"$nulls":4},{"v":499,"d":"499 "},495,"合計",0,0,{"v":0,"d":"0 "}]
[null,null,500,"以下余白",{"$nulls":4},{"v":0,"d":"0 "},{"$nulls":4},{"v":500,"d":"500 "},496,"以下余白",0,0,{"v":0,"d":"0 "}]

{"sheet":"受領書","index":15,"n_rows":25,"n_cols":27,"rows_kept":25,"hidden":true,"merged":[[0,2,0,4],[0,7,0,10],[0,11,0,14],[0,15,1,27],[1,7,1,10],[1,11,1,14],[2,7,2,10],[2,11,2,14],[2,16,2,21],[2,23,2,25],[2,26,2,27],[3,7,3,10],[3,23,3,25],[4,7,4,10],[4,11,4,14],[4,16,4,21],[4,23,4,25],[5,2,5,4],[5,7,5,10],[5,11,5,14],[5,16,5,21],[5,23,5,25],[6,7,6,10],[6,11,6,14],[6,16,6,18],[6,19,6,21],[6,22,7,22],[6,23,7,27],[7,7,7,10],[7,11,7,14],[7,16,7,21],[8,16,8,19],[8,20,8,21],[8,22,8,23],[9,11,9,14],[10,7,10,10],[10,11,10,14],[10,16,10,19],[11,0,11,3],[11,5,11,8],[11,9,11,11],[11,12,11,15],[11,16,11,18],[11,19,11,21],[12,0,12,3],[12,5,12,8],[12,9,12,11],[12,12,12,15],[12,16,12,18],[12,19,12,21],[13,0,13,2],[13,3,13,8],[13,9,13,14],[13,15,13,16],[13,17,13,18],[13,19,13,20],[13,21,13,22],[13,23,13,24],[13,25,13,27],[14,0,14,2],[14,3,14,8],[14,9,14,14],[14,15,14,16],[14,17,14,18],[14,19,14,20],[14,21,14,22],[14,23,14,24],[14,25,14,27],[15,0,15,2],[15,3,15,8],[15,9,15,14],[15,15,15,16],[15,17,15,18],[15,19,15,20],[15,21,15,22],[16,0,16,2],[16,3,16,8],[16,9,16,14],[16,15,16,16],[16,17,16,18],[16,19,16,20],[16,21,16,22],[17,0,17,2],[17,3,17,8],[17,9,17,14],[17,15,17,16],[17,17,17,18],[17,19,17,20],[17,21,17,22],[18,0,18,2],[18,3,18,8],[18,9,18,14],[18,15,18,16],[18,17,18,18],[18,19,18,20],[18,21,18,22],[19,0,19,2],[19,3,19,8],[19,9,19,14],[19,15,19,16],[19,17,19,18],[19,19,19,20],[19,21,19,22],[20,0,20,2],[20,3,20,8],[20,9,20,14],[20,15,20,16],[20,17,20,18],[20,19,20,20],[20,21,20,22],[21,0,21,2],[21,3,21,8],[21,9,21,14],[21,15,21,16],[21,17,21,18],[21,19,21,20],[21,21,21,22],[22,0,22,2],[22,3,22,8],[22,9,22,14],[22,15,22,16],[22,17,22,18],[22,19,22,20],[22,21,22,22],[23,0,23,2],[23,3,23,8],[23,9,23,14],[24,23,24,27]]}
[null,"物","官職氏名印",{"$nulls":4},"年　月　日",{"$nulls":3},"．　　　　．",{"$nulls":3},"受　　　　　　　　　　領　　　　　　　　　書"]
[null,"品",{"$nulls":5},"証書番号"]
["引","官",{"$nulls":5},"取扱者印",{"$nulls":3},"転記",{"$nulls":4},"所在地、会社名、代表者名印",{"$nulls":6},"年　　月　　日",null,null,"担当官印"]
[null,"理",{"$nulls":13},"受",{"$nulls":6},"契",{"$f":"契約内容!M4","v":"2026-02-20"}]
[null,"官",{"$nulls":9},"．　　　　．",{"$nulls":3},"領",{"$f":"請求書!H14","v":{"$error":"#N/A"}},{"$nulls":5},"約","番　　　　　号"]
["渡",null,"官職氏名印",{"$nulls":4},"年　月　日",{"$nulls":3},"．　　　　．",{"$nulls":3},"者",{"$f":"請求書!H16","v":{"$error":"#N/A"}},{"$nulls":6},{"$f":"契約内容!M2","v":"5S8P1KT216000"}]
[null,"引",{"$nulls":5},"証書番号",{"$nulls":7},"・",{"$f":"請求書!H18","v":{"$error":"#N/A"}},null,null,{"$f":"請求書!K18","v":{"$error":"#N/A"}},null,null,"根拠",{"$f":"'納品書 (業者)'!G5","v":"58LL1A80093"}]
[null,"渡",{"$nulls":5},"取扱者印",{"$nulls":3},"転記",{"$nulls":3},"契",{"$f":"'納品書 (業者)'!B10","v":{"v":0,"d":"0 "}}]
["者","者",{"$nulls":13},"約","受領年月日",{"$nulls":3},"受領印"]
[{"$nulls":11},"．　　　　．",{"$nulls":3},"者"]
[{"$nulls":7},"引渡年月日",{"$nulls":3},"．　　　　．",{"$nulls":4},"．　　　　　．"]
["資料種別",{"$nulls":3},"相手方番号","処理年月日",{"$nulls":3},"物品区分",null,null,"証書年月日",{"$nulls":3},"証書番号",null,null,"記録区分"]
[{"$nulls":5},"．　　．",{"$nulls":6},"．　　．"]
["項目番号",null,null,"物品番号及び品名",{"$nulls":5},"規格",{"$nulls":5},"非消・消区分",null,"程度",null,"単位",null,"数量",null,"処置コ－ド",null,"摘要"]
[{"$nulls":3},{"$f":"'納品書 (業者)'!D15","v":"オープン券（航空券）　宮古／石垣⇔九州内各空港"},{"$nulls":5},{"$f":"'納品書 (業者)'!F15","v":"仕様書のとおり"},{"$nulls":9},{"$f":"'納品書 (業者)'!K15","v":"SH"},null,{"$f":"'納品書 (業者)'!J15","v":150}]
[{"$nulls":3},{"$f":"'納品書 (業者)'!D17","v":{"v":0,"d":"0 "}},{"$nulls":5},{"$f":"'納品書 (業者)'!F17","v":{"v":0,"d":"0 "}},{"$nulls":9},{"$f":"'納品書 (業者)'!K17","v":0},null,{"$f":"'納品書 (業者)'!J17","v":0}]
[{"$nulls":3},{"$f":"'納品書 (業者)'!D17","v":{"v":0,"d":"0 "}},{"$nulls":5},{"$f":"'納品書 (業者)'!F17","v":{"v":0,"d":"0 "}},{"$nulls":9},{"$f":"'納品書 (業者)'!K17","v":0},null,{"$f":"'納品書 (業者)'!J17","v":0}]
[{"$nulls":3},{"$f":"'納品書 (業者)'!D18","v":{"v":0,"d":"0 "}},{"$nulls":5},{"$f":"'納品書 (業者)'!F18","v":{"v":0,"d":"0 "}},{"$nulls":9},{"$f":"'納品書 (業者)'!K18","v":0},null,{"$f":"'納品書 (業者)'!J18","v":0}]
[{"$nulls":3},{"$f":"'納品書 (業者)'!D19","v":{"v":0,"d":"0 "}},{"$nulls":5},{"$f":"'納品書 (業者)'!F19","v":{"v":0,"d":"0 "}},{"$nulls":9},{"$f":"'納品書 (業者)'!K19","v":0},null,{"$f":"'納品書 (業者)'!J19","v":0}]
[{"$nulls":3},{"$f":"'納品書 (業者)'!D20","v":{"v":0,"d":"0 "}},{"$nulls":5},{"$f":"'納品書 (業者)'!F20","v":{"v":0,"d":"0 "}},{"$nulls":9},{"$f":"'納品書 (業者)'!K20","v":0},null,{"$f":"'納品書 (業者)'!J20","v":0}]
[{"$nulls":3},{"$f":"'納品書 (業者)'!D21","v":{"v":0,"d":"0 "}},{"$nulls":5},{"$f":"'納品書 (業者)'!F21","v":{"v":0,"d":"0 "}},{"$nulls":9},{"$f":"'納品書 (業者)'!K21","v":0},null,{"$f":"'納品書 (業者)'!J21","v":0}]
[{"$nulls":3},{"$f":"'納品書 (業者)'!D22","v":{"v":0,"d":"0 "}},{"$nulls":5},{"$f":"'納品書 (業者)'!F22","v":{"v":0,"d":"0 "}},{"$nulls":9},{"$f":"'納品書 (業者)'!K22","v":0},null,{"$f":"'納品書 (業者)'!J22","v":0}]
[{"$nulls":3},{"$f":"'納品書 (業者)'!D24","v":{"v":0,"d":"0 "}},{"$nulls":5},{"$f":"'納品書 (業者)'!F24","v":{"v":0,"d":"0 "}},{"$nulls":9},{"$f":"'納品書 (業者)'!K24","v":0},null,{"$f":"'納品書 (業者)'!J24","v":0}]
[{"$nulls":3},{"$f":"'納品書 (業者)'!D25","v":0},{"$nulls":5},{"$f":"'納品書 (業者)'!F25","v":0},{"$nulls":9},{"$f":"'納品書 (業者)'!K25","v":0},null,{"$f":"'納品書 (業者)'!J25","v":0}]
[{"$nulls":23},"ﾍﾟｰｼﾞ中の第　　　ﾍﾟｰｼﾞ"]

{"sheet":"角３","index":16,"n_rows":45,"n_cols":10,"rows_kept":45,"hidden":true,"merged":[[0,0,0,5],[0,7,0,10],[1,0,16,10],[17,0,17,8],[18,0,18,8],[18,9,22,10],[19,0,22,8],[31,0,31,10],[42,0,42,10],[43,0,43,10],[44,0,44,10]]}
[{"$nulls":7},{"$f":"VLOOKUP(業者一覧!$A$2,業者一覧!$B$2:$K$204,6)","v":{"$error":"#N/A"}}]
{"$rows_empty":16}
[{"$f":"請求書!H14","v":{"$error":"#N/A"}}]
[{"$f":"請求書!H16","v":{"$error":"#N/A"}},{"$nulls":8},"御中"]
["（担当者様　　　気付）"]
{"$rows_empty":11}
["「契約関係書類」在中"]
{"$rows_empty":10}
["　　　　　　　　　　　　　　宮古島市上野字野原８３－５"]
["　　　　　　　　　　　　　　陸上自衛隊宮古島駐屯地"]
["　　　　　　　　　　　　　　第４４４会計隊　契約班　福士"]

{"sheet":"長３","index":17,"n_rows":45,"n_cols":10,"rows_kept":45,"hidden":true,"merged":[[0,0,0,5],[0,7,0,10],[1,0,16,10],[17,0,17,8],[18,0,18,8],[18,9,22,10],[19,0,22,8],[31,0,31,10],[42,0,42,10],[43,0,43,10],[44,0,44,10]]}
[{"$nulls":7},{"$f":"VLOOKUP(業者一覧!$A$2,業者一覧!$B$2:$K$204,6)","v":{"$error":"#N/A"}}]
{"$rows_empty":16}
[{"$f":"請求書!H14","v":{"$error":"#N/A"}}]
[{"$f":"請求書!H16","v":{"$error":"#N/A"}},{"$nulls":8},"御中"]
["（担当者様　　　気付）"]
{"$rows_empty":11}
["「契約書類」在中"]
{"$rows_empty":10}
[{"$f":"角３!A43:K43","v":"　　　　　　　　　　　　　　宮古島市上野字野原８３－５"}]
[{"$f":"角３!A44:K44","v":"　　　　　　　　　　　　　　陸上自衛隊宮古島駐屯地"}]
[{"$f":"角３!A45:K45","v":"　　　　　　　　　　　　　　第４４４会計隊　契約班　福士"}]

{"sheet":"支払調書","index":18,"n_rows":47,"n_cols":9,"rows_kept":47,"hidden":true,"merged":[[1,2,2,6],[7,6,7,8],[15,2,20,4],[15,5,20,8],[17,0,18,1],[17,10,17,15],[18,10,18,15],[22,11,22,16],[24,0,25,1],[30,2,30,3],[31,2,31,3],[32,0,34,1],[34,3,34,4],[35,3,35,4],[38,2,41,8],[39,0,40,1],[46,0,50,1],[49,2,49,8],[50,2,50,8],[51,2,51,8],[52,2,52,8],[53,2,53,8]]}
[]
[null,null,"支　　払　　調　　書"]
[]
[]
[]
["　　下記のとおり支払いを必要とするので証明する。"]
[]
[{"$nulls":6},"2024-03-27"]
[]
[]
[{"$nulls":5},{"$f":"基本情報!B16","v":"分任資金前渡官吏"}]
[{"$nulls":5},{"$f":"基本情報!B7","v":"陸上自衛隊宮古島駐屯地"}]
[{"$nulls":5},{"$f":"基本情報!B8","v":"第４４４会計隊長　藤澤　竹広"}]
[]
[]
[null,null,{"$f":"I32","v":{"v":419320,"d":"¥419,320-"}},null,null,{"$f":"\"税込（うち消費税　\" & TEXT(C16-INT(C16*100/110),\"#,#\") & \"円）\"","v":"税込（うち消費税　38,120円）"}]
[]
["支　払　金　額"]
[]
[]
[]
[]
[]
[null,null,{"$f":"基本情報!B11","v":{"$error":"#N/A"}}]
["支　　払　　先",null,{"$f":"基本情報!B12","v":{"$error":"#N/A"}}]
[null,null,{"$f":"基本情報!B13","v":{"$error":"#N/A"}}]
[]
[]
[]
[]
[null,null,"品名",null,"規格","数量","単位","単価","金額"]
[null,null,"内訳書のとおり",{"$nulls":5},{"v":419320,"d":"419,320"}]
["内　　　　　訳"]
[]
[]
[]
[]
[]
[null,null,"　　慣習上請求書を発行しないため"]
["請求書を得がたい理由\n"]
[]
[]
[]
[]
[]
[]
["備　　　　　　考"]

{"sheet":"請求書","index":19,"n_rows":48,"n_cols":14,"rows_kept":48,"hidden":true,"merged":[[1,0,2,14],[4,4,4,8],[4,9,4,13],[6,1,6,3],[6,4,8,5],[7,1,7,3],[8,1,8,3],[10,1,11,1],[10,2,11,3],[10,4,11,6],[13,4,13,5],[13,7,13,13],[15,4,15,5],[15,7,16,13],[17,4,17,5],[17,7,19,9],[17,10,19,13],[19,4,19,5],[20,7,20,13],[21,1,21,13],[22,1,22,13],[24,0,24,2],[24,3,24,4],[24,5,24,7],[24,9,24,10],[24,11,24,12],[24,13,24,14],[25,0,25,2],[25,3,25,4],[25,5,25,7],[25,13,25,14],[26,0,26,2],[26,3,26,4],[26,5,26,7],[26,13,26,14],[27,0,27,2],[27,3,27,4],[27,5,27,7],[27,13,27,14],[28,0,28,2],[28,3,28,4],[28,5,28,7],[28,13,28,14],[29,0,29,2],[29,3,29,4],[29,5,29,7],[29,13,29,14],[30,0,30,2],[30,3,30,4],[30,5,30,7],[30,13,30,14],[31,0,31,2],[31,3,31,4],[31,5,31,7],[31,13,31,14],[32,0,32,2],[32,3,32,4],[32,5,32,7],[32,13,32,14],[33,0,33,2],[33,3,33,4],[33,5,33,7],[33,13,33,14],[34,0,34,2],[34,3,34,4],[34,5,34,7],[34,13,34,14],[35,0,35,2],[35,3,35,4],[35,5,35,7],[35,13,35,14],[36,0,36,2],[36,3,36,4],[36,5,36,7],[36,13,36,14],[37,0,37,2],[37,3,37,4],[37,5,37,7],[37,13,37,14],[38,0,38,2],[38,3,38,4],[38,5,38,7],[38,13,38,14],[39,0,39,2],[39,3,39,4],[39,5,39,7],[40,0,40,2],[40,3,40,4],[40,5,40,7],[40,13,40,14],[41,0,41,2],[41,3,41,4],[41,5,41,7],[41,13,41,14],[42,0,42,2],[42,3,42,4],[42,5,42,7],[42,13,42,14],[43,0,43,2],[43,3,43,4],[43,5,43,7],[44,0,44,2],[44,3,44,4],[44,5,44,7],[44,13,44,14],[45,0,45,2],[45,3,45,4],[45,5,45,7],[45,13,45,14],[46,0,46,2],[46,3,46,4],[46,5,46,7],[46,13,46,14],[47,0,47,2],[47,3,47,4],[47,5,47,7],[47,13,47,14]]}
[]
["請　　求　　書"]
[]
[]
[{"$nulls":4},{"$f":"IF(D47=8%,\"（軽減税率対象）\",\"\")","v":""},{"$nulls":4},"令和　　年　　月　　日"]
[]
[null,{"$f":"基本情報!B16","v":"分任資金前渡官吏"},null,null,"殿"]
[null,{"$f":"基本情報!B17","v":"陸上自衛隊宮古島駐屯地"}]
[null,{"$f":"基本情報!B18","v":"第４４４会計隊長　　藤澤　竹広"}]
[]
[null,"￥",{"$f":"INT(L48)","v":{"v":0,"d":"0-"}}]
[]
[]
[{"$nulls":4},"住　所",null,null,{"$f":"VLOOKUP(業者一覧!$A$2,業者一覧!$B$2:$J$233,7)","v":{"$error":"#N/A"}}]
[]
[{"$nulls":4},"社　名",null,null,{"$f":"VLOOKUP(業者一覧!$A$2,業者一覧!$B$2:$J$233,3)","v":{"$error":"#N/A"}}]
[{"$nulls":7},{"$error":"#REF!"}]
[{"$nulls":4},"役　職",null,null,{"$f":"VLOOKUP(業者一覧!$A$2,業者一覧!$B$2:$J$233,8)","v":{"$error":"#N/A"}},null,null,{"$f":"VLOOKUP(業者一覧!$A$2,業者一覧!$B$2:$J$233,9)","v":{"$error":"#N/A"}}]
[]
[{"$nulls":4},"氏　名"]
[{"$nulls":7},{"$f":"\"担当者　　　　　　　　\" & VLOOKUP(業者一覧!$A$2,業者一覧!$B$2:$M$233,11) & \"　（\" &VLOOKUP(業者一覧!$A$2,業者一覧!$B$2:$M$233,4) &\"）\"","v":{"$error":"#N/A"}}]
[null,"上記のとおり請求致します。"]
[null,"内　　　訳"]
[]
["品　　　名",null,null,"規　　　格",null,"数　　量",null,null,"単位","単　価",null,"金　　額",null,"摘　要"]
[{"$f":"契約内容!P3","v":"オープン券（航空券）　宮古／石垣⇔九州内各空港"},null,null,{"$f":"契約内容!Q3","v":"仕様書のとおり"},null,{"$f":"契約内容!S3","v":150},null,null,{"$f":"契約内容!R3","v":"SH"},{"$f":"契約内容!T3","v":0},null,{"$f":"F26*J26","v":0},null,"課税対象"]
[{"$f":"契約内容!P4","v":{"v":0,"d":"0 "}},null,null,{"$f":"契約内容!Q4","v":"以下余白"},null,{"$f":"契約内容!S4","v":0},null,null,{"$f":"契約内容!R4","v":0},{"$f":"契約内容!T4","v":0},null,{"$f":"F27*J27","v":0},null,"非課税対象"]
[{"$f":"契約内容!P5","v":{"v":0,"d":"0 "}},null,null,{"$f":"契約内容!Q5","v":0},null,{"$f":"契約内容!S5","v":0},null,null,{"$f":"契約内容!R5","v":0},{"$f":"契約内容!T5","v":0},null,{"$f":"F28*J28","v":0}]
[{"$f":"契約内容!P6","v":{"v":0,"d":"0 "}},null,null,{"$f":"契約内容!Q6","v":0},null,{"$f":"契約内容!S6","v":0},null,null,{"$f":"契約内容!R6","v":0},{"$f":"契約内容!T6","v":0},null,{"$f":"F29*J29","v":0}]
[{"$f":"契約内容!P7","v":{"v":0,"d":"0 "}},null,null,{"$f":"契約内容!Q7","v":0},null,{"$f":"契約内容!S7","v":0},null,null,{"$f":"契約内容!R7","v":0},{"$f":"契約内容!T7","v":0},null,{"$f":"F30*J30","v":0}]
[{"$f":"契約内容!P8","v":{"v":0,"d":"0 "}},null,null,{"$f":"契約内容!Q8","v":0},null,{"$f":"契約内容!S8","v":0},null,null,{"$f":"契約内容!R8","v":0},{"$f":"契約内容!T8","v":0},null,{"$f":"F31*J31","v":0}]
[{"$f":"契約内容!P9","v":{"v":0,"d":"0 "}},null,null,{"$f":"契約内容!Q9","v":0},null,{"$f":"契約内容!S9","v":0},null,null,{"$f":"契約内容!R9","v":0},{"$f":"契約内容!T9","v":0},null,0]
[{"$f":"契約内容!P10","v":{"v":0,"d":"0 "}},null,null,{"$f":"契約内容!Q10","v":0},null,{"$f":"契約内容!S10","v":0},null,null,{"$f":"契約内容!R10","v":0},{"$f":"契約内容!T10","v":0},null,0]
[{"$f":"契約内容!P11","v":{"v":0,"d":"0 "}},null,null,{"$f":"契約内容!Q11","v":0},null,{"$f":"契約内容!S11","v":0},null,null,{"$f":"契約内容!R11","v":0},{"$f":"契約内容!T11","v":0},null,0]
[{"$f":"契約内容!P12","v":{"v":0,"d":"0 "}},null,null,{"$f":"契約内容!Q12","v":0},null,{"$f":"契約内容!S12","v":0},null,null,{"$f":"契約内容!R12","v":0},{"$f":"契約内容!T12","v":0},null,0]
[{"$f":"契約内容!P13","v":{"v":0,"d":"0 "}},null,null,{"$f":"契約内容!Q13","v":0},null,{"$f":"契約内容!S13","v":0},null,null,{"$f":"契約内容!R13","v":0},{"$f":"契約内容!T13","v":0},null,0]
[{"$f":"契約内容!P14","v":{"v":0,"d":"0 "}},null,null,{"$f":"契約内容!Q14","v":0},null,{"$f":"契約内容!S14","v":0},null,null,{"$f":"契約内容!R14","v":0},{"$f":"契約内容!T14","v":0},null,0]
[{"$f":"契約内容!P15","v":{"v":0,"d":"0 "}},null,null,{"$f":"契約内容!Q15","v":0},null,{"$f":"契約内容!S15","v":0},null,null,{"$f":"契約内容!R15","v":0},{"$f":"契約内容!T15","v":0},null,0]
[{"$f":"契約内容!P16","v":{"v":0,"d":"0 "}},null,null,{"$f":"契約内容!Q16","v":0},null,{"$f":"契約内容!S16","v":0},null,null,{"$f":"契約内容!R16","v":0},{"$f":"契約内容!T16","v":0},null,0]
[{"$f":"契約内容!P17","v":{"v":0,"d":"0 "}},null,null,{"$f":"契約内容!Q17","v":0},null,{"$f":"契約内容!S17","v":0},null,null,{"$f":"契約内容!R17","v":0},{"$f":"契約内容!T17","v":0},null,0]
[{"$f":"契約内容!P18","v":{"v":0,"d":"0 "}},null,null,{"$f":"契約内容!Q18","v":0},null,{"$f":"契約内容!S18","v":0},null,null,{"$f":"契約内容!R18","v":0},{"$f":"契約内容!T18","v":0},null,0]
[{"$f":"契約内容!P19","v":{"v":0,"d":"0 "}},null,null,{"$f":"契約内容!Q19","v":0},null,{"$f":"契約内容!S19","v":0},null,null,{"$f":"契約内容!R19","v":0},{"$f":"契約内容!T19","v":0},null,0]
[{"$f":"契約内容!P20","v":{"v":0,"d":"0 "}},null,null,{"$f":"契約内容!Q20","v":0},null,{"$f":"契約内容!S20","v":0},null,null,{"$f":"契約内容!R20","v":0},{"$f":"契約内容!T20","v":0},null,0]
[{"$f":"契約内容!P21","v":{"v":0,"d":"0 "}},null,null,{"$f":"契約内容!Q21","v":0},null,{"$f":"契約内容!S21","v":0},null,null,{"$f":"契約内容!R21","v":0},{"$f":"契約内容!T21","v":0},null,0]
[{"$f":"契約内容!P22","v":{"v":0,"d":"0 "}},null,null,{"$f":"契約内容!Q22","v":0},null,{"$f":"契約内容!S22","v":0},null,null,{"$f":"契約内容!R22","v":0},{"$f":"契約内容!T22","v":0},null,0]
["小計",{"$nulls":10},{"$f":"SUM(L26:L45)","v":0}]
["消費税",null,null,{"v":0.1,"d":"10%"},{"$nulls":7},{"$f":"INT(L26*D47)","v":0}]
["合計",{"$nulls":10},{"$f":"L46+L47","v":0}]

{"sheet":"請求書 (税込)","index":20,"n_rows":48,"n_cols":17,"rows_kept":48,"hidden":true,"merged":[[1,0,2,14],[4,4,4,8],[4,9,4,12],[6,1,6,3],[6,4,8,5],[7,1,7,3],[8,1,8,3],[10,1,11,1],[10,2,11,3],[10,4,11,6],[13,4,13,5],[13,7,13,13],[15,4,15,5],[15,7,16,13],[17,4,17,5],[17,7,19,9],[17,10,19,13],[19,4,19,5],[20,6,20,14],[21,1,21,13],[22,1,22,13],[24,0,24,2],[24,3,24,4],[24,5,24,7],[24,9,24,10],[24,11,24,12],[24,13,24,14],[25,0,25,2],[25,3,25,4],[25,5,25,7],[25,13,25,14],[26,0,26,2],[26,3,26,4],[26,5,26,7],[26,13,26,14],[27,0,27,2],[27,3,27,4],[27,5,27,7],[27,13,27,14],[28,0,28,2],[28,3,28,4],[28,5,28,7],[28,13,28,14],[29,0,29,2],[29,3,29,4],[29,5,29,7],[29,13,29,14],[30,0,30,2],[30,3,30,4],[30,5,30,7],[30,13,30,14],[31,0,31,2],[31,3,31,4],[31,5,31,7],[31,13,31,14],[32,0,32,2],[32,3,32,4],[32,5,32,7],[32,13,32,14],[33,0,33,2],[33,3,33,4],[33,5,33,7],[33,13,33,14],[34,0,34,2],[34,3,34,4],[34,5,34,7],[34,13,34,14],[35,0,35,2],[35,3,35,4],[35,5,35,7],[35,13,35,14],[36,0,36,2],[36,3,36,4],[36,5,36,7],[36,13,36,14],[37,0,37,2],[37,3,37,4],[37,5,37,7],[37,13,37,14],[38,0,38,2],[38,3,38,4],[38,5,38,7],[38,13,38,14],[39,0,39,2],[39,3,39,4],[39,5,39,7],[40,0,40,2],[40,3,40,4],[40,5,40,7],[40,13,40,14],[41,0,41,2],[41,3,41,4],[41,5,41,7],[41,13,41,14],[42,0,42,2],[42,3,42,4],[42,5,42,7],[42,13,42,14],[43,0,43,2],[43,3,43,4],[43,5,43,7],[44,0,44,2],[44,3,44,4],[44,5,44,7],[44,13,44,14],[45,0,45,2],[45,3,45,4],[45,5,45,7],[45,13,45,14],[46,0,46,2],[46,3,46,4],[46,5,46,7],[46,13,46,14],[47,0,47,2],[47,3,47,4],[47,5,47,7],[47,13,47,14]]}
[]
["請　　求　　書"]
[]
[]
[{"$nulls":9},"令和　　年　　月　　日"]
[]
[null,{"$f":"基本情報!B16","v":"分任資金前渡官吏"},null,null,"殿"]
[null,{"$f":"基本情報!B17","v":"陸上自衛隊宮古島駐屯地"}]
[null,{"$f":"基本情報!B18","v":"第４４４会計隊長　　藤澤　竹広"}]
[]
[null,"￥",{"$f":"INT(L48)","v":{"v":0,"d":"0-"}}]
[]
[]
[{"$nulls":4},"住　所",null,null,{"$f":"VLOOKUP(業者一覧!$A$2,業者一覧!$B$2:$J$233,7)","v":{"$error":"#N/A"}}]
[]
[{"$nulls":4},"社　名",null,null,{"$f":"VLOOKUP(業者一覧!$A$2,業者一覧!$B$2:$J$233,3)","v":{"$error":"#N/A"}}]
[{"$nulls":7},{"$error":"#REF!"}]
[{"$nulls":4},"役　職",null,null,{"$f":"VLOOKUP(業者一覧!$A$2,業者一覧!$B$2:$J$233,8)","v":{"$error":"#N/A"}},null,null,{"$f":"VLOOKUP(業者一覧!$A$2,業者一覧!$B$2:$J$233,9)","v":{"$error":"#N/A"}}]
[]
[{"$nulls":4},"氏　名"]
[{"$nulls":6},{"$f":"\"担当者　\" & VLOOKUP(業者一覧!$A$2,業者一覧!$B$2:$J$233,9)& \" (\" &VLOOKUP(業者一覧!$A$2,業者一覧!$B$2:$J$233,4) & \")\"","v":{"$error":"#N/A"}}]
[null,"上記のとおり請求致します。"]
[null,"内　　　訳",{"$nulls":14},{"$f":"入札書!K8","v":"税込（うち消費税　円）"}]
[]
["品　　　名",null,null,"規　　　格",null,"数　　量",null,null,"単位","単　価",null,"金　　額",null,"摘　要"]
[{"$f":"契約内容!P3","v":"オープン券（航空券）　宮古／石垣⇔九州内各空港"},null,null,{"$f":"契約内容!Q3","v":"仕様書のとおり"},null,{"$f":"契約内容!S3","v":150},null,null,{"$f":"契約内容!R3","v":"SH"},{"$f":"契約内容!T3","v":0},null,{"$f":"F26*J26","v":0}]
[{"$f":"契約内容!P4","v":{"v":0,"d":"0 "}},null,null,{"$f":"契約内容!Q4","v":"以下余白"},null,{"$f":"契約内容!S4","v":0},null,null,{"$f":"契約内容!R4","v":0},{"$f":"契約内容!T4","v":0},null,{"$f":"F27*J27","v":0}]
[{"$f":"契約内容!P5","v":{"v":0,"d":"0 "}},null,null,{"$f":"契約内容!Q5","v":0},null,{"$f":"契約内容!S5","v":0},null,null,{"$f":"契約内容!R5","v":0},{"$f":"契約内容!T5","v":0},null,{"$f":"F28*J28","v":0}]
[{"$f":"契約内容!P6","v":{"v":0,"d":"0 "}},null,null,{"$f":"契約内容!Q6","v":0},null,{"$f":"契約内容!S6","v":0},null,null,{"$f":"契約内容!R6","v":0},{"$f":"契約内容!T6","v":0},null,{"$f":"F29*J29","v":0}]
[{"$f":"契約内容!P7","v":{"v":0,"d":"0 "}},null,null,{"$f":"契約内容!Q7","v":0},null,{"$f":"契約内容!S7","v":0},null,null,{"$f":"契約内容!R7","v":0},{"$f":"契約内容!T7","v":0},null,{"$f":"F30*J30","v":0}]
[{"$f":"契約内容!P8","v":{"v":0,"d":"0 "}},null,null,{"$f":"契約内容!Q8","v":0},null,{"$f":"契約内容!S8","v":0},null,null,{"$f":"契約内容!R8","v":0},{"$f":"契約内容!T8","v":0},null,{"$f":"F31*J31","v":0}]
[{"$f":"契約内容!P9","v":{"v":0,"d":"0 "}},null,null,{"$f":"契約内容!Q9","v":0},null,{"$f":"契約内容!S9","v":0},null,null,{"$f":"契約内容!R9","v":0},{"$f":"契約内容!T9","v":0},null,0]
[{"$f":"契約内容!P10","v":{"v":0,"d":"0 "}},null,null,{"$f":"契約内容!Q10","v":0},null,{"$f":"契約内容!S10","v":0},null,null,{"$f":"契約内容!R10","v":0},{"$f":"契約内容!T10","v":0},null,0]
[{"$f":"契約内容!P11","v":{"v":0,"d":"0 "}},null,null,{"$f":"契約内容!Q11","v":0},null,{"$f":"契約内容!S11","v":0},null,null,{"$f":"契約内容!R11","v":0},{"$f":"契約内容!T11","v":0},null,0]
[{"$f":"契約内容!P12","v":{"v":0,"d":"0 "}},null,null,{"$f":"契約内容!Q12","v":0},null,{"$f":"契約内容!S12","v":0},null,null,{"$f":"契約内容!R12","v":0},{"$f":"契約内容!T12","v":0},null,0]
[{"$f":"契約内容!P13","v":{"v":0,"d":"0 "}},null,null,{"$f":"契約内容!Q13","v":0},null,{"$f":"契約内容!S13","v":0},null,null,{"$f":"契約内容!R13","v":0},{"$f":"契約内容!T13","v":0},null,0]
[{"$f":"契約内容!P14","v":{"v":0,"d":"0 "}},null,null,{"$f":"契約内容!Q14","v":0},null,{"$f":"契約内容!S14","v":0},null,null,{"$f":"契約内容!R14","v":0},{"$f":"契約内容!T14","v":0},null,0]
[{"$f":"契約内容!P15","v":{"v":0,"d":"0 "}},null,null,{"$f":"契約内容!Q15","v":0},null,{"$f":"契約内容!S15","v":0},null,null,{"$f":"契約内容!R15","v":0},{"$f":"契約内容!T15","v":0},null,0]
[{"$f":"契約内容!P16","v":{"v":0,"d":"0 "}},null,null,{"$f":"契約内容!Q16","v":0},null,{"$f":"契約内容!S16","v":0},null,null,{"$f":"契約内容!R16","v":0},{"$f":"契約内容!T16","v":0},null,0]
[{"$f":"契約内容!P17","v":{"v":0,"d":"0 "}},null,null,{"$f":"契約内容!Q17","v":0},null,{"$f":"契約内容!S17","v":0},null,null,{"$f":"契約内容!R17","v":0},{"$f":"契約内容!T17","v":0},null,0]
[{"$f":"契約内容!P18","v":{"v":0,"d":"0 "}},null,null,{"$f":"契約内容!Q18","v":0},null,{"$f":"契約内容!S18","v":0},null,null,{"$f":"契約内容!R18","v":0},{"$f":"契約内容!T18","v":0},null,0]
[{"$f":"契約内容!P19","v":{"v":0,"d":"0 "}},null,null,{"$f":"契約内容!Q19","v":0},null,{"$f":"契約内容!S19","v":0},null,null,{"$f":"契約内容!R19","v":0},{"$f":"契約内容!T19","v":0},null,0]
[{"$f":"契約内容!P20","v":{"v":0,"d":"0 "}},null,null,{"$f":"契約内容!Q20","v":0},null,{"$f":"契約内容!S20","v":0},null,null,{"$f":"契約内容!R20","v":0},{"$f":"契約内容!T20","v":0},null,0]
[{"$f":"契約内容!P21","v":{"v":0,"d":"0 "}},null,null,{"$f":"契約内容!Q21","v":0},null,{"$f":"契約内容!S21","v":0},null,null,{"$f":"契約内容!R21","v":0},{"$f":"契約内容!T21","v":0},null,0]
[{"$nulls":3},{"$f":"契約内容!Q22","v":0},null,{"$f":"契約内容!S22","v":0},null,null,{"$f":"契約内容!R22","v":0},{"$f":"契約内容!T22","v":0},null,0]
[]
[]
["合計",null,null,"１０％対象",{"$nulls":7},{"$f":"SUM(L26:L47)","v":0},null,"税込（うち消費税　5,212円）",null,{"$f":"INT(L48*100/110)","v":0},{"$f":"入札書!K8","v":"税込（うち消費税　円）"}]

{"sheet":"請求書 (うち)","index":21,"n_rows":48,"n_cols":17,"rows_kept":48,"hidden":true,"merged":[[1,0,2,14],[4,4,4,8],[4,9,4,13],[6,1,6,3],[6,4,8,5],[7,1,7,3],[8,1,8,3],[10,1,11,1],[10,2,11,3],[10,4,11,6],[13,4,13,5],[13,7,13,13],[15,4,15,5],[15,7,16,13],[17,4,17,5],[17,7,19,9],[17,10,19,13],[19,4,19,5],[20,7,20,13],[21,1,21,13],[22,1,22,13],[24,0,24,2],[24,3,24,4],[24,5,24,7],[24,9,24,10],[24,11,24,12],[24,13,24,14],[25,0,25,10],[25,13,25,14],[26,0,26,2],[26,3,26,4],[26,5,26,7],[26,13,26,14],[27,0,27,2],[27,3,27,4],[27,5,27,7],[27,13,27,14],[28,0,28,2],[28,3,28,4],[28,5,28,7],[28,13,28,14],[29,0,29,2],[29,3,29,4],[29,5,29,7],[29,13,29,14],[30,0,30,2],[30,3,30,4],[30,5,30,7],[30,13,30,14],[31,0,31,2],[31,3,31,4],[31,5,31,7],[31,13,31,14],[32,0,32,2],[32,3,32,4],[32,5,32,7],[32,13,32,14],[33,0,33,2],[33,3,33,4],[33,5,33,7],[33,13,33,14],[34,0,34,2],[34,3,34,4],[34,5,34,7],[34,13,34,14],[35,0,35,2],[35,3,35,4],[35,5,35,7],[35,13,35,14],[36,0,36,2],[36,3,36,4],[36,5,36,7],[36,13,36,14],[37,0,37,2],[37,3,37,4],[37,5,37,7],[37,13,37,14],[38,0,38,2],[38,3,38,4],[38,5,38,7],[38,13,38,14],[39,0,39,2],[39,3,39,4],[39,5,39,7],[40,0,40,2],[40,3,40,4],[40,5,40,7],[40,13,40,14],[41,0,41,2],[41,3,41,4],[41,5,41,7],[41,13,41,14],[42,0,42,2],[42,3,42,4],[42,5,42,7],[42,13,42,14],[43,0,43,2],[43,3,43,4],[43,5,43,7],[44,0,44,2],[44,3,44,4],[44,5,44,7],[44,13,44,14],[45,0,45,2],[45,3,45,4],[45,5,45,7],[45,13,45,14],[46,0,46,2],[46,3,46,4],[46,5,46,7],[46,13,46,14],[47,0,47,2],[47,3,47,4],[47,5,47,7],[47,13,47,14]]}
[]
["請　　求　　書"]
[]
[]
[{"$nulls":4},{"$f":"IF(D47=8%,\"（軽減税率対象）\",\"\")","v":""},{"$nulls":4},"令和　　年　　月　　日"]
[]
[null,{"$f":"基本情報!B16","v":"分任資金前渡官吏"},null,null,"殿"]
[null,{"$f":"基本情報!B17","v":"陸上自衛隊宮古島駐屯地"}]
[null,{"$f":"基本情報!B18","v":"第４４４会計隊長　　藤澤　竹広"}]
[]
[null,"￥",{"$f":"INT(L48)","v":{"v":1498299,"d":"1,498,299-"}}]
[]
[]
[{"$nulls":4},"住　所",null,null,{"$f":"VLOOKUP(業者一覧!$A$2,業者一覧!$B$2:$J$233,7)","v":{"$error":"#N/A"}}]
[]
[{"$nulls":4},"社　名",null,null,{"$f":"VLOOKUP(業者一覧!$A$2,業者一覧!$B$2:$J$233,3)","v":{"$error":"#N/A"}}]
[{"$nulls":7},{"$error":"#REF!"}]
[{"$nulls":4},"役　職",null,null,{"$f":"VLOOKUP(業者一覧!$A$2,業者一覧!$B$2:$J$233,8)","v":{"$error":"#N/A"}},null,null,{"$f":"VLOOKUP(業者一覧!$A$2,業者一覧!$B$2:$J$233,9)","v":{"$error":"#N/A"}}]
[]
[{"$nulls":4},"氏　名"]
[{"$nulls":7},{"$f":"\"担当者　\" & VLOOKUP(業者一覧!$A$2,業者一覧!$B$2:$M$233,11) & \"　（\" &VLOOKUP(業者一覧!$A$2,業者一覧!$B$2:$M$233,4) &\"）\"","v":{"$error":"#N/A"}}]
[null,"上記のとおり請求致します。",{"$nulls":14},{"$f":"MID('見積書 (うち)'!B10,1,LEN('見積書 (うち)'!B10)-LEN(RIGHT('見積書 (うち)'!B10,7)))","v":"オープン券（航空券）　宮古／石垣⇔九州内各空港　ほか　19件 "}]
[null,"内　　　訳",{"$nulls":14},{"$f":"IF(C11>=500000,\"契約書のとおり\",\"内訳書のとおり\")","v":"契約書のとおり"}]
[]
["品　　　名",null,null,"規　　　格",null,"数　　量",null,null,"単位","単　価",null,"金　　額",null,"摘　要"]
[{"$f":"Q22&Q23","v":"オープン券（航空券）　宮古／石垣⇔九州内各空港　ほか　19件 契約書のとおり"},{"$nulls":10},{"v":1362090,"d":"1,362,090"}]
["以下余白"]
{"$rows_empty":18}
["小計",{"$nulls":10},{"$f":"SUM(L26:L45)","v":{"v":1362090,"d":"1,362,090"}}]
["消費税",null,null,{"v":0.1,"d":"10%"},{"$nulls":7},{"$f":"INT(L46*D47)","v":{"v":136209,"d":"136,209"}}]
["合計",{"$nulls":10},{"$f":"L46+L47","v":{"v":1498299,"d":"1,498,299"}}]

{"sheet":"売掛","index":22,"n_rows":39,"n_cols":11,"rows_kept":39,"hidden":true,"merged":[[0,3,0,8],[2,7,2,8],[3,7,3,8],[3,9,3,10],[4,7,4,8],[4,9,4,10],[7,7,7,8],[7,9,7,10],[13,0,15,2],[13,3,15,4],[13,5,15,6],[13,7,15,10],[16,0,17,3],[16,4,17,5],[16,6,17,7],[16,8,17,9],[16,10,17,10],[18,0,18,1],[18,2,18,3],[18,4,18,5],[18,6,18,7],[18,8,18,9],[19,0,19,1],[19,2,19,3],[19,4,19,5],[19,6,19,7],[19,8,19,9],[20,0,20,1],[20,2,20,3],[20,4,20,5],[20,6,20,7],[20,8,20,9],[21,0,21,1],[21,2,21,3],[21,4,21,5],[21,6,21,7],[21,8,21,9],[22,0,22,1],[22,2,22,3],[22,4,22,5],[22,6,22,7],[22,8,22,9],[23,0,23,1],[23,2,23,3],[23,4,23,5],[23,6,23,7],[23,8,23,9],[24,0,24,1],[24,2,24,3],[24,4,24,5],[24,6,24,7],[24,8,24,9],[25,0,25,1],[25,2,25,3],[25,4,25,5],[25,6,25,7],[25,8,25,9],[26,0,26,1],[26,2,26,3],[26,4,26,5],[26,6,26,7],[26,8,26,9],[27,0,27,1],[27,2,27,3],[27,4,27,5],[27,6,27,7],[27,8,27,9],[28,0,28,1],[28,2,28,3],[28,4,28,5],[28,6,28,7],[28,8,28,9],[29,0,29,1],[29,2,29,3],[29,4,29,5],[29,6,29,7],[29,8,29,9],[30,0,30,1],[30,2,30,3],[30,4,30,5],[30,6,30,7],[30,8,30,9],[31,0,31,1],[31,2,31,3],[31,4,31,5],[31,6,31,7],[31,8,31,9],[32,0,33,3],[32,4,33,5],[32,6,33,7],[32,8,33,9],[32,10,33,10]]}
[{"$nulls":3},"売　掛　票"]
[]
[{"$nulls":7},"年月日"]
[{"$nulls":7},"部隊名",null,"第４４４会計隊"]
[{"$nulls":7},"機関名",null,"第４４４会計隊"]
[]
[]
[{"$nulls":7},"代表者名",null,"１尉　白井　剛"]
[]
["下記の商品の売掛を申込みます。"]
[]
["商品の代金は　　　　年　　　月　　　日の予定で支払います。"]
[]
["売掛年月日",{"$nulls":4},"売掛先\n部隊名又は\n機関名",null,"第４４４会計隊"]
[]
[]
["品名",{"$nulls":3},"数量",null,"単価",null,"金額",null,"備考"]
[]
[{"$f":"契約内容!P3","v":"オープン券（航空券）　宮古／石垣⇔九州内各空港"},null,{"$f":"契約内容!Q3","v":"仕様書のとおり"},null,{"$f":"契約内容!S3","v":{"v":150,"d":"150 "}},null,{"$f":"契約内容!T3","v":{"v":0,"d":"0 "}},null,{"$f":"E19*G19","v":{"v":0,"d":"0 "}},null,{"$f":"契約内容!M3","v":"58LL1A50096"}]
[{"$f":"契約内容!P4","v":{"v":0,"d":"0 "}},null,{"$f":"契約内容!Q4","v":"以下余白"},null,{"$f":"契約内容!S4","v":{"v":0,"d":"0 "}},null,{"$f":"契約内容!T4","v":{"v":0,"d":"0 "}},null,{"$f":"E20*G20","v":{"v":0,"d":"0 "}}]
[{"$f":"契約内容!P5","v":{"v":0,"d":"0 "}},null,{"$f":"契約内容!Q5","v":0},null,{"$f":"契約内容!S5","v":{"v":0,"d":"0 "}},null,{"$f":"契約内容!T5","v":{"v":0,"d":"0 "}},null,{"v":0,"d":"0 "}]
[{"$f":"契約内容!P6","v":{"v":0,"d":"0 "}},null,{"$f":"契約内容!Q6","v":0},null,{"$f":"契約内容!S6","v":{"v":0,"d":"0 "}},null,{"$f":"契約内容!T6","v":{"v":0,"d":"0 "}},null,{"v":0,"d":"0 "}]
[{"$f":"契約内容!P7","v":{"v":0,"d":"0 "}},null,{"$f":"契約内容!Q7","v":0},null,{"$f":"契約内容!S7","v":{"v":0,"d":"0 "}},null,{"$f":"契約内容!T7","v":{"v":0,"d":"0 "}},null,{"v":0,"d":"0 "}]
[{"$f":"契約内容!P8","v":{"v":0,"d":"0 "}},null,{"$f":"契約内容!Q8","v":0},null,{"$f":"契約内容!S8","v":{"v":0,"d":"0 "}},null,{"$f":"契約内容!T8","v":{"v":0,"d":"0 "}},null,{"v":0,"d":"0 "}]
[{"$f":"契約内容!P9","v":{"v":0,"d":"0 "}},null,{"$f":"契約内容!Q9","v":0},null,{"$f":"契約内容!S9","v":{"v":0,"d":"0 "}},null,{"$f":"契約内容!T9","v":{"v":0,"d":"0 "}},null,{"v":0,"d":"0 "}]
[{"$f":"契約内容!P10","v":{"v":0,"d":"0 "}},null,{"$f":"契約内容!Q10","v":0},null,{"$f":"契約内容!S10","v":{"v":0,"d":"0 "}},null,{"$f":"契約内容!T10","v":{"v":0,"d":"0 "}},null,{"v":0,"d":"0 "}]
[{"$f":"契約内容!P11","v":{"v":0,"d":"0 "}},null,{"$f":"契約内容!Q11","v":0},null,{"$f":"契約内容!S11","v":{"v":0,"d":"0 "}},null,{"$f":"契約内容!T11","v":{"v":0,"d":"0 "}},null,{"v":0,"d":"0 "},null,{"$f":"契約内容!M11","v":{"v":0,"d":"0 "}}]
[{"$f":"契約内容!P12","v":{"v":0,"d":"0 "}},null,{"$f":"契約内容!Q12","v":0},null,{"$f":"契約内容!S12","v":{"v":0,"d":"0 "}},null,{"$f":"契約内容!T12","v":{"v":0,"d":"0 "}},null,{"v":0,"d":"0 "},null,{"$f":"契約内容!M12","v":{"v":0,"d":"0 "}}]
[{"$f":"契約内容!P13","v":{"v":0,"d":"0 "}},null,{"$f":"契約内容!Q13","v":0},null,{"$f":"契約内容!S13","v":{"v":0,"d":"0 "}},null,{"$f":"契約内容!T13","v":{"v":0,"d":"0 "}},null,{"v":0,"d":"0 "},null,{"$f":"契約内容!M13","v":{"v":0,"d":"0 "}}]
[{"$f":"契約内容!P14","v":{"v":0,"d":"0 "}},null,{"$f":"契約内容!Q14","v":0},null,{"$f":"契約内容!S14","v":{"v":0,"d":"0 "}},null,{"$f":"契約内容!T14","v":{"v":0,"d":"0 "}},null,{"v":0,"d":"0 "},null,{"$f":"契約内容!M14","v":{"v":0,"d":"0 "}}]
[{"$f":"契約内容!P15","v":{"v":0,"d":"0 "}},null,{"$f":"契約内容!Q15","v":0},null,{"$f":"契約内容!S15","v":{"v":0,"d":"0 "}},null,{"$f":"契約内容!T15","v":{"v":0,"d":"0 "}},null,{"v":0,"d":"0 "},null,{"$f":"契約内容!M15","v":{"v":0,"d":"0 "}}]
[{"$f":"契約内容!P16","v":{"v":0,"d":"0 "}},null,{"$f":"契約内容!Q16","v":0},null,{"$f":"契約内容!S16","v":{"v":0,"d":"0 "}},null,{"$f":"契約内容!T16","v":{"v":0,"d":"0 "}},null,{"v":0,"d":"0 "},null,{"$f":"契約内容!M16","v":{"v":0,"d":"0 "}}]
["合計",{"$nulls":7},{"$f":"SUM(I19:K32)","v":{"v":0,"d":"0 "}}]
[]
[]
[null,null,"上記の商品確かに受領いたしました。"]
[{"$nulls":6},"令和　　　年　　　月　　　日"]
[]
[{"$nulls":7},"受領者",null,null,"㊞"]

{"sheet":"総額（物件１件） ","index":23,"n_rows":38,"n_cols":14,"rows_kept":38,"hidden":true,"merged":[[1,1,1,2],[1,3,1,5],[1,10,3,11],[4,1,4,11],[6,1,16,1],[6,3,6,6],[6,7,6,10],[7,2,7,3],[7,4,7,5],[7,7,7,8],[7,10,7,11],[8,2,8,3],[8,4,8,5],[8,7,8,8],[8,10,8,11],[9,2,9,3],[9,4,9,5],[9,7,9,8],[9,10,9,11],[10,2,10,3],[10,4,10,5],[10,7,10,8],[10,10,10,11],[11,2,11,3],[11,4,11,5],[11,7,11,8],[11,10,11,11],[12,2,12,3],[12,4,12,5],[12,7,12,8],[12,10,12,11],[13,2,13,3],[13,4,13,5],[13,7,13,8],[13,10,13,11],[14,2,14,3],[14,4,14,5],[14,7,14,8],[14,10,14,11],[15,3,15,6],[15,7,15,8],[15,9,15,11],[16,3,16,6],[16,7,16,8],[16,9,16,11],[18,1,19,11],[21,1,21,11],[23,1,24,11],[26,1,27,11],[29,1,29,4],[31,2,31,5],[32,2,32,5],[33,2,33,5],[35,2,35,8],[36,2,36,8],[37,2,37,8]]}
[]
[null,"契約番号",null,{"$f":"契約内容!M2","v":"5S8P1KT216000"}]
[]
[]
[null,"物品売買契約書"]
[]
[null,"契約要件","契約金額",{"$f":"K15","v":0},{"$nulls":3},{"$f":"\"（うち消費税額　\" & DBCS(TEXT(K14,\"#,#\"))","v":"（うち消費税額　"},{"$nulls":3},"円）"]
[null,null,"品名（件名）",null,"規格",null,"単位","数量",null,"単価","金額"]
[null,null,{"$f":"契約内容!D3","v":"オープン券（航空券）　宮古／石垣⇔九州内各空港"},null,{"$f":"契約内容!E3","v":"仕様書のとおり"},null,{"$f":"契約内容!F3","v":"SH"},{"$f":"契約内容!G3","v":{"v":150,"d":"150 "}},null,{"$f":"契約内容!H3","v":{"v":0,"d":"0 "}},{"$f":"H9*J9","v":{"v":0,"d":"0 "}}]
[null,null,{"$f":"契約内容!D4","v":{"v":0,"d":"0 "}},null,{"$f":"契約内容!E4","v":"以下余白"},null,{"$f":"契約内容!F4","v":0},{"$f":"契約内容!G4","v":{"v":0,"d":"0 "}},null,{"$f":"契約内容!H4","v":{"v":0,"d":"0 "}},{"$f":"H10*J10","v":{"v":0,"d":"0 "}},null,null,{"$f":"'見積書 (うち)'!J11","v":{"v":19,"d":"19 "}}]
[null,null,{"$f":"契約内容!D5","v":{"v":0,"d":"0 "}},null,{"$f":"契約内容!E5","v":0},null,{"$f":"契約内容!F5","v":0},{"$f":"契約内容!G5","v":{"v":0,"d":"0 "}},null,{"$f":"契約内容!H5","v":{"v":0,"d":"0 "}},{"v":0,"d":"0 "}]
[null,null,{"$f":"契約内容!D6","v":{"v":0,"d":"0 "}},null,{"$f":"契約内容!E6","v":0},null,{"$f":"契約内容!F6","v":0},{"$f":"契約内容!G6","v":{"v":0,"d":"0 "}},null,{"$f":"契約内容!H6","v":{"v":0,"d":"0 "}},{"v":0,"d":"0 "}]
[null,null,{"$f":"N13","v":"小計"},{"$nulls":7},{"$f":"SUM(K9:L12)","v":{"v":0,"d":"0 "}},null,null,{"$f":"IF(N10<30,\"小計\",\"合計\")","v":"小計"}]
[null,null,"消費税",null,{"v":0.1,"d":"10%"},{"$nulls":5},{"$f":"INT(K13*E14)","v":{"v":0,"d":"0 "}}]
[null,null,{"$f":"N15","v":"合計"},{"$nulls":7},{"$f":"K13+K14","v":{"v":0,"d":"0 "}},null,null,{"$f":"IF(N13=\"小計\",\"合計\",\"総合計\")","v":"合計"}]
[null,null,"契約保証金","免除",{"$nulls":3},"納入（履行）場所",null,"陸上自衛隊宮古島駐屯地"]
[null,null,"代金支払回数","１回",{"$nulls":3},"納期（工期）",null,{"$f":"契約内容!M5","v":"2026-02-27"}]
[]
[null,{"$f":"\"　上記の契約について、\" & C32 & \" \" & C33 & \" \"  & C34 & \" を甲とし、\" &C37 & \" \" & C38 & \" を乙として、次の条項により契約を締結する。\"","v":{"$error":"#N/A"}}]
[]
[]
[null,"第１条　本契約については、駐屯地用標準契約書物品売買契約条項を適用する。"]
[]
[null,"第２条　特約条項は、談合等の不正行為に関する特約条項、暴力団排除に関する特約条項を付す。"]
[]
[]
[]
[]
[]
[null,{"$f":"契約内容!M4","v":"2026-02-20"}]
[]
[null,null,{"$f":"基本情報!$B$6","v":"分任契約担当官"}]
[null,"甲",{"$f":"基本情報!$B$7","v":"陸上自衛隊宮古島駐屯地"}]
[null,null,{"$f":"基本情報!$B$8","v":"第４４４会計隊長　藤澤　竹広"}]
[]
[null,null,{"$f":"基本情報!$B$11","v":{"$error":"#N/A"}}]
[null,"乙",{"$f":"基本情報!$B$12","v":{"$error":"#N/A"}}]
[null,null,{"$f":"基本情報!$B$13","v":{"$error":"#N/A"}}]

{"sheet":"総額（物件品目）","index":24,"n_rows":38,"n_cols":14,"rows_kept":38,"hidden":true,"merged":[[1,1,1,2],[1,3,1,5],[1,10,3,11],[4,1,4,11],[6,1,16,1],[6,3,6,6],[6,7,6,10],[7,2,7,3],[7,4,7,5],[7,7,7,8],[7,10,7,11],[8,2,8,9],[8,10,8,11],[9,2,9,3],[9,4,9,5],[9,7,9,8],[9,10,9,11],[10,2,10,3],[10,4,10,5],[10,7,10,8],[10,10,10,11],[11,2,11,3],[11,4,11,5],[11,7,11,8],[11,10,11,11],[12,2,12,3],[12,4,12,5],[12,7,12,8],[12,10,12,11],[13,2,13,3],[13,4,13,5],[13,7,13,8],[13,10,13,11],[14,2,14,3],[14,4,14,5],[14,7,14,8],[14,10,14,11],[15,3,15,6],[15,7,15,8],[15,9,15,11],[16,3,16,6],[16,7,16,8],[16,9,16,11],[18,1,19,11],[21,1,21,11],[23,1,24,11],[26,1,27,11],[29,1,29,4],[31,2,31,5],[32,2,32,5],[33,2,33,5],[35,2,35,8],[36,2,36,8],[37,2,37,8]]}
[]
[null,"契約番号",null,{"$f":"契約内容!M2","v":"5S8P1KT216000"}]
[]
[]
[null,"物品売買契約書"]
[]
[null,"契約要件","契約金額",{"$f":"K15","v":1498299},{"$nulls":3},{"$f":"\"（うち消費税額　\" & DBCS(TEXT(K14,\"#,#\"))","v":"（うち消費税額　１３６，２０９"},{"$nulls":3},"円）"]
[null,null,"品名（件名）",null,"規格",null,"単位","数量",null,"単価","金額"]
[null,null,{"$f":"'見積書 (うち)'!B10","v":"オープン券（航空券）　宮古／石垣⇔九州内各空港　ほか　19件 内訳書のとおり"},{"$nulls":7},{"v":1362090,"d":"1,362,090 "}]
[null,null,"以下余白",{"$nulls":10},{"$f":"'見積書 (うち)'!J11","v":{"v":19,"d":"19 "}}]
[]
[]
[null,null,{"$f":"N13","v":"小計"},{"$nulls":7},{"$f":"SUM(K9:L12)","v":{"v":1362090,"d":"1,362,090 "}},null,null,{"$f":"IF(N10<30,\"小計\",\"合計\")","v":"小計"}]
[null,null,"消費税",null,{"v":0.1,"d":"10%"},{"$nulls":5},{"$f":"INT(K13*E14)","v":{"v":136209,"d":"136,209 "}}]
[null,null,{"$f":"N15","v":"合計"},{"$nulls":7},{"$f":"K13+K14","v":{"v":1498299,"d":"1,498,299 "}},null,null,{"$f":"IF(N13=\"小計\",\"合計\",\"総合計\")","v":"合計"}]
[null,null,"契約保証金","免除",{"$nulls":3},"納入（履行）場所",null,"陸上自衛隊宮古島駐屯地"]
[null,null,"代金支払回数","１回",{"$nulls":3},"納期（工期）",null,{"$f":"契約内容!M5","v":"2026-02-27"}]
[]
[null,{"$f":"\"　上記の契約について、\" & C32 & \" \" & C33 & \" \"  & C34 & \" を甲とし、\" &C37 & \" \" & C38 & \" を乙として、次の条項により契約を締結する。\"","v":{"$error":"#N/A"}}]
[]
[]
[null,"第１条　本契約については、駐屯地用標準契約書物品売買契約条項を適用する。"]
[]
[null,"第２条　特約条項は、談合等の不正行為に関する特約条項、暴力団排除に関する特約条項を付す。"]
[]
[]
[]
[]
[]
[null,{"$f":"契約内容!M4","v":"2026-02-20"}]
[]
[null,null,{"$f":"基本情報!$B$6","v":"分任契約担当官"}]
[null,"甲",{"$f":"基本情報!$B$7","v":"陸上自衛隊宮古島駐屯地"}]
[null,null,{"$f":"基本情報!$B$8","v":"第４４４会計隊長　藤澤　竹広"}]
[]
[null,null,{"$f":"基本情報!$B$11","v":{"$error":"#N/A"}}]
[null,"乙",{"$f":"基本情報!$B$12","v":{"$error":"#N/A"}}]
[null,null,{"$f":"基本情報!$B$13","v":{"$error":"#N/A"}}]

{"sheet":"総額（役務）","index":25,"n_rows":38,"n_cols":12,"rows_kept":38,"hidden":true,"merged":[[1,1,1,2],[1,3,1,5],[1,10,3,11],[4,1,4,11],[6,1,16,1],[6,3,6,6],[6,7,6,10],[7,2,7,3],[7,4,7,5],[7,7,7,8],[7,10,7,11],[8,2,8,3],[8,4,8,5],[8,7,8,8],[8,10,8,11],[9,2,9,3],[9,4,9,5],[9,7,9,8],[9,10,9,11],[10,2,10,3],[10,4,10,5],[10,7,10,8],[10,10,10,11],[11,2,11,3],[11,4,11,5],[11,7,11,8],[11,10,11,11],[12,2,12,3],[12,4,12,5],[12,7,12,8],[12,10,12,11],[13,2,13,3],[13,4,13,5],[13,7,13,8],[13,10,13,11],[14,2,14,3],[14,4,14,5],[14,7,14,8],[14,10,14,11],[15,3,15,6],[15,7,15,8],[15,9,15,11],[16,3,16,6],[16,7,16,8],[16,9,16,11],[18,1,19,11],[21,1,21,11],[23,1,24,11],[26,1,27,11],[29,1,29,4],[31,2,31,5],[32,2,32,5],[33,2,33,5],[35,2,35,8],[36,2,36,8],[37,2,37,8]]}
[]
[null,"契約番号",null,{"$f":"契約内容!M2","v":"5S8P1KT216000"},{"$nulls":6},"収入\n印紙"]
[]
[]
[null,"役務請負契約書"]
[]
[null,"契約要件","契約金額",{"$f":"K15","v":0},{"$nulls":3},{"$f":"\"（うち消費税額 \" & DBCS(TEXT(K14,\"#,#\"))","v":"（うち消費税額 "},{"$nulls":3},"円）"]
[null,null,"品名（件名）",null,"規格",null,"単位","数量",null,"単価","金額"]
[null,null,{"$f":"契約内容!P3","v":"オープン券（航空券）　宮古／石垣⇔九州内各空港"},null,{"$f":"契約内容!Q3","v":"仕様書のとおり"},null,{"$f":"契約内容!R3","v":"SH"},{"$f":"契約内容!S3","v":{"v":150,"d":"150 "}},null,{"$f":"契約内容!T3","v":{"v":0,"d":"0 "}},{"$f":"J9*H9","v":{"v":0,"d":"0 "}}]
[{"$nulls":4},{"$f":"契約内容!Q4","v":"以下余白"}]
[]
[]
[null,null,"小計",{"$nulls":7},{"$f":"SUM(K9:L12)","v":{"v":0,"d":"0 "}}]
[null,null,"消費税",null,{"v":0.1,"d":"10%"},{"$nulls":5},{"$f":"INT(K13*E14)","v":{"v":0,"d":"0 "}}]
[null,null,"合計",{"$nulls":7},{"$f":"K13+K14","v":{"v":0,"d":"0 "}}]
[null,null,"契約保証金","免除",{"$nulls":3},"納入（履行）場所",null,"陸上自衛隊　宮古島駐屯地"]
[null,null,"代金支払回数","１回",{"$nulls":3},"納期（工期）",null,"2024-03-31"]
[]
[null,{"$f":"\"　上記の契約について、\" & C32 & \" \" & C33 & \" \"  & C34 & \" を甲とし、\" &C37 & \" \" & C38 & \" を乙として、次の条項により契約を締結する。\"","v":{"$error":"#N/A"}}]
[]
[]
[null,"第１条　本契約については、駐屯地用標準契約書役務請負契約条項を適用する。"]
[]
[null,"第２条　特約条項は、談合等の不正行為に関する特約条項、暴力団排除に関する特約条項を付す。"]
[]
[]
[]
[]
[]
[null,{"$f":"契約内容!M4","v":"2026-02-20"}]
[]
[null,null,{"$f":"基本情報!$B$6","v":"分任契約担当官"}]
[null,"甲",{"$f":"基本情報!$B$7","v":"陸上自衛隊宮古島駐屯地"}]
[null,null,{"$f":"基本情報!$B$8","v":"第４４４会計隊長　藤澤　竹広"}]
[]
[null,null,{"$f":"基本情報!$B$11","v":{"$error":"#N/A"}}]
[null,"乙",{"$f":"基本情報!$B$12","v":{"$error":"#N/A"}}]
[null,null,{"$f":"基本情報!$B$13","v":{"$error":"#N/A"}}]