{"text_format":"3","workbook":"xlsx","n_sheets":4,"sheets":["入札（見積）書","市価調査","見積書等記載例","同等品判定依頼書"],"not_rendered":{"external_links":1,"defined_names":57},"read":"whole","date_system":"1900"}

{"sheet":"入札（見積）書","index":0,"n_rows":42,"n_cols":10,"rows_kept":42,"merged":[[0,2,0,5],[1,1,1,7],[3,2,3,3],[4,2,4,3],[8,6,8,7],[9,6,9,7],[10,6,10,7],[11,6,11,7],[12,6,12,7],[13,6,13,7],[14,6,14,7],[15,6,15,7],[16,6,16,7],[17,6,17,7],[18,6,18,7],[19,3,19,4],[19,5,19,7],[20,3,20,5],[20,6,20,7],[21,1,24,7],[25,1,25,2],[27,1,27,2],[28,1,28,2],[29,1,29,2],[30,3,30,7],[31,3,31,7],[32,3,32,7],[33,3,33,7],[34,3,34,7]]}
[]
[null,{"$f":"IF(J4=\"OP\",\"見積書\",IF(J4=\"入札\",\"入札書\",\"見積書\"))","v":"入札書"}]
[{"$nulls":9},"方式"]
[null,{"$f":"IF(J4=\"OP\",\"件名リスト一連番号\",\"\")","v":""},{"$nulls":7},"入札"]
[]
[]
[null,"　金額　￥",{"$f":"G19","v":{"v":0,"d":"0.-"}},""]
[null,null,"（消費税及び地方消費税を含まない。）"]
[null,"品　　　　名","規　　　　格","単位","数量","単価","金額"]
[null,"ＧＢ４７０","ＬＥＶＩＯ　","EA",{"v":89,"d":"89 "},{"v":0,"d":"0 "},{"$f":"IF(E10,E10*F10,0)","v":{"v":0,"d":"0 "}}]
[null,"ＧＢ４７１ＬｉＰｏバッテリー","７．４Ｖ５２０ｍＡｈ　","EA",{"v":178,"d":"178 "},{"v":0,"d":"0 "},{"v":0,"d":"0 "}]
[null,"ＧＢ０７５ＬＥＧＧＥＲＯ","ＦＰＶ　","EA",{"v":96,"d":"96 "},{"v":0,"d":"0 "},{"v":0,"d":"0 "}]
[null,"ＧＢ１８２ＬｉｐｏＢａｔｔｒｙ","３．７Ｖ４５０ｍＡｈ　","EA",{"v":96,"d":"96 "},{"v":0,"d":"0 "},{"v":0,"d":"0 "}]
[null,"乾電池（アルカリ）","単４電池　","EA",{"v":555,"d":"555 "},{"v":0,"d":"0 "},{"v":0,"d":"0 "}]
[null,"","以下余白",{"v":0,"d":"0 "},{"v":0,"d":"0 "},{"v":0,"d":"0 "},{"v":0,"d":"0 "}]
[null,"","",{"v":0,"d":"0 "},{"v":0,"d":"0 "},{"v":0,"d":"0 "},{"v":0,"d":"0 "}]
[null,"","",{"v":0,"d":"0 "},{"v":0,"d":"0 "},{"v":0,"d":"0 "},{"v":0,"d":"0 "}]
[null,"","",{"v":0,"d":"0 "},{"v":0,"d":"0 "},{"v":0,"d":"0 "},{"v":0,"d":"0 "}]
[null,"計",{"$nulls":4},{"$f":"SUM(G10:H18)","v":{"v":0,"d":"0 "}}]
[null,"納入（履行）場所","北熊本駐屯地","納期（工期）",null,"2026-03-31","00:00:00","00:00:00"]
[null,"契約保証金","（免　除）","入札（見積）書有効期間"]
[null,{"$f":"IF(J4=\"OP\",\"　上記に関して「入札及び契約心得」、「陸上自衛隊北熊本駐屯地オープンカウンター方式実施要項」及び「標準契約書等」の契約条項等を承諾のうえ見積りいたします。また、当社（私（個人の場合）、当団体（団体の場合））は「入札及び契約心得」に示された暴力団排除に関する誓約事項について誓約いたします。\", \"上記に関して「入札及び契約心得」、「標準契約書等」の契約条項等を承諾の上、入札見積りいたします。また、当社（私（個人の場合）、当団体（団体の場合））は「入札及び契約心得」に示された暴力団排除に関する誓約事項について、誓約いたします。\")","v":"上記に関して「入札及び契約心得」、「標準契約書等」の契約条項等を承諾の上、入札見積りいたします。また、当社（私（個人の場合）、当団体（団体の場合））は「入札及び契約心得」に示された暴力団排除に関する誓約事項について、誓約いたします。"},{"$nulls":7},"　上記に関して「入札及び契約心得」、「陸上自衛隊北熊本駐屯地オープンカウンター方式実施要項」及び「標準契約書等」の契約条項等を承諾のうえ見積りいたします。また、当社（私（個人の場合）、当団体（団体の場合））は「入札及び契約心得」に示された暴力団排除に関する誓約事項について誓約いたします。"]
[{"$nulls":9},"　上記に関して「入札及び契約心得」、「標準契約書等」の契約条項等を承諾の上、入札見積りいたします。また、当社（私（個人の場合）、当団体（団体の場合））は「入札及び契約心得」に示された暴力団排除に関する誓約事項について、誓約いたします。"]
[]
[]
[{"v":0,"d":"0 "},{"$f":"IF([1]使用方法!N32=\"有\",DBCS(TEXT([1]契約書!P27,\"令和　e　年　m　月　d　日\")),\"令和　　　　年　　　　月　　　　日\")","v":"令和　８　年　３　月　９　日"},null,{"v":0,"d":"0 "},null,{"v":0,"d":"0 "}]
[]
[null,"分任契約担当官"]
[null,"陸上自衛隊北熊本駐屯地"]
[null,"第３９２会計隊長　秋吉　裕之　殿"]
[null,null,"住　　所　"]
[null,null,"会 社 名　"]
[null,null,"代表者名　"]
[null,null,"担 当 者　"]
[null,null,"連 絡 先　"]
[]
[]
[]
[]
[]
[]
[{"$nulls":3},{"v":0,"d":"0 "}]

{"sheet":"市価調査","index":1,"n_rows":46,"n_cols":8,"rows_kept":46,"merged":[[1,2,1,5],[2,1,2,7],[3,1,3,7],[8,1,8,7],[12,6,12,7],[13,6,13,7],[14,6,14,7],[15,6,15,7],[16,6,16,7],[17,6,17,7],[18,6,18,7],[19,6,19,7],[20,6,20,7],[21,6,21,7],[22,6,22,7],[23,3,23,4],[23,5,23,7],[24,3,24,5],[24,6,24,7],[27,1,27,2],[29,1,29,2],[30,1,30,2],[31,1,31,2],[32,3,32,7],[33,3,33,7],[34,3,34,7],[35,3,35,7],[36,3,36,7]]}
[]
[]
[null,"市場価格調査書"]
[]
[]
[null,"１　前提として本件名について疑義がなく、市場における一般的な価格を記載してください。"]
[null,"２　本市場価格は、　消費税抜き　の金額を記載してください。"]
[null,"３　提出期限：　令和８年２月９日（月）　１０時００分"]
[null,"　　お忙しいところ恐れ入りますが、期限までに見積依頼又は公告記載の問い合わせ先にご回答ください。"]
[null,"　　依頼内容と同様の内容であれば御社様式でご回答していただいても差し支えございません。"]
[null,"　金額　￥",{"$f":"G23","v":{"v":0,"d":"0.-"}},""]
[null,null,"（消費税及び地方消費税を含まない。）"]
[null,"品　　　　名","規　　　　格","単位","数量","単価","金額"]
[null,{"$f":"'入札（見積）書'!B10","v":"ＧＢ４７０"},{"$f":"'入札（見積）書'!C10","v":"ＬＥＶＩＯ　"},{"$f":"'入札（見積）書'!D10","v":"EA"},{"$f":"'入札（見積）書'!E10","v":{"v":89,"d":"89 "}},{"v":0,"d":"0 "},{"$f":"IF(E14,E14*F14,0)","v":{"v":0,"d":"0 "}}]
[null,{"$f":"'入札（見積）書'!B11","v":"ＧＢ４７１ＬｉＰｏバッテリー"},{"$f":"'入札（見積）書'!C11","v":"７．４Ｖ５２０ｍＡｈ　"},{"$f":"'入札（見積）書'!D11","v":"EA"},{"$f":"'入札（見積）書'!E11","v":{"v":178,"d":"178 "}},{"v":0,"d":"0 "},{"v":0,"d":"0 "}]
[null,{"$f":"'入札（見積）書'!B12","v":"ＧＢ０７５ＬＥＧＧＥＲＯ"},{"$f":"'入札（見積）書'!C12","v":"ＦＰＶ　"},{"$f":"'入札（見積）書'!D12","v":"EA"},{"$f":"'入札（見積）書'!E12","v":{"v":96,"d":"96 "}},{"v":0,"d":"0 "},{"v":0,"d":"0 "}]
[null,{"$f":"'入札（見積）書'!B13","v":"ＧＢ１８２ＬｉｐｏＢａｔｔｒｙ"},{"$f":"'入札（見積）書'!C13","v":"３．７Ｖ４５０ｍＡｈ　"},{"$f":"'入札（見積）書'!D13","v":"EA"},{"$f":"'入札（見積）書'!E13","v":{"v":96,"d":"96 "}},{"v":0,"d":"0 "},{"v":0,"d":"0 "}]
[null,{"$f":"'入札（見積）書'!B14","v":"乾電池（アルカリ）"},{"$f":"'入札（見積）書'!C14","v":"単４電池　"},{"$f":"'入札（見積）書'!D14","v":"EA"},{"$f":"'入札（見積）書'!E14","v":{"v":555,"d":"555 "}},{"v":0,"d":"0 "},{"v":0,"d":"0 "}]
[null,{"$f":"'入札（見積）書'!B15","v":""},{"$f":"'入札（見積）書'!C15","v":"以下余白"},{"$f":"'入札（見積）書'!D15","v":{"v":0,"d":"0 "}},{"$f":"'入札（見積）書'!E15","v":{"v":0,"d":"0 "}},{"v":0,"d":"0 "},{"v":0,"d":"0 "}]
[null,{"$f":"'入札（見積）書'!B16","v":""},{"$f":"'入札（見積）書'!C16","v":""},{"$f":"'入札（見積）書'!D16","v":{"v":0,"d":"0 "}},{"$f":"'入札（見積）書'!E16","v":{"v":0,"d":"0 "}},{"v":0,"d":"0 "},{"v":0,"d":"0 "}]
[null,{"$f":"'入札（見積）書'!B17","v":""},{"$f":"'入札（見積）書'!C17","v":""},{"$f":"'入札（見積）書'!D17","v":{"v":0,"d":"0 "}},{"$f":"'入札（見積）書'!E17","v":{"v":0,"d":"0 "}},{"v":0,"d":"0 "},{"v":0,"d":"0 "}]
[null,{"$f":"'入札（見積）書'!B18","v":""},{"$f":"'入札（見積）書'!C18","v":""},{"$f":"'入札（見積）書'!D18","v":{"v":0,"d":"0 "}},{"$f":"'入札（見積）書'!E18","v":{"v":0,"d":"0 "}},{"v":0,"d":"0 "},{"v":0,"d":"0 "}]
[null,"計",{"$nulls":4},{"$f":"SUM(G14:H22)","v":{"v":0,"d":"0 "}}]
[null,"納入（履行）場所",{"$f":"'入札（見積）書'!C20","v":"北熊本駐屯地"},"納期（工期）",null,{"$f":"'入札（見積）書'!F20","v":"2026-03-31"},"00:00:00","00:00:00"]
[]
[]
[]
[{"v":0,"d":"0 "},"令和　　　　年　　　　月　　　　日",null,{"v":0,"d":"0 "},null,{"v":0,"d":"0 "}]
[]
[null,"分任契約担当官"]
[null,"陸上自衛隊北熊本駐屯地"]
[null,"第３９２会計隊長　秋吉　裕之　殿"]
[null,null,"住　　所　",{"$f":"'入札（見積）書'!D31","v":{"v":0,"d":"0 "}}]
[null,null,"会 社 名　",{"$f":"'入札（見積）書'!D32","v":{"v":0,"d":"0 "}}]
[null,null,"代表者名　",{"$f":"'入札（見積）書'!D33","v":{"v":0,"d":"0 "}}]
[null,null,"担 当 者　",{"$f":"'入札（見積）書'!D34","v":{"v":0,"d":"0 "}}]
[null,null,"連 絡 先　",{"$f":"'入札（見積）書'!D35","v":{"v":0,"d":"0 "}}]
{"$rows_empty":8}
[{"$nulls":3},{"v":0,"d":"0 "}]

{"sheet":"見積書等記載例","index":2,"n_rows":45,"n_cols":9,"rows_kept":45,"merged":[[0,2,0,5],[1,1,1,7],[3,2,3,3],[4,2,4,3],[8,6,8,7],[9,6,9,7],[10,6,10,7],[11,6,11,7],[12,6,12,7],[13,6,13,7],[14,6,14,7],[15,6,15,7],[16,6,16,7],[17,6,17,7],[18,6,18,7],[19,3,19,4],[19,5,19,7],[20,3,20,5],[20,6,20,7],[21,1,24,7],[25,1,25,2],[27,1,27,2],[28,1,28,2],[29,1,29,2],[30,3,30,7],[31,3,31,7],[32,3,32,7],[33,3,33,7],[34,3,34,7]]}
[]
[null,"見積書(記載要領）"]
[]
[null,"件名リスト一連番号",36]
[{"$nulls":3},{"$error":"#REF!"}]
[]
[null,"　金額　￥","345　⑩",""]
[null,null,"（消費税及び地方消費税を含まない。）"]
[null,"品　　　　名","規　　　　格","単位","数量","単価","金額"]
[null,"ボールペン","KT-123","PC",{"v":1,"d":"1 "},{"v":345,"d":"345 "},"345　①",null,{"v":12345,"d":"12,345 "}]
[null,{"v":0,"d":"0 "},"以下余白",{"v":0,"d":"0 "},{"v":0,"d":"0 "},{"v":0,"d":"0 "},"　②",null,{"v":0,"d":"0 "}]
[null,{"v":0,"d":"0 "},0,{"v":0,"d":"0 "},{"v":0,"d":"0 "},{"v":0,"d":"0 "},"　③",null,{"v":0,"d":"0 "}]
[null,{"v":0,"d":"0 "},0,{"v":0,"d":"0 "},{"v":0,"d":"0 "},{"v":0,"d":"0 "},"　④",null,{"v":0,"d":"0 "}]
[null,{"v":0,"d":"0 "},0,{"v":0,"d":"0 "},{"v":0,"d":"0 "},{"v":0,"d":"0 "},"　⑤",null,{"v":0,"d":"0 "}]
[null,{"v":0,"d":"0 "},0,{"v":0,"d":"0 "},{"v":0,"d":"0 "},{"v":0,"d":"0 "},"　⑥",null,{"v":0,"d":"0 "}]
[null,{"v":0,"d":"0 "},0,{"v":0,"d":"0 "},{"v":0,"d":"0 "},{"v":0,"d":"0 "},"　⑦",null,{"v":0,"d":"0 "}]
[null,{"v":0,"d":"0 "},0,{"v":0,"d":"0 "},{"v":0,"d":"0 "},{"v":0,"d":"0 "},"　⑧",null,{"v":0,"d":"0 "}]
[null,{"v":0,"d":"0 "},0,{"v":0,"d":"0 "},{"v":0,"d":"0 "},{"v":0,"d":"0 "},"　⑨",null,{"v":0,"d":"0 "}]
[null,"計",{"$nulls":4},"345　⑩"]
[null,"納入（履行）場所","北熊本駐屯地","納期（工期）",null,"令和8年3月31日","00:00:00","00:00:00"]
[null,"契約保証金","（免　除）","入札（見積）書有効期間"]
[null,"　上記に関して「入札及び契約心得」、「陸上自衛隊北熊本駐屯地オープンカウンター方式実施要項」及び「標準契約書等」の契約条項等を承諾のうえ見積りいたします。また、当社（私（個人の場合）、当団体（団体の場合））は「入札及び契約心得」に示された暴力団排除に関する誓約事項について誓約いたします。"]
[]
[]
[]
[{"v":0,"d":"0 "},"令和７年１１月１１日",null,{"v":0,"d":"0 "},null,{"v":0,"d":"0 "},null,null,{"v":0,"d":"0 "}]
[]
[null,"分任契約担当官"]
[null,"陸上自衛隊北熊本駐屯地"]
[null,"第３９２会計隊長　秋吉　裕之　殿"]
[null,null,"住　　所　","熊本県熊本市北区八景水谷２丁目１７番地１号"]
[null,null,"会 社 名　","株式会社〇〇〇〇"]
[null,null,"代表者名　","代表取締役　〇〇　〇〇"]
[null,null,"担 当 者　","山田　太郎"]
[null,null,"連 絡 先　","03-1234-5678"]
{"$rows_empty":8}
[{"$nulls":3},{"v":0,"d":"0 "}]
[{"$nulls":3},{"v":0,"d":"0 "}]

{"sheet":"同等品判定依頼書","index":3,"n_rows":58,"n_cols":6,"rows_kept":58,"merged":[[0,0,0,5],[2,4,2,5],[8,4,8,5],[9,4,9,5],[10,4,10,5],[11,4,11,5],[12,4,12,5],[18,0,18,5],[21,2,21,3],[21,4,21,5],[22,2,22,3],[22,4,22,5],[23,1,23,4],[28,0,29,0],[29,2,29,5],[32,0,32,1],[33,0,33,1],[34,0,34,1],[41,0,42,5],[51,0,51,1],[51,2,51,5],[52,0,55,1]]}
["同等品判定依頼書"]
[]
[{"$nulls":4},"　　　年　　　月　　　日"]
[]
["分任契約担当官"]
["陸上自衛隊北熊本駐屯地"]
["第３９２会計隊長　秋吉　裕之　殿"]
[]
[{"$nulls":3},"住 　　　　所"]
[{"$nulls":3},"会 　社　 名"]
[{"$nulls":3},"代表者氏名"]
[{"$nulls":3},"担　当　者　名"]
[{"$nulls":3},"連 　絡　 先"]
[]
[]
["　　下記の応札（見積）予定物品が調達要求物品と同等であるかを判定願います。"]
[]
[]
["記"]
[]
[]
["調達要求番号","品　名","仕様書　カタログ品名",null,"同等品製品名"]
[]
["添付書類等："]
[null,"（カタログ等諸元が判定可能なもの）"]
[]
["要求部隊長"]
[]
["問題点の\n有無・理由","　　　無"]
[null,"　　　有","品質・性能・使用材料・構造・寸法・製造（施行）方法・色・模様\n\nその他（　　　　　　　　　　　　　　　　　　　　　　　　　　　　　　　　　　）"]
[]
["",{"$nulls":4},"　　　年　　　月　　　日"]
[]
[]
[null,null,"殿"]
[]
[{"$nulls":3},"分任契約担当官"]
[{"$nulls":3},"陸上自衛隊北熊本駐屯地"]
[{"$nulls":3},"第３９２会計隊長　秋吉　裕之"]
[]
[]
["同等品判定結果通知書"]
[]
[]
["　　上記応札（見積）予定物品について、次のとおり判定する。"]
[]
[null,"判　定：同等品として　　承認する。"]
[]
[null,"　　　　　　　　　　　　　　　承認しない。"]
[]
["　　上記申請について、次のとおり確認した。"]
["分任物品管理官等記入欄",null,"要求元記入欄"]
["要求元の所見を確認した。\n\n\n確認年月日：",null,"仕様及び物品番号・品名との適合を確認した結果"]
[null,null,"同等品として（認める・認めない）"]
[null,null,"確認年月日："]
[null,null,"確認者所属・階級・氏名："]
[]
["認めない場合の理由："]