{"text_format":"3","workbook":"xlsx","n_sheets":6,"sheets":["Sheet2","要求内訳データ","入札（見積）書","Sheet1","Sheet3","役務完了調書"],"not_rendered":{"macros":1,"external_links":1,"defined_names":117},"read":"whole","date_system":"1900"}

{"sheet":"Sheet2","index":0,"n_rows":498,"n_cols":16,"rows_kept":498,"hidden":true}
[{"$nulls":8},{"$f":"#REF!","v":{"$error":"#REF!"}}]
[null,"要求書連番","全番","品名","規格","数量","単位"]
[{"$f":"LEFT(B3,LEN(B3)-4)","v":{"$error":"#REF!"}},{"$f":"#REF!","v":{"$error":"#REF!"}},{"$f":"要求内訳データ!A3","v":1},{"$f":"要求内訳データ!B3","v":{"$error":"#REF!"}},{"$f":"要求内訳データ!C3","v":{"$error":"#REF!"}},{"$f":"要求内訳データ!D3","v":{"$error":"#REF!"}},{"$f":"要求内訳データ!E3","v":{"$error":"#REF!"}},null,{"$f":"#REF!&\"0001\"","v":{"$error":"#REF!"}},{"$f":"IF(K3=\"\",\"\",1)","v":""},{"$f":"IFERROR(VLOOKUP(I3,$B$3:$G$498,3,FALSE),\"\")","v":""},{"$f":"IF(AND(J3=\"\",NOT(K2=\"\")),\"以下余白\",IFERROR(VLOOKUP(I3,$B$3:$G$498,4,FALSE),\"\"))","v":""},{"$f":"IFERROR(VLOOKUP(I3,$B$3:$G$498,5,FALSE),\"\")","v":""},{"$f":"IFERROR(VLOOKUP(I3,$B$3:$G$498,6,FALSE),\"\")","v":""},{"$f":"IFERROR(VLOOKUP(I3,#REF!,10,FALSE),\"\")","v":""},{"$f":"IFERROR(VLOOKUP(I3,#REF!,11,FALSE),\"\")","v":""}]
[{"$f":"LEFT(B4,LEN(B4)-4)","v":{"$error":"#REF!"}},{"$f":"#REF!","v":{"$error":"#REF!"}},{"$f":"要求内訳データ!A4","v":{"$error":"#REF!"}},{"$f":"要求内訳データ!B4","v":{"$error":"#REF!"}},{"$f":"要求内訳データ!C4","v":{"$error":"#REF!"}},{"$f":"要求内訳データ!D4","v":{"$error":"#REF!"}},{"$f":"要求内訳データ!E4","v":{"$error":"#REF!"}},null,{"$f":"#REF!&\"0002\"","v":{"$error":"#REF!"}},{"$f":"IF(K4=\"\",\"\",2)","v":""},{"$f":"IFERROR(VLOOKUP(I4,$B$3:$G$498,3,FALSE),\"\")","v":""},{"$f":"IF(AND(J4=\"\",NOT(K3=\"\")),\"以下余白\",IFERROR(VLOOKUP(I4,$B$3:$G$498,4,FALSE),\"\"))","v":""},{"$f":"IFERROR(VLOOKUP(I4,$B$3:$G$498,5,FALSE),\"\")","v":""},{"$f":"IFERROR(VLOOKUP(I4,$B$3:$G$498,6,FALSE),\"\")","v":""},{"$f":"IFERROR(VLOOKUP(I4,#REF!,10,FALSE),\"\")","v":""},{"$f":"IFERROR(VLOOKUP(I4,#REF!,11,FALSE),\"\")","v":""}]
[{"$error":"#REF!"},{"$f":"#REF!","v":{"$error":"#REF!"}},{"$f":"要求内訳データ!A5","v":{"$error":"#REF!"}},{"$f":"要求内訳データ!B5","v":{"$error":"#REF!"}},{"$f":"要求内訳データ!C5","v":{"$error":"#REF!"}},{"$f":"要求内訳データ!D5","v":{"$error":"#REF!"}},{"$f":"要求内訳データ!E5","v":{"$error":"#REF!"}},null,{"$f":"#REF!&\"0003\"","v":{"$error":"#REF!"}},{"$f":"IF(K5=\"\",\"\",3)","v":""},{"$f":"IFERROR(VLOOKUP(I5,$B$3:$G$498,3,FALSE),\"\")","v":""},{"$f":"IF(AND(J5=\"\",NOT(K4=\"\")),\"以下余白\",IFERROR(VLOOKUP(I5,$B$3:$G$498,4,FALSE),\"\"))","v":""},{"$f":"IFERROR(VLOOKUP(I5,$B$3:$G$498,5,FALSE),\"\")","v":""},{"$f":"IFERROR(VLOOKUP(I5,$B$3:$G$498,6,FALSE),\"\")","v":""},{"$f":"IFERROR(VLOOKUP(I5,#REF!,10,FALSE),\"\")","v":""},{"$f":"IFERROR(VLOOKUP(I5,#REF!,11,FALSE),\"\")","v":""}]
[{"$error":"#REF!"},{"$f":"#REF!","v":{"$error":"#REF!"}},{"$f":"要求内訳データ!A6","v":{"$error":"#REF!"}},{"$f":"要求内訳データ!B6","v":{"$error":"#REF!"}},{"$f":"要求内訳データ!C6","v":{"$error":"#REF!"}},{"$f":"要求内訳データ!D6","v":{"$error":"#REF!"}},{"$f":"要求内訳データ!E6","v":{"$error":"#REF!"}},null,{"$f":"#REF!&\"0004\"","v":{"$error":"#REF!"}},{"$f":"IF(K6=\"\",\"\",4)","v":""},{"$f":"IFERROR(VLOOKUP(I6,$B$3:$G$498,3,FALSE),\"\")","v":""},{"$f":"IF(AND(J6=\"\",NOT(K5=\"\")),\"以下余白\",IFERROR(VLOOKUP(I6,$B$3:$G$498,4,FALSE),\"\"))","v":""},{"$f":"IFERROR(VLOOKUP(I6,$B$3:$G$498,5,FALSE),\"\")","v":""},{"$f":"IFERROR(VLOOKUP(I6,$B$3:$G$498,6,FALSE),\"\")","v":""},{"$f":"IFERROR(VLOOKUP(I6,#REF!,10,FALSE),\"\")","v":""},{"$f":"IFERROR(VLOOKUP(I6,#REF!,11,FALSE),\"\")","v":""}]
[{"$error":"#REF!"},{"$f":"#REF!","v":{"$error":"#REF!"}},{"$f":"要求内訳データ!A7","v":{"$error":"#REF!"}},{"$f":"要求内訳データ!B7","v":{"$error":"#REF!"}},{"$f":"要求内訳データ!C7","v":{"$error":"#REF!"}},{"$f":"要求内訳データ!D7","v":{"$error":"#REF!"}},{"$f":"要求内訳データ!E7","v":{"$error":"#REF!"}},null,{"$f":"#REF!&\"0005\"","v":{"$error":"#REF!"}},{"$f":"IF(K7=\"\",\"\",5)","v":""},{"$f":"IFERROR(VLOOKUP(I7,$B$3:$G$498,3,FALSE),\"\")","v":""},{"$f":"IF(AND(J7=\"\",NOT(K6=\"\")),\"以下余白\",IFERROR(VLOOKUP(I7,$B$3:$G$498,4,FALSE),\"\"))","v":""},{"$f":"IFERROR(VLOOKUP(I7,$B$3:$G$498,5,FALSE),\"\")","v":""},{"$f":"IFERROR(VLOOKUP(I7,$B$3:$G$498,6,FALSE),\"\")","v":""},{"$f":"IFERROR(VLOOKUP(I7,#REF!,10,FALSE),\"\")","v":""},{"$f":"IFERROR(VLOOKUP(I7,#REF!,11,FALSE),\"\")","v":""}]
[{"$error":"#REF!"},{"$f":"#REF!","v":{"$error":"#REF!"}},{"$f":"要求内訳データ!A8","v":{"$error":"#REF!"}},{"$f":"要求内訳データ!B8","v":{"$error":"#REF!"}},{"$f":"要求内訳データ!C8","v":{"$error":"#REF!"}},{"$f":"要求内訳データ!D8","v":{"$error":"#REF!"}},{"$f":"要求内訳データ!E8","v":{"$error":"#REF!"}}]
[{"$error":"#REF!"},{"$f":"#REF!","v":{"$error":"#REF!"}},{"$f":"要求内訳データ!A9","v":{"$error":"#REF!"}},{"$f":"要求内訳データ!B9","v":{"$error":"#REF!"}},{"$f":"要求内訳データ!C9","v":{"$error":"#REF!"}},{"$f":"要求内訳データ!D9","v":{"$error":"#REF!"}},{"$f":"要求内訳データ!E9","v":{"$error":"#REF!"}}]
[{"$error":"#REF!"},{"$f":"#REF!","v":{"$error":"#REF!"}},{"$f":"要求内訳データ!A10","v":{"$error":"#REF!"}},{"$f":"要求内訳データ!B10","v":{"$error":"#REF!"}},{"$f":"要求内訳データ!C10","v":{"$error":"#REF!"}},{"$f":"要求内訳データ!D10","v":{"$error":"#REF!"}},{"$f":"要求内訳データ!E10","v":{"$error":"#REF!"}}]
[{"$error":"#REF!"},{"$f":"#REF!","v":{"$error":"#REF!"}},{"$f":"要求内訳データ!A11","v":{"$error":"#REF!"}},{"$f":"要求内訳データ!B11","v":{"$error":"#REF!"}},{"$f":"要求内訳データ!C11","v":{"$error":"#REF!"}},{"$f":"要求内訳データ!D11","v":{"$error":"#REF!"}},{"$f":"要求内訳データ!E11","v":{"$error":"#REF!"}}]
[{"$error":"#REF!"},{"$f":"#REF!","v":{"$error":"#REF!"}},{"$f":"要求内訳データ!A12","v":{"$error":"#REF!"}},{"$f":"要求内訳データ!B12","v":{"$error":"#REF!"}},{"$f":"要求内訳データ!C12","v":{"$error":"#REF!"}},{"$f":"要求内訳データ!D12","v":{"$error":"#REF!"}},{"$f":"要求内訳データ!E12","v":{"$error":"#REF!"}}]
[{"$error":"#REF!"},{"$f":"#REF!","v":{"$error":"#REF!"}},{"$f":"要求内訳データ!A13","v":{"$error":"#REF!"}},{"$f":"要求内訳データ!B13","v":{"$error":"#REF!"}},{"$f":"要求内訳データ!C13","v":{"$error":"#REF!"}},{"$f":"要求内訳データ!D13","v":{"$error":"#REF!"}},{"$f":"要求内訳データ!E13","v":{"$error":"#REF!"}}]
[{"$error":"#REF!"},{"$f":"#REF!","v":{"$error":"#REF!"}},{"$f":"要求内訳データ!A14","v":{"$error":"#REF!"}},{"$f":"要求内訳データ!B14","v":{"$error":"#REF!"}},{"$f":"要求内訳データ!C14","v":{"$error":"#REF!"}},{"$f":"要求内訳データ!D14","v":{"$error":"#REF!"}},{"$f":"要求内訳データ!E14","v":{"$error":"#REF!"}}]
[{"$error":"#REF!"},{"$f":"#REF!","v":{"$error":"#REF!"}},{"$f":"要求内訳データ!A15","v":{"$error":"#REF!"}},{"$f":"要求内訳データ!B15","v":{"$error":"#REF!"}},{"$f":"要求内訳データ!C15","v":{"$error":"#REF!"}},{"$f":"要求内訳データ!D15","v":{"$error":"#REF!"}},{"$f":"要求内訳データ!E15","v":{"$error":"#REF!"}}]
[{"$error":"#REF!"},{"$f":"#REF!","v":{"$error":"#REF!"}},{"$f":"要求内訳データ!A16","v":{"$error":"#REF!"}},{"$f":"要求内訳データ!B16","v":{"$error":"#REF!"}},{"$f":"要求内訳データ!C16","v":{"$error":"#REF!"}},{"$f":"要求内訳データ!D16","v":{"$error":"#REF!"}},{"$f":"要求内訳データ!E16","v":{"$error":"#REF!"}}]
[{"$error":"#REF!"},{"$f":"#REF!","v":{"$error":"#REF!"}},{"$f":"要求内訳データ!A17","v":{"$error":"#REF!"}},{"$f":"要求内訳データ!B17","v":{"$error":"#REF!"}},{"$f":"要求内訳データ!C17","v":{"$error":"#REF!"}},{"$f":"要求内訳データ!D17","v":{"$error":"#REF!"}},{"$f":"要求内訳データ!E17","v":{"$error":"#REF!"}}]
[{"$error":"#REF!"},{"$f":"#REF!","v":{"$error":"#REF!"}},{"$f":"要求内訳データ!A18","v":{"$error":"#REF!"}},{"$f":"要求内訳データ!B18","v":{"$error":"#REF!"}},{"$f":"要求内訳データ!C18","v":{"$error":"#REF!"}},{"$f":"要求内訳データ!D18","v":{"$error":"#REF!"}},{"$f":"要求内訳データ!E18","v":{"$error":"#REF!"}}]
[{"$error":"#REF!"},{"$f":"#REF!","v":{"$error":"#REF!"}},{"$f":"要求内訳データ!A19","v":{"$error":"#REF!"}},{"$f":"要求内訳データ!B19","v":{"$error":"#REF!"}},{"$f":"要求内訳データ!C19","v":{"$error":"#REF!"}},{"$f":"要求内訳データ!D19","v":{"$error":"#REF!"}},{"$f":"要求内訳データ!E19","v":{"$error":"#REF!"}}]
[{"$error":"#REF!"},{"$f":"#REF!","v":{"$error":"#REF!"}},{"$f":"要求内訳データ!A20","v":{"$error":"#REF!"}},{"$f":"要求内訳データ!B20","v":{"$error":"#REF!"}},{"$f":"要求内訳データ!C20","v":{"$error":"#REF!"}},{"$f":"要求内訳データ!D20","v":{"$error":"#REF!"}},{"$f":"要求内訳データ!E20","v":{"$error":"#REF!"}}]
[{"$error":"#REF!"},{"$f":"#REF!","v":{"$error":"#REF!"}},{"$f":"要求内訳データ!A21","v":{"$error":"#REF!"}},{"$f":"要求内訳データ!B21","v":{"$error":"#REF!"}},{"$f":"要求内訳データ!C21","v":{"$error":"#REF!"}},{"$f":"要求内訳データ!D21","v":{"$error":"#REF!"}},{"$f":"要求内訳データ!E21","v":{"$error":"#REF!"}}]
[{"$error":"#REF!"},{"$f":"#REF!","v":{"$error":"#REF!"}},{"$f":"要求内訳データ!A22","v":{"$error":"#REF!"}},{"$f":"要求内訳データ!B22","v":{"$error":"#REF!"}},{"$f":"要求内訳データ!C22","v":{"$error":"#REF!"}},{"$f":"要求内訳データ!D22","v":{"$error":"#REF!"}},{"$f":"要求内訳データ!E22","v":{"$error":"#REF!"}}]
[{"$error":"#REF!"},{"$f":"#REF!","v":{"$error":"#REF!"}},{"$f":"要求内訳データ!A23","v":{"$error":"#REF!"}},{"$f":"要求内訳データ!B23","v":{"$error":"#REF!"}},{"$f":"要求内訳データ!C23","v":{"$error":"#REF!"}},{"$f":"要求内訳データ!D23","v":{"$error":"#REF!"}},{"$f":"要求内訳データ!E23","v":{"$error":"#REF!"}}]
[{"$error":"#REF!"},{"$f":"#REF!","v":{"$error":"#REF!"}},{"$f":"要求内訳データ!A24","v":{"$error":"#REF!"}},{"$f":"要求内訳データ!B24","v":{"$error":"#REF!"}},{"$f":"要求内訳データ!C24","v":{"$error":"#REF!"}},{"$f":"要求内訳データ!D24","v":{"$error":"#REF!"}},{"$f":"要求内訳データ!E24","v":{"$error":"#REF!"}}]
[{"$error":"#REF!"},{"$f":"#REF!","v":{"$error":"#REF!"}},{"$f":"要求内訳データ!A25","v":{"$error":"#REF!"}},{"$f":"要求内訳データ!B25","v":{"$error":"#REF!"}},{"$f":"要求内訳データ!C25","v":{"$error":"#REF!"}},{"$f":"要求内訳データ!D25","v":{"$error":"#REF!"}},{"$f":"要求内訳データ!E25","v":{"$error":"#REF!"}}]
[{"$error":"#REF!"},{"$f":"#REF!","v":{"$error":"#REF!"}},{"$f":"要求内訳データ!A26","v":{"$error":"#REF!"}},{"$f":"要求内訳データ!B26","v":{"$error":"#REF!"}},{"$f":"要求内訳データ!C26","v":{"$error":"#REF!"}},{"$f":"要求内訳データ!D26","v":{"$error":"#REF!"}},{"$f":"要求内訳データ!E26","v":{"$error":"#REF!"}}]
[{"$error":"#REF!"},{"$f":"#REF!","v":{"$error":"#REF!"}},{"$f":"要求内訳データ!A27","v":{"$error":"#REF!"}},{"$f":"要求内訳データ!B27","v":{"$error":"#REF!"}},{"$f":"要求内訳データ!C27","v":{"$error":"#REF!"}},{"$f":"要求内訳データ!D27","v":{"$error":"#REF!"}},{"$f":"要求内訳データ!E27","v":{"$error":"#REF!"}}]
[{"$error":"#REF!"},{"$f":"#REF!","v":{"$error":"#REF!"}},{"$f":"要求内訳データ!A28","v":{"$error":"#REF!"}},{"$f":"要求内訳データ!B28","v":{"$error":"#REF!"}},{"$f":"要求内訳データ!C28","v":{"$error":"#REF!"}},{"$f":"要求内訳データ!D28","v":{"$error":"#REF!"}},{"$f":"要求内訳データ!E28","v":{"$error":"#REF!"}}]
[{"$error":"#REF!"},{"$f":"#REF!","v":{"$error":"#REF!"}},{"$f":"要求内訳データ!A29","v":{"$error":"#REF!"}},{"$f":"要求内訳データ!B29","v":{"$error":"#REF!"}},{"$f":"要求内訳データ!C29","v":{"$error":"#REF!"}},{"$f":"要求内訳データ!D29","v":{"$error":"#REF!"}},{"$f":"要求内訳データ!E29","v":{"$error":"#REF!"}}]
[{"$error":"#REF!"},{"$f":"#REF!","v":{"$error":"#REF!"}},{"$f":"要求内訳データ!A30","v":{"$error":"#REF!"}},{"$f":"要求内訳データ!B30","v":{"$error":"#REF!"}},{"$f":"要求内訳データ!C30","v":{"$error":"#REF!"}},{"$f":"要求内訳データ!D30","v":{"$error":"#REF!"}},{"$f":"要求内訳データ!E30","v":{"$error":"#REF!"}}]
[{"$error":"#REF!"},{"$f":"#REF!","v":{"$error":"#REF!"}},{"$f":"要求内訳データ!A31","v":{"$error":"#REF!"}},{"$f":"要求内訳データ!B31","v":{"$error":"#REF!"}},{"$f":"要求内訳データ!C31","v":{"$error":"#REF!"}},{"$f":"要求内訳データ!D31","v":{"$error":"#REF!"}},{"$f":"要求内訳データ!E31","v":{"$error":"#REF!"}},null,"契約方式","一般競争契約"]
[{"$error":"#REF!"},{"$f":"#REF!","v":{"$error":"#REF!"}},{"$f":"要求内訳データ!A32","v":{"$error":"#REF!"}},{"$f":"要求内訳データ!B32","v":{"$error":"#REF!"}},{"$f":"要求内訳データ!C32","v":{"$error":"#REF!"}},{"$f":"要求内訳データ!D32","v":{"$error":"#REF!"}},{"$f":"要求内訳データ!E32","v":{"$error":"#REF!"}},null,null,"オープンカウンター（随意契約）"]
[{"$error":"#REF!"},{"$f":"#REF!","v":{"$error":"#REF!"}},{"$f":"要求内訳データ!A33","v":{"$error":"#REF!"}},{"$f":"要求内訳データ!B33","v":{"$error":"#REF!"}},{"$f":"要求内訳データ!C33","v":{"$error":"#REF!"}},{"$f":"要求内訳データ!D33","v":{"$error":"#REF!"}},{"$f":"要求内訳データ!E33","v":{"$error":"#REF!"}},null,null,"随意契約"]
[{"$error":"#REF!"},{"$f":"#REF!","v":{"$error":"#REF!"}},{"$f":"要求内訳データ!A34","v":{"$error":"#REF!"}},{"$f":"要求内訳データ!B34","v":{"$error":"#REF!"}},{"$f":"要求内訳データ!C34","v":{"$error":"#REF!"}},{"$f":"要求内訳データ!D34","v":{"$error":"#REF!"}},{"$f":"要求内訳データ!E34","v":{"$error":"#REF!"}},{"$nulls":3},"総額","単契","納地等","納期総額","納期単契"]
[{"$error":"#REF!"},{"$f":"#REF!","v":{"$error":"#REF!"}},{"$f":"要求内訳データ!A35","v":{"$error":"#REF!"}},{"$f":"要求内訳データ!B35","v":{"$error":"#REF!"}},{"$f":"要求内訳データ!C35","v":{"$error":"#REF!"}},{"$f":"要求内訳データ!D35","v":{"$error":"#REF!"}},{"$f":"要求内訳データ!E35","v":{"$error":"#REF!"}},null,"契約種別","物品の借上","賃貸借契約書","賃貸借単価契約書","履行場所","履行期間","履行期間","第１条　本契約については、駐屯地用標準契約書賃貸借契約条項を適用する。"]
[{"$error":"#REF!"},{"$f":"#REF!","v":{"$error":"#REF!"}},{"$f":"要求内訳データ!A36","v":{"$error":"#REF!"}},{"$f":"要求内訳データ!B36","v":{"$error":"#REF!"}},{"$f":"要求内訳データ!C36","v":{"$error":"#REF!"}},{"$f":"要求内訳データ!D36","v":{"$error":"#REF!"}},{"$f":"要求内訳データ!E36","v":{"$error":"#REF!"}},null,null,"物品の販売","物品売買契約書","物品売買単価契約書","納入場所","納　　期","納　　期","第１条　本契約については、駐屯地用標準契約書物品売買契約条項を適用する。"]
[{"$error":"#REF!"},{"$f":"#REF!","v":{"$error":"#REF!"}},{"$f":"要求内訳データ!A37","v":{"$error":"#REF!"}},{"$f":"要求内訳データ!B37","v":{"$error":"#REF!"}},{"$f":"要求内訳データ!C37","v":{"$error":"#REF!"}},{"$f":"要求内訳データ!D37","v":{"$error":"#REF!"}},{"$f":"要求内訳データ!E37","v":{"$error":"#REF!"}},null,null,"役務の提供等","役務請負契約書","役務請負単価契約書","履行場所","履行期限","履行期限","第１条　本契約については、駐屯地用標準契約書役務請負契約条項を適用する。"]
[{"$error":"#REF!"},{"$f":"#REF!","v":{"$error":"#REF!"}},{"$f":"要求内訳データ!A38","v":{"$error":"#REF!"}},{"$f":"要求内訳データ!B38","v":{"$error":"#REF!"}},{"$f":"要求内訳データ!C38","v":{"$error":"#REF!"}},{"$f":"要求内訳データ!D38","v":{"$error":"#REF!"}},{"$f":"要求内訳データ!E38","v":{"$error":"#REF!"}}]
[{"$error":"#REF!"},{"$f":"#REF!","v":{"$error":"#REF!"}},{"$f":"要求内訳データ!A39","v":{"$error":"#REF!"}},{"$f":"要求内訳データ!B39","v":{"$error":"#REF!"}},{"$f":"要求内訳データ!C39","v":{"$error":"#REF!"}},{"$f":"要求内訳データ!D39","v":{"$error":"#REF!"}},{"$f":"要求内訳データ!E39","v":{"$error":"#REF!"}}]
[{"$error":"#REF!"},{"$f":"#REF!","v":{"$error":"#REF!"}},{"$f":"要求内訳データ!A40","v":{"$error":"#REF!"}},{"$f":"要求内訳データ!B40","v":{"$error":"#REF!"}},{"$f":"要求内訳データ!C40","v":{"$error":"#REF!"}},{"$f":"要求内訳データ!D40","v":{"$error":"#REF!"}},{"$f":"要求内訳データ!E40","v":{"$error":"#REF!"}}]
[{"$error":"#REF!"},{"$f":"#REF!","v":{"$error":"#REF!"}},{"$f":"要求内訳データ!A41","v":{"$error":"#REF!"}},{"$f":"要求内訳データ!B41","v":{"$error":"#REF!"}},{"$f":"要求内訳データ!C41","v":{"$error":"#REF!"}},{"$f":"要求内訳データ!D41","v":{"$error":"#REF!"}},{"$f":"要求内訳データ!E41","v":{"$error":"#REF!"}}]
[{"$error":"#REF!"},{"$f":"#REF!","v":{"$error":"#REF!"}},{"$f":"要求内訳データ!A42","v":{"$error":"#REF!"}},{"$f":"要求内訳データ!B42","v":{"$error":"#REF!"}},{"$f":"要求内訳データ!C42","v":{"$error":"#REF!"}},{"$f":"要求内訳データ!D42","v":{"$error":"#REF!"}},{"$f":"要求内訳データ!E42","v":{"$error":"#REF!"}}]
[{"$error":"#REF!"},{"$f":"#REF!","v":{"$error":"#REF!"}},{"$f":"要求内訳データ!A43","v":{"$error":"#REF!"}},{"$f":"要求内訳データ!B43","v":{"$error":"#REF!"}},{"$f":"要求内訳データ!C43","v":{"$error":"#REF!"}},{"$f":"要求内訳データ!D43","v":{"$error":"#REF!"}},{"$f":"要求内訳データ!E43","v":{"$error":"#REF!"}}]
[{"$error":"#REF!"},{"$f":"#REF!","v":{"$error":"#REF!"}},{"$f":"要求内訳データ!A44","v":{"$error":"#REF!"}},{"$f":"要求内訳データ!B44","v":{"$error":"#REF!"}},{"$f":"要求内訳データ!C44","v":{"$error":"#REF!"}},{"$f":"要求内訳データ!D44","v":{"$error":"#REF!"}},{"$f":"要求内訳データ!E44","v":{"$error":"#REF!"}}]
[{"$error":"#REF!"},{"$f":"#REF!","v":{"$error":"#REF!"}},{"$f":"要求内訳データ!A45","v":{"$error":"#REF!"}},{"$f":"要求内訳データ!B45","v":{"$error":"#REF!"}},{"$f":"要求内訳データ!C45","v":{"$error":"#REF!"}},{"$f":"要求内訳データ!D45","v":{"$error":"#REF!"}},{"$f":"要求内訳データ!E45","v":{"$error":"#REF!"}}]
[{"$error":"#REF!"},{"$f":"#REF!","v":{"$error":"#REF!"}},{"$f":"要求内訳データ!A46","v":{"$error":"#REF!"}},{"$f":"要求内訳データ!B46","v":{"$error":"#REF!"}},{"$f":"要求内訳データ!C46","v":{"$error":"#REF!"}},{"$f":"要求内訳データ!D46","v":{"$error":"#REF!"}},{"$f":"要求内訳データ!E46","v":{"$error":"#REF!"}}]
[{"$error":"#REF!"},{"$f":"#REF!","v":{"$error":"#REF!"}},{"$f":"要求内訳データ!A47","v":{"$error":"#REF!"}},{"$f":"要求内訳データ!B47","v":{"$error":"#REF!"}},{"$f":"要求内訳データ!C47","v":{"$error":"#REF!"}},{"$f":"要求内訳データ!D47","v":{"$error":"#REF!"}},{"$f":"要求内訳データ!E47","v":{"$error":"#REF!"}}]
[{"$error":"#REF!"},{"$f":"#REF!","v":{"$error":"#REF!"}},{"$f":"要求内訳データ!A48","v":{"$error":"#REF!"}},{"$f":"要求内訳データ!B48","v":{"$error":"#REF!"}},{"$f":"要求内訳データ!C48","v":{"$error":"#REF!"}},{"$f":"要求内訳データ!D48","v":{"$error":"#REF!"}},{"$f":"要求内訳データ!E48","v":{"$error":"#REF!"}}]
[{"$error":"#REF!"},{"$f":"#REF!","v":{"$error":"#REF!"}},{"$f":"要求内訳データ!A49","v":{"$error":"#REF!"}},{"$f":"要求内訳データ!B49","v":{"$error":"#REF!"}},{"$f":"要求内訳データ!C49","v":{"$error":"#REF!"}},{"$f":"要求内訳データ!D49","v":{"$error":"#REF!"}},{"$f":"要求内訳データ!E49","v":{"$error":"#REF!"}}]
[{"$error":"#REF!"},{"$f":"#REF!","v":{"$error":"#REF!"}},{"$f":"要求内訳データ!A50","v":{"$error":"#REF!"}},{"$f":"要求内訳データ!B50","v":{"$error":"#REF!"}},{"$f":"要求内訳データ!C50","v":{"$error":"#REF!"}},{"$f":"要求内訳データ!D50","v":{"$error":"#REF!"}},{"$f":"要求内訳データ!E50","v":{"$error":"#REF!"}}]
[{"$error":"#REF!"},{"$f":"#REF!","v":{"$error":"#REF!"}},{"$f":"要求内訳データ!A51","v":{"$error":"#REF!"}},{"$f":"要求内訳データ!B51","v":{"$error":"#REF!"}},{"$f":"要求内訳データ!C51","v":{"$error":"#REF!"}},{"$f":"要求内訳データ!D51","v":{"$error":"#REF!"}},{"$f":"要求内訳データ!E51","v":{"$error":"#REF!"}}]
[{"$error":"#REF!"},{"$f":"#REF!","v":{"$error":"#REF!"}},{"$f":"要求内訳データ!A52","v":{"$error":"#REF!"}},{"$f":"要求内訳データ!B52","v":{"$error":"#REF!"}},{"$f":"要求内訳データ!C52","v":{"$error":"#REF!"}},{"$f":"要求内訳データ!D52","v":{"$error":"#REF!"}},{"$f":"要求内訳データ!E52","v":{"$error":"#REF!"}}]
[{"$error":"#REF!"},{"$f":"#REF!","v":{"$error":"#REF!"}},{"$f":"要求内訳データ!A53","v":{"$error":"#REF!"}},{"$f":"要求内訳データ!B53","v":{"$error":"#REF!"}},{"$f":"要求内訳データ!C53","v":{"$error":"#REF!"}},{"$f":"要求内訳データ!D53","v":{"$error":"#REF!"}},{"$f":"要求内訳データ!E53","v":{"$error":"#REF!"}}]
[{"$error":"#REF!"},{"$f":"#REF!","v":{"$error":"#REF!"}},{"$f":"要求内訳データ!A54","v":{"$error":"#REF!"}},{"$f":"要求内訳データ!B54","v":{"$error":"#REF!"}},{"$f":"要求内訳データ!C54","v":{"$error":"#REF!"}},{"$f":"要求内訳データ!D54","v":{"$error":"#REF!"}},{"$f":"要求内訳データ!E54","v":{"$error":"#REF!"}}]
[{"$error":"#REF!"},{"$f":"#REF!","v":{"$error":"#REF!"}},{"$f":"要求内訳データ!A55","v":{"$error":"#REF!"}},{"$f":"要求内訳データ!B55","v":{"$error":"#REF!"}},{"$f":"要求内訳データ!C55","v":{"$error":"#REF!"}},{"$f":"要求内訳データ!D55","v":{"$error":"#REF!"}},{"$f":"要求内訳データ!E55","v":{"$error":"#REF!"}}]
[{"$error":"#REF!"},{"$f":"#REF!","v":{"$error":"#REF!"}},{"$f":"要求内訳データ!A56","v":{"$error":"#REF!"}},{"$f":"要求内訳データ!B56","v":{"$error":"#REF!"}},{"$f":"要求内訳データ!C56","v":{"$error":"#REF!"}},{"$f":"要求内訳データ!D56","v":{"$error":"#REF!"}},{"$f":"要求内訳データ!E56","v":{"$error":"#REF!"}}]
[{"$error":"#REF!"},{"$f":"#REF!","v":{"$error":"#REF!"}},{"$f":"要求内訳データ!A57","v":{"$error":"#REF!"}},{"$f":"要求内訳データ!B57","v":{"$error":"#REF!"}},{"$f":"要求内訳データ!C57","v":{"$error":"#REF!"}},{"$f":"要求内訳データ!D57","v":{"$error":"#REF!"}},{"$f":"要求内訳データ!E57","v":{"$error":"#REF!"}}]
[{"$error":"#REF!"},{"$f":"#REF!","v":{"$error":"#REF!"}},{"$f":"要求内訳データ!A58","v":{"$error":"#REF!"}},{"$f":"要求内訳データ!B58","v":{"$error":"#REF!"}},{"$f":"要求内訳データ!C58","v":{"$error":"#REF!"}},{"$f":"要求内訳データ!D58","v":{"$error":"#REF!"}},{"$f":"要求内訳データ!E58","v":{"$error":"#REF!"}}]
[{"$error":"#REF!"},{"$f":"#REF!","v":{"$error":"#REF!"}},{"$f":"要求内訳データ!A59","v":{"$error":"#REF!"}},{"$f":"要求内訳データ!B59","v":{"$error":"#REF!"}},{"$f":"要求内訳データ!C59","v":{"$error":"#REF!"}},{"$f":"要求内訳データ!D59","v":{"$error":"#REF!"}},{"$f":"要求内訳データ!E59","v":{"$error":"#REF!"}}]
[{"$error":"#REF!"},{"$f":"#REF!","v":{"$error":"#REF!"}},{"$f":"要求内訳データ!A60","v":{"$error":"#REF!"}},{"$f":"要求内訳データ!B60","v":{"$error":"#REF!"}},{"$f":"要求内訳データ!C60","v":{"$error":"#REF!"}},{"$f":"要求内訳データ!D60","v":{"$error":"#REF!"}},{"$f":"要求内訳データ!E60","v":{"$error":"#REF!"}}]
[{"$error":"#REF!"},{"$f":"#REF!","v":{"$error":"#REF!"}},{"$f":"要求内訳データ!A61","v":{"$error":"#REF!"}},{"$f":"要求内訳データ!B61","v":{"$error":"#REF!"}},{"$f":"要求内訳データ!C61","v":{"$error":"#REF!"}},{"$f":"要求内訳データ!D61","v":{"$error":"#REF!"}},{"$f":"要求内訳データ!E61","v":{"$error":"#REF!"}}]
[{"$error":"#REF!"},{"$f":"#REF!","v":{"$error":"#REF!"}},{"$f":"要求内訳データ!A62","v":{"$error":"#REF!"}},{"$f":"要求内訳データ!B62","v":{"$error":"#REF!"}},{"$f":"要求内訳データ!C62","v":{"$error":"#REF!"}},{"$f":"要求内訳データ!D62","v":{"$error":"#REF!"}},{"$f":"要求内訳データ!E62","v":{"$error":"#REF!"}}]
[{"$error":"#REF!"},{"$f":"#REF!","v":{"$error":"#REF!"}},{"$f":"要求内訳データ!A63","v":{"$error":"#REF!"}},{"$f":"要求内訳データ!B63","v":{"$error":"#REF!"}},{"$f":"要求内訳データ!C63","v":{"$error":"#REF!"}},{"$f":"要求内訳データ!D63","v":{"$error":"#REF!"}},{"$f":"要求内訳データ!E63","v":{"$error":"#REF!"}}]
[{"$error":"#REF!"},{"$f":"#REF!","v":{"$error":"#REF!"}},{"$f":"要求内訳データ!A64","v":{"$error":"#REF!"}},{"$f":"要求内訳データ!B64","v":{"$error":"#REF!"}},{"$f":"要求内訳データ!C64","v":{"$error":"#REF!"}},{"$f":"要求内訳データ!D64","v":{"$error":"#REF!"}},{"$f":"要求内訳データ!E64","v":{"$error":"#REF!"}}]
[{"$error":"#REF!"},{"$f":"#REF!","v":{"$error":"#REF!"}},{"$f":"要求内訳データ!A65","v":{"$error":"#REF!"}},{"$f":"要求内訳データ!B65","v":{"$error":"#REF!"}},{"$f":"要求内訳データ!C65","v":{"$error":"#REF!"}},{"$f":"要求内訳データ!D65","v":{"$error":"#REF!"}},{"$f":"要求内訳データ!E65","v":{"$error":"#REF!"}}]
[{"$error":"#REF!"},{"$f":"#REF!","v":{"$error":"#REF!"}},{"$f":"要求内訳データ!A66","v":{"$error":"#REF!"}},{"$f":"要求内訳データ!B66","v":{"$error":"#REF!"}},{"$f":"要求内訳データ!C66","v":{"$error":"#REF!"}},{"$f":"要求内訳データ!D66","v":{"$error":"#REF!"}},{"$f":"要求内訳データ!E66","v":{"$error":"#REF!"}}]
[{"$error":"#REF!"},{"$f":"#REF!","v":{"$error":"#REF!"}},{"$f":"要求内訳データ!A67","v":{"$error":"#REF!"}},{"$f":"要求内訳データ!B67","v":{"$error":"#REF!"}},{"$f":"要求内訳データ!C67","v":{"$error":"#REF!"}},{"$f":"要求内訳データ!D67","v":{"$error":"#REF!"}},{"$f":"要求内訳データ!E67","v":{"$error":"#REF!"}}]
[{"$f":"LEFT(B68,LEN(B68)-4)","v":{"$error":"#REF!"}},{"$f":"#REF!","v":{"$error":"#REF!"}},{"$f":"要求内訳データ!A68","v":{"$error":"#REF!"}},{"$f":"要求内訳データ!B68","v":{"$error":"#REF!"}},{"$f":"要求内訳データ!C68","v":{"$error":"#REF!"}},{"$f":"要求内訳データ!D68","v":{"$error":"#REF!"}},{"$f":"要求内訳データ!E68","v":{"$error":"#REF!"}}]
[{"$error":"#REF!"},{"$f":"#REF!","v":{"$error":"#REF!"}},{"$f":"要求内訳データ!A69","v":{"$error":"#REF!"}},{"$f":"要求内訳データ!B69","v":{"$error":"#REF!"}},{"$f":"要求内訳データ!C69","v":{"$error":"#REF!"}},{"$f":"要求内訳データ!D69","v":{"$error":"#REF!"}},{"$f":"要求内訳データ!E69","v":{"$error":"#REF!"}}]
[{"$error":"#REF!"},{"$f":"#REF!","v":{"$error":"#REF!"}},{"$f":"要求内訳データ!A70","v":{"$error":"#REF!"}},{"$f":"要求内訳データ!B70","v":{"$error":"#REF!"}},{"$f":"要求内訳データ!C70","v":{"$error":"#REF!"}},{"$f":"要求内訳データ!D70","v":{"$error":"#REF!"}},{"$f":"要求内訳データ!E70","v":{"$error":"#REF!"}}]
[{"$error":"#REF!"},{"$f":"#REF!","v":{"$error":"#REF!"}},{"$f":"要求内訳データ!A71","v":{"$error":"#REF!"}},{"$f":"要求内訳データ!B71","v":{"$error":"#REF!"}},{"$f":"要求内訳データ!C71","v":{"$error":"#REF!"}},{"$f":"要求内訳データ!D71","v":{"$error":"#REF!"}},{"$f":"要求内訳データ!E71","v":{"$error":"#REF!"}}]
[{"$error":"#REF!"},{"$f":"#REF!","v":{"$error":"#REF!"}},{"$f":"要求内訳データ!A72","v":{"$error":"#REF!"}},{"$f":"要求内訳データ!B72","v":{"$error":"#REF!"}},{"$f":"要求内訳データ!C72","v":{"$error":"#REF!"}},{"$f":"要求内訳データ!D72","v":{"$error":"#REF!"}},{"$f":"要求内訳データ!E72","v":{"$error":"#REF!"}}]
[{"$error":"#REF!"},{"$f":"#REF!","v":{"$error":"#REF!"}},{"$f":"要求内訳データ!A73","v":{"$error":"#REF!"}},{"$f":"要求内訳データ!B73","v":{"$error":"#REF!"}},{"$f":"要求内訳データ!C73","v":{"$error":"#REF!"}},{"$f":"要求内訳データ!D73","v":{"$error":"#REF!"}},{"$f":"要求内訳データ!E73","v":{"$error":"#REF!"}}]
[{"$error":"#REF!"},{"$f":"#REF!","v":{"$error":"#REF!"}},{"$f":"要求内訳データ!A74","v":{"$error":"#REF!"}},{"$f":"要求内訳データ!B74","v":{"$error":"#REF!"}},{"$f":"要求内訳データ!C74","v":{"$error":"#REF!"}},{"$f":"要求内訳データ!D74","v":{"$error":"#REF!"}},{"$f":"要求内訳データ!E74","v":{"$error":"#REF!"}}]
[{"$error":"#REF!"},{"$f":"#REF!","v":{"$error":"#REF!"}},{"$f":"要求内訳データ!A75","v":{"$error":"#REF!"}},{"$f":"要求内訳データ!B75","v":{"$error":"#REF!"}},{"$f":"要求内訳データ!C75","v":{"$error":"#REF!"}},{"$f":"要求内訳データ!D75","v":{"$error":"#REF!"}},{"$f":"要求内訳データ!E75","v":{"$error":"#REF!"}}]
[{"$error":"#REF!"},{"$f":"#REF!","v":{"$error":"#REF!"}},{"$f":"要求内訳データ!A76","v":{"$error":"#REF!"}},{"$f":"要求内訳データ!B76","v":{"$error":"#REF!"}},{"$f":"要求内訳データ!C76","v":{"$error":"#REF!"}},{"$f":"要求内訳データ!D76","v":{"$error":"#REF!"}},{"$f":"要求内訳データ!E76","v":{"$error":"#REF!"}}]
[{"$error":"#REF!"},{"$f":"#REF!","v":{"$error":"#REF!"}},{"$f":"要求内訳データ!A77","v":{"$error":"#REF!"}},{"$f":"要求内訳データ!B77","v":{"$error":"#REF!"}},{"$f":"要求内訳データ!C77","v":{"$error":"#REF!"}},{"$f":"要求内訳データ!D77","v":{"$error":"#REF!"}},{"$f":"要求内訳データ!E77","v":{"$error":"#REF!"}}]
[{"$error":"#REF!"},{"$f":"#REF!","v":{"$error":"#REF!"}},{"$f":"要求内訳データ!A78","v":{"$error":"#REF!"}},{"$f":"要求内訳データ!B78","v":{"$error":"#REF!"}},{"$f":"要求内訳データ!C78","v":{"$error":"#REF!"}},{"$f":"要求内訳データ!D78","v":{"$error":"#REF!"}},{"$f":"要求内訳データ!E78","v":{"$error":"#REF!"}}]
[{"$error":"#REF!"},{"$f":"#REF!","v":{"$error":"#REF!"}},{"$f":"要求内訳データ!A79","v":{"$error":"#REF!"}},{"$f":"要求内訳データ!B79","v":{"$error":"#REF!"}},{"$f":"要求内訳データ!C79","v":{"$error":"#REF!"}},{"$f":"要求内訳データ!D79","v":{"$error":"#REF!"}},{"$f":"要求内訳データ!E79","v":{"$error":"#REF!"}}]
[{"$error":"#REF!"},{"$f":"#REF!","v":{"$error":"#REF!"}},{"$f":"要求内訳データ!A80","v":{"$error":"#REF!"}},{"$f":"要求内訳データ!B80","v":{"$error":"#REF!"}},{"$f":"要求内訳データ!C80","v":{"$error":"#REF!"}},{"$f":"要求内訳データ!D80","v":{"$error":"#REF!"}},{"$f":"要求内訳データ!E80","v":{"$error":"#REF!"}}]
[{"$error":"#REF!"},{"$f":"#REF!","v":{"$error":"#REF!"}},{"$f":"要求内訳データ!A81","v":{"$error":"#REF!"}},{"$f":"要求内訳データ!B81","v":{"$error":"#REF!"}},{"$f":"要求内訳データ!C81","v":{"$error":"#REF!"}},{"$f":"要求内訳データ!D81","v":{"$error":"#REF!"}},{"$f":"要求内訳データ!E81","v":{"$error":"#REF!"}}]
[{"$error":"#REF!"},{"$f":"#REF!","v":{"$error":"#REF!"}},{"$f":"要求内訳データ!A82","v":{"$error":"#REF!"}},{"$f":"要求内訳データ!B82","v":{"$error":"#REF!"}},{"$f":"要求内訳データ!C82","v":{"$error":"#REF!"}},{"$f":"要求内訳データ!D82","v":{"$error":"#REF!"}},{"$f":"要求内訳データ!E82","v":{"$error":"#REF!"}}]
[{"$error":"#REF!"},{"$f":"#REF!","v":{"$error":"#REF!"}},{"$f":"要求内訳データ!A83","v":{"$error":"#REF!"}},{"$f":"要求内訳データ!B83","v":{"$error":"#REF!"}},{"$f":"要求内訳データ!C83","v":{"$error":"#REF!"}},{"$f":"要求内訳データ!D83","v":{"$error":"#REF!"}},{"$f":"要求内訳データ!E83","v":{"$error":"#REF!"}}]
[{"$error":"#REF!"},{"$f":"#REF!","v":{"$error":"#REF!"}},{"$f":"要求内訳データ!A84","v":{"$error":"#REF!"}},{"$f":"要求内訳データ!B84","v":{"$error":"#REF!"}},{"$f":"要求内訳データ!C84","v":{"$error":"#REF!"}},{"$f":"要求内訳データ!D84","v":{"$error":"#REF!"}},{"$f":"要求内訳データ!E84","v":{"$error":"#REF!"}}]
[{"$error":"#REF!"},{"$f":"#REF!","v":{"$error":"#REF!"}},{"$f":"要求内訳データ!A85","v":{"$error":"#REF!"}},{"$f":"要求内訳データ!B85","v":{"$error":"#REF!"}},{"$f":"要求内訳データ!C85","v":{"$error":"#REF!"}},{"$f":"要求内訳データ!D85","v":{"$error":"#REF!"}},{"$f":"要求内訳データ!E85","v":{"$error":"#REF!"}}]
[{"$error":"#REF!"},{"$f":"#REF!","v":{"$error":"#REF!"}},{"$f":"要求内訳データ!A86","v":{"$error":"#REF!"}},{"$f":"要求内訳データ!B86","v":{"$error":"#REF!"}},{"$f":"要求内訳データ!C86","v":{"$error":"#REF!"}},{"$f":"要求内訳データ!D86","v":{"$error":"#REF!"}},{"$f":"要求内訳データ!E86","v":{"$error":"#REF!"}}]
[{"$error":"#REF!"},{"$f":"#REF!","v":{"$error":"#REF!"}},{"$f":"要求内訳データ!A87","v":{"$error":"#REF!"}},{"$f":"要求内訳データ!B87","v":{"$error":"#REF!"}},{"$f":"要求内訳データ!C87","v":{"$error":"#REF!"}},{"$f":"要求内訳データ!D87","v":{"$error":"#REF!"}},{"$f":"要求内訳データ!E87","v":{"$error":"#REF!"}}]
[{"$error":"#REF!"},{"$f":"#REF!","v":{"$error":"#REF!"}},{"$f":"要求内訳データ!A88","v":{"$error":"#REF!"}},{"$f":"要求内訳データ!B88","v":{"$error":"#REF!"}},{"$f":"要求内訳データ!C88","v":{"$error":"#REF!"}},{"$f":"要求内訳データ!D88","v":{"$error":"#REF!"}},{"$f":"要求内訳データ!E88","v":{"$error":"#REF!"}}]
[{"$error":"#REF!"},{"$f":"#REF!","v":{"$error":"#REF!"}},{"$f":"要求内訳データ!A89","v":{"$error":"#REF!"}},{"$f":"要求内訳データ!B89","v":{"$error":"#REF!"}},{"$f":"要求内訳データ!C89","v":{"$error":"#REF!"}},{"$f":"要求内訳データ!D89","v":{"$error":"#REF!"}},{"$f":"要求内訳データ!E89","v":{"$error":"#REF!"}}]
[{"$error":"#REF!"},{"$f":"#REF!","v":{"$error":"#REF!"}},{"$f":"要求内訳データ!A90","v":{"$error":"#REF!"}},{"$f":"要求内訳データ!B90","v":{"$error":"#REF!"}},{"$f":"要求内訳データ!C90","v":{"$error":"#REF!"}},{"$f":"要求内訳データ!D90","v":{"$error":"#REF!"}},{"$f":"要求内訳データ!E90","v":{"$error":"#REF!"}}]
[{"$error":"#REF!"},{"$f":"#REF!","v":{"$error":"#REF!"}},{"$f":"要求内訳データ!A91","v":{"$error":"#REF!"}},{"$f":"要求内訳データ!B91","v":{"$error":"#REF!"}},{"$f":"要求内訳データ!C91","v":{"$error":"#REF!"}},{"$f":"要求内訳データ!D91","v":{"$error":"#REF!"}},{"$f":"要求内訳データ!E91","v":{"$error":"#REF!"}}]
[{"$error":"#REF!"},{"$f":"#REF!","v":{"$error":"#REF!"}},{"$f":"要求内訳データ!A92","v":{"$error":"#REF!"}},{"$f":"要求内訳データ!B92","v":{"$error":"#REF!"}},{"$f":"要求内訳データ!C92","v":{"$error":"#REF!"}},{"$f":"要求内訳データ!D92","v":{"$error":"#REF!"}},{"$f":"要求内訳データ!E92","v":{"$error":"#REF!"}}]
[{"$error":"#REF!"},{"$f":"#REF!","v":{"$error":"#REF!"}},{"$f":"要求内訳データ!A93","v":{"$error":"#REF!"}},{"$f":"要求内訳データ!B93","v":{"$error":"#REF!"}},{"$f":"要求内訳データ!C93","v":{"$error":"#REF!"}},{"$f":"要求内訳データ!D93","v":{"$error":"#REF!"}},{"$f":"要求内訳データ!E93","v":{"$error":"#REF!"}}]
[{"$error":"#REF!"},{"$f":"#REF!","v":{"$error":"#REF!"}},{"$f":"要求内訳データ!A94","v":{"$error":"#REF!"}},{"$f":"要求内訳データ!B94","v":{"$error":"#REF!"}},{"$f":"要求内訳データ!C94","v":{"$error":"#REF!"}},{"$f":"要求内訳データ!D94","v":{"$error":"#REF!"}},{"$f":"要求内訳データ!E94","v":{"$error":"#REF!"}}]
[{"$error":"#REF!"},{"$f":"#REF!","v":{"$error":"#REF!"}},{"$f":"要求内訳データ!A95","v":{"$error":"#REF!"}},{"$f":"要求内訳データ!B95","v":{"$error":"#REF!"}},{"$f":"要求内訳データ!C95","v":{"$error":"#REF!"}},{"$f":"要求内訳データ!D95","v":{"$error":"#REF!"}},{"$f":"要求内訳データ!E95","v":{"$error":"#REF!"}}]
[{"$error":"#REF!"},{"$f":"#REF!","v":{"$error":"#REF!"}},{"$f":"要求内訳データ!A96","v":{"$error":"#REF!"}},{"$f":"要求内訳データ!B96","v":{"$error":"#REF!"}},{"$f":"要求内訳データ!C96","v":{"$error":"#REF!"}},{"$f":"要求内訳データ!D96","v":{"$error":"#REF!"}},{"$f":"要求内訳データ!E96","v":{"$error":"#REF!"}}]
[{"$error":"#REF!"},{"$f":"#REF!","v":{"$error":"#REF!"}},{"$f":"要求内訳データ!A97","v":{"$error":"#REF!"}},{"$f":"要求内訳データ!B97","v":{"$error":"#REF!"}},{"$f":"要求内訳データ!C97","v":{"$error":"#REF!"}},{"$f":"要求内訳データ!D97","v":{"$error":"#REF!"}},{"$f":"要求内訳データ!E97","v":{"$error":"#REF!"}}]
[{"$error":"#REF!"},{"$f":"#REF!","v":{"$error":"#REF!"}},{"$f":"要求内訳データ!A98","v":{"$error":"#REF!"}},{"$f":"要求内訳データ!B98","v":{"$error":"#REF!"}},{"$f":"要求内訳データ!C98","v":{"$error":"#REF!"}},{"$f":"要求内訳データ!D98","v":{"$error":"#REF!"}},{"$f":"要求内訳データ!E98","v":{"$error":"#REF!"}}]
[{"$error":"#REF!"},{"$f":"#REF!","v":{"$error":"#REF!"}},{"$f":"要求内訳データ!A99","v":{"$error":"#REF!"}},{"$f":"要求内訳データ!B99","v":{"$error":"#REF!"}},{"$f":"要求内訳データ!C99","v":{"$error":"#REF!"}},{"$f":"要求内訳データ!D99","v":{"$error":"#REF!"}},{"$f":"要求内訳データ!E99","v":{"$error":"#REF!"}}]
[{"$error":"#REF!"},{"$f":"#REF!","v":{"$error":"#REF!"}},{"$f":"要求内訳データ!A100","v":{"$error":"#REF!"}},{"$f":"要求内訳データ!B100","v":{"$error":"#REF!"}},{"$f":"要求内訳データ!C100","v":{"$error":"#REF!"}},{"$f":"要求内訳データ!D100","v":{"$error":"#REF!"}},{"$f":"要求内訳データ!E100","v":{"$error":"#REF!"}}]
[{"$error":"#REF!"},{"$f":"#REF!","v":{"$error":"#REF!"}},{"$f":"要求内訳データ!A101","v":{"$error":"#REF!"}},{"$f":"要求内訳データ!B101","v":{"$error":"#REF!"}},{"$f":"要求内訳データ!C101","v":{"$error":"#REF!"}},{"$f":"要求内訳データ!D101","v":{"$error":"#REF!"}},{"$f":"要求内訳データ!E101","v":{"$error":"#REF!"}}]
[{"$error":"#REF!"},{"$f":"#REF!","v":{"$error":"#REF!"}},{"$f":"要求内訳データ!A102","v":{"$error":"#REF!"}},{"$f":"要求内訳データ!B102","v":{"$error":"#REF!"}},{"$f":"要求内訳データ!C102","v":{"$error":"#REF!"}},{"$f":"要求内訳データ!D102","v":{"$error":"#REF!"}},{"$f":"要求内訳データ!E102","v":{"$error":"#REF!"}}]
[{"$error":"#REF!"},{"$f":"#REF!","v":{"$error":"#REF!"}},{"$f":"要求内訳データ!A103","v":{"$error":"#REF!"}},{"$f":"要求内訳データ!B103","v":{"$error":"#REF!"}},{"$f":"要求内訳データ!C103","v":{"$error":"#REF!"}},{"$f":"要求内訳データ!D103","v":{"$error":"#REF!"}},{"$f":"要求内訳データ!E103","v":{"$error":"#REF!"}}]
[{"$error":"#REF!"},{"$f":"#REF!","v":{"$error":"#REF!"}},{"$f":"要求内訳データ!A104","v":{"$error":"#REF!"}},{"$f":"要求内訳データ!B104","v":{"$error":"#REF!"}},{"$f":"要求内訳データ!C104","v":{"$error":"#REF!"}},{"$f":"要求内訳データ!D104","v":{"$error":"#REF!"}},{"$f":"要求内訳データ!E104","v":{"$error":"#REF!"}}]
[{"$error":"#REF!"},{"$f":"#REF!","v":{"$error":"#REF!"}},{"$f":"要求内訳データ!A105","v":{"$error":"#REF!"}},{"$f":"要求内訳データ!B105","v":{"$error":"#REF!"}},{"$f":"要求内訳データ!C105","v":{"$error":"#REF!"}},{"$f":"要求内訳データ!D105","v":{"$error":"#REF!"}},{"$f":"要求内訳データ!E105","v":{"$error":"#REF!"}}]
[{"$error":"#REF!"},{"$f":"#REF!","v":{"$error":"#REF!"}},{"$f":"要求内訳データ!A106","v":{"$error":"#REF!"}},{"$f":"要求内訳データ!B106","v":{"$error":"#REF!"}},{"$f":"要求内訳データ!C106","v":{"$error":"#REF!"}},{"$f":"要求内訳データ!D106","v":{"$error":"#REF!"}},{"$f":"要求内訳データ!E106","v":{"$error":"#REF!"}}]
[{"$error":"#REF!"},{"$f":"#REF!","v":{"$error":"#REF!"}},{"$f":"要求内訳データ!A107","v":{"$error":"#REF!"}},{"$f":"要求内訳データ!B107","v":{"$error":"#REF!"}},{"$f":"要求内訳データ!C107","v":{"$error":"#REF!"}},{"$f":"要求内訳データ!D107","v":{"$error":"#REF!"}},{"$f":"要求内訳データ!E107","v":{"$error":"#REF!"}}]
[{"$error":"#REF!"},{"$f":"#REF!","v":{"$error":"#REF!"}},{"$f":"要求内訳データ!A108","v":{"$error":"#REF!"}},{"$f":"要求内訳データ!B108","v":{"$error":"#REF!"}},{"$f":"要求内訳データ!C108","v":{"$error":"#REF!"}},{"$f":"要求内訳データ!D108","v":{"$error":"#REF!"}},{"$f":"要求内訳データ!E108","v":{"$error":"#REF!"}}]
[{"$error":"#REF!"},{"$f":"#REF!","v":{"$error":"#REF!"}},{"$f":"要求内訳データ!A109","v":{"$error":"#REF!"}},{"$f":"要求内訳データ!B109","v":{"$error":"#REF!"}},{"$f":"要求内訳データ!C109","v":{"$error":"#REF!"}},{"$f":"要求内訳データ!D109","v":{"$error":"#REF!"}},{"$f":"要求内訳データ!E109","v":{"$error":"#REF!"}}]
[{"$error":"#REF!"},{"$f":"#REF!","v":{"$error":"#REF!"}},{"$f":"要求内訳データ!A110","v":{"$error":"#REF!"}},{"$f":"要求内訳データ!B110","v":{"$error":"#REF!"}},{"$f":"要求内訳データ!C110","v":{"$error":"#REF!"}},{"$f":"要求内訳データ!D110","v":{"$error":"#REF!"}},{"$f":"要求内訳データ!E110","v":{"$error":"#REF!"}}]
[{"$error":"#REF!"},{"$f":"#REF!","v":{"$error":"#REF!"}},{"$f":"要求内訳データ!A111","v":{"$error":"#REF!"}},{"$f":"要求内訳データ!B111","v":{"$error":"#REF!"}},{"$f":"要求内訳データ!C111","v":{"$error":"#REF!"}},{"$f":"要求内訳データ!D111","v":{"$error":"#REF!"}},{"$f":"要求内訳データ!E111","v":{"$error":"#REF!"}}]
[{"$error":"#REF!"},{"$f":"#REF!","v":{"$error":"#REF!"}},{"$f":"要求内訳データ!A112","v":{"$error":"#REF!"}},{"$f":"要求内訳データ!B112","v":{"$error":"#REF!"}},{"$f":"要求内訳データ!C112","v":{"$error":"#REF!"}},{"$f":"要求内訳データ!D112","v":{"$error":"#REF!"}},{"$f":"要求内訳データ!E112","v":{"$error":"#REF!"}}]
[{"$error":"#REF!"},{"$f":"#REF!","v":{"$error":"#REF!"}},{"$f":"要求内訳データ!A113","v":{"$error":"#REF!"}},{"$f":"要求内訳データ!B113","v":{"$error":"#REF!"}},{"$f":"要求内訳データ!C113","v":{"$error":"#REF!"}},{"$f":"要求内訳データ!D113","v":{"$error":"#REF!"}},{"$f":"要求内訳データ!E113","v":{"$error":"#REF!"}}]
[{"$error":"#REF!"},{"$f":"#REF!","v":{"$error":"#REF!"}},{"$f":"要求内訳データ!A114","v":{"$error":"#REF!"}},{"$f":"要求内訳データ!B114","v":{"$error":"#REF!"}},{"$f":"要求内訳データ!C114","v":{"$error":"#REF!"}},{"$f":"要求内訳データ!D114","v":{"$error":"#REF!"}},{"$f":"要求内訳データ!E114","v":{"$error":"#REF!"}}]
[{"$error":"#REF!"},{"$f":"#REF!","v":{"$error":"#REF!"}},{"$f":"要求内訳データ!A115","v":{"$error":"#REF!"}},{"$f":"要求内訳データ!B115","v":{"$error":"#REF!"}},{"$f":"要求内訳データ!C115","v":{"$error":"#REF!"}},{"$f":"要求内訳データ!D115","v":{"$error":"#REF!"}},{"$f":"要求内訳データ!E115","v":{"$error":"#REF!"}}]
[{"$error":"#REF!"},{"$f":"#REF!","v":{"$error":"#REF!"}},{"$f":"要求内訳データ!A116","v":{"$error":"#REF!"}},{"$f":"要求内訳データ!B116","v":{"$error":"#REF!"}},{"$f":"要求内訳データ!C116","v":{"$error":"#REF!"}},{"$f":"要求内訳データ!D116","v":{"$error":"#REF!"}},{"$f":"要求内訳データ!E116","v":{"$error":"#REF!"}}]
[{"$error":"#REF!"},{"$f":"#REF!","v":{"$error":"#REF!"}},{"$f":"要求内訳データ!A117","v":{"$error":"#REF!"}},{"$f":"要求内訳データ!B117","v":{"$error":"#REF!"}},{"$f":"要求内訳データ!C117","v":{"$error":"#REF!"}},{"$f":"要求内訳データ!D117","v":{"$error":"#REF!"}},{"$f":"要求内訳データ!E117","v":{"$error":"#REF!"}}]
[{"$error":"#REF!"},{"$f":"#REF!","v":{"$error":"#REF!"}},{"$f":"要求内訳データ!A118","v":{"$error":"#REF!"}},{"$f":"要求内訳データ!B118","v":{"$error":"#REF!"}},{"$f":"要求内訳データ!C118","v":{"$error":"#REF!"}},{"$f":"要求内訳データ!D118","v":{"$error":"#REF!"}},{"$f":"要求内訳データ!E118","v":{"$error":"#REF!"}}]
[{"$error":"#REF!"},{"$f":"#REF!","v":{"$error":"#REF!"}},{"$f":"要求内訳データ!A119","v":{"$error":"#REF!"}},{"$f":"要求内訳データ!B119","v":{"$error":"#REF!"}},{"$f":"要求内訳データ!C119","v":{"$error":"#REF!"}},{"$f":"要求内訳データ!D119","v":{"$error":"#REF!"}},{"$f":"要求内訳データ!E119","v":{"$error":"#REF!"}}]
[{"$error":"#REF!"},{"$f":"#REF!","v":{"$error":"#REF!"}},{"$f":"要求内訳データ!A120","v":{"$error":"#REF!"}},{"$f":"要求内訳データ!B120","v":{"$error":"#REF!"}},{"$f":"要求内訳データ!C120","v":{"$error":"#REF!"}},{"$f":"要求内訳データ!D120","v":{"$error":"#REF!"}},{"$f":"要求内訳データ!E120","v":{"$error":"#REF!"}}]
[{"$error":"#REF!"},{"$f":"#REF!","v":{"$error":"#REF!"}},{"$f":"要求内訳データ!A121","v":{"$error":"#REF!"}},{"$f":"要求内訳データ!B121","v":{"$error":"#REF!"}},{"$f":"要求内訳データ!C121","v":{"$error":"#REF!"}},{"$f":"要求内訳データ!D121","v":{"$error":"#REF!"}},{"$f":"要求内訳データ!E121","v":{"$error":"#REF!"}}]
[{"$error":"#REF!"},{"$f":"#REF!","v":{"$error":"#REF!"}},{"$f":"要求内訳データ!A122","v":{"$error":"#REF!"}},{"$f":"要求内訳データ!B122","v":{"$error":"#REF!"}},{"$f":"要求内訳データ!C122","v":{"$error":"#REF!"}},{"$f":"要求内訳データ!D122","v":{"$error":"#REF!"}},{"$f":"要求内訳データ!E122","v":{"$error":"#REF!"}}]
[{"$error":"#REF!"},{"$f":"#REF!","v":{"$error":"#REF!"}},{"$f":"要求内訳データ!A123","v":{"$error":"#REF!"}},{"$f":"要求内訳データ!B123","v":{"$error":"#REF!"}},{"$f":"要求内訳データ!C123","v":{"$error":"#REF!"}},{"$f":"要求内訳データ!D123","v":{"$error":"#REF!"}},{"$f":"要求内訳データ!E123","v":{"$error":"#REF!"}}]
[{"$error":"#REF!"},{"$f":"#REF!","v":{"$error":"#REF!"}},{"$f":"要求内訳データ!A124","v":{"$error":"#REF!"}},{"$f":"要求内訳データ!B124","v":{"$error":"#REF!"}},{"$f":"要求内訳データ!C124","v":{"$error":"#REF!"}},{"$f":"要求内訳データ!D124","v":{"$error":"#REF!"}},{"$f":"要求内訳データ!E124","v":{"$error":"#REF!"}}]
[{"$error":"#REF!"},{"$f":"#REF!","v":{"$error":"#REF!"}},{"$f":"要求内訳データ!A125","v":{"$error":"#REF!"}},{"$f":"要求内訳データ!B125","v":{"$error":"#REF!"}},{"$f":"要求内訳データ!C125","v":{"$error":"#REF!"}},{"$f":"要求内訳データ!D125","v":{"$error":"#REF!"}},{"$f":"要求内訳データ!E125","v":{"$error":"#REF!"}}]
[{"$error":"#REF!"},{"$f":"#REF!","v":{"$error":"#REF!"}},{"$f":"要求内訳データ!A126","v":{"$error":"#REF!"}},{"$f":"要求内訳データ!B126","v":{"$error":"#REF!"}},{"$f":"要求内訳データ!C126","v":{"$error":"#REF!"}},{"$f":"要求内訳データ!D126","v":{"$error":"#REF!"}},{"$f":"要求内訳データ!E126","v":{"$error":"#REF!"}}]
[{"$error":"#REF!"},{"$f":"#REF!","v":{"$error":"#REF!"}},{"$f":"要求内訳データ!A127","v":{"$error":"#REF!"}},{"$f":"要求内訳データ!B127","v":{"$error":"#REF!"}},{"$f":"要求内訳データ!C127","v":{"$error":"#REF!"}},{"$f":"要求内訳データ!D127","v":{"$error":"#REF!"}},{"$f":"要求内訳データ!E127","v":{"$error":"#REF!"}}]
[{"$error":"#REF!"},{"$f":"#REF!","v":{"$error":"#REF!"}},{"$f":"要求内訳データ!A128","v":{"$error":"#REF!"}},{"$f":"要求内訳データ!B128","v":{"$error":"#REF!"}},{"$f":"要求内訳データ!C128","v":{"$error":"#REF!"}},{"$f":"要求内訳データ!D128","v":{"$error":"#REF!"}},{"$f":"要求内訳データ!E128","v":{"$error":"#REF!"}}]
[{"$error":"#REF!"},{"$f":"#REF!","v":{"$error":"#REF!"}},{"$f":"要求内訳データ!A129","v":{"$error":"#REF!"}},{"$f":"要求内訳データ!B129","v":{"$error":"#REF!"}},{"$f":"要求内訳データ!C129","v":{"$error":"#REF!"}},{"$f":"要求内訳データ!D129","v":{"$error":"#REF!"}},{"$f":"要求内訳データ!E129","v":{"$error":"#REF!"}}]
[{"$error":"#REF!"},{"$f":"#REF!","v":{"$error":"#REF!"}},{"$f":"要求内訳データ!A130","v":{"$error":"#REF!"}},{"$f":"要求内訳データ!B130","v":{"$error":"#REF!"}},{"$f":"要求内訳データ!C130","v":{"$error":"#REF!"}},{"$f":"要求内訳データ!D130","v":{"$error":"#REF!"}},{"$f":"要求内訳データ!E130","v":{"$error":"#REF!"}}]
[{"$error":"#REF!"},{"$f":"#REF!","v":{"$error":"#REF!"}},{"$f":"要求内訳データ!A131","v":{"$error":"#REF!"}},{"$f":"要求内訳データ!B131","v":{"$error":"#REF!"}},{"$f":"要求内訳データ!C131","v":{"$error":"#REF!"}},{"$f":"要求内訳データ!D131","v":{"$error":"#REF!"}},{"$f":"要求内訳データ!E131","v":{"$error":"#REF!"}}]
[{"$f":"LEFT(B132,LEN(B132)-4)","v":{"$error":"#REF!"}},{"$f":"#REF!","v":{"$error":"#REF!"}},{"$f":"要求内訳データ!A132","v":{"$error":"#REF!"}},{"$f":"要求内訳データ!B132","v":{"$error":"#REF!"}},{"$f":"要求内訳データ!C132","v":{"$error":"#REF!"}},{"$f":"要求内訳データ!D132","v":{"$error":"#REF!"}},{"$f":"要求内訳データ!E132","v":{"$error":"#REF!"}}]
[{"$error":"#REF!"},{"$f":"#REF!","v":{"$error":"#REF!"}},{"$f":"要求内訳データ!A133","v":{"$error":"#REF!"}},{"$f":"要求内訳データ!B133","v":{"$error":"#REF!"}},{"$f":"要求内訳データ!C133","v":{"$error":"#REF!"}},{"$f":"要求内訳データ!D133","v":{"$error":"#REF!"}},{"$f":"要求内訳データ!E133","v":{"$error":"#REF!"}}]
[{"$error":"#REF!"},{"$f":"#REF!","v":{"$error":"#REF!"}},{"$f":"要求内訳データ!A134","v":{"$error":"#REF!"}},{"$f":"要求内訳データ!B134","v":{"$error":"#REF!"}},{"$f":"要求内訳データ!C134","v":{"$error":"#REF!"}},{"$f":"要求内訳データ!D134","v":{"$error":"#REF!"}},{"$f":"要求内訳データ!E134","v":{"$error":"#REF!"}}]
[{"$error":"#REF!"},{"$f":"#REF!","v":{"$error":"#REF!"}},{"$f":"要求内訳データ!A135","v":{"$error":"#REF!"}},{"$f":"要求内訳データ!B135","v":{"$error":"#REF!"}},{"$f":"要求内訳データ!C135","v":{"$error":"#REF!"}},{"$f":"要求内訳データ!D135","v":{"$error":"#REF!"}},{"$f":"要求内訳データ!E135","v":{"$error":"#REF!"}}]
[{"$error":"#REF!"},{"$f":"#REF!","v":{"$error":"#REF!"}},{"$f":"要求内訳データ!A136","v":{"$error":"#REF!"}},{"$f":"要求内訳データ!B136","v":{"$error":"#REF!"}},{"$f":"要求内訳データ!C136","v":{"$error":"#REF!"}},{"$f":"要求内訳データ!D136","v":{"$error":"#REF!"}},{"$f":"要求内訳データ!E136","v":{"$error":"#REF!"}}]
[{"$error":"#REF!"},{"$f":"#REF!","v":{"$error":"#REF!"}},{"$f":"要求内訳データ!A137","v":{"$error":"#REF!"}},{"$f":"要求内訳データ!B137","v":{"$error":"#REF!"}},{"$f":"要求内訳データ!C137","v":{"$error":"#REF!"}},{"$f":"要求内訳データ!D137","v":{"$error":"#REF!"}},{"$f":"要求内訳データ!E137","v":{"$error":"#REF!"}}]
[{"$error":"#REF!"},{"$f":"#REF!","v":{"$error":"#REF!"}},{"$f":"要求内訳データ!A138","v":{"$error":"#REF!"}},{"$f":"要求内訳データ!B138","v":{"$error":"#REF!"}},{"$f":"要求内訳データ!C138","v":{"$error":"#REF!"}},{"$f":"要求内訳データ!D138","v":{"$error":"#REF!"}},{"$f":"要求内訳データ!E138","v":{"$error":"#REF!"}}]
[{"$error":"#REF!"},{"$f":"#REF!","v":{"$error":"#REF!"}},{"$f":"要求内訳データ!A139","v":{"$error":"#REF!"}},{"$f":"要求内訳データ!B139","v":{"$error":"#REF!"}},{"$f":"要求内訳データ!C139","v":{"$error":"#REF!"}},{"$f":"要求内訳データ!D139","v":{"$error":"#REF!"}},{"$f":"要求内訳データ!E139","v":{"$error":"#REF!"}}]
[{"$error":"#REF!"},{"$f":"#REF!","v":{"$error":"#REF!"}},{"$f":"要求内訳データ!A140","v":{"$error":"#REF!"}},{"$f":"要求内訳データ!B140","v":{"$error":"#REF!"}},{"$f":"要求内訳データ!C140","v":{"$error":"#REF!"}},{"$f":"要求内訳データ!D140","v":{"$error":"#REF!"}},{"$f":"要求内訳データ!E140","v":{"$error":"#REF!"}}]
[{"$error":"#REF!"},{"$f":"#REF!","v":{"$error":"#REF!"}},{"$f":"要求内訳データ!A141","v":{"$error":"#REF!"}},{"$f":"要求内訳データ!B141","v":{"$error":"#REF!"}},{"$f":"要求内訳データ!C141","v":{"$error":"#REF!"}},{"$f":"要求内訳データ!D141","v":{"$error":"#REF!"}},{"$f":"要求内訳データ!E141","v":{"$error":"#REF!"}}]
[{"$error":"#REF!"},{"$f":"#REF!","v":{"$error":"#REF!"}},{"$f":"要求内訳データ!A142","v":{"$error":"#REF!"}},{"$f":"要求内訳データ!B142","v":{"$error":"#REF!"}},{"$f":"要求内訳データ!C142","v":{"$error":"#REF!"}},{"$f":"要求内訳データ!D142","v":{"$error":"#REF!"}},{"$f":"要求内訳データ!E142","v":{"$error":"#REF!"}}]
[{"$error":"#REF!"},{"$f":"#REF!","v":{"$error":"#REF!"}},{"$f":"要求内訳データ!A143","v":{"$error":"#REF!"}},{"$f":"要求内訳データ!B143","v":{"$error":"#REF!"}},{"$f":"要求内訳データ!C143","v":{"$error":"#REF!"}},{"$f":"要求内訳データ!D143","v":{"$error":"#REF!"}},{"$f":"要求内訳データ!E143","v":{"$error":"#REF!"}}]
[{"$error":"#REF!"},{"$f":"#REF!","v":{"$error":"#REF!"}},{"$f":"要求内訳データ!A144","v":{"$error":"#REF!"}},{"$f":"要求内訳データ!B144","v":{"$error":"#REF!"}},{"$f":"要求内訳データ!C144","v":{"$error":"#REF!"}},{"$f":"要求内訳データ!D144","v":{"$error":"#REF!"}},{"$f":"要求内訳データ!E144","v":{"$error":"#REF!"}}]
[{"$error":"#REF!"},{"$f":"#REF!","v":{"$error":"#REF!"}},{"$f":"要求内訳データ!A145","v":{"$error":"#REF!"}},{"$f":"要求内訳データ!B145","v":{"$error":"#REF!"}},{"$f":"要求内訳データ!C145","v":{"$error":"#REF!"}},{"$f":"要求内訳データ!D145","v":{"$error":"#REF!"}},{"$f":"要求内訳データ!E145","v":{"$error":"#REF!"}}]
[{"$error":"#REF!"},{"$f":"#REF!","v":{"$error":"#REF!"}},{"$f":"要求内訳データ!A146","v":{"$error":"#REF!"}},{"$f":"要求内訳データ!B146","v":{"$error":"#REF!"}},{"$f":"要求内訳データ!C146","v":{"$error":"#REF!"}},{"$f":"要求内訳データ!D146","v":{"$error":"#REF!"}},{"$f":"要求内訳データ!E146","v":{"$error":"#REF!"}}]
[{"$error":"#REF!"},{"$f":"#REF!","v":{"$error":"#REF!"}},{"$f":"要求内訳データ!A147","v":{"$error":"#REF!"}},{"$f":"要求内訳データ!B147","v":{"$error":"#REF!"}},{"$f":"要求内訳データ!C147","v":{"$error":"#REF!"}},{"$f":"要求内訳データ!D147","v":{"$error":"#REF!"}},{"$f":"要求内訳データ!E147","v":{"$error":"#REF!"}}]
[{"$error":"#REF!"},{"$f":"#REF!","v":{"$error":"#REF!"}},{"$f":"要求内訳データ!A148","v":{"$error":"#REF!"}},{"$f":"要求内訳データ!B148","v":{"$error":"#REF!"}},{"$f":"要求内訳データ!C148","v":{"$error":"#REF!"}},{"$f":"要求内訳データ!D148","v":{"$error":"#REF!"}},{"$f":"要求内訳データ!E148","v":{"$error":"#REF!"}}]
[{"$error":"#REF!"},{"$f":"#REF!","v":{"$error":"#REF!"}},{"$f":"要求内訳データ!A149","v":{"$error":"#REF!"}},{"$f":"要求内訳データ!B149","v":{"$error":"#REF!"}},{"$f":"要求内訳データ!C149","v":{"$error":"#REF!"}},{"$f":"要求内訳データ!D149","v":{"$error":"#REF!"}},{"$f":"要求内訳データ!E149","v":{"$error":"#REF!"}}]
[{"$error":"#REF!"},{"$f":"#REF!","v":{"$error":"#REF!"}},{"$f":"要求内訳データ!A150","v":{"$error":"#REF!"}},{"$f":"要求内訳データ!B150","v":{"$error":"#REF!"}},{"$f":"要求内訳データ!C150","v":{"$error":"#REF!"}},{"$f":"要求内訳データ!D150","v":{"$error":"#REF!"}},{"$f":"要求内訳データ!E150","v":{"$error":"#REF!"}}]
[{"$error":"#REF!"},{"$f":"#REF!","v":{"$error":"#REF!"}},{"$f":"要求内訳データ!A151","v":{"$error":"#REF!"}},{"$f":"要求内訳データ!B151","v":{"$error":"#REF!"}},{"$f":"要求内訳データ!C151","v":{"$error":"#REF!"}},{"$f":"要求内訳データ!D151","v":{"$error":"#REF!"}},{"$f":"要求内訳データ!E151","v":{"$error":"#REF!"}}]
[{"$error":"#REF!"},{"$f":"#REF!","v":{"$error":"#REF!"}},{"$f":"要求内訳データ!A152","v":{"$error":"#REF!"}},{"$f":"要求内訳データ!B152","v":{"$error":"#REF!"}},{"$f":"要求内訳データ!C152","v":{"$error":"#REF!"}},{"$f":"要求内訳データ!D152","v":{"$error":"#REF!"}},{"$f":"要求内訳データ!E152","v":{"$error":"#REF!"}}]
[{"$error":"#REF!"},{"$f":"#REF!","v":{"$error":"#REF!"}},{"$f":"要求内訳データ!A153","v":{"$error":"#REF!"}},{"$f":"要求内訳データ!B153","v":{"$error":"#REF!"}},{"$f":"要求内訳データ!C153","v":{"$error":"#REF!"}},{"$f":"要求内訳データ!D153","v":{"$error":"#REF!"}},{"$f":"要求内訳データ!E153","v":{"$error":"#REF!"}}]
[{"$error":"#REF!"},{"$f":"#REF!","v":{"$error":"#REF!"}},{"$f":"要求内訳データ!A154","v":{"$error":"#REF!"}},{"$f":"要求内訳データ!B154","v":{"$error":"#REF!"}},{"$f":"要求内訳データ!C154","v":{"$error":"#REF!"}},{"$f":"要求内訳データ!D154","v":{"$error":"#REF!"}},{"$f":"要求内訳データ!E154","v":{"$error":"#REF!"}}]
[{"$error":"#REF!"},{"$f":"#REF!","v":{"$error":"#REF!"}},{"$f":"要求内訳データ!A155","v":{"$error":"#REF!"}},{"$f":"要求内訳データ!B155","v":{"$error":"#REF!"}},{"$f":"要求内訳データ!C155","v":{"$error":"#REF!"}},{"$f":"要求内訳データ!D155","v":{"$error":"#REF!"}},{"$f":"要求内訳データ!E155","v":{"$error":"#REF!"}}]
[{"$error":"#REF!"},{"$f":"#REF!","v":{"$error":"#REF!"}},{"$f":"要求内訳データ!A156","v":{"$error":"#REF!"}},{"$f":"要求内訳データ!B156","v":{"$error":"#REF!"}},{"$f":"要求内訳データ!C156","v":{"$error":"#REF!"}},{"$f":"要求内訳データ!D156","v":{"$error":"#REF!"}},{"$f":"要求内訳データ!E156","v":{"$error":"#REF!"}}]
[{"$error":"#REF!"},{"$f":"#REF!","v":{"$error":"#REF!"}},{"$f":"要求内訳データ!A157","v":{"$error":"#REF!"}},{"$f":"要求内訳データ!B157","v":{"$error":"#REF!"}},{"$f":"要求内訳データ!C157","v":{"$error":"#REF!"}},{"$f":"要求内訳データ!D157","v":{"$error":"#REF!"}},{"$f":"要求内訳データ!E157","v":{"$error":"#REF!"}}]
[{"$error":"#REF!"},{"$f":"#REF!","v":{"$error":"#REF!"}},{"$f":"要求内訳データ!A158","v":{"$error":"#REF!"}},{"$f":"要求内訳データ!B158","v":{"$error":"#REF!"}},{"$f":"要求内訳データ!C158","v":{"$error":"#REF!"}},{"$f":"要求内訳データ!D158","v":{"$error":"#REF!"}},{"$f":"要求内訳データ!E158","v":{"$error":"#REF!"}}]
[{"$error":"#REF!"},{"$f":"#REF!","v":{"$error":"#REF!"}},{"$f":"要求内訳データ!A159","v":{"$error":"#REF!"}},{"$f":"要求内訳データ!B159","v":{"$error":"#REF!"}},{"$f":"要求内訳データ!C159","v":{"$error":"#REF!"}},{"$f":"要求内訳データ!D159","v":{"$error":"#REF!"}},{"$f":"要求内訳データ!E159","v":{"$error":"#REF!"}}]
[{"$error":"#REF!"},{"$f":"#REF!","v":{"$error":"#REF!"}},{"$f":"要求内訳データ!A160","v":{"$error":"#REF!"}},{"$f":"要求内訳データ!B160","v":{"$error":"#REF!"}},{"$f":"要求内訳データ!C160","v":{"$error":"#REF!"}},{"$f":"要求内訳データ!D160","v":{"$error":"#REF!"}},{"$f":"要求内訳データ!E160","v":{"$error":"#REF!"}}]
[{"$error":"#REF!"},{"$f":"#REF!","v":{"$error":"#REF!"}},{"$f":"要求内訳データ!A161","v":{"$error":"#REF!"}},{"$f":"要求内訳データ!B161","v":{"$error":"#REF!"}},{"$f":"要求内訳データ!C161","v":{"$error":"#REF!"}},{"$f":"要求内訳データ!D161","v":{"$error":"#REF!"}},{"$f":"要求内訳データ!E161","v":{"$error":"#REF!"}}]
[{"$error":"#REF!"},{"$f":"#REF!","v":{"$error":"#REF!"}},{"$f":"要求内訳データ!A162","v":{"$error":"#REF!"}},{"$f":"要求内訳データ!B162","v":{"$error":"#REF!"}},{"$f":"要求内訳データ!C162","v":{"$error":"#REF!"}},{"$f":"要求内訳データ!D162","v":{"$error":"#REF!"}},{"$f":"要求内訳データ!E162","v":{"$error":"#REF!"}}]
[{"$error":"#REF!"},{"$f":"#REF!","v":{"$error":"#REF!"}},{"$f":"要求内訳データ!A163","v":{"$error":"#REF!"}},{"$f":"要求内訳データ!B163","v":{"$error":"#REF!"}},{"$f":"要求内訳データ!C163","v":{"$error":"#REF!"}},{"$f":"要求内訳データ!D163","v":{"$error":"#REF!"}},{"$f":"要求内訳データ!E163","v":{"$error":"#REF!"}}]
[{"$error":"#REF!"},{"$f":"#REF!","v":{"$error":"#REF!"}},{"$f":"要求内訳データ!A164","v":{"$error":"#REF!"}},{"$f":"要求内訳データ!B164","v":{"$error":"#REF!"}},{"$f":"要求内訳データ!C164","v":{"$error":"#REF!"}},{"$f":"要求内訳データ!D164","v":{"$error":"#REF!"}},{"$f":"要求内訳データ!E164","v":{"$error":"#REF!"}}]
[{"$error":"#REF!"},{"$f":"#REF!","v":{"$error":"#REF!"}},{"$f":"要求内訳データ!A165","v":{"$error":"#REF!"}},{"$f":"要求内訳データ!B165","v":{"$error":"#REF!"}},{"$f":"要求内訳データ!C165","v":{"$error":"#REF!"}},{"$f":"要求内訳データ!D165","v":{"$error":"#REF!"}},{"$f":"要求内訳データ!E165","v":{"$error":"#REF!"}}]
[{"$error":"#REF!"},{"$f":"#REF!","v":{"$error":"#REF!"}},{"$f":"要求内訳データ!A166","v":{"$error":"#REF!"}},{"$f":"要求内訳データ!B166","v":{"$error":"#REF!"}},{"$f":"要求内訳データ!C166","v":{"$error":"#REF!"}},{"$f":"要求内訳データ!D166","v":{"$error":"#REF!"}},{"$f":"要求内訳データ!E166","v":{"$error":"#REF!"}}]
[{"$error":"#REF!"},{"$f":"#REF!","v":{"$error":"#REF!"}},{"$f":"要求内訳データ!A167","v":{"$error":"#REF!"}},{"$f":"要求内訳データ!B167","v":{"$error":"#REF!"}},{"$f":"要求内訳データ!C167","v":{"$error":"#REF!"}},{"$f":"要求内訳データ!D167","v":{"$error":"#REF!"}},{"$f":"要求内訳データ!E167","v":{"$error":"#REF!"}}]
[{"$error":"#REF!"},{"$f":"#REF!","v":{"$error":"#REF!"}},{"$f":"要求内訳データ!A168","v":{"$error":"#REF!"}},{"$f":"要求内訳データ!B168","v":{"$error":"#REF!"}},{"$f":"要求内訳データ!C168","v":{"$error":"#REF!"}},{"$f":"要求内訳データ!D168","v":{"$error":"#REF!"}},{"$f":"要求内訳データ!E168","v":{"$error":"#REF!"}}]
[{"$error":"#REF!"},{"$f":"#REF!","v":{"$error":"#REF!"}},{"$f":"要求内訳データ!A169","v":{"$error":"#REF!"}},{"$f":"要求内訳データ!B169","v":{"$error":"#REF!"}},{"$f":"要求内訳データ!C169","v":{"$error":"#REF!"}},{"$f":"要求内訳データ!D169","v":{"$error":"#REF!"}},{"$f":"要求内訳データ!E169","v":{"$error":"#REF!"}}]
[{"$error":"#REF!"},{"$f":"#REF!","v":{"$error":"#REF!"}},{"$f":"要求内訳データ!A170","v":{"$error":"#REF!"}},{"$f":"要求内訳データ!B170","v":{"$error":"#REF!"}},{"$f":"要求内訳データ!C170","v":{"$error":"#REF!"}},{"$f":"要求内訳データ!D170","v":{"$error":"#REF!"}},{"$f":"要求内訳データ!E170","v":{"$error":"#REF!"}}]
[{"$error":"#REF!"},{"$f":"#REF!","v":{"$error":"#REF!"}},{"$f":"要求内訳データ!A171","v":{"$error":"#REF!"}},{"$f":"要求内訳データ!B171","v":{"$error":"#REF!"}},{"$f":"要求内訳データ!C171","v":{"$error":"#REF!"}},{"$f":"要求内訳データ!D171","v":{"$error":"#REF!"}},{"$f":"要求内訳データ!E171","v":{"$error":"#REF!"}}]
[{"$error":"#REF!"},{"$f":"#REF!","v":{"$error":"#REF!"}},{"$f":"要求内訳データ!A172","v":{"$error":"#REF!"}},{"$f":"要求内訳データ!B172","v":{"$error":"#REF!"}},{"$f":"要求内訳データ!C172","v":{"$error":"#REF!"}},{"$f":"要求内訳データ!D172","v":{"$error":"#REF!"}},{"$f":"要求内訳データ!E172","v":{"$error":"#REF!"}}]
[{"$error":"#REF!"},{"$f":"#REF!","v":{"$error":"#REF!"}},{"$f":"要求内訳データ!A173","v":{"$error":"#REF!"}},{"$f":"要求内訳データ!B173","v":{"$error":"#REF!"}},{"$f":"要求内訳データ!C173","v":{"$error":"#REF!"}},{"$f":"要求内訳データ!D173","v":{"$error":"#REF!"}},{"$f":"要求内訳データ!E173","v":{"$error":"#REF!"}}]
[{"$error":"#REF!"},{"$f":"#REF!","v":{"$error":"#REF!"}},{"$f":"要求内訳データ!A174","v":{"$error":"#REF!"}},{"$f":"要求内訳データ!B174","v":{"$error":"#REF!"}},{"$f":"要求内訳データ!C174","v":{"$error":"#REF!"}},{"$f":"要求内訳データ!D174","v":{"$error":"#REF!"}},{"$f":"要求内訳データ!E174","v":{"$error":"#REF!"}}]
[{"$error":"#REF!"},{"$f":"#REF!","v":{"$error":"#REF!"}},{"$f":"要求内訳データ!A175","v":{"$error":"#REF!"}},{"$f":"要求内訳データ!B175","v":{"$error":"#REF!"}},{"$f":"要求内訳データ!C175","v":{"$error":"#REF!"}},{"$f":"要求内訳データ!D175","v":{"$error":"#REF!"}},{"$f":"要求内訳データ!E175","v":{"$error":"#REF!"}}]
[{"$error":"#REF!"},{"$f":"#REF!","v":{"$error":"#REF!"}},{"$f":"要求内訳データ!A176","v":{"$error":"#REF!"}},{"$f":"要求内訳データ!B176","v":{"$error":"#REF!"}},{"$f":"要求内訳データ!C176","v":{"$error":"#REF!"}},{"$f":"要求内訳データ!D176","v":{"$error":"#REF!"}},{"$f":"要求内訳データ!E176","v":{"$error":"#REF!"}}]
[{"$error":"#REF!"},{"$f":"#REF!","v":{"$error":"#REF!"}},{"$f":"要求内訳データ!A177","v":{"$error":"#REF!"}},{"$f":"要求内訳データ!B177","v":{"$error":"#REF!"}},{"$f":"要求内訳データ!C177","v":{"$error":"#REF!"}},{"$f":"要求内訳データ!D177","v":{"$error":"#REF!"}},{"$f":"要求内訳データ!E177","v":{"$error":"#REF!"}}]
[{"$error":"#REF!"},{"$f":"#REF!","v":{"$error":"#REF!"}},{"$f":"要求内訳データ!A178","v":{"$error":"#REF!"}},{"$f":"要求内訳データ!B178","v":{"$error":"#REF!"}},{"$f":"要求内訳データ!C178","v":{"$error":"#REF!"}},{"$f":"要求内訳データ!D178","v":{"$error":"#REF!"}},{"$f":"要求内訳データ!E178","v":{"$error":"#REF!"}}]
[{"$error":"#REF!"},{"$f":"#REF!","v":{"$error":"#REF!"}},{"$f":"要求内訳データ!A179","v":{"$error":"#REF!"}},{"$f":"要求内訳データ!B179","v":{"$error":"#REF!"}},{"$f":"要求内訳データ!C179","v":{"$error":"#REF!"}},{"$f":"要求内訳データ!D179","v":{"$error":"#REF!"}},{"$f":"要求内訳データ!E179","v":{"$error":"#REF!"}}]
[{"$error":"#REF!"},{"$f":"#REF!","v":{"$error":"#REF!"}},{"$f":"要求内訳データ!A180","v":{"$error":"#REF!"}},{"$f":"要求内訳データ!B180","v":{"$error":"#REF!"}},{"$f":"要求内訳データ!C180","v":{"$error":"#REF!"}},{"$f":"要求内訳データ!D180","v":{"$error":"#REF!"}},{"$f":"要求内訳データ!E180","v":{"$error":"#REF!"}}]
[{"$error":"#REF!"},{"$f":"#REF!","v":{"$error":"#REF!"}},{"$f":"要求内訳データ!A181","v":{"$error":"#REF!"}},{"$f":"要求内訳データ!B181","v":{"$error":"#REF!"}},{"$f":"要求内訳データ!C181","v":{"$error":"#REF!"}},{"$f":"要求内訳データ!D181","v":{"$error":"#REF!"}},{"$f":"要求内訳データ!E181","v":{"$error":"#REF!"}}]
[{"$error":"#REF!"},{"$f":"#REF!","v":{"$error":"#REF!"}},{"$f":"要求内訳データ!A182","v":{"$error":"#REF!"}},{"$f":"要求内訳データ!B182","v":{"$error":"#REF!"}},{"$f":"要求内訳データ!C182","v":{"$error":"#REF!"}},{"$f":"要求内訳データ!D182","v":{"$error":"#REF!"}},{"$f":"要求内訳データ!E182","v":{"$error":"#REF!"}}]
[{"$error":"#REF!"},{"$f":"#REF!","v":{"$error":"#REF!"}},{"$f":"要求内訳データ!A183","v":{"$error":"#REF!"}},{"$f":"要求内訳データ!B183","v":{"$error":"#REF!"}},{"$f":"要求内訳データ!C183","v":{"$error":"#REF!"}},{"$f":"要求内訳データ!D183","v":{"$error":"#REF!"}},{"$f":"要求内訳データ!E183","v":{"$error":"#REF!"}}]
[{"$error":"#REF!"},{"$f":"#REF!","v":{"$error":"#REF!"}},{"$f":"要求内訳データ!A184","v":{"$error":"#REF!"}},{"$f":"要求内訳データ!B184","v":{"$error":"#REF!"}},{"$f":"要求内訳データ!C184","v":{"$error":"#REF!"}},{"$f":"要求内訳データ!D184","v":{"$error":"#REF!"}},{"$f":"要求内訳データ!E184","v":{"$error":"#REF!"}}]
[{"$error":"#REF!"},{"$f":"#REF!","v":{"$error":"#REF!"}},{"$f":"要求内訳データ!A185","v":{"$error":"#REF!"}},{"$f":"要求内訳データ!B185","v":{"$error":"#REF!"}},{"$f":"要求内訳データ!C185","v":{"$error":"#REF!"}},{"$f":"要求内訳データ!D185","v":{"$error":"#REF!"}},{"$f":"要求内訳データ!E185","v":{"$error":"#REF!"}}]
[{"$error":"#REF!"},{"$f":"#REF!","v":{"$error":"#REF!"}},{"$f":"要求内訳データ!A186","v":{"$error":"#REF!"}},{"$f":"要求内訳データ!B186","v":{"$error":"#REF!"}},{"$f":"要求内訳データ!C186","v":{"$error":"#REF!"}},{"$f":"要求内訳データ!D186","v":{"$error":"#REF!"}},{"$f":"要求内訳データ!E186","v":{"$error":"#REF!"}}]
[{"$error":"#REF!"},{"$f":"#REF!","v":{"$error":"#REF!"}},{"$f":"要求内訳データ!A187","v":{"$error":"#REF!"}},{"$f":"要求内訳データ!B187","v":{"$error":"#REF!"}},{"$f":"要求内訳データ!C187","v":{"$error":"#REF!"}},{"$f":"要求内訳データ!D187","v":{"$error":"#REF!"}},{"$f":"要求内訳データ!E187","v":{"$error":"#REF!"}}]
[{"$error":"#REF!"},{"$f":"#REF!","v":{"$error":"#REF!"}},{"$f":"要求内訳データ!A188","v":{"$error":"#REF!"}},{"$f":"要求内訳データ!B188","v":{"$error":"#REF!"}},{"$f":"要求内訳データ!C188","v":{"$error":"#REF!"}},{"$f":"要求内訳データ!D188","v":{"$error":"#REF!"}},{"$f":"要求内訳データ!E188","v":{"$error":"#REF!"}}]
[{"$error":"#REF!"},{"$f":"#REF!","v":{"$error":"#REF!"}},{"$f":"要求内訳データ!A189","v":{"$error":"#REF!"}},{"$f":"要求内訳データ!B189","v":{"$error":"#REF!"}},{"$f":"要求内訳データ!C189","v":{"$error":"#REF!"}},{"$f":"要求内訳データ!D189","v":{"$error":"#REF!"}},{"$f":"要求内訳データ!E189","v":{"$error":"#REF!"}}]
[{"$error":"#REF!"},{"$f":"#REF!","v":{"$error":"#REF!"}},{"$f":"要求内訳データ!A190","v":{"$error":"#REF!"}},{"$f":"要求内訳データ!B190","v":{"$error":"#REF!"}},{"$f":"要求内訳データ!C190","v":{"$error":"#REF!"}},{"$f":"要求内訳データ!D190","v":{"$error":"#REF!"}},{"$f":"要求内訳データ!E190","v":{"$error":"#REF!"}}]
[{"$error":"#REF!"},{"$f":"#REF!","v":{"$error":"#REF!"}},{"$f":"要求内訳データ!A191","v":{"$error":"#REF!"}},{"$f":"要求内訳データ!B191","v":{"$error":"#REF!"}},{"$f":"要求内訳データ!C191","v":{"$error":"#REF!"}},{"$f":"要求内訳データ!D191","v":{"$error":"#REF!"}},{"$f":"要求内訳データ!E191","v":{"$error":"#REF!"}}]
[{"$error":"#REF!"},{"$f":"#REF!","v":{"$error":"#REF!"}},{"$f":"要求内訳データ!A192","v":{"$error":"#REF!"}},{"$f":"要求内訳データ!B192","v":{"$error":"#REF!"}},{"$f":"要求内訳データ!C192","v":{"$error":"#REF!"}},{"$f":"要求内訳データ!D192","v":{"$error":"#REF!"}},{"$f":"要求内訳データ!E192","v":{"$error":"#REF!"}}]
[{"$error":"#REF!"},{"$f":"#REF!","v":{"$error":"#REF!"}},{"$f":"要求内訳データ!A193","v":{"$error":"#REF!"}},{"$f":"要求内訳データ!B193","v":{"$error":"#REF!"}},{"$f":"要求内訳データ!C193","v":{"$error":"#REF!"}},{"$f":"要求内訳データ!D193","v":{"$error":"#REF!"}},{"$f":"要求内訳データ!E193","v":{"$error":"#REF!"}}]
[{"$error":"#REF!"},{"$f":"#REF!","v":{"$error":"#REF!"}},{"$f":"要求内訳データ!A194","v":{"$error":"#REF!"}},{"$f":"要求内訳データ!B194","v":{"$error":"#REF!"}},{"$f":"要求内訳データ!C194","v":{"$error":"#REF!"}},{"$f":"要求内訳データ!D194","v":{"$error":"#REF!"}},{"$f":"要求内訳データ!E194","v":{"$error":"#REF!"}}]
[{"$error":"#REF!"},{"$f":"#REF!","v":{"$error":"#REF!"}},{"$f":"要求内訳データ!A195","v":{"$error":"#REF!"}},{"$f":"要求内訳データ!B195","v":{"$error":"#REF!"}},{"$f":"要求内訳データ!C195","v":{"$error":"#REF!"}},{"$f":"要求内訳データ!D195","v":{"$error":"#REF!"}},{"$f":"要求内訳データ!E195","v":{"$error":"#REF!"}}]
[{"$f":"LEFT(B196,LEN(B196)-4)","v":{"$error":"#REF!"}},{"$f":"#REF!","v":{"$error":"#REF!"}},{"$f":"要求内訳データ!A196","v":{"$error":"#REF!"}},{"$f":"要求内訳データ!B196","v":{"$error":"#REF!"}},{"$f":"要求内訳データ!C196","v":{"$error":"#REF!"}},{"$f":"要求内訳データ!D196","v":{"$error":"#REF!"}},{"$f":"要求内訳データ!E196","v":{"$error":"#REF!"}}]
[{"$error":"#REF!"},{"$f":"#REF!","v":{"$error":"#REF!"}},{"$f":"要求内訳データ!A197","v":{"$error":"#REF!"}},{"$f":"要求内訳データ!B197","v":{"$error":"#REF!"}},{"$f":"要求内訳データ!C197","v":{"$error":"#REF!"}},{"$f":"要求内訳データ!D197","v":{"$error":"#REF!"}},{"$f":"要求内訳データ!E197","v":{"$error":"#REF!"}}]
[{"$error":"#REF!"},{"$f":"#REF!","v":{"$error":"#REF!"}},{"$f":"要求内訳データ!A198","v":{"$error":"#REF!"}},{"$f":"要求内訳データ!B198","v":{"$error":"#REF!"}},{"$f":"要求内訳データ!C198","v":{"$error":"#REF!"}},{"$f":"要求内訳データ!D198","v":{"$error":"#REF!"}},{"$f":"要求内訳データ!E198","v":{"$error":"#REF!"}}]
[{"$error":"#REF!"},{"$f":"#REF!","v":{"$error":"#REF!"}},{"$f":"要求内訳データ!A199","v":{"$error":"#REF!"}},{"$f":"要求内訳データ!B199","v":{"$error":"#REF!"}},{"$f":"要求内訳データ!C199","v":{"$error":"#REF!"}},{"$f":"要求内訳データ!D199","v":{"$error":"#REF!"}},{"$f":"要求内訳データ!E199","v":{"$error":"#REF!"}}]
[{"$error":"#REF!"},{"$f":"#REF!","v":{"$error":"#REF!"}},{"$f":"要求内訳データ!A200","v":{"$error":"#REF!"}},{"$f":"要求内訳データ!B200","v":{"$error":"#REF!"}},{"$f":"要求内訳データ!C200","v":{"$error":"#REF!"}},{"$f":"要求内訳データ!D200","v":{"$error":"#REF!"}},{"$f":"要求内訳データ!E200","v":{"$error":"#REF!"}}]
[{"$error":"#REF!"},{"$f":"#REF!","v":{"$error":"#REF!"}},{"$f":"要求内訳データ!A201","v":{"$error":"#REF!"}},{"$f":"要求内訳データ!B201","v":{"$error":"#REF!"}},{"$f":"要求内訳データ!C201","v":{"$error":"#REF!"}},{"$f":"要求内訳データ!D201","v":{"$error":"#REF!"}},{"$f":"要求内訳データ!E201","v":{"$error":"#REF!"}}]
[{"$error":"#REF!"},{"$f":"#REF!","v":{"$error":"#REF!"}},{"$f":"要求内訳データ!A202","v":{"$error":"#REF!"}},{"$f":"要求内訳データ!B202","v":{"$error":"#REF!"}},{"$f":"要求内訳データ!C202","v":{"$error":"#REF!"}},{"$f":"要求内訳データ!D202","v":{"$error":"#REF!"}},{"$f":"要求内訳データ!E202","v":{"$error":"#REF!"}}]
[{"$error":"#REF!"},{"$f":"#REF!","v":{"$error":"#REF!"}},{"$f":"要求内訳データ!A203","v":{"$error":"#REF!"}},{"$f":"要求内訳データ!B203","v":{"$error":"#REF!"}},{"$f":"要求内訳データ!C203","v":{"$error":"#REF!"}},{"$f":"要求内訳データ!D203","v":{"$error":"#REF!"}},{"$f":"要求内訳データ!E203","v":{"$error":"#REF!"}}]
[{"$error":"#REF!"},{"$f":"#REF!","v":{"$error":"#REF!"}},{"$f":"要求内訳データ!A204","v":{"$error":"#REF!"}},{"$f":"要求内訳データ!B204","v":{"$error":"#REF!"}},{"$f":"要求内訳データ!C204","v":{"$error":"#REF!"}},{"$f":"要求内訳データ!D204","v":{"$error":"#REF!"}},{"$f":"要求内訳データ!E204","v":{"$error":"#REF!"}}]
[{"$error":"#REF!"},{"$f":"#REF!","v":{"$error":"#REF!"}},{"$f":"要求内訳データ!A205","v":{"$error":"#REF!"}},{"$f":"要求内訳データ!B205","v":{"$error":"#REF!"}},{"$f":"要求内訳データ!C205","v":{"$error":"#REF!"}},{"$f":"要求内訳データ!D205","v":{"$error":"#REF!"}},{"$f":"要求内訳データ!E205","v":{"$error":"#REF!"}}]
[{"$error":"#REF!"},{"$f":"#REF!","v":{"$error":"#REF!"}},{"$f":"要求内訳データ!A206","v":{"$error":"#REF!"}},{"$f":"要求内訳データ!B206","v":{"$error":"#REF!"}},{"$f":"要求内訳データ!C206","v":{"$error":"#REF!"}},{"$f":"要求内訳データ!D206","v":{"$error":"#REF!"}},{"$f":"要求内訳データ!E206","v":{"$error":"#REF!"}}]
[{"$error":"#REF!"},{"$f":"#REF!","v":{"$error":"#REF!"}},{"$f":"要求内訳データ!A207","v":{"$error":"#REF!"}},{"$f":"要求内訳データ!B207","v":{"$error":"#REF!"}},{"$f":"要求内訳データ!C207","v":{"$error":"#REF!"}},{"$f":"要求内訳データ!D207","v":{"$error":"#REF!"}},{"$f":"要求内訳データ!E207","v":{"$error":"#REF!"}}]
[{"$error":"#REF!"},{"$f":"#REF!","v":{"$error":"#REF!"}},{"$f":"要求内訳データ!A208","v":{"$error":"#REF!"}},{"$f":"要求内訳データ!B208","v":{"$error":"#REF!"}},{"$f":"要求内訳データ!C208","v":{"$error":"#REF!"}},{"$f":"要求内訳データ!D208","v":{"$error":"#REF!"}},{"$f":"要求内訳データ!E208","v":{"$error":"#REF!"}}]
[{"$error":"#REF!"},{"$f":"#REF!","v":{"$error":"#REF!"}},{"$f":"要求内訳データ!A209","v":{"$error":"#REF!"}},{"$f":"要求内訳データ!B209","v":{"$error":"#REF!"}},{"$f":"要求内訳データ!C209","v":{"$error":"#REF!"}},{"$f":"要求内訳データ!D209","v":{"$error":"#REF!"}},{"$f":"要求内訳データ!E209","v":{"$error":"#REF!"}}]
[{"$error":"#REF!"},{"$f":"#REF!","v":{"$error":"#REF!"}},{"$f":"要求内訳データ!A210","v":{"$error":"#REF!"}},{"$f":"要求内訳データ!B210","v":{"$error":"#REF!"}},{"$f":"要求内訳データ!C210","v":{"$error":"#REF!"}},{"$f":"要求内訳データ!D210","v":{"$error":"#REF!"}},{"$f":"要求内訳データ!E210","v":{"$error":"#REF!"}}]
[{"$error":"#REF!"},{"$f":"#REF!","v":{"$error":"#REF!"}},{"$f":"要求内訳データ!A211","v":{"$error":"#REF!"}},{"$f":"要求内訳データ!B211","v":{"$error":"#REF!"}},{"$f":"要求内訳データ!C211","v":{"$error":"#REF!"}},{"$f":"要求内訳データ!D211","v":{"$error":"#REF!"}},{"$f":"要求内訳データ!E211","v":{"$error":"#REF!"}}]
[{"$error":"#REF!"},{"$f":"#REF!","v":{"$error":"#REF!"}},{"$f":"要求内訳データ!A212","v":{"$error":"#REF!"}},{"$f":"要求内訳データ!B212","v":{"$error":"#REF!"}},{"$f":"要求内訳データ!C212","v":{"$error":"#REF!"}},{"$f":"要求内訳データ!D212","v":{"$error":"#REF!"}},{"$f":"要求内訳データ!E212","v":{"$error":"#REF!"}}]
[{"$error":"#REF!"},{"$f":"#REF!","v":{"$error":"#REF!"}},{"$f":"要求内訳データ!A213","v":{"$error":"#REF!"}},{"$f":"要求内訳データ!B213","v":{"$error":"#REF!"}},{"$f":"要求内訳データ!C213","v":{"$error":"#REF!"}},{"$f":"要求内訳データ!D213","v":{"$error":"#REF!"}},{"$f":"要求内訳データ!E213","v":{"$error":"#REF!"}}]
[{"$error":"#REF!"},{"$f":"#REF!","v":{"$error":"#REF!"}},{"$f":"要求内訳データ!A214","v":{"$error":"#REF!"}},{"$f":"要求内訳データ!B214","v":{"$error":"#REF!"}},{"$f":"要求内訳データ!C214","v":{"$error":"#REF!"}},{"$f":"要求内訳データ!D214","v":{"$error":"#REF!"}},{"$f":"要求内訳データ!E214","v":{"$error":"#REF!"}}]
[{"$error":"#REF!"},{"$f":"#REF!","v":{"$error":"#REF!"}},{"$f":"要求内訳データ!A215","v":{"$error":"#REF!"}},{"$f":"要求内訳データ!B215","v":{"$error":"#REF!"}},{"$f":"要求内訳データ!C215","v":{"$error":"#REF!"}},{"$f":"要求内訳データ!D215","v":{"$error":"#REF!"}},{"$f":"要求内訳データ!E215","v":{"$error":"#REF!"}}]
[{"$error":"#REF!"},{"$f":"#REF!","v":{"$error":"#REF!"}},{"$f":"要求内訳データ!A216","v":{"$error":"#REF!"}},{"$f":"要求内訳データ!B216","v":{"$error":"#REF!"}},{"$f":"要求内訳データ!C216","v":{"$error":"#REF!"}},{"$f":"要求内訳データ!D216","v":{"$error":"#REF!"}},{"$f":"要求内訳データ!E216","v":{"$error":"#REF!"}}]
[{"$error":"#REF!"},{"$f":"#REF!","v":{"$error":"#REF!"}},{"$f":"要求内訳データ!A217","v":{"$error":"#REF!"}},{"$f":"要求内訳データ!B217","v":{"$error":"#REF!"}},{"$f":"要求内訳データ!C217","v":{"$error":"#REF!"}},{"$f":"要求内訳データ!D217","v":{"$error":"#REF!"}},{"$f":"要求内訳データ!E217","v":{"$error":"#REF!"}}]
[{"$error":"#REF!"},{"$f":"#REF!","v":{"$error":"#REF!"}},{"$f":"要求内訳データ!A218","v":{"$error":"#REF!"}},{"$f":"要求内訳データ!B218","v":{"$error":"#REF!"}},{"$f":"要求内訳データ!C218","v":{"$error":"#REF!"}},{"$f":"要求内訳データ!D218","v":{"$error":"#REF!"}},{"$f":"要求内訳データ!E218","v":{"$error":"#REF!"}}]
[{"$error":"#REF!"},{"$f":"#REF!","v":{"$error":"#REF!"}},{"$f":"要求内訳データ!A219","v":{"$error":"#REF!"}},{"$f":"要求内訳データ!B219","v":{"$error":"#REF!"}},{"$f":"要求内訳データ!C219","v":{"$error":"#REF!"}},{"$f":"要求内訳データ!D219","v":{"$error":"#REF!"}},{"$f":"要求内訳データ!E219","v":{"$error":"#REF!"}}]
[{"$error":"#REF!"},{"$f":"#REF!","v":{"$error":"#REF!"}},{"$f":"要求内訳データ!A220","v":{"$error":"#REF!"}},{"$f":"要求内訳データ!B220","v":{"$error":"#REF!"}},{"$f":"要求内訳データ!C220","v":{"$error":"#REF!"}},{"$f":"要求内訳データ!D220","v":{"$error":"#REF!"}},{"$f":"要求内訳データ!E220","v":{"$error":"#REF!"}}]
[{"$error":"#REF!"},{"$f":"#REF!","v":{"$error":"#REF!"}},{"$f":"要求内訳データ!A221","v":{"$error":"#REF!"}},{"$f":"要求内訳データ!B221","v":{"$error":"#REF!"}},{"$f":"要求内訳データ!C221","v":{"$error":"#REF!"}},{"$f":"要求内訳データ!D221","v":{"$error":"#REF!"}},{"$f":"要求内訳データ!E221","v":{"$error":"#REF!"}}]
[{"$error":"#REF!"},{"$f":"#REF!","v":{"$error":"#REF!"}},{"$f":"要求内訳データ!A222","v":{"$error":"#REF!"}},{"$f":"要求内訳データ!B222","v":{"$error":"#REF!"}},{"$f":"要求内訳データ!C222","v":{"$error":"#REF!"}},{"$f":"要求内訳データ!D222","v":{"$error":"#REF!"}},{"$f":"要求内訳データ!E222","v":{"$error":"#REF!"}}]
[{"$error":"#REF!"},{"$f":"#REF!","v":{"$error":"#REF!"}},{"$f":"要求内訳データ!A223","v":{"$error":"#REF!"}},{"$f":"要求内訳データ!B223","v":{"$error":"#REF!"}},{"$f":"要求内訳データ!C223","v":{"$error":"#REF!"}},{"$f":"要求内訳データ!D223","v":{"$error":"#REF!"}},{"$f":"要求内訳データ!E223","v":{"$error":"#REF!"}}]
[{"$error":"#REF!"},{"$f":"#REF!","v":{"$error":"#REF!"}},{"$f":"要求内訳データ!A224","v":{"$error":"#REF!"}},{"$f":"要求内訳データ!B224","v":{"$error":"#REF!"}},{"$f":"要求内訳データ!C224","v":{"$error":"#REF!"}},{"$f":"要求内訳データ!D224","v":{"$error":"#REF!"}},{"$f":"要求内訳データ!E224","v":{"$error":"#REF!"}}]
[{"$error":"#REF!"},{"$f":"#REF!","v":{"$error":"#REF!"}},{"$f":"要求内訳データ!A225","v":{"$error":"#REF!"}},{"$f":"要求内訳データ!B225","v":{"$error":"#REF!"}},{"$f":"要求内訳データ!C225","v":{"$error":"#REF!"}},{"$f":"要求内訳データ!D225","v":{"$error":"#REF!"}},{"$f":"要求内訳データ!E225","v":{"$error":"#REF!"}}]
[{"$error":"#REF!"},{"$f":"#REF!","v":{"$error":"#REF!"}},{"$f":"要求内訳データ!A226","v":{"$error":"#REF!"}},{"$f":"要求内訳データ!B226","v":{"$error":"#REF!"}},{"$f":"要求内訳データ!C226","v":{"$error":"#REF!"}},{"$f":"要求内訳データ!D226","v":{"$error":"#REF!"}},{"$f":"要求内訳データ!E226","v":{"$error":"#REF!"}}]
[{"$error":"#REF!"},{"$f":"#REF!","v":{"$error":"#REF!"}},{"$f":"要求内訳データ!A227","v":{"$error":"#REF!"}},{"$f":"要求内訳データ!B227","v":{"$error":"#REF!"}},{"$f":"要求内訳データ!C227","v":{"$error":"#REF!"}},{"$f":"要求内訳データ!D227","v":{"$error":"#REF!"}},{"$f":"要求内訳データ!E227","v":{"$error":"#REF!"}}]
[{"$error":"#REF!"},{"$f":"#REF!","v":{"$error":"#REF!"}},{"$f":"要求内訳データ!A228","v":{"$error":"#REF!"}},{"$f":"要求内訳データ!B228","v":{"$error":"#REF!"}},{"$f":"要求内訳データ!C228","v":{"$error":"#REF!"}},{"$f":"要求内訳データ!D228","v":{"$error":"#REF!"}},{"$f":"要求内訳データ!E228","v":{"$error":"#REF!"}}]
[{"$error":"#REF!"},{"$f":"#REF!","v":{"$error":"#REF!"}},{"$f":"要求内訳データ!A229","v":{"$error":"#REF!"}},{"$f":"要求内訳データ!B229","v":{"$error":"#REF!"}},{"$f":"要求内訳データ!C229","v":{"$error":"#REF!"}},{"$f":"要求内訳データ!D229","v":{"$error":"#REF!"}},{"$f":"要求内訳データ!E229","v":{"$error":"#REF!"}}]
[{"$error":"#REF!"},{"$f":"#REF!","v":{"$error":"#REF!"}},{"$f":"要求内訳データ!A230","v":{"$error":"#REF!"}},{"$f":"要求内訳データ!B230","v":{"$error":"#REF!"}},{"$f":"要求内訳データ!C230","v":{"$error":"#REF!"}},{"$f":"要求内訳データ!D230","v":{"$error":"#REF!"}},{"$f":"要求内訳データ!E230","v":{"$error":"#REF!"}}]
[{"$error":"#REF!"},{"$f":"#REF!","v":{"$error":"#REF!"}},{"$f":"要求内訳データ!A231","v":{"$error":"#REF!"}},{"$f":"要求内訳データ!B231","v":{"$error":"#REF!"}},{"$f":"要求内訳データ!C231","v":{"$error":"#REF!"}},{"$f":"要求内訳データ!D231","v":{"$error":"#REF!"}},{"$f":"要求内訳データ!E231","v":{"$error":"#REF!"}}]
[{"$error":"#REF!"},{"$f":"#REF!","v":{"$error":"#REF!"}},{"$f":"要求内訳データ!A232","v":{"$error":"#REF!"}},{"$f":"要求内訳データ!B232","v":{"$error":"#REF!"}},{"$f":"要求内訳データ!C232","v":{"$error":"#REF!"}},{"$f":"要求内訳データ!D232","v":{"$error":"#REF!"}},{"$f":"要求内訳データ!E232","v":{"$error":"#REF!"}}]
[{"$error":"#REF!"},{"$f":"#REF!","v":{"$error":"#REF!"}},{"$f":"要求内訳データ!A233","v":{"$error":"#REF!"}},{"$f":"要求内訳データ!B233","v":{"$error":"#REF!"}},{"$f":"要求内訳データ!C233","v":{"$error":"#REF!"}},{"$f":"要求内訳データ!D233","v":{"$error":"#REF!"}},{"$f":"要求内訳データ!E233","v":{"$error":"#REF!"}}]
[{"$error":"#REF!"},{"$f":"#REF!","v":{"$error":"#REF!"}},{"$f":"要求内訳データ!A234","v":{"$error":"#REF!"}},{"$f":"要求内訳データ!B234","v":{"$error":"#REF!"}},{"$f":"要求内訳データ!C234","v":{"$error":"#REF!"}},{"$f":"要求内訳データ!D234","v":{"$error":"#REF!"}},{"$f":"要求内訳データ!E234","v":{"$error":"#REF!"}}]
[{"$error":"#REF!"},{"$f":"#REF!","v":{"$error":"#REF!"}},{"$f":"要求内訳データ!A235","v":{"$error":"#REF!"}},{"$f":"要求内訳データ!B235","v":{"$error":"#REF!"}},{"$f":"要求内訳データ!C235","v":{"$error":"#REF!"}},{"$f":"要求内訳データ!D235","v":{"$error":"#REF!"}},{"$f":"要求内訳データ!E235","v":{"$error":"#REF!"}}]
[{"$error":"#REF!"},{"$f":"#REF!","v":{"$error":"#REF!"}},{"$f":"要求内訳データ!A236","v":{"$error":"#REF!"}},{"$f":"要求内訳データ!B236","v":{"$error":"#REF!"}},{"$f":"要求内訳データ!C236","v":{"$error":"#REF!"}},{"$f":"要求内訳データ!D236","v":{"$error":"#REF!"}},{"$f":"要求内訳データ!E236","v":{"$error":"#REF!"}}]
[{"$error":"#REF!"},{"$f":"#REF!","v":{"$error":"#REF!"}},{"$f":"要求内訳データ!A237","v":{"$error":"#REF!"}},{"$f":"要求内訳データ!B237","v":{"$error":"#REF!"}},{"$f":"要求内訳データ!C237","v":{"$error":"#REF!"}},{"$f":"要求内訳データ!D237","v":{"$error":"#REF!"}},{"$f":"要求内訳データ!E237","v":{"$error":"#REF!"}}]
[{"$error":"#REF!"},{"$f":"#REF!","v":{"$error":"#REF!"}},{"$f":"要求内訳データ!A238","v":{"$error":"#REF!"}},{"$f":"要求内訳データ!B238","v":{"$error":"#REF!"}},{"$f":"要求内訳データ!C238","v":{"$error":"#REF!"}},{"$f":"要求内訳データ!D238","v":{"$error":"#REF!"}},{"$f":"要求内訳データ!E238","v":{"$error":"#REF!"}}]
[{"$error":"#REF!"},{"$f":"#REF!","v":{"$error":"#REF!"}},{"$f":"要求内訳データ!A239","v":{"$error":"#REF!"}},{"$f":"要求内訳データ!B239","v":{"$error":"#REF!"}},{"$f":"要求内訳データ!C239","v":{"$error":"#REF!"}},{"$f":"要求内訳データ!D239","v":{"$error":"#REF!"}},{"$f":"要求内訳データ!E239","v":{"$error":"#REF!"}}]
[{"$error":"#REF!"},{"$f":"#REF!","v":{"$error":"#REF!"}},{"$f":"要求内訳データ!A240","v":{"$error":"#REF!"}},{"$f":"要求内訳データ!B240","v":{"$error":"#REF!"}},{"$f":"要求内訳データ!C240","v":{"$error":"#REF!"}},{"$f":"要求内訳データ!D240","v":{"$error":"#REF!"}},{"$f":"要求内訳データ!E240","v":{"$error":"#REF!"}}]
[{"$error":"#REF!"},{"$f":"#REF!","v":{"$error":"#REF!"}},{"$f":"要求内訳データ!A241","v":{"$error":"#REF!"}},{"$f":"要求内訳データ!B241","v":{"$error":"#REF!"}},{"$f":"要求内訳データ!C241","v":{"$error":"#REF!"}},{"$f":"要求内訳データ!D241","v":{"$error":"#REF!"}},{"$f":"要求内訳データ!E241","v":{"$error":"#REF!"}}]
[{"$error":"#REF!"},{"$f":"#REF!","v":{"$error":"#REF!"}},{"$f":"要求内訳データ!A242","v":{"$error":"#REF!"}},{"$f":"要求内訳データ!B242","v":{"$error":"#REF!"}},{"$f":"要求内訳データ!C242","v":{"$error":"#REF!"}},{"$f":"要求内訳データ!D242","v":{"$error":"#REF!"}},{"$f":"要求内訳データ!E242","v":{"$error":"#REF!"}}]
[{"$error":"#REF!"},{"$f":"#REF!","v":{"$error":"#REF!"}},{"$f":"要求内訳データ!A243","v":{"$error":"#REF!"}},{"$f":"要求内訳データ!B243","v":{"$error":"#REF!"}},{"$f":"要求内訳データ!C243","v":{"$error":"#REF!"}},{"$f":"要求内訳データ!D243","v":{"$error":"#REF!"}},{"$f":"要求内訳データ!E243","v":{"$error":"#REF!"}}]
[{"$error":"#REF!"},{"$f":"#REF!","v":{"$error":"#REF!"}},{"$f":"要求内訳データ!A244","v":{"$error":"#REF!"}},{"$f":"要求内訳データ!B244","v":{"$error":"#REF!"}},{"$f":"要求内訳データ!C244","v":{"$error":"#REF!"}},{"$f":"要求内訳データ!D244","v":{"$error":"#REF!"}},{"$f":"要求内訳データ!E244","v":{"$error":"#REF!"}}]
[{"$error":"#REF!"},{"$f":"#REF!","v":{"$error":"#REF!"}},{"$f":"要求内訳データ!A245","v":{"$error":"#REF!"}},{"$f":"要求内訳データ!B245","v":{"$error":"#REF!"}},{"$f":"要求内訳データ!C245","v":{"$error":"#REF!"}},{"$f":"要求内訳データ!D245","v":{"$error":"#REF!"}},{"$f":"要求内訳データ!E245","v":{"$error":"#REF!"}}]
[{"$error":"#REF!"},{"$f":"#REF!","v":{"$error":"#REF!"}},{"$f":"要求内訳データ!A246","v":{"$error":"#REF!"}},{"$f":"要求内訳データ!B246","v":{"$error":"#REF!"}},{"$f":"要求内訳データ!C246","v":{"$error":"#REF!"}},{"$f":"要求内訳データ!D246","v":{"$error":"#REF!"}},{"$f":"要求内訳データ!E246","v":{"$error":"#REF!"}}]
[{"$error":"#REF!"},{"$f":"#REF!","v":{"$error":"#REF!"}},{"$f":"要求内訳データ!A247","v":{"$error":"#REF!"}},{"$f":"要求内訳データ!B247","v":{"$error":"#REF!"}},{"$f":"要求内訳データ!C247","v":{"$error":"#REF!"}},{"$f":"要求内訳データ!D247","v":{"$error":"#REF!"}},{"$f":"要求内訳データ!E247","v":{"$error":"#REF!"}}]
[{"$error":"#REF!"},{"$f":"#REF!","v":{"$error":"#REF!"}},{"$f":"要求内訳データ!A248","v":{"$error":"#REF!"}},{"$f":"要求内訳データ!B248","v":{"$error":"#REF!"}},{"$f":"要求内訳データ!C248","v":{"$error":"#REF!"}},{"$f":"要求内訳データ!D248","v":{"$error":"#REF!"}},{"$f":"要求内訳データ!E248","v":{"$error":"#REF!"}}]
[{"$error":"#REF!"},{"$f":"#REF!","v":{"$error":"#REF!"}},{"$f":"要求内訳データ!A249","v":{"$error":"#REF!"}},{"$f":"要求内訳データ!B249","v":{"$error":"#REF!"}},{"$f":"要求内訳データ!C249","v":{"$error":"#REF!"}},{"$f":"要求内訳データ!D249","v":{"$error":"#REF!"}},{"$f":"要求内訳データ!E249","v":{"$error":"#REF!"}}]
[{"$error":"#REF!"},{"$f":"#REF!","v":{"$error":"#REF!"}},{"$f":"要求内訳データ!A250","v":{"$error":"#REF!"}},{"$f":"要求内訳データ!B250","v":{"$error":"#REF!"}},{"$f":"要求内訳データ!C250","v":{"$error":"#REF!"}},{"$f":"要求内訳データ!D250","v":{"$error":"#REF!"}},{"$f":"要求内訳データ!E250","v":{"$error":"#REF!"}}]
[{"$error":"#REF!"},{"$f":"#REF!","v":{"$error":"#REF!"}},{"$f":"要求内訳データ!A251","v":{"$error":"#REF!"}},{"$f":"要求内訳データ!B251","v":{"$error":"#REF!"}},{"$f":"要求内訳データ!C251","v":{"$error":"#REF!"}},{"$f":"要求内訳データ!D251","v":{"$error":"#REF!"}},{"$f":"要求内訳データ!E251","v":{"$error":"#REF!"}}]
[{"$error":"#REF!"},{"$f":"#REF!","v":{"$error":"#REF!"}},{"$f":"要求内訳データ!A252","v":{"$error":"#REF!"}},{"$f":"要求内訳データ!B252","v":{"$error":"#REF!"}},{"$f":"要求内訳データ!C252","v":{"$error":"#REF!"}},{"$f":"要求内訳データ!D252","v":{"$error":"#REF!"}},{"$f":"要求内訳データ!E252","v":{"$error":"#REF!"}}]
[{"$error":"#REF!"},{"$f":"#REF!","v":{"$error":"#REF!"}},{"$f":"要求内訳データ!A253","v":{"$error":"#REF!"}},{"$f":"要求内訳データ!B253","v":{"$error":"#REF!"}},{"$f":"要求内訳データ!C253","v":{"$error":"#REF!"}},{"$f":"要求内訳データ!D253","v":{"$error":"#REF!"}},{"$f":"要求内訳データ!E253","v":{"$error":"#REF!"}}]
[{"$error":"#REF!"},{"$f":"#REF!","v":{"$error":"#REF!"}},{"$f":"要求内訳データ!A254","v":{"$error":"#REF!"}},{"$f":"要求内訳データ!B254","v":{"$error":"#REF!"}},{"$f":"要求内訳データ!C254","v":{"$error":"#REF!"}},{"$f":"要求内訳データ!D254","v":{"$error":"#REF!"}},{"$f":"要求内訳データ!E254","v":{"$error":"#REF!"}}]
[{"$error":"#REF!"},{"$f":"#REF!","v":{"$error":"#REF!"}},{"$f":"要求内訳データ!A255","v":{"$error":"#REF!"}},{"$f":"要求内訳データ!B255","v":{"$error":"#REF!"}},{"$f":"要求内訳データ!C255","v":{"$error":"#REF!"}},{"$f":"要求内訳データ!D255","v":{"$error":"#REF!"}},{"$f":"要求内訳データ!E255","v":{"$error":"#REF!"}}]
[{"$error":"#REF!"},{"$f":"#REF!","v":{"$error":"#REF!"}},{"$f":"要求内訳データ!A256","v":{"$error":"#REF!"}},{"$f":"要求内訳データ!B256","v":{"$error":"#REF!"}},{"$f":"要求内訳データ!C256","v":{"$error":"#REF!"}},{"$f":"要求内訳データ!D256","v":{"$error":"#REF!"}},{"$f":"要求内訳データ!E256","v":{"$error":"#REF!"}}]
[{"$error":"#REF!"},{"$f":"#REF!","v":{"$error":"#REF!"}},{"$f":"要求内訳データ!A257","v":{"$error":"#REF!"}},{"$f":"要求内訳データ!B257","v":{"$error":"#REF!"}},{"$f":"要求内訳データ!C257","v":{"$error":"#REF!"}},{"$f":"要求内訳データ!D257","v":{"$error":"#REF!"}},{"$f":"要求内訳データ!E257","v":{"$error":"#REF!"}}]
[{"$error":"#REF!"},{"$f":"#REF!","v":{"$error":"#REF!"}},{"$f":"要求内訳データ!A258","v":{"$error":"#REF!"}},{"$f":"要求内訳データ!B258","v":{"$error":"#REF!"}},{"$f":"要求内訳データ!C258","v":{"$error":"#REF!"}},{"$f":"要求内訳データ!D258","v":{"$error":"#REF!"}},{"$f":"要求内訳データ!E258","v":{"$error":"#REF!"}}]
[{"$error":"#REF!"},{"$f":"#REF!","v":{"$error":"#REF!"}},{"$f":"要求内訳データ!A259","v":{"$error":"#REF!"}},{"$f":"要求内訳データ!B259","v":{"$error":"#REF!"}},{"$f":"要求内訳データ!C259","v":{"$error":"#REF!"}},{"$f":"要求内訳データ!D259","v":{"$error":"#REF!"}},{"$f":"要求内訳データ!E259","v":{"$error":"#REF!"}}]
[{"$f":"LEFT(B260,LEN(B260)-4)","v":{"$error":"#REF!"}},{"$f":"#REF!","v":{"$error":"#REF!"}},{"$f":"要求内訳データ!A260","v":{"$error":"#REF!"}},{"$f":"要求内訳データ!B260","v":{"$error":"#REF!"}},{"$f":"要求内訳データ!C260","v":{"$error":"#REF!"}},{"$f":"要求内訳データ!D260","v":{"$error":"#REF!"}},{"$f":"要求内訳データ!E260","v":{"$error":"#REF!"}}]
[{"$error":"#REF!"},{"$f":"#REF!","v":{"$error":"#REF!"}},{"$f":"要求内訳データ!A261","v":{"$error":"#REF!"}},{"$f":"要求内訳データ!B261","v":{"$error":"#REF!"}},{"$f":"要求内訳データ!C261","v":{"$error":"#REF!"}},{"$f":"要求内訳データ!D261","v":{"$error":"#REF!"}},{"$f":"要求内訳データ!E261","v":{"$error":"#REF!"}}]
[{"$error":"#REF!"},{"$f":"#REF!","v":{"$error":"#REF!"}},{"$f":"要求内訳データ!A262","v":{"$error":"#REF!"}},{"$f":"要求内訳データ!B262","v":{"$error":"#REF!"}},{"$f":"要求内訳データ!C262","v":{"$error":"#REF!"}},{"$f":"要求内訳データ!D262","v":{"$error":"#REF!"}},{"$f":"要求内訳データ!E262","v":{"$error":"#REF!"}}]
[{"$error":"#REF!"},{"$f":"#REF!","v":{"$error":"#REF!"}},{"$f":"要求内訳データ!A263","v":{"$error":"#REF!"}},{"$f":"要求内訳データ!B263","v":{"$error":"#REF!"}},{"$f":"要求内訳データ!C263","v":{"$error":"#REF!"}},{"$f":"要求内訳データ!D263","v":{"$error":"#REF!"}},{"$f":"要求内訳データ!E263","v":{"$error":"#REF!"}}]
[{"$error":"#REF!"},{"$f":"#REF!","v":{"$error":"#REF!"}},{"$f":"要求内訳データ!A264","v":{"$error":"#REF!"}},{"$f":"要求内訳データ!B264","v":{"$error":"#REF!"}},{"$f":"要求内訳データ!C264","v":{"$error":"#REF!"}},{"$f":"要求内訳データ!D264","v":{"$error":"#REF!"}},{"$f":"要求内訳データ!E264","v":{"$error":"#REF!"}}]
[{"$error":"#REF!"},{"$f":"#REF!","v":{"$error":"#REF!"}},{"$f":"要求内訳データ!A265","v":{"$error":"#REF!"}},{"$f":"要求内訳データ!B265","v":{"$error":"#REF!"}},{"$f":"要求内訳データ!C265","v":{"$error":"#REF!"}},{"$f":"要求内訳データ!D265","v":{"$error":"#REF!"}},{"$f":"要求内訳データ!E265","v":{"$error":"#REF!"}}]
[{"$error":"#REF!"},{"$f":"#REF!","v":{"$error":"#REF!"}},{"$f":"要求内訳データ!A266","v":{"$error":"#REF!"}},{"$f":"要求内訳データ!B266","v":{"$error":"#REF!"}},{"$f":"要求内訳データ!C266","v":{"$error":"#REF!"}},{"$f":"要求内訳データ!D266","v":{"$error":"#REF!"}},{"$f":"要求内訳データ!E266","v":{"$error":"#REF!"}}]
[{"$error":"#REF!"},{"$f":"#REF!","v":{"$error":"#REF!"}},{"$f":"要求内訳データ!A267","v":{"$error":"#REF!"}},{"$f":"要求内訳データ!B267","v":{"$error":"#REF!"}},{"$f":"要求内訳データ!C267","v":{"$error":"#REF!"}},{"$f":"要求内訳データ!D267","v":{"$error":"#REF!"}},{"$f":"要求内訳データ!E267","v":{"$error":"#REF!"}}]
[{"$error":"#REF!"},{"$f":"#REF!","v":{"$error":"#REF!"}},{"$f":"要求内訳データ!A268","v":{"$error":"#REF!"}},{"$f":"要求内訳データ!B268","v":{"$error":"#REF!"}},{"$f":"要求内訳データ!C268","v":{"$error":"#REF!"}},{"$f":"要求内訳データ!D268","v":{"$error":"#REF!"}},{"$f":"要求内訳データ!E268","v":{"$error":"#REF!"}}]
[{"$error":"#REF!"},{"$f":"#REF!","v":{"$error":"#REF!"}},{"$f":"要求内訳データ!A269","v":{"$error":"#REF!"}},{"$f":"要求内訳データ!B269","v":{"$error":"#REF!"}},{"$f":"要求内訳データ!C269","v":{"$error":"#REF!"}},{"$f":"要求内訳データ!D269","v":{"$error":"#REF!"}},{"$f":"要求内訳データ!E269","v":{"$error":"#REF!"}}]
[{"$error":"#REF!"},{"$f":"#REF!","v":{"$error":"#REF!"}},{"$f":"要求内訳データ!A270","v":{"$error":"#REF!"}},{"$f":"要求内訳データ!B270","v":{"$error":"#REF!"}},{"$f":"要求内訳データ!C270","v":{"$error":"#REF!"}},{"$f":"要求内訳データ!D270","v":{"$error":"#REF!"}},{"$f":"要求内訳データ!E270","v":{"$error":"#REF!"}}]
[{"$error":"#REF!"},{"$f":"#REF!","v":{"$error":"#REF!"}},{"$f":"要求内訳データ!A271","v":{"$error":"#REF!"}},{"$f":"要求内訳データ!B271","v":{"$error":"#REF!"}},{"$f":"要求内訳データ!C271","v":{"$error":"#REF!"}},{"$f":"要求内訳データ!D271","v":{"$error":"#REF!"}},{"$f":"要求内訳データ!E271","v":{"$error":"#REF!"}}]
[{"$error":"#REF!"},{"$f":"#REF!","v":{"$error":"#REF!"}},{"$f":"要求内訳データ!A272","v":{"$error":"#REF!"}},{"$f":"要求内訳データ!B272","v":{"$error":"#REF!"}},{"$f":"要求内訳データ!C272","v":{"$error":"#REF!"}},{"$f":"要求内訳データ!D272","v":{"$error":"#REF!"}},{"$f":"要求内訳データ!E272","v":{"$error":"#REF!"}}]
[{"$error":"#REF!"},{"$f":"#REF!","v":{"$error":"#REF!"}},{"$f":"要求内訳データ!A273","v":{"$error":"#REF!"}},{"$f":"要求内訳データ!B273","v":{"$error":"#REF!"}},{"$f":"要求内訳データ!C273","v":{"$error":"#REF!"}},{"$f":"要求内訳データ!D273","v":{"$error":"#REF!"}},{"$f":"要求内訳データ!E273","v":{"$error":"#REF!"}}]
[{"$error":"#REF!"},{"$f":"#REF!","v":{"$error":"#REF!"}},{"$f":"要求内訳データ!A274","v":{"$error":"#REF!"}},{"$f":"要求内訳データ!B274","v":{"$error":"#REF!"}},{"$f":"要求内訳データ!C274","v":{"$error":"#REF!"}},{"$f":"要求内訳データ!D274","v":{"$error":"#REF!"}},{"$f":"要求内訳データ!E274","v":{"$error":"#REF!"}}]
[{"$error":"#REF!"},{"$f":"#REF!","v":{"$error":"#REF!"}},{"$f":"要求内訳データ!A275","v":{"$error":"#REF!"}},{"$f":"要求内訳データ!B275","v":{"$error":"#REF!"}},{"$f":"要求内訳データ!C275","v":{"$error":"#REF!"}},{"$f":"要求内訳データ!D275","v":{"$error":"#REF!"}},{"$f":"要求内訳データ!E275","v":{"$error":"#REF!"}}]
[{"$error":"#REF!"},{"$f":"#REF!","v":{"$error":"#REF!"}},{"$f":"要求内訳データ!A276","v":{"$error":"#REF!"}},{"$f":"要求内訳データ!B276","v":{"$error":"#REF!"}},{"$f":"要求内訳データ!C276","v":{"$error":"#REF!"}},{"$f":"要求内訳データ!D276","v":{"$error":"#REF!"}},{"$f":"要求内訳データ!E276","v":{"$error":"#REF!"}}]
[{"$error":"#REF!"},{"$f":"#REF!","v":{"$error":"#REF!"}},{"$f":"要求内訳データ!A277","v":{"$error":"#REF!"}},{"$f":"要求内訳データ!B277","v":{"$error":"#REF!"}},{"$f":"要求内訳データ!C277","v":{"$error":"#REF!"}},{"$f":"要求内訳データ!D277","v":{"$error":"#REF!"}},{"$f":"要求内訳データ!E277","v":{"$error":"#REF!"}}]
[{"$error":"#REF!"},{"$f":"#REF!","v":{"$error":"#REF!"}},{"$f":"要求内訳データ!A278","v":{"$error":"#REF!"}},{"$f":"要求内訳データ!B278","v":{"$error":"#REF!"}},{"$f":"要求内訳データ!C278","v":{"$error":"#REF!"}},{"$f":"要求内訳データ!D278","v":{"$error":"#REF!"}},{"$f":"要求内訳データ!E278","v":{"$error":"#REF!"}}]
[{"$error":"#REF!"},{"$f":"#REF!","v":{"$error":"#REF!"}},{"$f":"要求内訳データ!A279","v":{"$error":"#REF!"}},{"$f":"要求内訳データ!B279","v":{"$error":"#REF!"}},{"$f":"要求内訳データ!C279","v":{"$error":"#REF!"}},{"$f":"要求内訳データ!D279","v":{"$error":"#REF!"}},{"$f":"要求内訳データ!E279","v":{"$error":"#REF!"}}]
[{"$error":"#REF!"},{"$f":"#REF!","v":{"$error":"#REF!"}},{"$f":"要求内訳データ!A280","v":{"$error":"#REF!"}},{"$f":"要求内訳データ!B280","v":{"$error":"#REF!"}},{"$f":"要求内訳データ!C280","v":{"$error":"#REF!"}},{"$f":"要求内訳データ!D280","v":{"$error":"#REF!"}},{"$f":"要求内訳データ!E280","v":{"$error":"#REF!"}}]
[{"$error":"#REF!"},{"$f":"#REF!","v":{"$error":"#REF!"}},{"$f":"要求内訳データ!A281","v":{"$error":"#REF!"}},{"$f":"要求内訳データ!B281","v":{"$error":"#REF!"}},{"$f":"要求内訳データ!C281","v":{"$error":"#REF!"}},{"$f":"要求内訳データ!D281","v":{"$error":"#REF!"}},{"$f":"要求内訳データ!E281","v":{"$error":"#REF!"}}]
[{"$error":"#REF!"},{"$f":"#REF!","v":{"$error":"#REF!"}},{"$f":"要求内訳データ!A282","v":{"$error":"#REF!"}},{"$f":"要求内訳データ!B282","v":{"$error":"#REF!"}},{"$f":"要求内訳データ!C282","v":{"$error":"#REF!"}},{"$f":"要求内訳データ!D282","v":{"$error":"#REF!"}},{"$f":"要求内訳データ!E282","v":{"$error":"#REF!"}}]
[{"$error":"#REF!"},{"$f":"#REF!","v":{"$error":"#REF!"}},{"$f":"要求内訳データ!A283","v":{"$error":"#REF!"}},{"$f":"要求内訳データ!B283","v":{"$error":"#REF!"}},{"$f":"要求内訳データ!C283","v":{"$error":"#REF!"}},{"$f":"要求内訳データ!D283","v":{"$error":"#REF!"}},{"$f":"要求内訳データ!E283","v":{"$error":"#REF!"}}]
[{"$error":"#REF!"},{"$f":"#REF!","v":{"$error":"#REF!"}},{"$f":"要求内訳データ!A284","v":{"$error":"#REF!"}},{"$f":"要求内訳データ!B284","v":{"$error":"#REF!"}},{"$f":"要求内訳データ!C284","v":{"$error":"#REF!"}},{"$f":"要求内訳データ!D284","v":{"$error":"#REF!"}},{"$f":"要求内訳データ!E284","v":{"$error":"#REF!"}}]
[{"$error":"#REF!"},{"$f":"#REF!","v":{"$error":"#REF!"}},{"$f":"要求内訳データ!A285","v":{"$error":"#REF!"}},{"$f":"要求内訳データ!B285","v":{"$error":"#REF!"}},{"$f":"要求内訳データ!C285","v":{"$error":"#REF!"}},{"$f":"要求内訳データ!D285","v":{"$error":"#REF!"}},{"$f":"要求内訳データ!E285","v":{"$error":"#REF!"}}]
[{"$error":"#REF!"},{"$f":"#REF!","v":{"$error":"#REF!"}},{"$f":"要求内訳データ!A286","v":{"$error":"#REF!"}},{"$f":"要求内訳データ!B286","v":{"$error":"#REF!"}},{"$f":"要求内訳データ!C286","v":{"$error":"#REF!"}},{"$f":"要求内訳データ!D286","v":{"$error":"#REF!"}},{"$f":"要求内訳データ!E286","v":{"$error":"#REF!"}}]
[{"$error":"#REF!"},{"$f":"#REF!","v":{"$error":"#REF!"}},{"$f":"要求内訳データ!A287","v":{"$error":"#REF!"}},{"$f":"要求内訳データ!B287","v":{"$error":"#REF!"}},{"$f":"要求内訳データ!C287","v":{"$error":"#REF!"}},{"$f":"要求内訳データ!D287","v":{"$error":"#REF!"}},{"$f":"要求内訳データ!E287","v":{"$error":"#REF!"}}]
[{"$error":"#REF!"},{"$f":"#REF!","v":{"$error":"#REF!"}},{"$f":"要求内訳データ!A288","v":{"$error":"#REF!"}},{"$f":"要求内訳データ!B288","v":{"$error":"#REF!"}},{"$f":"要求内訳データ!C288","v":{"$error":"#REF!"}},{"$f":"要求内訳データ!D288","v":{"$error":"#REF!"}},{"$f":"要求内訳データ!E288","v":{"$error":"#REF!"}}]
[{"$error":"#REF!"},{"$f":"#REF!","v":{"$error":"#REF!"}},{"$f":"要求内訳データ!A289","v":{"$error":"#REF!"}},{"$f":"要求内訳データ!B289","v":{"$error":"#REF!"}},{"$f":"要求内訳データ!C289","v":{"$error":"#REF!"}},{"$f":"要求内訳データ!D289","v":{"$error":"#REF!"}},{"$f":"要求内訳データ!E289","v":{"$error":"#REF!"}}]
[{"$error":"#REF!"},{"$f":"#REF!","v":{"$error":"#REF!"}},{"$f":"要求内訳データ!A290","v":{"$error":"#REF!"}},{"$f":"要求内訳データ!B290","v":{"$error":"#REF!"}},{"$f":"要求内訳データ!C290","v":{"$error":"#REF!"}},{"$f":"要求内訳データ!D290","v":{"$error":"#REF!"}},{"$f":"要求内訳データ!E290","v":{"$error":"#REF!"}}]
[{"$error":"#REF!"},{"$f":"#REF!","v":{"$error":"#REF!"}},{"$f":"要求内訳データ!A291","v":{"$error":"#REF!"}},{"$f":"要求内訳データ!B291","v":{"$error":"#REF!"}},{"$f":"要求内訳データ!C291","v":{"$error":"#REF!"}},{"$f":"要求内訳データ!D291","v":{"$error":"#REF!"}},{"$f":"要求内訳データ!E291","v":{"$error":"#REF!"}}]
[{"$error":"#REF!"},{"$f":"#REF!","v":{"$error":"#REF!"}},{"$f":"要求内訳データ!A292","v":{"$error":"#REF!"}},{"$f":"要求内訳データ!B292","v":{"$error":"#REF!"}},{"$f":"要求内訳データ!C292","v":{"$error":"#REF!"}},{"$f":"要求内訳データ!D292","v":{"$error":"#REF!"}},{"$f":"要求内訳データ!E292","v":{"$error":"#REF!"}}]
[{"$error":"#REF!"},{"$f":"#REF!","v":{"$error":"#REF!"}},{"$f":"要求内訳データ!A293","v":{"$error":"#REF!"}},{"$f":"要求内訳データ!B293","v":{"$error":"#REF!"}},{"$f":"要求内訳データ!C293","v":{"$error":"#REF!"}},{"$f":"要求内訳データ!D293","v":{"$error":"#REF!"}},{"$f":"要求内訳データ!E293","v":{"$error":"#REF!"}}]
[{"$error":"#REF!"},{"$f":"#REF!","v":{"$error":"#REF!"}},{"$f":"要求内訳データ!A294","v":{"$error":"#REF!"}},{"$f":"要求内訳データ!B294","v":{"$error":"#REF!"}},{"$f":"要求内訳データ!C294","v":{"$error":"#REF!"}},{"$f":"要求内訳データ!D294","v":{"$error":"#REF!"}},{"$f":"要求内訳データ!E294","v":{"$error":"#REF!"}}]
[{"$error":"#REF!"},{"$f":"#REF!","v":{"$error":"#REF!"}},{"$f":"要求内訳データ!A295","v":{"$error":"#REF!"}},{"$f":"要求内訳データ!B295","v":{"$error":"#REF!"}},{"$f":"要求内訳データ!C295","v":{"$error":"#REF!"}},{"$f":"要求内訳データ!D295","v":{"$error":"#REF!"}},{"$f":"要求内訳データ!E295","v":{"$error":"#REF!"}}]
[{"$error":"#REF!"},{"$f":"#REF!","v":{"$error":"#REF!"}},{"$f":"要求内訳データ!A296","v":{"$error":"#REF!"}},{"$f":"要求内訳データ!B296","v":{"$error":"#REF!"}},{"$f":"要求内訳データ!C296","v":{"$error":"#REF!"}},{"$f":"要求内訳データ!D296","v":{"$error":"#REF!"}},{"$f":"要求内訳データ!E296","v":{"$error":"#REF!"}}]
[{"$error":"#REF!"},{"$f":"#REF!","v":{"$error":"#REF!"}},{"$f":"要求内訳データ!A297","v":{"$error":"#REF!"}},{"$f":"要求内訳データ!B297","v":{"$error":"#REF!"}},{"$f":"要求内訳データ!C297","v":{"$error":"#REF!"}},{"$f":"要求内訳データ!D297","v":{"$error":"#REF!"}},{"$f":"要求内訳データ!E297","v":{"$error":"#REF!"}}]
[{"$error":"#REF!"},{"$f":"#REF!","v":{"$error":"#REF!"}},{"$f":"要求内訳データ!A298","v":{"$error":"#REF!"}},{"$f":"要求内訳データ!B298","v":{"$error":"#REF!"}},{"$f":"要求内訳データ!C298","v":{"$error":"#REF!"}},{"$f":"要求内訳データ!D298","v":{"$error":"#REF!"}},{"$f":"要求内訳データ!E298","v":{"$error":"#REF!"}}]
[{"$error":"#REF!"},{"$f":"#REF!","v":{"$error":"#REF!"}},{"$f":"要求内訳データ!A299","v":{"$error":"#REF!"}},{"$f":"要求内訳データ!B299","v":{"$error":"#REF!"}},{"$f":"要求内訳データ!C299","v":{"$error":"#REF!"}},{"$f":"要求内訳データ!D299","v":{"$error":"#REF!"}},{"$f":"要求内訳データ!E299","v":{"$error":"#REF!"}}]
[{"$error":"#REF!"},{"$f":"#REF!","v":{"$error":"#REF!"}},{"$f":"要求内訳データ!A300","v":{"$error":"#REF!"}},{"$f":"要求内訳データ!B300","v":{"$error":"#REF!"}},{"$f":"要求内訳データ!C300","v":{"$error":"#REF!"}},{"$f":"要求内訳データ!D300","v":{"$error":"#REF!"}},{"$f":"要求内訳データ!E300","v":{"$error":"#REF!"}}]
[{"$error":"#REF!"},{"$f":"#REF!","v":{"$error":"#REF!"}},{"$f":"要求内訳データ!A301","v":{"$error":"#REF!"}},{"$f":"要求内訳データ!B301","v":{"$error":"#REF!"}},{"$f":"要求内訳データ!C301","v":{"$error":"#REF!"}},{"$f":"要求内訳データ!D301","v":{"$error":"#REF!"}},{"$f":"要求内訳データ!E301","v":{"$error":"#REF!"}}]
[{"$error":"#REF!"},{"$f":"#REF!","v":{"$error":"#REF!"}},{"$f":"要求内訳データ!A302","v":{"$error":"#REF!"}},{"$f":"要求内訳データ!B302","v":{"$error":"#REF!"}},{"$f":"要求内訳データ!C302","v":{"$error":"#REF!"}},{"$f":"要求内訳データ!D302","v":{"$error":"#REF!"}},{"$f":"要求内訳データ!E302","v":{"$error":"#REF!"}}]
[{"$error":"#REF!"},{"$f":"#REF!","v":{"$error":"#REF!"}},{"$f":"要求内訳データ!A303","v":{"$error":"#REF!"}},{"$f":"要求内訳データ!B303","v":{"$error":"#REF!"}},{"$f":"要求内訳データ!C303","v":{"$error":"#REF!"}},{"$f":"要求内訳データ!D303","v":{"$error":"#REF!"}},{"$f":"要求内訳データ!E303","v":{"$error":"#REF!"}}]
[{"$error":"#REF!"},{"$f":"#REF!","v":{"$error":"#REF!"}},{"$f":"要求内訳データ!A304","v":{"$error":"#REF!"}},{"$f":"要求内訳データ!B304","v":{"$error":"#REF!"}},{"$f":"要求内訳データ!C304","v":{"$error":"#REF!"}},{"$f":"要求内訳データ!D304","v":{"$error":"#REF!"}},{"$f":"要求内訳データ!E304","v":{"$error":"#REF!"}}]
[{"$error":"#REF!"},{"$f":"#REF!","v":{"$error":"#REF!"}},{"$f":"要求内訳データ!A305","v":{"$error":"#REF!"}},{"$f":"要求内訳データ!B305","v":{"$error":"#REF!"}},{"$f":"要求内訳データ!C305","v":{"$error":"#REF!"}},{"$f":"要求内訳データ!D305","v":{"$error":"#REF!"}},{"$f":"要求内訳データ!E305","v":{"$error":"#REF!"}}]
[{"$error":"#REF!"},{"$f":"#REF!","v":{"$error":"#REF!"}},{"$f":"要求内訳データ!A306","v":{"$error":"#REF!"}},{"$f":"要求内訳データ!B306","v":{"$error":"#REF!"}},{"$f":"要求内訳データ!C306","v":{"$error":"#REF!"}},{"$f":"要求内訳データ!D306","v":{"$error":"#REF!"}},{"$f":"要求内訳データ!E306","v":{"$error":"#REF!"}}]
[{"$error":"#REF!"},{"$f":"#REF!","v":{"$error":"#REF!"}},{"$f":"要求内訳データ!A307","v":{"$error":"#REF!"}},{"$f":"要求内訳データ!B307","v":{"$error":"#REF!"}},{"$f":"要求内訳データ!C307","v":{"$error":"#REF!"}},{"$f":"要求内訳データ!D307","v":{"$error":"#REF!"}},{"$f":"要求内訳データ!E307","v":{"$error":"#REF!"}}]
[{"$error":"#REF!"},{"$f":"#REF!","v":{"$error":"#REF!"}},{"$f":"要求内訳データ!A308","v":{"$error":"#REF!"}},{"$f":"要求内訳データ!B308","v":{"$error":"#REF!"}},{"$f":"要求内訳データ!C308","v":{"$error":"#REF!"}},{"$f":"要求内訳データ!D308","v":{"$error":"#REF!"}},{"$f":"要求内訳データ!E308","v":{"$error":"#REF!"}}]
[{"$error":"#REF!"},{"$f":"#REF!","v":{"$error":"#REF!"}},{"$f":"要求内訳データ!A309","v":{"$error":"#REF!"}},{"$f":"要求内訳データ!B309","v":{"$error":"#REF!"}},{"$f":"要求内訳データ!C309","v":{"$error":"#REF!"}},{"$f":"要求内訳データ!D309","v":{"$error":"#REF!"}},{"$f":"要求内訳データ!E309","v":{"$error":"#REF!"}}]
[{"$error":"#REF!"},{"$f":"#REF!","v":{"$error":"#REF!"}},{"$f":"要求内訳データ!A310","v":{"$error":"#REF!"}},{"$f":"要求内訳データ!B310","v":{"$error":"#REF!"}},{"$f":"要求内訳データ!C310","v":{"$error":"#REF!"}},{"$f":"要求内訳データ!D310","v":{"$error":"#REF!"}},{"$f":"要求内訳データ!E310","v":{"$error":"#REF!"}}]
[{"$error":"#REF!"},{"$f":"#REF!","v":{"$error":"#REF!"}},{"$f":"要求内訳データ!A311","v":{"$error":"#REF!"}},{"$f":"要求内訳データ!B311","v":{"$error":"#REF!"}},{"$f":"要求内訳データ!C311","v":{"$error":"#REF!"}},{"$f":"要求内訳データ!D311","v":{"$error":"#REF!"}},{"$f":"要求内訳データ!E311","v":{"$error":"#REF!"}}]
[{"$error":"#REF!"},{"$f":"#REF!","v":{"$error":"#REF!"}},{"$f":"要求内訳データ!A312","v":{"$error":"#REF!"}},{"$f":"要求内訳データ!B312","v":{"$error":"#REF!"}},{"$f":"要求内訳データ!C312","v":{"$error":"#REF!"}},{"$f":"要求内訳データ!D312","v":{"$error":"#REF!"}},{"$f":"要求内訳データ!E312","v":{"$error":"#REF!"}}]
[{"$error":"#REF!"},{"$f":"#REF!","v":{"$error":"#REF!"}},{"$f":"要求内訳データ!A313","v":{"$error":"#REF!"}},{"$f":"要求内訳データ!B313","v":{"$error":"#REF!"}},{"$f":"要求内訳データ!C313","v":{"$error":"#REF!"}},{"$f":"要求内訳データ!D313","v":{"$error":"#REF!"}},{"$f":"要求内訳データ!E313","v":{"$error":"#REF!"}}]
[{"$error":"#REF!"},{"$f":"#REF!","v":{"$error":"#REF!"}},{"$f":"要求内訳データ!A314","v":{"$error":"#REF!"}},{"$f":"要求内訳データ!B314","v":{"$error":"#REF!"}},{"$f":"要求内訳データ!C314","v":{"$error":"#REF!"}},{"$f":"要求内訳データ!D314","v":{"$error":"#REF!"}},{"$f":"要求内訳データ!E314","v":{"$error":"#REF!"}}]
[{"$error":"#REF!"},{"$f":"#REF!","v":{"$error":"#REF!"}},{"$f":"要求内訳データ!A315","v":{"$error":"#REF!"}},{"$f":"要求内訳データ!B315","v":{"$error":"#REF!"}},{"$f":"要求内訳データ!C315","v":{"$error":"#REF!"}},{"$f":"要求内訳データ!D315","v":{"$error":"#REF!"}},{"$f":"要求内訳データ!E315","v":{"$error":"#REF!"}}]
[{"$error":"#REF!"},{"$f":"#REF!","v":{"$error":"#REF!"}},{"$f":"要求内訳データ!A316","v":{"$error":"#REF!"}},{"$f":"要求内訳データ!B316","v":{"$error":"#REF!"}},{"$f":"要求内訳データ!C316","v":{"$error":"#REF!"}},{"$f":"要求内訳データ!D316","v":{"$error":"#REF!"}},{"$f":"要求内訳データ!E316","v":{"$error":"#REF!"}}]
[{"$error":"#REF!"},{"$f":"#REF!","v":{"$error":"#REF!"}},{"$f":"要求内訳データ!A317","v":{"$error":"#REF!"}},{"$f":"要求内訳データ!B317","v":{"$error":"#REF!"}},{"$f":"要求内訳データ!C317","v":{"$error":"#REF!"}},{"$f":"要求内訳データ!D317","v":{"$error":"#REF!"}},{"$f":"要求内訳データ!E317","v":{"$error":"#REF!"}}]
[{"$error":"#REF!"},{"$f":"#REF!","v":{"$error":"#REF!"}},{"$f":"要求内訳データ!A318","v":{"$error":"#REF!"}},{"$f":"要求内訳データ!B318","v":{"$error":"#REF!"}},{"$f":"要求内訳データ!C318","v":{"$error":"#REF!"}},{"$f":"要求内訳データ!D318","v":{"$error":"#REF!"}},{"$f":"要求内訳データ!E318","v":{"$error":"#REF!"}}]
[{"$error":"#REF!"},{"$f":"#REF!","v":{"$error":"#REF!"}},{"$f":"要求内訳データ!A319","v":{"$error":"#REF!"}},{"$f":"要求内訳データ!B319","v":{"$error":"#REF!"}},{"$f":"要求内訳データ!C319","v":{"$error":"#REF!"}},{"$f":"要求内訳データ!D319","v":{"$error":"#REF!"}},{"$f":"要求内訳データ!E319","v":{"$error":"#REF!"}}]
[{"$error":"#REF!"},{"$f":"#REF!","v":{"$error":"#REF!"}},{"$f":"要求内訳データ!A320","v":{"$error":"#REF!"}},{"$f":"要求内訳データ!B320","v":{"$error":"#REF!"}},{"$f":"要求内訳データ!C320","v":{"$error":"#REF!"}},{"$f":"要求内訳データ!D320","v":{"$error":"#REF!"}},{"$f":"要求内訳データ!E320","v":{"$error":"#REF!"}}]
[{"$error":"#REF!"},{"$f":"#REF!","v":{"$error":"#REF!"}},{"$f":"要求内訳データ!A321","v":{"$error":"#REF!"}},{"$f":"要求内訳データ!B321","v":{"$error":"#REF!"}},{"$f":"要求内訳データ!C321","v":{"$error":"#REF!"}},{"$f":"要求内訳データ!D321","v":{"$error":"#REF!"}},{"$f":"要求内訳データ!E321","v":{"$error":"#REF!"}}]
[{"$error":"#REF!"},{"$f":"#REF!","v":{"$error":"#REF!"}},{"$f":"要求内訳データ!A322","v":{"$error":"#REF!"}},{"$f":"要求内訳データ!B322","v":{"$error":"#REF!"}},{"$f":"要求内訳データ!C322","v":{"$error":"#REF!"}},{"$f":"要求内訳データ!D322","v":{"$error":"#REF!"}},{"$f":"要求内訳データ!E322","v":{"$error":"#REF!"}}]
[{"$error":"#REF!"},{"$f":"#REF!","v":{"$error":"#REF!"}},{"$f":"要求内訳データ!A323","v":{"$error":"#REF!"}},{"$f":"要求内訳データ!B323","v":{"$error":"#REF!"}},{"$f":"要求内訳データ!C323","v":{"$error":"#REF!"}},{"$f":"要求内訳データ!D323","v":{"$error":"#REF!"}},{"$f":"要求内訳データ!E323","v":{"$error":"#REF!"}}]
[{"$f":"LEFT(B324,LEN(B324)-4)","v":{"$error":"#REF!"}},{"$f":"#REF!","v":{"$error":"#REF!"}},{"$f":"要求内訳データ!A324","v":{"$error":"#REF!"}},{"$f":"要求内訳データ!B324","v":{"$error":"#REF!"}},{"$f":"要求内訳データ!C324","v":{"$error":"#REF!"}},{"$f":"要求内訳データ!D324","v":{"$error":"#REF!"}},{"$f":"要求内訳データ!E324","v":{"$error":"#REF!"}}]
[{"$error":"#REF!"},{"$f":"#REF!","v":{"$error":"#REF!"}},{"$f":"要求内訳データ!A325","v":{"$error":"#REF!"}},{"$f":"要求内訳データ!B325","v":{"$error":"#REF!"}},{"$f":"要求内訳データ!C325","v":{"$error":"#REF!"}},{"$f":"要求内訳データ!D325","v":{"$error":"#REF!"}},{"$f":"要求内訳データ!E325","v":{"$error":"#REF!"}}]
[{"$error":"#REF!"},{"$f":"#REF!","v":{"$error":"#REF!"}},{"$f":"要求内訳データ!A326","v":{"$error":"#REF!"}},{"$f":"要求内訳データ!B326","v":{"$error":"#REF!"}},{"$f":"要求内訳データ!C326","v":{"$error":"#REF!"}},{"$f":"要求内訳データ!D326","v":{"$error":"#REF!"}},{"$f":"要求内訳データ!E326","v":{"$error":"#REF!"}}]
[{"$error":"#REF!"},{"$f":"#REF!","v":{"$error":"#REF!"}},{"$f":"要求内訳データ!A327","v":{"$error":"#REF!"}},{"$f":"要求内訳データ!B327","v":{"$error":"#REF!"}},{"$f":"要求内訳データ!C327","v":{"$error":"#REF!"}},{"$f":"要求内訳データ!D327","v":{"$error":"#REF!"}},{"$f":"要求内訳データ!E327","v":{"$error":"#REF!"}}]
[{"$error":"#REF!"},{"$f":"#REF!","v":{"$error":"#REF!"}},{"$f":"要求内訳データ!A328","v":{"$error":"#REF!"}},{"$f":"要求内訳データ!B328","v":{"$error":"#REF!"}},{"$f":"要求内訳データ!C328","v":{"$error":"#REF!"}},{"$f":"要求内訳データ!D328","v":{"$error":"#REF!"}},{"$f":"要求内訳データ!E328","v":{"$error":"#REF!"}}]
[{"$error":"#REF!"},{"$f":"#REF!","v":{"$error":"#REF!"}},{"$f":"要求内訳データ!A329","v":{"$error":"#REF!"}},{"$f":"要求内訳データ!B329","v":{"$error":"#REF!"}},{"$f":"要求内訳データ!C329","v":{"$error":"#REF!"}},{"$f":"要求内訳データ!D329","v":{"$error":"#REF!"}},{"$f":"要求内訳データ!E329","v":{"$error":"#REF!"}}]
[{"$error":"#REF!"},{"$f":"#REF!","v":{"$error":"#REF!"}},{"$f":"要求内訳データ!A330","v":{"$error":"#REF!"}},{"$f":"要求内訳データ!B330","v":{"$error":"#REF!"}},{"$f":"要求内訳データ!C330","v":{"$error":"#REF!"}},{"$f":"要求内訳データ!D330","v":{"$error":"#REF!"}},{"$f":"要求内訳データ!E330","v":{"$error":"#REF!"}}]
[{"$error":"#REF!"},{"$f":"#REF!","v":{"$error":"#REF!"}},{"$f":"要求内訳データ!A331","v":{"$error":"#REF!"}},{"$f":"要求内訳データ!B331","v":{"$error":"#REF!"}},{"$f":"要求内訳データ!C331","v":{"$error":"#REF!"}},{"$f":"要求内訳データ!D331","v":{"$error":"#REF!"}},{"$f":"要求内訳データ!E331","v":{"$error":"#REF!"}}]
[{"$error":"#REF!"},{"$f":"#REF!","v":{"$error":"#REF!"}},{"$f":"要求内訳データ!A332","v":{"$error":"#REF!"}},{"$f":"要求内訳データ!B332","v":{"$error":"#REF!"}},{"$f":"要求内訳データ!C332","v":{"$error":"#REF!"}},{"$f":"要求内訳データ!D332","v":{"$error":"#REF!"}},{"$f":"要求内訳データ!E332","v":{"$error":"#REF!"}}]
[{"$error":"#REF!"},{"$f":"#REF!","v":{"$error":"#REF!"}},{"$f":"要求内訳データ!A333","v":{"$error":"#REF!"}},{"$f":"要求内訳データ!B333","v":{"$error":"#REF!"}},{"$f":"要求内訳データ!C333","v":{"$error":"#REF!"}},{"$f":"要求内訳データ!D333","v":{"$error":"#REF!"}},{"$f":"要求内訳データ!E333","v":{"$error":"#REF!"}}]
[{"$error":"#REF!"},{"$f":"#REF!","v":{"$error":"#REF!"}},{"$f":"要求内訳データ!A334","v":{"$error":"#REF!"}},{"$f":"要求内訳データ!B334","v":{"$error":"#REF!"}},{"$f":"要求内訳データ!C334","v":{"$error":"#REF!"}},{"$f":"要求内訳データ!D334","v":{"$error":"#REF!"}},{"$f":"要求内訳データ!E334","v":{"$error":"#REF!"}}]
[{"$error":"#REF!"},{"$f":"#REF!","v":{"$error":"#REF!"}},{"$f":"要求内訳データ!A335","v":{"$error":"#REF!"}},{"$f":"要求内訳データ!B335","v":{"$error":"#REF!"}},{"$f":"要求内訳データ!C335","v":{"$error":"#REF!"}},{"$f":"要求内訳データ!D335","v":{"$error":"#REF!"}},{"$f":"要求内訳データ!E335","v":{"$error":"#REF!"}}]
[{"$error":"#REF!"},{"$f":"#REF!","v":{"$error":"#REF!"}},{"$f":"要求内訳データ!A336","v":{"$error":"#REF!"}},{"$f":"要求内訳データ!B336","v":{"$error":"#REF!"}},{"$f":"要求内訳データ!C336","v":{"$error":"#REF!"}},{"$f":"要求内訳データ!D336","v":{"$error":"#REF!"}},{"$f":"要求内訳データ!E336","v":{"$error":"#REF!"}}]
[{"$error":"#REF!"},{"$f":"#REF!","v":{"$error":"#REF!"}},{"$f":"要求内訳データ!A337","v":{"$error":"#REF!"}},{"$f":"要求内訳データ!B337","v":{"$error":"#REF!"}},{"$f":"要求内訳データ!C337","v":{"$error":"#REF!"}},{"$f":"要求内訳データ!D337","v":{"$error":"#REF!"}},{"$f":"要求内訳データ!E337","v":{"$error":"#REF!"}}]
[{"$error":"#REF!"},{"$f":"#REF!","v":{"$error":"#REF!"}},{"$f":"要求内訳データ!A338","v":{"$error":"#REF!"}},{"$f":"要求内訳データ!B338","v":{"$error":"#REF!"}},{"$f":"要求内訳データ!C338","v":{"$error":"#REF!"}},{"$f":"要求内訳データ!D338","v":{"$error":"#REF!"}},{"$f":"要求内訳データ!E338","v":{"$error":"#REF!"}}]
[{"$error":"#REF!"},{"$f":"#REF!","v":{"$error":"#REF!"}},{"$f":"要求内訳データ!A339","v":{"$error":"#REF!"}},{"$f":"要求内訳データ!B339","v":{"$error":"#REF!"}},{"$f":"要求内訳データ!C339","v":{"$error":"#REF!"}},{"$f":"要求内訳データ!D339","v":{"$error":"#REF!"}},{"$f":"要求内訳データ!E339","v":{"$error":"#REF!"}}]
[{"$error":"#REF!"},{"$f":"#REF!","v":{"$error":"#REF!"}},{"$f":"要求内訳データ!A340","v":{"$error":"#REF!"}},{"$f":"要求内訳データ!B340","v":{"$error":"#REF!"}},{"$f":"要求内訳データ!C340","v":{"$error":"#REF!"}},{"$f":"要求内訳データ!D340","v":{"$error":"#REF!"}},{"$f":"要求内訳データ!E340","v":{"$error":"#REF!"}}]
[{"$error":"#REF!"},{"$f":"#REF!","v":{"$error":"#REF!"}},{"$f":"要求内訳データ!A341","v":{"$error":"#REF!"}},{"$f":"要求内訳データ!B341","v":{"$error":"#REF!"}},{"$f":"要求内訳データ!C341","v":{"$error":"#REF!"}},{"$f":"要求内訳データ!D341","v":{"$error":"#REF!"}},{"$f":"要求内訳データ!E341","v":{"$error":"#REF!"}}]
[{"$error":"#REF!"},{"$f":"#REF!","v":{"$error":"#REF!"}},{"$f":"要求内訳データ!A342","v":{"$error":"#REF!"}},{"$f":"要求内訳データ!B342","v":{"$error":"#REF!"}},{"$f":"要求内訳データ!C342","v":{"$error":"#REF!"}},{"$f":"要求内訳データ!D342","v":{"$error":"#REF!"}},{"$f":"要求内訳データ!E342","v":{"$error":"#REF!"}}]
[{"$error":"#REF!"},{"$f":"#REF!","v":{"$error":"#REF!"}},{"$f":"要求内訳データ!A343","v":{"$error":"#REF!"}},{"$f":"要求内訳データ!B343","v":{"$error":"#REF!"}},{"$f":"要求内訳データ!C343","v":{"$error":"#REF!"}},{"$f":"要求内訳データ!D343","v":{"$error":"#REF!"}},{"$f":"要求内訳データ!E343","v":{"$error":"#REF!"}}]
[{"$error":"#REF!"},{"$f":"#REF!","v":{"$error":"#REF!"}},{"$f":"要求内訳データ!A344","v":{"$error":"#REF!"}},{"$f":"要求内訳データ!B344","v":{"$error":"#REF!"}},{"$f":"要求内訳データ!C344","v":{"$error":"#REF!"}},{"$f":"要求内訳データ!D344","v":{"$error":"#REF!"}},{"$f":"要求内訳データ!E344","v":{"$error":"#REF!"}}]
[{"$error":"#REF!"},{"$f":"#REF!","v":{"$error":"#REF!"}},{"$f":"要求内訳データ!A345","v":{"$error":"#REF!"}},{"$f":"要求内訳データ!B345","v":{"$error":"#REF!"}},{"$f":"要求内訳データ!C345","v":{"$error":"#REF!"}},{"$f":"要求内訳データ!D345","v":{"$error":"#REF!"}},{"$f":"要求内訳データ!E345","v":{"$error":"#REF!"}}]
[{"$error":"#REF!"},{"$f":"#REF!","v":{"$error":"#REF!"}},{"$f":"要求内訳データ!A346","v":{"$error":"#REF!"}},{"$f":"要求内訳データ!B346","v":{"$error":"#REF!"}},{"$f":"要求内訳データ!C346","v":{"$error":"#REF!"}},{"$f":"要求内訳データ!D346","v":{"$error":"#REF!"}},{"$f":"要求内訳データ!E346","v":{"$error":"#REF!"}}]
[{"$error":"#REF!"},{"$f":"#REF!","v":{"$error":"#REF!"}},{"$f":"要求内訳データ!A347","v":{"$error":"#REF!"}},{"$f":"要求内訳データ!B347","v":{"$error":"#REF!"}},{"$f":"要求内訳データ!C347","v":{"$error":"#REF!"}},{"$f":"要求内訳データ!D347","v":{"$error":"#REF!"}},{"$f":"要求内訳データ!E347","v":{"$error":"#REF!"}}]
[{"$error":"#REF!"},{"$f":"#REF!","v":{"$error":"#REF!"}},{"$f":"要求内訳データ!A348","v":{"$error":"#REF!"}},{"$f":"要求内訳データ!B348","v":{"$error":"#REF!"}},{"$f":"要求内訳データ!C348","v":{"$error":"#REF!"}},{"$f":"要求内訳データ!D348","v":{"$error":"#REF!"}},{"$f":"要求内訳データ!E348","v":{"$error":"#REF!"}}]
[{"$error":"#REF!"},{"$f":"#REF!","v":{"$error":"#REF!"}},{"$f":"要求内訳データ!A349","v":{"$error":"#REF!"}},{"$f":"要求内訳データ!B349","v":{"$error":"#REF!"}},{"$f":"要求内訳データ!C349","v":{"$error":"#REF!"}},{"$f":"要求内訳データ!D349","v":{"$error":"#REF!"}},{"$f":"要求内訳データ!E349","v":{"$error":"#REF!"}}]
[{"$error":"#REF!"},{"$f":"#REF!","v":{"$error":"#REF!"}},{"$f":"要求内訳データ!A350","v":{"$error":"#REF!"}},{"$f":"要求内訳データ!B350","v":{"$error":"#REF!"}},{"$f":"要求内訳データ!C350","v":{"$error":"#REF!"}},{"$f":"要求内訳データ!D350","v":{"$error":"#REF!"}},{"$f":"要求内訳データ!E350","v":{"$error":"#REF!"}}]
[{"$error":"#REF!"},{"$f":"#REF!","v":{"$error":"#REF!"}},{"$f":"要求内訳データ!A351","v":{"$error":"#REF!"}},{"$f":"要求内訳データ!B351","v":{"$error":"#REF!"}},{"$f":"要求内訳データ!C351","v":{"$error":"#REF!"}},{"$f":"要求内訳データ!D351","v":{"$error":"#REF!"}},{"$f":"要求内訳データ!E351","v":{"$error":"#REF!"}}]
[{"$error":"#REF!"},{"$f":"#REF!","v":{"$error":"#REF!"}},{"$f":"要求内訳データ!A352","v":{"$error":"#REF!"}},{"$f":"要求内訳データ!B352","v":{"$error":"#REF!"}},{"$f":"要求内訳データ!C352","v":{"$error":"#REF!"}},{"$f":"要求内訳データ!D352","v":{"$error":"#REF!"}},{"$f":"要求内訳データ!E352","v":{"$error":"#REF!"}}]
[{"$error":"#REF!"},{"$f":"#REF!","v":{"$error":"#REF!"}},{"$f":"要求内訳データ!A353","v":{"$error":"#REF!"}},{"$f":"要求内訳データ!B353","v":{"$error":"#REF!"}},{"$f":"要求内訳データ!C353","v":{"$error":"#REF!"}},{"$f":"要求内訳データ!D353","v":{"$error":"#REF!"}},{"$f":"要求内訳データ!E353","v":{"$error":"#REF!"}}]
[{"$error":"#REF!"},{"$f":"#REF!","v":{"$error":"#REF!"}},{"$f":"要求内訳データ!A354","v":{"$error":"#REF!"}},{"$f":"要求内訳データ!B354","v":{"$error":"#REF!"}},{"$f":"要求内訳データ!C354","v":{"$error":"#REF!"}},{"$f":"要求内訳データ!D354","v":{"$error":"#REF!"}},{"$f":"要求内訳データ!E354","v":{"$error":"#REF!"}}]
[{"$error":"#REF!"},{"$f":"#REF!","v":{"$error":"#REF!"}},{"$f":"要求内訳データ!A355","v":{"$error":"#REF!"}},{"$f":"要求内訳データ!B355","v":{"$error":"#REF!"}},{"$f":"要求内訳データ!C355","v":{"$error":"#REF!"}},{"$f":"要求内訳データ!D355","v":{"$error":"#REF!"}},{"$f":"要求内訳データ!E355","v":{"$error":"#REF!"}}]
[{"$error":"#REF!"},{"$f":"#REF!","v":{"$error":"#REF!"}},{"$f":"要求内訳データ!A356","v":{"$error":"#REF!"}},{"$f":"要求内訳データ!B356","v":{"$error":"#REF!"}},{"$f":"要求内訳データ!C356","v":{"$error":"#REF!"}},{"$f":"要求内訳データ!D356","v":{"$error":"#REF!"}},{"$f":"要求内訳データ!E356","v":{"$error":"#REF!"}}]
[{"$error":"#REF!"},{"$f":"#REF!","v":{"$error":"#REF!"}},{"$f":"要求内訳データ!A357","v":{"$error":"#REF!"}},{"$f":"要求内訳データ!B357","v":{"$error":"#REF!"}},{"$f":"要求内訳データ!C357","v":{"$error":"#REF!"}},{"$f":"要求内訳データ!D357","v":{"$error":"#REF!"}},{"$f":"要求内訳データ!E357","v":{"$error":"#REF!"}}]
[{"$error":"#REF!"},{"$f":"#REF!","v":{"$error":"#REF!"}},{"$f":"要求内訳データ!A358","v":{"$error":"#REF!"}},{"$f":"要求内訳データ!B358","v":{"$error":"#REF!"}},{"$f":"要求内訳データ!C358","v":{"$error":"#REF!"}},{"$f":"要求内訳データ!D358","v":{"$error":"#REF!"}},{"$f":"要求内訳データ!E358","v":{"$error":"#REF!"}}]
[{"$error":"#REF!"},{"$f":"#REF!","v":{"$error":"#REF!"}},{"$f":"要求内訳データ!A359","v":{"$error":"#REF!"}},{"$f":"要求内訳データ!B359","v":{"$error":"#REF!"}},{"$f":"要求内訳データ!C359","v":{"$error":"#REF!"}},{"$f":"要求内訳データ!D359","v":{"$error":"#REF!"}},{"$f":"要求内訳データ!E359","v":{"$error":"#REF!"}}]
[{"$error":"#REF!"},{"$f":"#REF!","v":{"$error":"#REF!"}},{"$f":"要求内訳データ!A360","v":{"$error":"#REF!"}},{"$f":"要求内訳データ!B360","v":{"$error":"#REF!"}},{"$f":"要求内訳データ!C360","v":{"$error":"#REF!"}},{"$f":"要求内訳データ!D360","v":{"$error":"#REF!"}},{"$f":"要求内訳データ!E360","v":{"$error":"#REF!"}}]
[{"$error":"#REF!"},{"$f":"#REF!","v":{"$error":"#REF!"}},{"$f":"要求内訳データ!A361","v":{"$error":"#REF!"}},{"$f":"要求内訳データ!B361","v":{"$error":"#REF!"}},{"$f":"要求内訳データ!C361","v":{"$error":"#REF!"}},{"$f":"要求内訳データ!D361","v":{"$error":"#REF!"}},{"$f":"要求内訳データ!E361","v":{"$error":"#REF!"}}]
[{"$error":"#REF!"},{"$f":"#REF!","v":{"$error":"#REF!"}},{"$f":"要求内訳データ!A362","v":{"$error":"#REF!"}},{"$f":"要求内訳データ!B362","v":{"$error":"#REF!"}},{"$f":"要求内訳データ!C362","v":{"$error":"#REF!"}},{"$f":"要求内訳データ!D362","v":{"$error":"#REF!"}},{"$f":"要求内訳データ!E362","v":{"$error":"#REF!"}}]
[{"$error":"#REF!"},{"$f":"#REF!","v":{"$error":"#REF!"}},{"$f":"要求内訳データ!A363","v":{"$error":"#REF!"}},{"$f":"要求内訳データ!B363","v":{"$error":"#REF!"}},{"$f":"要求内訳データ!C363","v":{"$error":"#REF!"}},{"$f":"要求内訳データ!D363","v":{"$error":"#REF!"}},{"$f":"要求内訳データ!E363","v":{"$error":"#REF!"}}]
[{"$error":"#REF!"},{"$f":"#REF!","v":{"$error":"#REF!"}},{"$f":"要求内訳データ!A364","v":{"$error":"#REF!"}},{"$f":"要求内訳データ!B364","v":{"$error":"#REF!"}},{"$f":"要求内訳データ!C364","v":{"$error":"#REF!"}},{"$f":"要求内訳データ!D364","v":{"$error":"#REF!"}},{"$f":"要求内訳データ!E364","v":{"$error":"#REF!"}}]
[{"$error":"#REF!"},{"$f":"#REF!","v":{"$error":"#REF!"}},{"$f":"要求内訳データ!A365","v":{"$error":"#REF!"}},{"$f":"要求内訳データ!B365","v":{"$error":"#REF!"}},{"$f":"要求内訳データ!C365","v":{"$error":"#REF!"}},{"$f":"要求内訳データ!D365","v":{"$error":"#REF!"}},{"$f":"要求内訳データ!E365","v":{"$error":"#REF!"}}]
[{"$error":"#REF!"},{"$f":"#REF!","v":{"$error":"#REF!"}},{"$f":"要求内訳データ!A366","v":{"$error":"#REF!"}},{"$f":"要求内訳データ!B366","v":{"$error":"#REF!"}},{"$f":"要求内訳データ!C366","v":{"$error":"#REF!"}},{"$f":"要求内訳データ!D366","v":{"$error":"#REF!"}},{"$f":"要求内訳データ!E366","v":{"$error":"#REF!"}}]
[{"$error":"#REF!"},{"$f":"#REF!","v":{"$error":"#REF!"}},{"$f":"要求内訳データ!A367","v":{"$error":"#REF!"}},{"$f":"要求内訳データ!B367","v":{"$error":"#REF!"}},{"$f":"要求内訳データ!C367","v":{"$error":"#REF!"}},{"$f":"要求内訳データ!D367","v":{"$error":"#REF!"}},{"$f":"要求内訳データ!E367","v":{"$error":"#REF!"}}]
[{"$error":"#REF!"},{"$f":"#REF!","v":{"$error":"#REF!"}},{"$f":"要求内訳データ!A368","v":{"$error":"#REF!"}},{"$f":"要求内訳データ!B368","v":{"$error":"#REF!"}},{"$f":"要求内訳データ!C368","v":{"$error":"#REF!"}},{"$f":"要求内訳データ!D368","v":{"$error":"#REF!"}},{"$f":"要求内訳データ!E368","v":{"$error":"#REF!"}}]
[{"$error":"#REF!"},{"$f":"#REF!","v":{"$error":"#REF!"}},{"$f":"要求内訳データ!A369","v":{"$error":"#REF!"}},{"$f":"要求内訳データ!B369","v":{"$error":"#REF!"}},{"$f":"要求内訳データ!C369","v":{"$error":"#REF!"}},{"$f":"要求内訳データ!D369","v":{"$error":"#REF!"}},{"$f":"要求内訳データ!E369","v":{"$error":"#REF!"}}]
[{"$error":"#REF!"},{"$f":"#REF!","v":{"$error":"#REF!"}},{"$f":"要求内訳データ!A370","v":{"$error":"#REF!"}},{"$f":"要求内訳データ!B370","v":{"$error":"#REF!"}},{"$f":"要求内訳データ!C370","v":{"$error":"#REF!"}},{"$f":"要求内訳データ!D370","v":{"$error":"#REF!"}},{"$f":"要求内訳データ!E370","v":{"$error":"#REF!"}}]
[{"$error":"#REF!"},{"$f":"#REF!","v":{"$error":"#REF!"}},{"$f":"要求内訳データ!A371","v":{"$error":"#REF!"}},{"$f":"要求内訳データ!B371","v":{"$error":"#REF!"}},{"$f":"要求内訳データ!C371","v":{"$error":"#REF!"}},{"$f":"要求内訳データ!D371","v":{"$error":"#REF!"}},{"$f":"要求内訳データ!E371","v":{"$error":"#REF!"}}]
[{"$error":"#REF!"},{"$f":"#REF!","v":{"$error":"#REF!"}},{"$f":"要求内訳データ!A372","v":{"$error":"#REF!"}},{"$f":"要求内訳データ!B372","v":{"$error":"#REF!"}},{"$f":"要求内訳データ!C372","v":{"$error":"#REF!"}},{"$f":"要求内訳データ!D372","v":{"$error":"#REF!"}},{"$f":"要求内訳データ!E372","v":{"$error":"#REF!"}}]
[{"$error":"#REF!"},{"$f":"#REF!","v":{"$error":"#REF!"}},{"$f":"要求内訳データ!A373","v":{"$error":"#REF!"}},{"$f":"要求内訳データ!B373","v":{"$error":"#REF!"}},{"$f":"要求内訳データ!C373","v":{"$error":"#REF!"}},{"$f":"要求内訳データ!D373","v":{"$error":"#REF!"}},{"$f":"要求内訳データ!E373","v":{"$error":"#REF!"}}]
[{"$error":"#REF!"},{"$f":"#REF!","v":{"$error":"#REF!"}},{"$f":"要求内訳データ!A374","v":{"$error":"#REF!"}},{"$f":"要求内訳データ!B374","v":{"$error":"#REF!"}},{"$f":"要求内訳データ!C374","v":{"$error":"#REF!"}},{"$f":"要求内訳データ!D374","v":{"$error":"#REF!"}},{"$f":"要求内訳データ!E374","v":{"$error":"#REF!"}}]
[{"$error":"#REF!"},{"$f":"#REF!","v":{"$error":"#REF!"}},{"$f":"要求内訳データ!A375","v":{"$error":"#REF!"}},{"$f":"要求内訳データ!B375","v":{"$error":"#REF!"}},{"$f":"要求内訳データ!C375","v":{"$error":"#REF!"}},{"$f":"要求内訳データ!D375","v":{"$error":"#REF!"}},{"$f":"要求内訳データ!E375","v":{"$error":"#REF!"}}]
[{"$error":"#REF!"},{"$f":"#REF!","v":{"$error":"#REF!"}},{"$f":"要求内訳データ!A376","v":{"$error":"#REF!"}},{"$f":"要求内訳データ!B376","v":{"$error":"#REF!"}},{"$f":"要求内訳データ!C376","v":{"$error":"#REF!"}},{"$f":"要求内訳データ!D376","v":{"$error":"#REF!"}},{"$f":"要求内訳データ!E376","v":{"$error":"#REF!"}}]
[{"$error":"#REF!"},{"$f":"#REF!","v":{"$error":"#REF!"}},{"$f":"要求内訳データ!A377","v":{"$error":"#REF!"}},{"$f":"要求内訳データ!B377","v":{"$error":"#REF!"}},{"$f":"要求内訳データ!C377","v":{"$error":"#REF!"}},{"$f":"要求内訳データ!D377","v":{"$error":"#REF!"}},{"$f":"要求内訳データ!E377","v":{"$error":"#REF!"}}]
[{"$error":"#REF!"},{"$f":"#REF!","v":{"$error":"#REF!"}},{"$f":"要求内訳データ!A378","v":{"$error":"#REF!"}},{"$f":"要求内訳データ!B378","v":{"$error":"#REF!"}},{"$f":"要求内訳データ!C378","v":{"$error":"#REF!"}},{"$f":"要求内訳データ!D378","v":{"$error":"#REF!"}},{"$f":"要求内訳データ!E378","v":{"$error":"#REF!"}}]
[{"$error":"#REF!"},{"$f":"#REF!","v":{"$error":"#REF!"}},{"$f":"要求内訳データ!A379","v":{"$error":"#REF!"}},{"$f":"要求内訳データ!B379","v":{"$error":"#REF!"}},{"$f":"要求内訳データ!C379","v":{"$error":"#REF!"}},{"$f":"要求内訳データ!D379","v":{"$error":"#REF!"}},{"$f":"要求内訳データ!E379","v":{"$error":"#REF!"}}]
[{"$error":"#REF!"},{"$f":"#REF!","v":{"$error":"#REF!"}},{"$f":"要求内訳データ!A380","v":{"$error":"#REF!"}},{"$f":"要求内訳データ!B380","v":{"$error":"#REF!"}},{"$f":"要求内訳データ!C380","v":{"$error":"#REF!"}},{"$f":"要求内訳データ!D380","v":{"$error":"#REF!"}},{"$f":"要求内訳データ!E380","v":{"$error":"#REF!"}}]
[{"$error":"#REF!"},{"$f":"#REF!","v":{"$error":"#REF!"}},{"$f":"要求内訳データ!A381","v":{"$error":"#REF!"}},{"$f":"要求内訳データ!B381","v":{"$error":"#REF!"}},{"$f":"要求内訳データ!C381","v":{"$error":"#REF!"}},{"$f":"要求内訳データ!D381","v":{"$error":"#REF!"}},{"$f":"要求内訳データ!E381","v":{"$error":"#REF!"}}]
[{"$error":"#REF!"},{"$f":"#REF!","v":{"$error":"#REF!"}},{"$f":"要求内訳データ!A382","v":{"$error":"#REF!"}},{"$f":"要求内訳データ!B382","v":{"$error":"#REF!"}},{"$f":"要求内訳データ!C382","v":{"$error":"#REF!"}},{"$f":"要求内訳データ!D382","v":{"$error":"#REF!"}},{"$f":"要求内訳データ!E382","v":{"$error":"#REF!"}}]
[{"$error":"#REF!"},{"$f":"#REF!","v":{"$error":"#REF!"}},{"$f":"要求内訳データ!A383","v":{"$error":"#REF!"}},{"$f":"要求内訳データ!B383","v":{"$error":"#REF!"}},{"$f":"要求内訳データ!C383","v":{"$error":"#REF!"}},{"$f":"要求内訳データ!D383","v":{"$error":"#REF!"}},{"$f":"要求内訳データ!E383","v":{"$error":"#REF!"}}]
[{"$error":"#REF!"},{"$f":"#REF!","v":{"$error":"#REF!"}},{"$f":"要求内訳データ!A384","v":{"$error":"#REF!"}},{"$f":"要求内訳データ!B384","v":{"$error":"#REF!"}},{"$f":"要求内訳データ!C384","v":{"$error":"#REF!"}},{"$f":"要求内訳データ!D384","v":{"$error":"#REF!"}},{"$f":"要求内訳データ!E384","v":{"$error":"#REF!"}}]
[{"$error":"#REF!"},{"$f":"#REF!","v":{"$error":"#REF!"}},{"$f":"要求内訳データ!A385","v":{"$error":"#REF!"}},{"$f":"要求内訳データ!B385","v":{"$error":"#REF!"}},{"$f":"要求内訳データ!C385","v":{"$error":"#REF!"}},{"$f":"要求内訳データ!D385","v":{"$error":"#REF!"}},{"$f":"要求内訳データ!E385","v":{"$error":"#REF!"}}]
[{"$error":"#REF!"},{"$f":"#REF!","v":{"$error":"#REF!"}},{"$f":"要求内訳データ!A386","v":{"$error":"#REF!"}},{"$f":"要求内訳データ!B386","v":{"$error":"#REF!"}},{"$f":"要求内訳データ!C386","v":{"$error":"#REF!"}},{"$f":"要求内訳データ!D386","v":{"$error":"#REF!"}},{"$f":"要求内訳データ!E386","v":{"$error":"#REF!"}}]
[{"$error":"#REF!"},{"$f":"#REF!","v":{"$error":"#REF!"}},{"$f":"要求内訳データ!A387","v":{"$error":"#REF!"}},{"$f":"要求内訳データ!B387","v":{"$error":"#REF!"}},{"$f":"要求内訳データ!C387","v":{"$error":"#REF!"}},{"$f":"要求内訳データ!D387","v":{"$error":"#REF!"}},{"$f":"要求内訳データ!E387","v":{"$error":"#REF!"}}]
[{"$f":"LEFT(B388,LEN(B388)-4)","v":{"$error":"#REF!"}},{"$f":"#REF!","v":{"$error":"#REF!"}},{"$f":"要求内訳データ!A388","v":{"$error":"#REF!"}},{"$f":"要求内訳データ!B388","v":{"$error":"#REF!"}},{"$f":"要求内訳データ!C388","v":{"$error":"#REF!"}},{"$f":"要求内訳データ!D388","v":{"$error":"#REF!"}},{"$f":"要求内訳データ!E388","v":{"$error":"#REF!"}}]
[{"$error":"#REF!"},{"$f":"#REF!","v":{"$error":"#REF!"}},{"$f":"要求内訳データ!A389","v":{"$error":"#REF!"}},{"$f":"要求内訳データ!B389","v":{"$error":"#REF!"}},{"$f":"要求内訳データ!C389","v":{"$error":"#REF!"}},{"$f":"要求内訳データ!D389","v":{"$error":"#REF!"}},{"$f":"要求内訳データ!E389","v":{"$error":"#REF!"}}]
[{"$error":"#REF!"},{"$f":"#REF!","v":{"$error":"#REF!"}},{"$f":"要求内訳データ!A390","v":{"$error":"#REF!"}},{"$f":"要求内訳データ!B390","v":{"$error":"#REF!"}},{"$f":"要求内訳データ!C390","v":{"$error":"#REF!"}},{"$f":"要求内訳データ!D390","v":{"$error":"#REF!"}},{"$f":"要求内訳データ!E390","v":{"$error":"#REF!"}}]
[{"$error":"#REF!"},{"$f":"#REF!","v":{"$error":"#REF!"}},{"$f":"要求内訳データ!A391","v":{"$error":"#REF!"}},{"$f":"要求内訳データ!B391","v":{"$error":"#REF!"}},{"$f":"要求内訳データ!C391","v":{"$error":"#REF!"}},{"$f":"要求内訳データ!D391","v":{"$error":"#REF!"}},{"$f":"要求内訳データ!E391","v":{"$error":"#REF!"}}]
[{"$error":"#REF!"},{"$f":"#REF!","v":{"$error":"#REF!"}},{"$f":"要求内訳データ!A392","v":{"$error":"#REF!"}},{"$f":"要求内訳データ!B392","v":{"$error":"#REF!"}},{"$f":"要求内訳データ!C392","v":{"$error":"#REF!"}},{"$f":"要求内訳データ!D392","v":{"$error":"#REF!"}},{"$f":"要求内訳データ!E392","v":{"$error":"#REF!"}}]
[{"$error":"#REF!"},{"$f":"#REF!","v":{"$error":"#REF!"}},{"$f":"要求内訳データ!A393","v":{"$error":"#REF!"}},{"$f":"要求内訳データ!B393","v":{"$error":"#REF!"}},{"$f":"要求内訳データ!C393","v":{"$error":"#REF!"}},{"$f":"要求内訳データ!D393","v":{"$error":"#REF!"}},{"$f":"要求内訳データ!E393","v":{"$error":"#REF!"}}]
[{"$error":"#REF!"},{"$f":"#REF!","v":{"$error":"#REF!"}},{"$f":"要求内訳データ!A394","v":{"$error":"#REF!"}},{"$f":"要求内訳データ!B394","v":{"$error":"#REF!"}},{"$f":"要求内訳データ!C394","v":{"$error":"#REF!"}},{"$f":"要求内訳データ!D394","v":{"$error":"#REF!"}},{"$f":"要求内訳データ!E394","v":{"$error":"#REF!"}}]
[{"$error":"#REF!"},{"$f":"#REF!","v":{"$error":"#REF!"}},{"$f":"要求内訳データ!A395","v":{"$error":"#REF!"}},{"$f":"要求内訳データ!B395","v":{"$error":"#REF!"}},{"$f":"要求内訳データ!C395","v":{"$error":"#REF!"}},{"$f":"要求内訳データ!D395","v":{"$error":"#REF!"}},{"$f":"要求内訳データ!E395","v":{"$error":"#REF!"}}]
[{"$error":"#REF!"},{"$f":"#REF!","v":{"$error":"#REF!"}},{"$f":"要求内訳データ!A396","v":{"$error":"#REF!"}},{"$f":"要求内訳データ!B396","v":{"$error":"#REF!"}},{"$f":"要求内訳データ!C396","v":{"$error":"#REF!"}},{"$f":"要求内訳データ!D396","v":{"$error":"#REF!"}},{"$f":"要求内訳データ!E396","v":{"$error":"#REF!"}}]
[{"$error":"#REF!"},{"$f":"#REF!","v":{"$error":"#REF!"}},{"$f":"要求内訳データ!A397","v":{"$error":"#REF!"}},{"$f":"要求内訳データ!B397","v":{"$error":"#REF!"}},{"$f":"要求内訳データ!C397","v":{"$error":"#REF!"}},{"$f":"要求内訳データ!D397","v":{"$error":"#REF!"}},{"$f":"要求内訳データ!E397","v":{"$error":"#REF!"}}]
[{"$error":"#REF!"},{"$f":"#REF!","v":{"$error":"#REF!"}},{"$f":"要求内訳データ!A398","v":{"$error":"#REF!"}},{"$f":"要求内訳データ!B398","v":{"$error":"#REF!"}},{"$f":"要求内訳データ!C398","v":{"$error":"#REF!"}},{"$f":"要求内訳データ!D398","v":{"$error":"#REF!"}},{"$f":"要求内訳データ!E398","v":{"$error":"#REF!"}}]
[{"$error":"#REF!"},{"$f":"#REF!","v":{"$error":"#REF!"}},{"$f":"要求内訳データ!A399","v":{"$error":"#REF!"}},{"$f":"要求内訳データ!B399","v":{"$error":"#REF!"}},{"$f":"要求内訳データ!C399","v":{"$error":"#REF!"}},{"$f":"要求内訳データ!D399","v":{"$error":"#REF!"}},{"$f":"要求内訳データ!E399","v":{"$error":"#REF!"}}]
[{"$error":"#REF!"},{"$f":"#REF!","v":{"$error":"#REF!"}},{"$f":"要求内訳データ!A400","v":{"$error":"#REF!"}},{"$f":"要求内訳データ!B400","v":{"$error":"#REF!"}},{"$f":"要求内訳データ!C400","v":{"$error":"#REF!"}},{"$f":"要求内訳データ!D400","v":{"$error":"#REF!"}},{"$f":"要求内訳データ!E400","v":{"$error":"#REF!"}}]
[{"$error":"#REF!"},{"$f":"#REF!","v":{"$error":"#REF!"}},{"$f":"要求内訳データ!A401","v":{"$error":"#REF!"}},{"$f":"要求内訳データ!B401","v":{"$error":"#REF!"}},{"$f":"要求内訳データ!C401","v":{"$error":"#REF!"}},{"$f":"要求内訳データ!D401","v":{"$error":"#REF!"}},{"$f":"要求内訳データ!E401","v":{"$error":"#REF!"}}]
[{"$error":"#REF!"},{"$f":"#REF!","v":{"$error":"#REF!"}},{"$f":"要求内訳データ!A402","v":{"$error":"#REF!"}},{"$f":"要求内訳データ!B402","v":{"$error":"#REF!"}},{"$f":"要求内訳データ!C402","v":{"$error":"#REF!"}},{"$f":"要求内訳データ!D402","v":{"$error":"#REF!"}},{"$f":"要求内訳データ!E402","v":{"$error":"#REF!"}}]
[{"$error":"#REF!"},{"$f":"#REF!","v":{"$error":"#REF!"}},{"$f":"要求内訳データ!A403","v":{"$error":"#REF!"}},{"$f":"要求内訳データ!B403","v":{"$error":"#REF!"}},{"$f":"要求内訳データ!C403","v":{"$error":"#REF!"}},{"$f":"要求内訳データ!D403","v":{"$error":"#REF!"}},{"$f":"要求内訳データ!E403","v":{"$error":"#REF!"}}]
[{"$error":"#REF!"},{"$f":"#REF!","v":{"$error":"#REF!"}},{"$f":"要求内訳データ!A404","v":{"$error":"#REF!"}},{"$f":"要求内訳データ!B404","v":{"$error":"#REF!"}},{"$f":"要求内訳データ!C404","v":{"$error":"#REF!"}},{"$f":"要求内訳データ!D404","v":{"$error":"#REF!"}},{"$f":"要求内訳データ!E404","v":{"$error":"#REF!"}}]
[{"$error":"#REF!"},{"$f":"#REF!","v":{"$error":"#REF!"}},{"$f":"要求内訳データ!A405","v":{"$error":"#REF!"}},{"$f":"要求内訳データ!B405","v":{"$error":"#REF!"}},{"$f":"要求内訳データ!C405","v":{"$error":"#REF!"}},{"$f":"要求内訳データ!D405","v":{"$error":"#REF!"}},{"$f":"要求内訳データ!E405","v":{"$error":"#REF!"}}]
[{"$error":"#REF!"},{"$f":"#REF!","v":{"$error":"#REF!"}},{"$f":"要求内訳データ!A406","v":{"$error":"#REF!"}},{"$f":"要求内訳データ!B406","v":{"$error":"#REF!"}},{"$f":"要求内訳データ!C406","v":{"$error":"#REF!"}},{"$f":"要求内訳データ!D406","v":{"$error":"#REF!"}},{"$f":"要求内訳データ!E406","v":{"$error":"#REF!"}}]
[{"$error":"#REF!"},{"$f":"#REF!","v":{"$error":"#REF!"}},{"$f":"要求内訳データ!A407","v":{"$error":"#REF!"}},{"$f":"要求内訳データ!B407","v":{"$error":"#REF!"}},{"$f":"要求内訳データ!C407","v":{"$error":"#REF!"}},{"$f":"要求内訳データ!D407","v":{"$error":"#REF!"}},{"$f":"要求内訳データ!E407","v":{"$error":"#REF!"}}]
[{"$error":"#REF!"},{"$f":"#REF!","v":{"$error":"#REF!"}},{"$f":"要求内訳データ!A408","v":{"$error":"#REF!"}},{"$f":"要求内訳データ!B408","v":{"$error":"#REF!"}},{"$f":"要求内訳データ!C408","v":{"$error":"#REF!"}},{"$f":"要求内訳データ!D408","v":{"$error":"#REF!"}},{"$f":"要求内訳データ!E408","v":{"$error":"#REF!"}}]
[{"$error":"#REF!"},{"$f":"#REF!","v":{"$error":"#REF!"}},{"$f":"要求内訳データ!A409","v":{"$error":"#REF!"}},{"$f":"要求内訳データ!B409","v":{"$error":"#REF!"}},{"$f":"要求内訳データ!C409","v":{"$error":"#REF!"}},{"$f":"要求内訳データ!D409","v":{"$error":"#REF!"}},{"$f":"要求内訳データ!E409","v":{"$error":"#REF!"}}]
[{"$error":"#REF!"},{"$f":"#REF!","v":{"$error":"#REF!"}},{"$f":"要求内訳データ!A410","v":{"$error":"#REF!"}},{"$f":"要求内訳データ!B410","v":{"$error":"#REF!"}},{"$f":"要求内訳データ!C410","v":{"$error":"#REF!"}},{"$f":"要求内訳データ!D410","v":{"$error":"#REF!"}},{"$f":"要求内訳データ!E410","v":{"$error":"#REF!"}}]
[{"$error":"#REF!"},{"$f":"#REF!","v":{"$error":"#REF!"}},{"$f":"要求内訳データ!A411","v":{"$error":"#REF!"}},{"$f":"要求内訳データ!B411","v":{"$error":"#REF!"}},{"$f":"要求内訳データ!C411","v":{"$error":"#REF!"}},{"$f":"要求内訳データ!D411","v":{"$error":"#REF!"}},{"$f":"要求内訳データ!E411","v":{"$error":"#REF!"}}]
[{"$error":"#REF!"},{"$f":"#REF!","v":{"$error":"#REF!"}},{"$f":"要求内訳データ!A412","v":{"$error":"#REF!"}},{"$f":"要求内訳データ!B412","v":{"$error":"#REF!"}},{"$f":"要求内訳データ!C412","v":{"$error":"#REF!"}},{"$f":"要求内訳データ!D412","v":{"$error":"#REF!"}},{"$f":"要求内訳データ!E412","v":{"$error":"#REF!"}}]
[{"$error":"#REF!"},{"$f":"#REF!","v":{"$error":"#REF!"}},{"$f":"要求内訳データ!A413","v":{"$error":"#REF!"}},{"$f":"要求内訳データ!B413","v":{"$error":"#REF!"}},{"$f":"要求内訳データ!C413","v":{"$error":"#REF!"}},{"$f":"要求内訳データ!D413","v":{"$error":"#REF!"}},{"$f":"要求内訳データ!E413","v":{"$error":"#REF!"}}]
[{"$error":"#REF!"},{"$f":"#REF!","v":{"$error":"#REF!"}},{"$f":"要求内訳データ!A414","v":{"$error":"#REF!"}},{"$f":"要求内訳データ!B414","v":{"$error":"#REF!"}},{"$f":"要求内訳データ!C414","v":{"$error":"#REF!"}},{"$f":"要求内訳データ!D414","v":{"$error":"#REF!"}},{"$f":"要求内訳データ!E414","v":{"$error":"#REF!"}}]
[{"$error":"#REF!"},{"$f":"#REF!","v":{"$error":"#REF!"}},{"$f":"要求内訳データ!A415","v":{"$error":"#REF!"}},{"$f":"要求内訳データ!B415","v":{"$error":"#REF!"}},{"$f":"要求内訳データ!C415","v":{"$error":"#REF!"}},{"$f":"要求内訳データ!D415","v":{"$error":"#REF!"}},{"$f":"要求内訳データ!E415","v":{"$error":"#REF!"}}]
[{"$error":"#REF!"},{"$f":"#REF!","v":{"$error":"#REF!"}},{"$f":"要求内訳データ!A416","v":{"$error":"#REF!"}},{"$f":"要求内訳データ!B416","v":{"$error":"#REF!"}},{"$f":"要求内訳データ!C416","v":{"$error":"#REF!"}},{"$f":"要求内訳データ!D416","v":{"$error":"#REF!"}},{"$f":"要求内訳データ!E416","v":{"$error":"#REF!"}}]
[{"$error":"#REF!"},{"$f":"#REF!","v":{"$error":"#REF!"}},{"$f":"要求内訳データ!A417","v":{"$error":"#REF!"}},{"$f":"要求内訳データ!B417","v":{"$error":"#REF!"}},{"$f":"要求内訳データ!C417","v":{"$error":"#REF!"}},{"$f":"要求内訳データ!D417","v":{"$error":"#REF!"}},{"$f":"要求内訳データ!E417","v":{"$error":"#REF!"}}]
[{"$error":"#REF!"},{"$f":"#REF!","v":{"$error":"#REF!"}},{"$f":"要求内訳データ!A418","v":{"$error":"#REF!"}},{"$f":"要求内訳データ!B418","v":{"$error":"#REF!"}},{"$f":"要求内訳データ!C418","v":{"$error":"#REF!"}},{"$f":"要求内訳データ!D418","v":{"$error":"#REF!"}},{"$f":"要求内訳データ!E418","v":{"$error":"#REF!"}}]
[{"$error":"#REF!"},{"$f":"#REF!","v":{"$error":"#REF!"}},{"$f":"要求内訳データ!A419","v":{"$error":"#REF!"}},{"$f":"要求内訳データ!B419","v":{"$error":"#REF!"}},{"$f":"要求内訳データ!C419","v":{"$error":"#REF!"}},{"$f":"要求内訳データ!D419","v":{"$error":"#REF!"}},{"$f":"要求内訳データ!E419","v":{"$error":"#REF!"}}]
[{"$error":"#REF!"},{"$f":"#REF!","v":{"$error":"#REF!"}},{"$f":"要求内訳データ!A420","v":{"$error":"#REF!"}},{"$f":"要求内訳データ!B420","v":{"$error":"#REF!"}},{"$f":"要求内訳データ!C420","v":{"$error":"#REF!"}},{"$f":"要求内訳データ!D420","v":{"$error":"#REF!"}},{"$f":"要求内訳データ!E420","v":{"$error":"#REF!"}}]
[{"$error":"#REF!"},{"$f":"#REF!","v":{"$error":"#REF!"}},{"$f":"要求内訳データ!A421","v":{"$error":"#REF!"}},{"$f":"要求内訳データ!B421","v":{"$error":"#REF!"}},{"$f":"要求内訳データ!C421","v":{"$error":"#REF!"}},{"$f":"要求内訳データ!D421","v":{"$error":"#REF!"}},{"$f":"要求内訳データ!E421","v":{"$error":"#REF!"}}]
[{"$error":"#REF!"},{"$f":"#REF!","v":{"$error":"#REF!"}},{"$f":"要求内訳データ!A422","v":{"$error":"#REF!"}},{"$f":"要求内訳データ!B422","v":{"$error":"#REF!"}},{"$f":"要求内訳データ!C422","v":{"$error":"#REF!"}},{"$f":"要求内訳データ!D422","v":{"$error":"#REF!"}},{"$f":"要求内訳データ!E422","v":{"$error":"#REF!"}}]
[{"$error":"#REF!"},{"$f":"#REF!","v":{"$error":"#REF!"}},{"$f":"要求内訳データ!A423","v":{"$error":"#REF!"}},{"$f":"要求内訳データ!B423","v":{"$error":"#REF!"}},{"$f":"要求内訳データ!C423","v":{"$error":"#REF!"}},{"$f":"要求内訳データ!D423","v":{"$error":"#REF!"}},{"$f":"要求内訳データ!E423","v":{"$error":"#REF!"}}]
[{"$error":"#REF!"},{"$f":"#REF!","v":{"$error":"#REF!"}},{"$f":"要求内訳データ!A424","v":{"$error":"#REF!"}},{"$f":"要求内訳データ!B424","v":{"$error":"#REF!"}},{"$f":"要求内訳データ!C424","v":{"$error":"#REF!"}},{"$f":"要求内訳データ!D424","v":{"$error":"#REF!"}},{"$f":"要求内訳データ!E424","v":{"$error":"#REF!"}}]
[{"$error":"#REF!"},{"$f":"#REF!","v":{"$error":"#REF!"}},{"$f":"要求内訳データ!A425","v":{"$error":"#REF!"}},{"$f":"要求内訳データ!B425","v":{"$error":"#REF!"}},{"$f":"要求内訳データ!C425","v":{"$error":"#REF!"}},{"$f":"要求内訳データ!D425","v":{"$error":"#REF!"}},{"$f":"要求内訳データ!E425","v":{"$error":"#REF!"}}]
[{"$error":"#REF!"},{"$f":"#REF!","v":{"$error":"#REF!"}},{"$f":"要求内訳データ!A426","v":{"$error":"#REF!"}},{"$f":"要求内訳データ!B426","v":{"$error":"#REF!"}},{"$f":"要求内訳データ!C426","v":{"$error":"#REF!"}},{"$f":"要求内訳データ!D426","v":{"$error":"#REF!"}},{"$f":"要求内訳データ!E426","v":{"$error":"#REF!"}}]
[{"$error":"#REF!"},{"$f":"#REF!","v":{"$error":"#REF!"}},{"$f":"要求内訳データ!A427","v":{"$error":"#REF!"}},{"$f":"要求内訳データ!B427","v":{"$error":"#REF!"}},{"$f":"要求内訳データ!C427","v":{"$error":"#REF!"}},{"$f":"要求内訳データ!D427","v":{"$error":"#REF!"}},{"$f":"要求内訳データ!E427","v":{"$error":"#REF!"}}]
[{"$error":"#REF!"},{"$f":"#REF!","v":{"$error":"#REF!"}},{"$f":"要求内訳データ!A428","v":{"$error":"#REF!"}},{"$f":"要求内訳データ!B428","v":{"$error":"#REF!"}},{"$f":"要求内訳データ!C428","v":{"$error":"#REF!"}},{"$f":"要求内訳データ!D428","v":{"$error":"#REF!"}},{"$f":"要求内訳データ!E428","v":{"$error":"#REF!"}}]
[{"$error":"#REF!"},{"$f":"#REF!","v":{"$error":"#REF!"}},{"$f":"要求内訳データ!A429","v":{"$error":"#REF!"}},{"$f":"要求内訳データ!B429","v":{"$error":"#REF!"}},{"$f":"要求内訳データ!C429","v":{"$error":"#REF!"}},{"$f":"要求内訳データ!D429","v":{"$error":"#REF!"}},{"$f":"要求内訳データ!E429","v":{"$error":"#REF!"}}]
[{"$error":"#REF!"},{"$f":"#REF!","v":{"$error":"#REF!"}},{"$f":"要求内訳データ!A430","v":{"$error":"#REF!"}},{"$f":"要求内訳データ!B430","v":{"$error":"#REF!"}},{"$f":"要求内訳データ!C430","v":{"$error":"#REF!"}},{"$f":"要求内訳データ!D430","v":{"$error":"#REF!"}},{"$f":"要求内訳データ!E430","v":{"$error":"#REF!"}}]
[{"$error":"#REF!"},{"$f":"#REF!","v":{"$error":"#REF!"}},{"$f":"要求内訳データ!A431","v":{"$error":"#REF!"}},{"$f":"要求内訳データ!B431","v":{"$error":"#REF!"}},{"$f":"要求内訳データ!C431","v":{"$error":"#REF!"}},{"$f":"要求内訳データ!D431","v":{"$error":"#REF!"}},{"$f":"要求内訳データ!E431","v":{"$error":"#REF!"}}]
[{"$error":"#REF!"},{"$f":"#REF!","v":{"$error":"#REF!"}},{"$f":"要求内訳データ!A432","v":{"$error":"#REF!"}},{"$f":"要求内訳データ!B432","v":{"$error":"#REF!"}},{"$f":"要求内訳データ!C432","v":{"$error":"#REF!"}},{"$f":"要求内訳データ!D432","v":{"$error":"#REF!"}},{"$f":"要求内訳データ!E432","v":{"$error":"#REF!"}}]
[{"$error":"#REF!"},{"$f":"#REF!","v":{"$error":"#REF!"}},{"$f":"要求内訳データ!A433","v":{"$error":"#REF!"}},{"$f":"要求内訳データ!B433","v":{"$error":"#REF!"}},{"$f":"要求内訳データ!C433","v":{"$error":"#REF!"}},{"$f":"要求内訳データ!D433","v":{"$error":"#REF!"}},{"$f":"要求内訳データ!E433","v":{"$error":"#REF!"}}]
[{"$error":"#REF!"},{"$f":"#REF!","v":{"$error":"#REF!"}},{"$f":"要求内訳データ!A434","v":{"$error":"#REF!"}},{"$f":"要求内訳データ!B434","v":{"$error":"#REF!"}},{"$f":"要求内訳データ!C434","v":{"$error":"#REF!"}},{"$f":"要求内訳データ!D434","v":{"$error":"#REF!"}},{"$f":"要求内訳データ!E434","v":{"$error":"#REF!"}}]
[{"$error":"#REF!"},{"$f":"#REF!","v":{"$error":"#REF!"}},{"$f":"要求内訳データ!A435","v":{"$error":"#REF!"}},{"$f":"要求内訳データ!B435","v":{"$error":"#REF!"}},{"$f":"要求内訳データ!C435","v":{"$error":"#REF!"}},{"$f":"要求内訳データ!D435","v":{"$error":"#REF!"}},{"$f":"要求内訳データ!E435","v":{"$error":"#REF!"}}]
[{"$error":"#REF!"},{"$f":"#REF!","v":{"$error":"#REF!"}},{"$f":"要求内訳データ!A436","v":{"$error":"#REF!"}},{"$f":"要求内訳データ!B436","v":{"$error":"#REF!"}},{"$f":"要求内訳データ!C436","v":{"$error":"#REF!"}},{"$f":"要求内訳データ!D436","v":{"$error":"#REF!"}},{"$f":"要求内訳データ!E436","v":{"$error":"#REF!"}}]
[{"$error":"#REF!"},{"$f":"#REF!","v":{"$error":"#REF!"}},{"$f":"要求内訳データ!A437","v":{"$error":"#REF!"}},{"$f":"要求内訳データ!B437","v":{"$error":"#REF!"}},{"$f":"要求内訳データ!C437","v":{"$error":"#REF!"}},{"$f":"要求内訳データ!D437","v":{"$error":"#REF!"}},{"$f":"要求内訳データ!E437","v":{"$error":"#REF!"}}]
[{"$error":"#REF!"},{"$f":"#REF!","v":{"$error":"#REF!"}},{"$f":"要求内訳データ!A438","v":{"$error":"#REF!"}},{"$f":"要求内訳データ!B438","v":{"$error":"#REF!"}},{"$f":"要求内訳データ!C438","v":{"$error":"#REF!"}},{"$f":"要求内訳データ!D438","v":{"$error":"#REF!"}},{"$f":"要求内訳データ!E438","v":{"$error":"#REF!"}}]
[{"$error":"#REF!"},{"$f":"#REF!","v":{"$error":"#REF!"}},{"$f":"要求内訳データ!A439","v":{"$error":"#REF!"}},{"$f":"要求内訳データ!B439","v":{"$error":"#REF!"}},{"$f":"要求内訳データ!C439","v":{"$error":"#REF!"}},{"$f":"要求内訳データ!D439","v":{"$error":"#REF!"}},{"$f":"要求内訳データ!E439","v":{"$error":"#REF!"}}]
[{"$error":"#REF!"},{"$f":"#REF!","v":{"$error":"#REF!"}},{"$f":"要求内訳データ!A440","v":{"$error":"#REF!"}},{"$f":"要求内訳データ!B440","v":{"$error":"#REF!"}},{"$f":"要求内訳データ!C440","v":{"$error":"#REF!"}},{"$f":"要求内訳データ!D440","v":{"$error":"#REF!"}},{"$f":"要求内訳データ!E440","v":{"$error":"#REF!"}}]
[{"$error":"#REF!"},{"$f":"#REF!","v":{"$error":"#REF!"}},{"$f":"要求内訳データ!A441","v":{"$error":"#REF!"}},{"$f":"要求内訳データ!B441","v":{"$error":"#REF!"}},{"$f":"要求内訳データ!C441","v":{"$error":"#REF!"}},{"$f":"要求内訳データ!D441","v":{"$error":"#REF!"}},{"$f":"要求内訳データ!E441","v":{"$error":"#REF!"}}]
[{"$error":"#REF!"},{"$f":"#REF!","v":{"$error":"#REF!"}},{"$f":"要求内訳データ!A442","v":{"$error":"#REF!"}},{"$f":"要求内訳データ!B442","v":{"$error":"#REF!"}},{"$f":"要求内訳データ!C442","v":{"$error":"#REF!"}},{"$f":"要求内訳データ!D442","v":{"$error":"#REF!"}},{"$f":"要求内訳データ!E442","v":{"$error":"#REF!"}}]
[{"$error":"#REF!"},{"$f":"#REF!","v":{"$error":"#REF!"}},{"$f":"要求内訳データ!A443","v":{"$error":"#REF!"}},{"$f":"要求内訳データ!B443","v":{"$error":"#REF!"}},{"$f":"要求内訳データ!C443","v":{"$error":"#REF!"}},{"$f":"要求内訳データ!D443","v":{"$error":"#REF!"}},{"$f":"要求内訳データ!E443","v":{"$error":"#REF!"}}]
[{"$error":"#REF!"},{"$f":"#REF!","v":{"$error":"#REF!"}},{"$f":"要求内訳データ!A444","v":{"$error":"#REF!"}},{"$f":"要求内訳データ!B444","v":{"$error":"#REF!"}},{"$f":"要求内訳データ!C444","v":{"$error":"#REF!"}},{"$f":"要求内訳データ!D444","v":{"$error":"#REF!"}},{"$f":"要求内訳データ!E444","v":{"$error":"#REF!"}}]
[{"$error":"#REF!"},{"$f":"#REF!","v":{"$error":"#REF!"}},{"$f":"要求内訳データ!A445","v":{"$error":"#REF!"}},{"$f":"要求内訳データ!B445","v":{"$error":"#REF!"}},{"$f":"要求内訳データ!C445","v":{"$error":"#REF!"}},{"$f":"要求内訳データ!D445","v":{"$error":"#REF!"}},{"$f":"要求内訳データ!E445","v":{"$error":"#REF!"}}]
[{"$error":"#REF!"},{"$f":"#REF!","v":{"$error":"#REF!"}},{"$f":"要求内訳データ!A446","v":{"$error":"#REF!"}},{"$f":"要求内訳データ!B446","v":{"$error":"#REF!"}},{"$f":"要求内訳データ!C446","v":{"$error":"#REF!"}},{"$f":"要求内訳データ!D446","v":{"$error":"#REF!"}},{"$f":"要求内訳データ!E446","v":{"$error":"#REF!"}}]
[{"$error":"#REF!"},{"$f":"#REF!","v":{"$error":"#REF!"}},{"$f":"要求内訳データ!A447","v":{"$error":"#REF!"}},{"$f":"要求内訳データ!B447","v":{"$error":"#REF!"}},{"$f":"要求内訳データ!C447","v":{"$error":"#REF!"}},{"$f":"要求内訳データ!D447","v":{"$error":"#REF!"}},{"$f":"要求内訳データ!E447","v":{"$error":"#REF!"}}]
[{"$error":"#REF!"},{"$f":"#REF!","v":{"$error":"#REF!"}},{"$f":"要求内訳データ!A448","v":{"$error":"#REF!"}},{"$f":"要求内訳データ!B448","v":{"$error":"#REF!"}},{"$f":"要求内訳データ!C448","v":{"$error":"#REF!"}},{"$f":"要求内訳データ!D448","v":{"$error":"#REF!"}},{"$f":"要求内訳データ!E448","v":{"$error":"#REF!"}}]
[{"$error":"#REF!"},{"$f":"#REF!","v":{"$error":"#REF!"}},{"$f":"要求内訳データ!A449","v":{"$error":"#REF!"}},{"$f":"要求内訳データ!B449","v":{"$error":"#REF!"}},{"$f":"要求内訳データ!C449","v":{"$error":"#REF!"}},{"$f":"要求内訳データ!D449","v":{"$error":"#REF!"}},{"$f":"要求内訳データ!E449","v":{"$error":"#REF!"}}]
[{"$error":"#REF!"},{"$f":"#REF!","v":{"$error":"#REF!"}},{"$f":"要求内訳データ!A450","v":{"$error":"#REF!"}},{"$f":"要求内訳データ!B450","v":{"$error":"#REF!"}},{"$f":"要求内訳データ!C450","v":{"$error":"#REF!"}},{"$f":"要求内訳データ!D450","v":{"$error":"#REF!"}},{"$f":"要求内訳データ!E450","v":{"$error":"#REF!"}}]
[{"$error":"#REF!"},{"$f":"#REF!","v":{"$error":"#REF!"}},{"$f":"要求内訳データ!A451","v":{"$error":"#REF!"}},{"$f":"要求内訳データ!B451","v":{"$error":"#REF!"}},{"$f":"要求内訳データ!C451","v":{"$error":"#REF!"}},{"$f":"要求内訳データ!D451","v":{"$error":"#REF!"}},{"$f":"要求内訳データ!E451","v":{"$error":"#REF!"}}]
[{"$f":"LEFT(B452,LEN(B452)-4)","v":{"$error":"#REF!"}},{"$f":"#REF!","v":{"$error":"#REF!"}},{"$f":"要求内訳データ!A452","v":{"$error":"#REF!"}},{"$f":"要求内訳データ!B452","v":{"$error":"#REF!"}},{"$f":"要求内訳データ!C452","v":{"$error":"#REF!"}},{"$f":"要求内訳データ!D452","v":{"$error":"#REF!"}},{"$f":"要求内訳データ!E452","v":{"$error":"#REF!"}}]
[{"$error":"#REF!"},{"$f":"#REF!","v":{"$error":"#REF!"}},{"$f":"要求内訳データ!A453","v":{"$error":"#REF!"}},{"$f":"要求内訳データ!B453","v":{"$error":"#REF!"}},{"$f":"要求内訳データ!C453","v":{"$error":"#REF!"}},{"$f":"要求内訳データ!D453","v":{"$error":"#REF!"}},{"$f":"要求内訳データ!E453","v":{"$error":"#REF!"}}]
[{"$error":"#REF!"},{"$f":"#REF!","v":{"$error":"#REF!"}},{"$f":"要求内訳データ!A454","v":{"$error":"#REF!"}},{"$f":"要求内訳データ!B454","v":{"$error":"#REF!"}},{"$f":"要求内訳データ!C454","v":{"$error":"#REF!"}},{"$f":"要求内訳データ!D454","v":{"$error":"#REF!"}},{"$f":"要求内訳データ!E454","v":{"$error":"#REF!"}}]
[{"$error":"#REF!"},{"$f":"#REF!","v":{"$error":"#REF!"}},{"$f":"要求内訳データ!A455","v":{"$error":"#REF!"}},{"$f":"要求内訳データ!B455","v":{"$error":"#REF!"}},{"$f":"要求内訳データ!C455","v":{"$error":"#REF!"}},{"$f":"要求内訳データ!D455","v":{"$error":"#REF!"}},{"$f":"要求内訳データ!E455","v":{"$error":"#REF!"}}]
[{"$error":"#REF!"},{"$f":"#REF!","v":{"$error":"#REF!"}},{"$f":"要求内訳データ!A456","v":{"$error":"#REF!"}},{"$f":"要求内訳データ!B456","v":{"$error":"#REF!"}},{"$f":"要求内訳データ!C456","v":{"$error":"#REF!"}},{"$f":"要求内訳データ!D456","v":{"$error":"#REF!"}},{"$f":"要求内訳データ!E456","v":{"$error":"#REF!"}}]
[{"$error":"#REF!"},{"$f":"#REF!","v":{"$error":"#REF!"}},{"$f":"要求内訳データ!A457","v":{"$error":"#REF!"}},{"$f":"要求内訳データ!B457","v":{"$error":"#REF!"}},{"$f":"要求内訳データ!C457","v":{"$error":"#REF!"}},{"$f":"要求内訳データ!D457","v":{"$error":"#REF!"}},{"$f":"要求内訳データ!E457","v":{"$error":"#REF!"}}]
[{"$error":"#REF!"},{"$f":"#REF!","v":{"$error":"#REF!"}},{"$f":"要求内訳データ!A458","v":{"$error":"#REF!"}},{"$f":"要求内訳データ!B458","v":{"$error":"#REF!"}},{"$f":"要求内訳データ!C458","v":{"$error":"#REF!"}},{"$f":"要求内訳データ!D458","v":{"$error":"#REF!"}},{"$f":"要求内訳データ!E458","v":{"$error":"#REF!"}}]
[{"$error":"#REF!"},{"$f":"#REF!","v":{"$error":"#REF!"}},{"$f":"要求内訳データ!A459","v":{"$error":"#REF!"}},{"$f":"要求内訳データ!B459","v":{"$error":"#REF!"}},{"$f":"要求内訳データ!C459","v":{"$error":"#REF!"}},{"$f":"要求内訳データ!D459","v":{"$error":"#REF!"}},{"$f":"要求内訳データ!E459","v":{"$error":"#REF!"}}]
[{"$error":"#REF!"},{"$f":"#REF!","v":{"$error":"#REF!"}},{"$f":"要求内訳データ!A460","v":{"$error":"#REF!"}},{"$f":"要求内訳データ!B460","v":{"$error":"#REF!"}},{"$f":"要求内訳データ!C460","v":{"$error":"#REF!"}},{"$f":"要求内訳データ!D460","v":{"$error":"#REF!"}},{"$f":"要求内訳データ!E460","v":{"$error":"#REF!"}}]
[{"$error":"#REF!"},{"$f":"#REF!","v":{"$error":"#REF!"}},{"$f":"要求内訳データ!A461","v":{"$error":"#REF!"}},{"$f":"要求内訳データ!B461","v":{"$error":"#REF!"}},{"$f":"要求内訳データ!C461","v":{"$error":"#REF!"}},{"$f":"要求内訳データ!D461","v":{"$error":"#REF!"}},{"$f":"要求内訳データ!E461","v":{"$error":"#REF!"}}]
[{"$error":"#REF!"},{"$f":"#REF!","v":{"$error":"#REF!"}},{"$f":"要求内訳データ!A462","v":{"$error":"#REF!"}},{"$f":"要求内訳データ!B462","v":{"$error":"#REF!"}},{"$f":"要求内訳データ!C462","v":{"$error":"#REF!"}},{"$f":"要求内訳データ!D462","v":{"$error":"#REF!"}},{"$f":"要求内訳データ!E462","v":{"$error":"#REF!"}}]
[{"$error":"#REF!"},{"$f":"#REF!","v":{"$error":"#REF!"}},{"$f":"要求内訳データ!A463","v":{"$error":"#REF!"}},{"$f":"要求内訳データ!B463","v":{"$error":"#REF!"}},{"$f":"要求内訳データ!C463","v":{"$error":"#REF!"}},{"$f":"要求内訳データ!D463","v":{"$error":"#REF!"}},{"$f":"要求内訳データ!E463","v":{"$error":"#REF!"}}]
[{"$error":"#REF!"},{"$f":"#REF!","v":{"$error":"#REF!"}},{"$f":"要求内訳データ!A464","v":{"$error":"#REF!"}},{"$f":"要求内訳データ!B464","v":{"$error":"#REF!"}},{"$f":"要求内訳データ!C464","v":{"$error":"#REF!"}},{"$f":"要求内訳データ!D464","v":{"$error":"#REF!"}},{"$f":"要求内訳データ!E464","v":{"$error":"#REF!"}}]
[{"$error":"#REF!"},{"$f":"#REF!","v":{"$error":"#REF!"}},{"$f":"要求内訳データ!A465","v":{"$error":"#REF!"}},{"$f":"要求内訳データ!B465","v":{"$error":"#REF!"}},{"$f":"要求内訳データ!C465","v":{"$error":"#REF!"}},{"$f":"要求内訳データ!D465","v":{"$error":"#REF!"}},{"$f":"要求内訳データ!E465","v":{"$error":"#REF!"}}]
[{"$error":"#REF!"},{"$f":"#REF!","v":{"$error":"#REF!"}},{"$f":"要求内訳データ!A466","v":{"$error":"#REF!"}},{"$f":"要求内訳データ!B466","v":{"$error":"#REF!"}},{"$f":"要求内訳データ!C466","v":{"$error":"#REF!"}},{"$f":"要求内訳データ!D466","v":{"$error":"#REF!"}},{"$f":"要求内訳データ!E466","v":{"$error":"#REF!"}}]
[{"$error":"#REF!"},{"$f":"#REF!","v":{"$error":"#REF!"}},{"$f":"要求内訳データ!A467","v":{"$error":"#REF!"}},{"$f":"要求内訳データ!B467","v":{"$error":"#REF!"}},{"$f":"要求内訳データ!C467","v":{"$error":"#REF!"}},{"$f":"要求内訳データ!D467","v":{"$error":"#REF!"}},{"$f":"要求内訳データ!E467","v":{"$error":"#REF!"}}]
[{"$error":"#REF!"},{"$f":"#REF!","v":{"$error":"#REF!"}},{"$f":"要求内訳データ!A468","v":{"$error":"#REF!"}},{"$f":"要求内訳データ!B468","v":{"$error":"#REF!"}},{"$f":"要求内訳データ!C468","v":{"$error":"#REF!"}},{"$f":"要求内訳データ!D468","v":{"$error":"#REF!"}},{"$f":"要求内訳データ!E468","v":{"$error":"#REF!"}}]
[{"$error":"#REF!"},{"$f":"#REF!","v":{"$error":"#REF!"}},{"$f":"要求内訳データ!A469","v":{"$error":"#REF!"}},{"$f":"要求内訳データ!B469","v":{"$error":"#REF!"}},{"$f":"要求内訳データ!C469","v":{"$error":"#REF!"}},{"$f":"要求内訳データ!D469","v":{"$error":"#REF!"}},{"$f":"要求内訳データ!E469","v":{"$error":"#REF!"}}]
[{"$error":"#REF!"},{"$f":"#REF!","v":{"$error":"#REF!"}},{"$f":"要求内訳データ!A470","v":{"$error":"#REF!"}},{"$f":"要求内訳データ!B470","v":{"$error":"#REF!"}},{"$f":"要求内訳データ!C470","v":{"$error":"#REF!"}},{"$f":"要求内訳データ!D470","v":{"$error":"#REF!"}},{"$f":"要求内訳データ!E470","v":{"$error":"#REF!"}}]
[{"$error":"#REF!"},{"$f":"#REF!","v":{"$error":"#REF!"}},{"$f":"要求内訳データ!A471","v":{"$error":"#REF!"}},{"$f":"要求内訳データ!B471","v":{"$error":"#REF!"}},{"$f":"要求内訳データ!C471","v":{"$error":"#REF!"}},{"$f":"要求内訳データ!D471","v":{"$error":"#REF!"}},{"$f":"要求内訳データ!E471","v":{"$error":"#REF!"}}]
[{"$error":"#REF!"},{"$f":"#REF!","v":{"$error":"#REF!"}},{"$f":"要求内訳データ!A472","v":{"$error":"#REF!"}},{"$f":"要求内訳データ!B472","v":{"$error":"#REF!"}},{"$f":"要求内訳データ!C472","v":{"$error":"#REF!"}},{"$f":"要求内訳データ!D472","v":{"$error":"#REF!"}},{"$f":"要求内訳データ!E472","v":{"$error":"#REF!"}}]
[{"$error":"#REF!"},{"$f":"#REF!","v":{"$error":"#REF!"}},{"$f":"要求内訳データ!A473","v":{"$error":"#REF!"}},{"$f":"要求内訳データ!B473","v":{"$error":"#REF!"}},{"$f":"要求内訳データ!C473","v":{"$error":"#REF!"}},{"$f":"要求内訳データ!D473","v":{"$error":"#REF!"}},{"$f":"要求内訳データ!E473","v":{"$error":"#REF!"}}]
[{"$error":"#REF!"},{"$f":"#REF!","v":{"$error":"#REF!"}},{"$f":"要求内訳データ!A474","v":{"$error":"#REF!"}},{"$f":"要求内訳データ!B474","v":{"$error":"#REF!"}},{"$f":"要求内訳データ!C474","v":{"$error":"#REF!"}},{"$f":"要求内訳データ!D474","v":{"$error":"#REF!"}},{"$f":"要求内訳データ!E474","v":{"$error":"#REF!"}}]
[{"$error":"#REF!"},{"$f":"#REF!","v":{"$error":"#REF!"}},{"$f":"要求内訳データ!A475","v":{"$error":"#REF!"}},{"$f":"要求内訳データ!B475","v":{"$error":"#REF!"}},{"$f":"要求内訳データ!C475","v":{"$error":"#REF!"}},{"$f":"要求内訳データ!D475","v":{"$error":"#REF!"}},{"$f":"要求内訳データ!E475","v":{"$error":"#REF!"}}]
[{"$error":"#REF!"},{"$f":"#REF!","v":{"$error":"#REF!"}},{"$f":"要求内訳データ!A476","v":{"$error":"#REF!"}},{"$f":"要求内訳データ!B476","v":{"$error":"#REF!"}},{"$f":"要求内訳データ!C476","v":{"$error":"#REF!"}},{"$f":"要求内訳データ!D476","v":{"$error":"#REF!"}},{"$f":"要求内訳データ!E476","v":{"$error":"#REF!"}}]
[{"$error":"#REF!"},{"$f":"#REF!","v":{"$error":"#REF!"}},{"$f":"要求内訳データ!A477","v":{"$error":"#REF!"}},{"$f":"要求内訳データ!B477","v":{"$error":"#REF!"}},{"$f":"要求内訳データ!C477","v":{"$error":"#REF!"}},{"$f":"要求内訳データ!D477","v":{"$error":"#REF!"}},{"$f":"要求内訳データ!E477","v":{"$error":"#REF!"}}]
[{"$error":"#REF!"},{"$f":"#REF!","v":{"$error":"#REF!"}},{"$f":"要求内訳データ!A478","v":{"$error":"#REF!"}},{"$f":"要求内訳データ!B478","v":{"$error":"#REF!"}},{"$f":"要求内訳データ!C478","v":{"$error":"#REF!"}},{"$f":"要求内訳データ!D478","v":{"$error":"#REF!"}},{"$f":"要求内訳データ!E478","v":{"$error":"#REF!"}}]
[{"$error":"#REF!"},{"$f":"#REF!","v":{"$error":"#REF!"}},{"$f":"要求内訳データ!A479","v":{"$error":"#REF!"}},{"$f":"要求内訳データ!B479","v":{"$error":"#REF!"}},{"$f":"要求内訳データ!C479","v":{"$error":"#REF!"}},{"$f":"要求内訳データ!D479","v":{"$error":"#REF!"}},{"$f":"要求内訳データ!E479","v":{"$error":"#REF!"}}]
[{"$error":"#REF!"},{"$f":"#REF!","v":{"$error":"#REF!"}},{"$f":"要求内訳データ!A480","v":{"$error":"#REF!"}},{"$f":"要求内訳データ!B480","v":{"$error":"#REF!"}},{"$f":"要求内訳データ!C480","v":{"$error":"#REF!"}},{"$f":"要求内訳データ!D480","v":{"$error":"#REF!"}},{"$f":"要求内訳データ!E480","v":{"$error":"#REF!"}}]
[{"$error":"#REF!"},{"$f":"#REF!","v":{"$error":"#REF!"}},{"$f":"要求内訳データ!A481","v":{"$error":"#REF!"}},{"$f":"要求内訳データ!B481","v":{"$error":"#REF!"}},{"$f":"要求内訳データ!C481","v":{"$error":"#REF!"}},{"$f":"要求内訳データ!D481","v":{"$error":"#REF!"}},{"$f":"要求内訳データ!E481","v":{"$error":"#REF!"}}]
[{"$error":"#REF!"},{"$f":"#REF!","v":{"$error":"#REF!"}},{"$f":"要求内訳データ!A482","v":{"$error":"#REF!"}},{"$f":"要求内訳データ!B482","v":{"$error":"#REF!"}},{"$f":"要求内訳データ!C482","v":{"$error":"#REF!"}},{"$f":"要求内訳データ!D482","v":{"$error":"#REF!"}},{"$f":"要求内訳データ!E482","v":{"$error":"#REF!"}}]
[{"$error":"#REF!"},{"$f":"#REF!","v":{"$error":"#REF!"}},{"$f":"要求内訳データ!A483","v":{"$error":"#REF!"}},{"$f":"要求内訳データ!B483","v":{"$error":"#REF!"}},{"$f":"要求内訳データ!C483","v":{"$error":"#REF!"}},{"$f":"要求内訳データ!D483","v":{"$error":"#REF!"}},{"$f":"要求内訳データ!E483","v":{"$error":"#REF!"}}]
[{"$error":"#REF!"},{"$f":"#REF!","v":{"$error":"#REF!"}},{"$f":"要求内訳データ!A484","v":{"$error":"#REF!"}},{"$f":"要求内訳データ!B484","v":{"$error":"#REF!"}},{"$f":"要求内訳データ!C484","v":{"$error":"#REF!"}},{"$f":"要求内訳データ!D484","v":{"$error":"#REF!"}},{"$f":"要求内訳データ!E484","v":{"$error":"#REF!"}}]
[{"$error":"#REF!"},{"$f":"#REF!","v":{"$error":"#REF!"}},{"$f":"要求内訳データ!A485","v":{"$error":"#REF!"}},{"$f":"要求内訳データ!B485","v":{"$error":"#REF!"}},{"$f":"要求内訳データ!C485","v":{"$error":"#REF!"}},{"$f":"要求内訳データ!D485","v":{"$error":"#REF!"}},{"$f":"要求内訳データ!E485","v":{"$error":"#REF!"}}]
[{"$error":"#REF!"},{"$f":"#REF!","v":{"$error":"#REF!"}},{"$f":"要求内訳データ!A486","v":{"$error":"#REF!"}},{"$f":"要求内訳データ!B486","v":{"$error":"#REF!"}},{"$f":"要求内訳データ!C486","v":{"$error":"#REF!"}},{"$f":"要求内訳データ!D486","v":{"$error":"#REF!"}},{"$f":"要求内訳データ!E486","v":{"$error":"#REF!"}}]
[{"$error":"#REF!"},{"$f":"#REF!","v":{"$error":"#REF!"}},{"$f":"要求内訳データ!A487","v":{"$error":"#REF!"}},{"$f":"要求内訳データ!B487","v":{"$error":"#REF!"}},{"$f":"要求内訳データ!C487","v":{"$error":"#REF!"}},{"$f":"要求内訳データ!D487","v":{"$error":"#REF!"}},{"$f":"要求内訳データ!E487","v":{"$error":"#REF!"}}]
[{"$error":"#REF!"},{"$f":"#REF!","v":{"$error":"#REF!"}},{"$f":"要求内訳データ!A488","v":{"$error":"#REF!"}},{"$f":"要求内訳データ!B488","v":{"$error":"#REF!"}},{"$f":"要求内訳データ!C488","v":{"$error":"#REF!"}},{"$f":"要求内訳データ!D488","v":{"$error":"#REF!"}},{"$f":"要求内訳データ!E488","v":{"$error":"#REF!"}}]
[{"$error":"#REF!"},{"$f":"#REF!","v":{"$error":"#REF!"}},{"$f":"要求内訳データ!A489","v":{"$error":"#REF!"}},{"$f":"要求内訳データ!B489","v":{"$error":"#REF!"}},{"$f":"要求内訳データ!C489","v":{"$error":"#REF!"}},{"$f":"要求内訳データ!D489","v":{"$error":"#REF!"}},{"$f":"要求内訳データ!E489","v":{"$error":"#REF!"}}]
[{"$error":"#REF!"},{"$f":"#REF!","v":{"$error":"#REF!"}},{"$f":"要求内訳データ!A490","v":{"$error":"#REF!"}},{"$f":"要求内訳データ!B490","v":{"$error":"#REF!"}},{"$f":"要求内訳データ!C490","v":{"$error":"#REF!"}},{"$f":"要求内訳データ!D490","v":{"$error":"#REF!"}},{"$f":"要求内訳データ!E490","v":{"$error":"#REF!"}}]
[{"$error":"#REF!"},{"$f":"#REF!","v":{"$error":"#REF!"}},{"$f":"要求内訳データ!A491","v":{"$error":"#REF!"}},{"$f":"要求内訳データ!B491","v":{"$error":"#REF!"}},{"$f":"要求内訳データ!C491","v":{"$error":"#REF!"}},{"$f":"要求内訳データ!D491","v":{"$error":"#REF!"}},{"$f":"要求内訳データ!E491","v":{"$error":"#REF!"}}]
[{"$error":"#REF!"},{"$f":"#REF!","v":{"$error":"#REF!"}},{"$f":"要求内訳データ!A492","v":{"$error":"#REF!"}},{"$f":"要求内訳データ!B492","v":{"$error":"#REF!"}},{"$f":"要求内訳データ!C492","v":{"$error":"#REF!"}},{"$f":"要求内訳データ!D492","v":{"$error":"#REF!"}},{"$f":"要求内訳データ!E492","v":{"$error":"#REF!"}}]
[{"$error":"#REF!"},{"$f":"#REF!","v":{"$error":"#REF!"}},{"$f":"要求内訳データ!A493","v":{"$error":"#REF!"}},{"$f":"要求内訳データ!B493","v":{"$error":"#REF!"}},{"$f":"要求内訳データ!C493","v":{"$error":"#REF!"}},{"$f":"要求内訳データ!D493","v":{"$error":"#REF!"}},{"$f":"要求内訳データ!E493","v":{"$error":"#REF!"}}]
[{"$error":"#REF!"},{"$f":"#REF!","v":{"$error":"#REF!"}},{"$f":"要求内訳データ!A494","v":{"$error":"#REF!"}},{"$f":"要求内訳データ!B494","v":{"$error":"#REF!"}},{"$f":"要求内訳データ!C494","v":{"$error":"#REF!"}},{"$f":"要求内訳データ!D494","v":{"$error":"#REF!"}},{"$f":"要求内訳データ!E494","v":{"$error":"#REF!"}}]
[{"$error":"#REF!"},{"$f":"#REF!","v":{"$error":"#REF!"}},{"$f":"要求内訳データ!A495","v":{"$error":"#REF!"}},{"$f":"要求内訳データ!B495","v":{"$error":"#REF!"}},{"$f":"要求内訳データ!C495","v":{"$error":"#REF!"}},{"$f":"要求内訳データ!D495","v":{"$error":"#REF!"}},{"$f":"要求内訳データ!E495","v":{"$error":"#REF!"}}]
[{"$error":"#REF!"},{"$f":"#REF!","v":{"$error":"#REF!"}},{"$f":"要求内訳データ!A496","v":{"$error":"#REF!"}},{"$f":"要求内訳データ!B496","v":{"$error":"#REF!"}},{"$f":"要求内訳データ!C496","v":{"$error":"#REF!"}},{"$f":"要求内訳データ!D496","v":{"$error":"#REF!"}},{"$f":"要求内訳データ!E496","v":{"$error":"#REF!"}}]
[{"$error":"#REF!"},{"$f":"#REF!","v":{"$error":"#REF!"}},{"$f":"要求内訳データ!A497","v":{"$error":"#REF!"}},{"$f":"要求内訳データ!B497","v":{"$error":"#REF!"}},{"$f":"要求内訳データ!C497","v":{"$error":"#REF!"}},{"$f":"要求内訳データ!D497","v":{"$error":"#REF!"}},{"$f":"要求内訳データ!E497","v":{"$error":"#REF!"}}]
[{"$error":"#REF!"},{"$f":"#REF!","v":{"$error":"#REF!"}},{"$f":"要求内訳データ!A498","v":{"$error":"#REF!"}},{"$f":"要求内訳データ!B498","v":{"$error":"#REF!"}},{"$f":"要求内訳データ!C498","v":{"$error":"#REF!"}},{"$f":"要求内訳データ!D498","v":{"$error":"#REF!"}},{"$f":"要求内訳データ!E498","v":{"$error":"#REF!"}}]

{"sheet":"要求内訳データ","index":1,"n_rows":1002,"n_cols":10,"rows_kept":1002,"hidden":true,"merged":[[0,0,0,4]]}
["内　　訳　　書"]
["番号","品名（件名）","規　　格",{"$f":"IF(#REF!=\"単価\",\"予定　数量\",\"数量\")","v":{"$error":"#REF!"}},"単位"]
[1,{"$f":"#REF!","v":{"$error":"#REF!"}},{"$f":"#REF!","v":{"$error":"#REF!"}},{"$f":"#REF!","v":{"$error":"#REF!"}},{"$f":"IF(OFFSET(INDIRECT(ADDRESS(ROW(),COLUMN())),0,-3)=0,0,VLOOKUP(F3,$I$4:$J$60,2,FALSE))","v":{"$error":"#REF!"}},{"$f":"#REF!","v":{"$error":"#REF!"}},null,null,"内　　　容","単位"]
[{"$f":"IF(B4=0,\"\",A3+1)","v":{"$error":"#REF!"}},{"$f":"#REF!","v":{"$error":"#REF!"}},{"$f":"#REF!","v":{"$error":"#REF!"}},{"$f":"#REF!","v":{"$error":"#REF!"}},{"$f":"IF(OFFSET(INDIRECT(ADDRESS(ROW(),COLUMN())),0,-3)=0,0,VLOOKUP(F4,$I$4:$J$60,2,FALSE))","v":{"$error":"#REF!"}},{"$f":"#REF!","v":{"$error":"#REF!"}},null,null,"機","AC"]
[{"$f":"IF(B5=0,\"\",A4+1)","v":{"$error":"#REF!"}},{"$f":"#REF!","v":{"$error":"#REF!"}},{"$f":"#REF!","v":{"$error":"#REF!"}},{"$f":"#REF!","v":{"$error":"#REF!"}},{"$error":"#REF!"},{"$f":"#REF!","v":{"$error":"#REF!"}},null,null,"袋","BG"]
[{"$error":"#REF!"},{"$f":"#REF!","v":{"$error":"#REF!"}},{"$f":"#REF!","v":{"$error":"#REF!"}},{"$f":"#REF!","v":{"$error":"#REF!"}},{"$error":"#REF!"},{"$f":"#REF!","v":{"$error":"#REF!"}},null,null,"束","BN"]
[{"$error":"#REF!"},{"$f":"#REF!","v":{"$error":"#REF!"}},{"$f":"#REF!","v":{"$error":"#REF!"}},{"$f":"#REF!","v":{"$error":"#REF!"}},{"$error":"#REF!"},{"$f":"#REF!","v":{"$error":"#REF!"}},null,null,"ベクレル","BQ"]
[{"$error":"#REF!"},{"$f":"#REF!","v":{"$error":"#REF!"}},{"$f":"#REF!","v":{"$error":"#REF!"}},{"$f":"#REF!","v":{"$error":"#REF!"}},{"$error":"#REF!"},{"$f":"#REF!","v":{"$error":"#REF!"}},null,null,"びん","BT"]
[{"$error":"#REF!"},{"$f":"#REF!","v":{"$error":"#REF!"}},{"$f":"#REF!","v":{"$error":"#REF!"}},{"$f":"#REF!","v":{"$error":"#REF!"}},{"$error":"#REF!"},{"$f":"#REF!","v":{"$error":"#REF!"}},null,null,"一部","BU"]
[{"$error":"#REF!"},{"$f":"#REF!","v":{"$error":"#REF!"}},{"$f":"#REF!","v":{"$error":"#REF!"}},{"$f":"#REF!","v":{"$error":"#REF!"}},{"$error":"#REF!"},{"$f":"#REF!","v":{"$error":"#REF!"}},null,null,"木箱","BX"]
[{"$error":"#REF!"},{"$f":"#REF!","v":{"$error":"#REF!"}},{"$f":"#REF!","v":{"$error":"#REF!"}},{"$f":"#REF!","v":{"$error":"#REF!"}},{"$error":"#REF!"},{"$f":"#REF!","v":{"$error":"#REF!"}},null,null,"箱","CA"]
[{"$error":"#REF!"},{"$f":"#REF!","v":{"$error":"#REF!"}},{"$f":"#REF!","v":{"$error":"#REF!"}},{"$f":"#REF!","v":{"$error":"#REF!"}},{"$error":"#REF!"},{"$f":"#REF!","v":{"$error":"#REF!"}},null,null,"立法センチメートル","CC"]
[{"$error":"#REF!"},{"$f":"#REF!","v":{"$error":"#REF!"}},{"$f":"#REF!","v":{"$error":"#REF!"}},{"$f":"#REF!","v":{"$error":"#REF!"}},{"$error":"#REF!"},{"$f":"#REF!","v":{"$error":"#REF!"}},null,null,"カード","CD"]
[{"$error":"#REF!"},{"$f":"#REF!","v":{"$error":"#REF!"}},{"$f":"#REF!","v":{"$error":"#REF!"}},{"$f":"#REF!","v":{"$error":"#REF!"}},{"$error":"#REF!"},{"$f":"#REF!","v":{"$error":"#REF!"}},null,null,"センチメートル","CM"]
[{"$error":"#REF!"},{"$f":"#REF!","v":{"$error":"#REF!"}},{"$f":"#REF!","v":{"$error":"#REF!"}},{"$f":"#REF!","v":{"$error":"#REF!"}},{"$error":"#REF!"},{"$f":"#REF!","v":{"$error":"#REF!"}},null,null,"缶","CN"]
[{"$error":"#REF!"},{"$f":"#REF!","v":{"$error":"#REF!"}},{"$f":"#REF!","v":{"$error":"#REF!"}},{"$f":"#REF!","v":{"$error":"#REF!"}},{"$error":"#REF!"},{"$f":"#REF!","v":{"$error":"#REF!"}},null,null,"ボール箱","CT"]
[{"$error":"#REF!"},{"$f":"#REF!","v":{"$error":"#REF!"}},{"$f":"#REF!","v":{"$error":"#REF!"}},{"$f":"#REF!","v":{"$error":"#REF!"}},{"$error":"#REF!"},{"$f":"#REF!","v":{"$error":"#REF!"}},null,null,"キューリー","CU"]
[{"$error":"#REF!"},{"$f":"#REF!","v":{"$error":"#REF!"}},{"$f":"#REF!","v":{"$error":"#REF!"}},{"$f":"#REF!","v":{"$error":"#REF!"}},{"$error":"#REF!"},{"$f":"#REF!","v":{"$error":"#REF!"}},null,null,"ドラム","DR"]
[{"$error":"#REF!"},{"$f":"#REF!","v":{"$error":"#REF!"}},{"$f":"#REF!","v":{"$error":"#REF!"}},{"$f":"#REF!","v":{"$error":"#REF!"}},{"$error":"#REF!"},{"$f":"#REF!","v":{"$error":"#REF!"}},null,null,"日","DY"]
[{"$error":"#REF!"},{"$f":"#REF!","v":{"$error":"#REF!"}},{"$f":"#REF!","v":{"$error":"#REF!"}},{"$f":"#REF!","v":{"$error":"#REF!"}},{"$error":"#REF!"},{"$f":"#REF!","v":{"$error":"#REF!"}},null,null,"ダース","DZ"]
[{"$error":"#REF!"},{"$f":"#REF!","v":{"$error":"#REF!"}},{"$f":"#REF!","v":{"$error":"#REF!"}},{"$f":"#REF!","v":{"$error":"#REF!"}},{"$error":"#REF!"},{"$f":"#REF!","v":{"$error":"#REF!"}},null,null,"個（着、連、冊、包、発、丁、門、両等）","EA"]
[{"$error":"#REF!"},{"$f":"#REF!","v":{"$error":"#REF!"}},{"$f":"#REF!","v":{"$error":"#REF!"}},{"$f":"#REF!","v":{"$error":"#REF!"}},{"$error":"#REF!"},{"$f":"#REF!","v":{"$error":"#REF!"}},null,null,"フィート","FT"]
[{"$error":"#REF!"},{"$f":"#REF!","v":{"$error":"#REF!"}},{"$f":"#REF!","v":{"$error":"#REF!"}},{"$f":"#REF!","v":{"$error":"#REF!"}},{"$error":"#REF!"},{"$f":"#REF!","v":{"$error":"#REF!"}},null,null,"ガロン","GL"]
[{"$error":"#REF!"},{"$f":"#REF!","v":{"$error":"#REF!"}},{"$f":"#REF!","v":{"$error":"#REF!"}},{"$f":"#REF!","v":{"$error":"#REF!"}},{"$error":"#REF!"},{"$f":"#REF!","v":{"$error":"#REF!"}},null,null,"グラム","GM"]
[{"$error":"#REF!"},{"$f":"#REF!","v":{"$error":"#REF!"}},{"$f":"#REF!","v":{"$error":"#REF!"}},{"$f":"#REF!","v":{"$error":"#REF!"}},{"$error":"#REF!"},{"$f":"#REF!","v":{"$error":"#REF!"}},null,null,"グロス","GR"]
[{"$error":"#REF!"},{"$f":"#REF!","v":{"$error":"#REF!"}},{"$f":"#REF!","v":{"$error":"#REF!"}},{"$f":"#REF!","v":{"$error":"#REF!"}},{"$error":"#REF!"},{"$f":"#REF!","v":{"$error":"#REF!"}},null,null,"ハンドレット","HD"]
[{"$error":"#REF!"},{"$f":"#REF!","v":{"$error":"#REF!"}},{"$f":"#REF!","v":{"$error":"#REF!"}},{"$f":"#REF!","v":{"$error":"#REF!"}},{"$error":"#REF!"},{"$f":"#REF!","v":{"$error":"#REF!"}},null,null,"１００グラム","HG"]
[{"$error":"#REF!"},{"$f":"#REF!","v":{"$error":"#REF!"}},{"$f":"#REF!","v":{"$error":"#REF!"}},{"$f":"#REF!","v":{"$error":"#REF!"}},{"$error":"#REF!"},{"$f":"#REF!","v":{"$error":"#REF!"}},null,null,"キログラム","KG"]
[{"$error":"#REF!"},{"$f":"#REF!","v":{"$error":"#REF!"}},{"$f":"#REF!","v":{"$error":"#REF!"}},{"$f":"#REF!","v":{"$error":"#REF!"}},{"$error":"#REF!"},{"$f":"#REF!","v":{"$error":"#REF!"}},null,null,"キロリットル","KL"]
[{"$error":"#REF!"},{"$f":"#REF!","v":{"$error":"#REF!"}},{"$f":"#REF!","v":{"$error":"#REF!"}},{"$f":"#REF!","v":{"$error":"#REF!"}},{"$error":"#REF!"},{"$f":"#REF!","v":{"$error":"#REF!"}},null,null,"キット","KT"]
[{"$error":"#REF!"},{"$f":"#REF!","v":{"$error":"#REF!"}},{"$f":"#REF!","v":{"$error":"#REF!"}},{"$f":"#REF!","v":{"$error":"#REF!"}},{"$error":"#REF!"},{"$f":"#REF!","v":{"$error":"#REF!"}},null,null,"ポンド","LB"]
[{"$error":"#REF!"},{"$f":"#REF!","v":{"$error":"#REF!"}},{"$f":"#REF!","v":{"$error":"#REF!"}},{"$f":"#REF!","v":{"$error":"#REF!"}},{"$error":"#REF!"},{"$f":"#REF!","v":{"$error":"#REF!"}},null,null,"リットル","LI "]
[{"$error":"#REF!"},{"$f":"#REF!","v":{"$error":"#REF!"}},{"$f":"#REF!","v":{"$error":"#REF!"}},{"$f":"#REF!","v":{"$error":"#REF!"}},{"$error":"#REF!"},{"$f":"#REF!","v":{"$error":"#REF!"}},null,null,"立方メートル","M3"]
[{"$error":"#REF!"},{"$f":"#REF!","v":{"$error":"#REF!"}},{"$f":"#REF!","v":{"$error":"#REF!"}},{"$f":"#REF!","v":{"$error":"#REF!"}},{"$error":"#REF!"},{"$f":"#REF!","v":{"$error":"#REF!"}},null,null,"ミリベクレル","MB"]
[{"$error":"#REF!"},{"$f":"#REF!","v":{"$error":"#REF!"}},{"$f":"#REF!","v":{"$error":"#REF!"}},{"$f":"#REF!","v":{"$error":"#REF!"}},{"$error":"#REF!"},{"$f":"#REF!","v":{"$error":"#REF!"}},null,null,"ミリキュリー","MC"]
[{"$error":"#REF!"},{"$f":"#REF!","v":{"$error":"#REF!"}},{"$f":"#REF!","v":{"$error":"#REF!"}},{"$f":"#REF!","v":{"$error":"#REF!"}},{"$error":"#REF!"},{"$f":"#REF!","v":{"$error":"#REF!"}},null,null,"人日","MD"]
[{"$error":"#REF!"},{"$f":"#REF!","v":{"$error":"#REF!"}},{"$f":"#REF!","v":{"$error":"#REF!"}},{"$f":"#REF!","v":{"$error":"#REF!"}},{"$error":"#REF!"},{"$f":"#REF!","v":{"$error":"#REF!"}},null,null,"人時","MH"]
[{"$error":"#REF!"},{"$f":"#REF!","v":{"$error":"#REF!"}},{"$f":"#REF!","v":{"$error":"#REF!"}},{"$f":"#REF!","v":{"$error":"#REF!"}},{"$error":"#REF!"},{"$f":"#REF!","v":{"$error":"#REF!"}},null,null,"マイル","ML"]
[{"$error":"#REF!"},{"$f":"#REF!","v":{"$error":"#REF!"}},{"$f":"#REF!","v":{"$error":"#REF!"}},{"$f":"#REF!","v":{"$error":"#REF!"}},{"$error":"#REF!"},{"$f":"#REF!","v":{"$error":"#REF!"}},null,null,"ミリメートル","MM"]
[{"$error":"#REF!"},{"$f":"#REF!","v":{"$error":"#REF!"}},{"$f":"#REF!","v":{"$error":"#REF!"}},{"$f":"#REF!","v":{"$error":"#REF!"}},{"$error":"#REF!"},{"$f":"#REF!","v":{"$error":"#REF!"}},null,null,"月","MN"]
[{"$error":"#REF!"},{"$f":"#REF!","v":{"$error":"#REF!"}},{"$f":"#REF!","v":{"$error":"#REF!"}},{"$f":"#REF!","v":{"$error":"#REF!"}},{"$error":"#REF!"},{"$f":"#REF!","v":{"$error":"#REF!"}},null,null,"メートル","MT"]
[{"$error":"#REF!"},{"$f":"#REF!","v":{"$error":"#REF!"}},{"$f":"#REF!","v":{"$error":"#REF!"}},{"$f":"#REF!","v":{"$error":"#REF!"}},{"$error":"#REF!"},{"$f":"#REF!","v":{"$error":"#REF!"}},null,null,"オンス","OZ"]
[{"$error":"#REF!"},{"$f":"#REF!","v":{"$error":"#REF!"}},{"$f":"#REF!","v":{"$error":"#REF!"}},{"$f":"#REF!","v":{"$error":"#REF!"}},{"$error":"#REF!"},{"$f":"#REF!","v":{"$error":"#REF!"}},null,null,"本","PC"]
[{"$error":"#REF!"},{"$f":"#REF!","v":{"$error":"#REF!"}},{"$f":"#REF!","v":{"$error":"#REF!"}},{"$f":"#REF!","v":{"$error":"#REF!"}},{"$error":"#REF!"},{"$f":"#REF!","v":{"$error":"#REF!"}},null,null,"梱","PK"]
[{"$error":"#REF!"},{"$f":"#REF!","v":{"$error":"#REF!"}},{"$f":"#REF!","v":{"$error":"#REF!"}},{"$f":"#REF!","v":{"$error":"#REF!"}},{"$error":"#REF!"},{"$f":"#REF!","v":{"$error":"#REF!"}},null,null,"機（航空機）","PL"]
[{"$f":"IF(B46=0,\"\",A45+1)","v":{"$error":"#REF!"}},{"$f":"#REF!","v":{"$error":"#REF!"}},{"$f":"#REF!","v":{"$error":"#REF!"}},{"$f":"#REF!","v":{"$error":"#REF!"}},{"$error":"#REF!"},{"$f":"#REF!","v":{"$error":"#REF!"}},null,null,"平方フィート","SF"]
[{"$error":"#REF!"},{"$f":"#REF!","v":{"$error":"#REF!"}},{"$f":"#REF!","v":{"$error":"#REF!"}},{"$f":"#REF!","v":{"$error":"#REF!"}},{"$error":"#REF!"},{"$f":"#REF!","v":{"$error":"#REF!"}},null,null,"枚","SH"]
[{"$error":"#REF!"},{"$f":"#REF!","v":{"$error":"#REF!"}},{"$f":"#REF!","v":{"$error":"#REF!"}},{"$f":"#REF!","v":{"$error":"#REF!"}},{"$error":"#REF!"},{"$f":"#REF!","v":{"$error":"#REF!"}},null,null,"平方メートル","SM"]
[{"$error":"#REF!"},{"$f":"#REF!","v":{"$error":"#REF!"}},{"$f":"#REF!","v":{"$error":"#REF!"}},{"$f":"#REF!","v":{"$error":"#REF!"}},{"$error":"#REF!"},{"$f":"#REF!","v":{"$error":"#REF!"}},null,null,"巻","SP"]
[{"$error":"#REF!"},{"$f":"#REF!","v":{"$error":"#REF!"}},{"$f":"#REF!","v":{"$error":"#REF!"}},{"$f":"#REF!","v":{"$error":"#REF!"}},{"$error":"#REF!"},{"$f":"#REF!","v":{"$error":"#REF!"}},null,null,"セット","ST"]
[{"$error":"#REF!"},{"$f":"#REF!","v":{"$error":"#REF!"}},{"$f":"#REF!","v":{"$error":"#REF!"}},{"$f":"#REF!","v":{"$error":"#REF!"}},{"$error":"#REF!"},{"$f":"#REF!","v":{"$error":"#REF!"}},null,null,"管","TB"]
[{"$error":"#REF!"},{"$f":"#REF!","v":{"$error":"#REF!"}},{"$f":"#REF!","v":{"$error":"#REF!"}},{"$f":"#REF!","v":{"$error":"#REF!"}},{"$error":"#REF!"},{"$f":"#REF!","v":{"$error":"#REF!"}},null,null,"時間","TM"]
[{"$error":"#REF!"},{"$f":"#REF!","v":{"$error":"#REF!"}},{"$f":"#REF!","v":{"$error":"#REF!"}},{"$f":"#REF!","v":{"$error":"#REF!"}},{"$error":"#REF!"},{"$f":"#REF!","v":{"$error":"#REF!"}},null,null,"トン","TN"]
[{"$error":"#REF!"},{"$f":"#REF!","v":{"$error":"#REF!"}},{"$f":"#REF!","v":{"$error":"#REF!"}},{"$f":"#REF!","v":{"$error":"#REF!"}},{"$error":"#REF!"},{"$f":"#REF!","v":{"$error":"#REF!"}},null,null,"台","UN"]
[{"$error":"#REF!"},{"$f":"#REF!","v":{"$error":"#REF!"}},{"$f":"#REF!","v":{"$error":"#REF!"}},{"$f":"#REF!","v":{"$error":"#REF!"}},{"$error":"#REF!"},{"$f":"#REF!","v":{"$error":"#REF!"}},null,null,"ヤード","YD"]
[{"$error":"#REF!"},{"$f":"#REF!","v":{"$error":"#REF!"}},{"$f":"#REF!","v":{"$error":"#REF!"}},{"$f":"#REF!","v":{"$error":"#REF!"}},{"$error":"#REF!"},{"$f":"#REF!","v":{"$error":"#REF!"}},null,null,"年","YR"]
[{"$error":"#REF!"},{"$f":"#REF!","v":{"$error":"#REF!"}},{"$f":"#REF!","v":{"$error":"#REF!"}},{"$f":"#REF!","v":{"$error":"#REF!"}},{"$error":"#REF!"},{"$f":"#REF!","v":{"$error":"#REF!"}},null,null,"人","PS"]
[{"$error":"#REF!"},{"$f":"#REF!","v":{"$error":"#REF!"}},{"$f":"#REF!","v":{"$error":"#REF!"}},{"$f":"#REF!","v":{"$error":"#REF!"}},{"$error":"#REF!"},{"$f":"#REF!","v":{"$error":"#REF!"}},null,null,"食","RA"]
[{"$error":"#REF!"},{"$f":"#REF!","v":{"$error":"#REF!"}},{"$f":"#REF!","v":{"$error":"#REF!"}},{"$f":"#REF!","v":{"$error":"#REF!"}},{"$error":"#REF!"},{"$f":"#REF!","v":{"$error":"#REF!"}},null,null,"組","PR"]
[{"$error":"#REF!"},{"$f":"#REF!","v":{"$error":"#REF!"}},{"$f":"#REF!","v":{"$error":"#REF!"}},{"$f":"#REF!","v":{"$error":"#REF!"}},{"$error":"#REF!"},{"$f":"#REF!","v":{"$error":"#REF!"}},null,null,"ロール","RO"]
[{"$error":"#REF!"},{"$f":"#REF!","v":{"$error":"#REF!"}},{"$f":"#REF!","v":{"$error":"#REF!"}},{"$f":"#REF!","v":{"$error":"#REF!"}},{"$error":"#REF!"},{"$f":"#REF!","v":{"$error":"#REF!"}}]
[{"$error":"#REF!"},{"$f":"#REF!","v":{"$error":"#REF!"}},{"$f":"#REF!","v":{"$error":"#REF!"}},{"$f":"#REF!","v":{"$error":"#REF!"}},{"$error":"#REF!"},{"$f":"#REF!","v":{"$error":"#REF!"}}]
[{"$error":"#REF!"},{"$f":"#REF!","v":{"$error":"#REF!"}},{"$f":"#REF!","v":{"$error":"#REF!"}},{"$f":"#REF!","v":{"$error":"#REF!"}},{"$error":"#REF!"},{"$f":"#REF!","v":{"$error":"#REF!"}}]
[{"$error":"#REF!"},{"$f":"#REF!","v":{"$error":"#REF!"}},{"$f":"#REF!","v":{"$error":"#REF!"}},{"$f":"#REF!","v":{"$error":"#REF!"}},{"$error":"#REF!"},{"$f":"#REF!","v":{"$error":"#REF!"}}]
[{"$error":"#REF!"},{"$f":"#REF!","v":{"$error":"#REF!"}},{"$f":"#REF!","v":{"$error":"#REF!"}},{"$f":"#REF!","v":{"$error":"#REF!"}},{"$error":"#REF!"},{"$f":"#REF!","v":{"$error":"#REF!"}}]
[{"$error":"#REF!"},{"$f":"#REF!","v":{"$error":"#REF!"}},{"$f":"#REF!","v":{"$error":"#REF!"}},{"$f":"#REF!","v":{"$error":"#REF!"}},{"$error":"#REF!"},{"$f":"#REF!","v":{"$error":"#REF!"}}]
[{"$error":"#REF!"},{"$f":"#REF!","v":{"$error":"#REF!"}},{"$f":"#REF!","v":{"$error":"#REF!"}},{"$f":"#REF!","v":{"$error":"#REF!"}},{"$error":"#REF!"},{"$f":"#REF!","v":{"$error":"#REF!"}}]
[{"$error":"#REF!"},{"$f":"#REF!","v":{"$error":"#REF!"}},{"$f":"#REF!","v":{"$error":"#REF!"}},{"$f":"#REF!","v":{"$error":"#REF!"}},{"$f":"IF(OFFSET(INDIRECT(ADDRESS(ROW(),COLUMN())),0,-3)=0,0,VLOOKUP(F68,$I$4:$J$60,2,FALSE))","v":{"$error":"#REF!"}},{"$f":"#REF!","v":{"$error":"#REF!"}}]
[{"$f":"IF(B69=0,\"\",A68+1)","v":{"$error":"#REF!"}},{"$f":"#REF!","v":{"$error":"#REF!"}},{"$f":"#REF!","v":{"$error":"#REF!"}},{"$f":"#REF!","v":{"$error":"#REF!"}},{"$error":"#REF!"},{"$f":"#REF!","v":{"$error":"#REF!"}}]
[{"$error":"#REF!"},{"$f":"#REF!","v":{"$error":"#REF!"}},{"$f":"#REF!","v":{"$error":"#REF!"}},{"$f":"#REF!","v":{"$error":"#REF!"}},{"$error":"#REF!"},{"$f":"#REF!","v":{"$error":"#REF!"}}]
[{"$error":"#REF!"},{"$f":"#REF!","v":{"$error":"#REF!"}},{"$f":"#REF!","v":{"$error":"#REF!"}},{"$f":"#REF!","v":{"$error":"#REF!"}},{"$error":"#REF!"},{"$f":"#REF!","v":{"$error":"#REF!"}}]
[{"$error":"#REF!"},{"$f":"#REF!","v":{"$error":"#REF!"}},{"$f":"#REF!","v":{"$error":"#REF!"}},{"$f":"#REF!","v":{"$error":"#REF!"}},{"$error":"#REF!"},{"$f":"#REF!","v":{"$error":"#REF!"}}]
[{"$error":"#REF!"},{"$f":"#REF!","v":{"$error":"#REF!"}},{"$f":"#REF!","v":{"$error":"#REF!"}},{"$f":"#REF!","v":{"$error":"#REF!"}},{"$error":"#REF!"},{"$f":"#REF!","v":{"$error":"#REF!"}}]
[{"$error":"#REF!"},{"$f":"#REF!","v":{"$error":"#REF!"}},{"$f":"#REF!","v":{"$error":"#REF!"}},{"$f":"#REF!","v":{"$error":"#REF!"}},{"$error":"#REF!"},{"$f":"#REF!","v":{"$error":"#REF!"}}]
[{"$error":"#REF!"},{"$f":"#REF!","v":{"$error":"#REF!"}},{"$f":"#REF!","v":{"$error":"#REF!"}},{"$f":"#REF!","v":{"$error":"#REF!"}},{"$error":"#REF!"},{"$f":"#REF!","v":{"$error":"#REF!"}}]
[{"$error":"#REF!"},{"$f":"#REF!","v":{"$error":"#REF!"}},{"$f":"#REF!","v":{"$error":"#REF!"}},{"$f":"#REF!","v":{"$error":"#REF!"}},{"$error":"#REF!"},{"$f":"#REF!","v":{"$error":"#REF!"}}]
[{"$error":"#REF!"},{"$f":"#REF!","v":{"$error":"#REF!"}},{"$f":"#REF!","v":{"$error":"#REF!"}},{"$f":"#REF!","v":{"$error":"#REF!"}},{"$error":"#REF!"},{"$f":"#REF!","v":{"$error":"#REF!"}}]
[{"$error":"#REF!"},{"$f":"#REF!","v":{"$error":"#REF!"}},{"$f":"#REF!","v":{"$error":"#REF!"}},{"$f":"#REF!","v":{"$error":"#REF!"}},{"$error":"#REF!"},{"$f":"#REF!","v":{"$error":"#REF!"}}]
[{"$error":"#REF!"},{"$f":"#REF!","v":{"$error":"#REF!"}},{"$f":"#REF!","v":{"$error":"#REF!"}},{"$f":"#REF!","v":{"$error":"#REF!"}},{"$error":"#REF!"},{"$f":"#REF!","v":{"$error":"#REF!"}}]
[{"$error":"#REF!"},{"$f":"#REF!","v":{"$error":"#REF!"}},{"$f":"#REF!","v":{"$error":"#REF!"}},{"$f":"#REF!","v":{"$error":"#REF!"}},{"$error":"#REF!"},{"$f":"#REF!","v":{"$error":"#REF!"}}]
[{"$error":"#REF!"},{"$f":"#REF!","v":{"$error":"#REF!"}},{"$f":"#REF!","v":{"$error":"#REF!"}},{"$f":"#REF!","v":{"$error":"#REF!"}},{"$error":"#REF!"},{"$f":"#REF!","v":{"$error":"#REF!"}}]
[{"$error":"#REF!"},{"$f":"#REF!","v":{"$error":"#REF!"}},{"$f":"#REF!","v":{"$error":"#REF!"}},{"$f":"#REF!","v":{"$error":"#REF!"}},{"$error":"#REF!"},{"$f":"#REF!","v":{"$error":"#REF!"}}]
[{"$error":"#REF!"},{"$f":"#REF!","v":{"$error":"#REF!"}},{"$f":"#REF!","v":{"$error":"#REF!"}},{"$f":"#REF!","v":{"$error":"#REF!"}},{"$error":"#REF!"},{"$f":"#REF!","v":{"$error":"#REF!"}}]
[{"$error":"#REF!"},{"$f":"#REF!","v":{"$error":"#REF!"}},{"$f":"#REF!","v":{"$error":"#REF!"}},{"$f":"#REF!","v":{"$error":"#REF!"}},{"$error":"#REF!"},{"$f":"#REF!","v":{"$error":"#REF!"}}]
[{"$error":"#REF!"},{"$f":"#REF!","v":{"$error":"#REF!"}},{"$f":"#REF!","v":{"$error":"#REF!"}},{"$f":"#REF!","v":{"$error":"#REF!"}},{"$error":"#REF!"},{"$f":"#REF!","v":{"$error":"#REF!"}}]
[{"$error":"#REF!"},{"$f":"#REF!","v":{"$error":"#REF!"}},{"$f":"#REF!","v":{"$error":"#REF!"}},{"$f":"#REF!","v":{"$error":"#REF!"}},{"$error":"#REF!"},{"$f":"#REF!","v":{"$error":"#REF!"}}]
[{"$error":"#REF!"},{"$f":"#REF!","v":{"$error":"#REF!"}},{"$f":"#REF!","v":{"$error":"#REF!"}},{"$f":"#REF!","v":{"$error":"#REF!"}},{"$error":"#REF!"},{"$f":"#REF!","v":{"$error":"#REF!"}}]
[{"$error":"#REF!"},{"$f":"#REF!","v":{"$error":"#REF!"}},{"$f":"#REF!","v":{"$error":"#REF!"}},{"$f":"#REF!","v":{"$error":"#REF!"}},{"$error":"#REF!"},{"$f":"#REF!","v":{"$error":"#REF!"}}]
[{"$error":"#REF!"},{"$f":"#REF!","v":{"$error":"#REF!"}},{"$f":"#REF!","v":{"$error":"#REF!"}},{"$f":"#REF!","v":{"$error":"#REF!"}},{"$error":"#REF!"},{"$f":"#REF!","v":{"$error":"#REF!"}}]
[{"$error":"#REF!"},{"$f":"#REF!","v":{"$error":"#REF!"}},{"$f":"#REF!","v":{"$error":"#REF!"}},{"$f":"#REF!","v":{"$error":"#REF!"}},{"$error":"#REF!"},{"$f":"#REF!","v":{"$error":"#REF!"}}]
[{"$error":"#REF!"},{"$f":"#REF!","v":{"$error":"#REF!"}},{"$f":"#REF!","v":{"$error":"#REF!"}},{"$f":"#REF!","v":{"$error":"#REF!"}},{"$error":"#REF!"},{"$f":"#REF!","v":{"$error":"#REF!"}}]
[{"$error":"#REF!"},{"$f":"#REF!","v":{"$error":"#REF!"}},{"$f":"#REF!","v":{"$error":"#REF!"}},{"$f":"#REF!","v":{"$error":"#REF!"}},{"$error":"#REF!"},{"$f":"#REF!","v":{"$error":"#REF!"}}]
[{"$error":"#REF!"},{"$f":"#REF!","v":{"$error":"#REF!"}},{"$f":"#REF!","v":{"$error":"#REF!"}},{"$f":"#REF!","v":{"$error":"#REF!"}},{"$error":"#REF!"},{"$f":"#REF!","v":{"$error":"#REF!"}}]
[{"$error":"#REF!"},{"$f":"#REF!","v":{"$error":"#REF!"}},{"$f":"#REF!","v":{"$error":"#REF!"}},{"$f":"#REF!","v":{"$error":"#REF!"}},{"$error":"#REF!"},{"$f":"#REF!","v":{"$error":"#REF!"}}]
[{"$error":"#REF!"},{"$f":"#REF!","v":{"$error":"#REF!"}},{"$f":"#REF!","v":{"$error":"#REF!"}},{"$f":"#REF!","v":{"$error":"#REF!"}},{"$error":"#REF!"},{"$f":"#REF!","v":{"$error":"#REF!"}}]
[{"$error":"#REF!"},{"$f":"#REF!","v":{"$error":"#REF!"}},{"$f":"#REF!","v":{"$error":"#REF!"}},{"$f":"#REF!","v":{"$error":"#REF!"}},{"$error":"#REF!"},{"$f":"#REF!","v":{"$error":"#REF!"}}]
[{"$error":"#REF!"},{"$f":"#REF!","v":{"$error":"#REF!"}},{"$f":"#REF!","v":{"$error":"#REF!"}},{"$f":"#REF!","v":{"$error":"#REF!"}},{"$error":"#REF!"},{"$f":"#REF!","v":{"$error":"#REF!"}}]
[{"$error":"#REF!"},{"$f":"#REF!","v":{"$error":"#REF!"}},{"$f":"#REF!","v":{"$error":"#REF!"}},{"$f":"#REF!","v":{"$error":"#REF!"}},{"$error":"#REF!"},{"$f":"#REF!","v":{"$error":"#REF!"}}]
[{"$error":"#REF!"},{"$f":"#REF!","v":{"$error":"#REF!"}},{"$f":"#REF!","v":{"$error":"#REF!"}},{"$f":"#REF!","v":{"$error":"#REF!"}},{"$error":"#REF!"},{"$f":"#REF!","v":{"$error":"#REF!"}}]
[{"$error":"#REF!"},{"$f":"#REF!","v":{"$error":"#REF!"}},{"$f":"#REF!","v":{"$error":"#REF!"}},{"$f":"#REF!","v":{"$error":"#REF!"}},{"$error":"#REF!"},{"$f":"#REF!","v":{"$error":"#REF!"}}]
[{"$error":"#REF!"},{"$f":"#REF!","v":{"$error":"#REF!"}},{"$f":"#REF!","v":{"$error":"#REF!"}},{"$f":"#REF!","v":{"$error":"#REF!"}},{"$error":"#REF!"},{"$f":"#REF!","v":{"$error":"#REF!"}}]
[{"$error":"#REF!"},{"$f":"#REF!","v":{"$error":"#REF!"}},{"$f":"#REF!","v":{"$error":"#REF!"}},{"$f":"#REF!","v":{"$error":"#REF!"}},{"$error":"#REF!"},{"$f":"#REF!","v":{"$error":"#REF!"}}]
[{"$error":"#REF!"},{"$f":"#REF!","v":{"$error":"#REF!"}},{"$f":"#REF!","v":{"$error":"#REF!"}},{"$f":"#REF!","v":{"$error":"#REF!"}},{"$error":"#REF!"},{"$f":"#REF!","v":{"$error":"#REF!"}}]
[{"$error":"#REF!"},{"$f":"#REF!","v":{"$error":"#REF!"}},{"$f":"#REF!","v":{"$error":"#REF!"}},{"$f":"#REF!","v":{"$error":"#REF!"}},{"$error":"#REF!"},{"$f":"#REF!","v":{"$error":"#REF!"}}]
[{"$error":"#REF!"},{"$f":"#REF!","v":{"$error":"#REF!"}},{"$f":"#REF!","v":{"$error":"#REF!"}},{"$f":"#REF!","v":{"$error":"#REF!"}},{"$error":"#REF!"},{"$f":"#REF!","v":{"$error":"#REF!"}}]
[{"$error":"#REF!"},{"$f":"#REF!","v":{"$error":"#REF!"}},{"$f":"#REF!","v":{"$error":"#REF!"}},{"$f":"#REF!","v":{"$error":"#REF!"}},{"$error":"#REF!"},{"$f":"#REF!","v":{"$error":"#REF!"}}]
[{"$error":"#REF!"},{"$f":"#REF!","v":{"$error":"#REF!"}},{"$f":"#REF!","v":{"$error":"#REF!"}},{"$f":"#REF!","v":{"$error":"#REF!"}},{"$error":"#REF!"},{"$f":"#REF!","v":{"$error":"#REF!"}}]
[{"$error":"#REF!"},{"$f":"#REF!","v":{"$error":"#REF!"}},{"$f":"#REF!","v":{"$error":"#REF!"}},{"$f":"#REF!","v":{"$error":"#REF!"}},{"$error":"#REF!"},{"$f":"#REF!","v":{"$error":"#REF!"}}]
[{"$error":"#REF!"},{"$f":"#REF!","v":{"$error":"#REF!"}},{"$f":"#REF!","v":{"$error":"#REF!"}},{"$f":"#REF!","v":{"$error":"#REF!"}},{"$error":"#REF!"},{"$f":"#REF!","v":{"$error":"#REF!"}}]
[{"$error":"#REF!"},{"$f":"#REF!","v":{"$error":"#REF!"}},{"$f":"#REF!","v":{"$error":"#REF!"}},{"$f":"#REF!","v":{"$error":"#REF!"}},{"$error":"#REF!"},{"$f":"#REF!","v":{"$error":"#REF!"}}]
[{"$error":"#REF!"},{"$f":"#REF!","v":{"$error":"#REF!"}},{"$f":"#REF!","v":{"$error":"#REF!"}},{"$f":"#REF!","v":{"$error":"#REF!"}},{"$error":"#REF!"},{"$f":"#REF!","v":{"$error":"#REF!"}}]
[{"$error":"#REF!"},{"$f":"#REF!","v":{"$error":"#REF!"}},{"$f":"#REF!","v":{"$error":"#REF!"}},{"$f":"#REF!","v":{"$error":"#REF!"}},{"$error":"#REF!"},{"$f":"#REF!","v":{"$error":"#REF!"}}]
[{"$error":"#REF!"},{"$f":"#REF!","v":{"$error":"#REF!"}},{"$f":"#REF!","v":{"$error":"#REF!"}},{"$f":"#REF!","v":{"$error":"#REF!"}},{"$error":"#REF!"},{"$f":"#REF!","v":{"$error":"#REF!"}}]
[{"$error":"#REF!"},{"$f":"#REF!","v":{"$error":"#REF!"}},{"$f":"#REF!","v":{"$error":"#REF!"}},{"$f":"#REF!","v":{"$error":"#REF!"}},{"$error":"#REF!"},{"$f":"#REF!","v":{"$error":"#REF!"}}]
[{"$error":"#REF!"},{"$f":"#REF!","v":{"$error":"#REF!"}},{"$f":"#REF!","v":{"$error":"#REF!"}},{"$f":"#REF!","v":{"$error":"#REF!"}},{"$error":"#REF!"},{"$f":"#REF!","v":{"$error":"#REF!"}}]
[{"$error":"#REF!"},{"$f":"#REF!","v":{"$error":"#REF!"}},{"$f":"#REF!","v":{"$error":"#REF!"}},{"$f":"#REF!","v":{"$error":"#REF!"}},{"$error":"#REF!"},{"$f":"#REF!","v":{"$error":"#REF!"}}]
[{"$error":"#REF!"},{"$f":"#REF!","v":{"$error":"#REF!"}},{"$f":"#REF!","v":{"$error":"#REF!"}},{"$f":"#REF!","v":{"$error":"#REF!"}},{"$error":"#REF!"},{"$f":"#REF!","v":{"$error":"#REF!"}}]
[{"$error":"#REF!"},{"$f":"#REF!","v":{"$error":"#REF!"}},{"$f":"#REF!","v":{"$error":"#REF!"}},{"$f":"#REF!","v":{"$error":"#REF!"}},{"$error":"#REF!"},{"$f":"#REF!","v":{"$error":"#REF!"}}]
[{"$error":"#REF!"},{"$f":"#REF!","v":{"$error":"#REF!"}},{"$f":"#REF!","v":{"$error":"#REF!"}},{"$f":"#REF!","v":{"$error":"#REF!"}},{"$error":"#REF!"},{"$f":"#REF!","v":{"$error":"#REF!"}}]
[{"$error":"#REF!"},{"$f":"#REF!","v":{"$error":"#REF!"}},{"$f":"#REF!","v":{"$error":"#REF!"}},{"$f":"#REF!","v":{"$error":"#REF!"}},{"$error":"#REF!"},{"$f":"#REF!","v":{"$error":"#REF!"}}]
[{"$error":"#REF!"},{"$f":"#REF!","v":{"$error":"#REF!"}},{"$f":"#REF!","v":{"$error":"#REF!"}},{"$f":"#REF!","v":{"$error":"#REF!"}},{"$error":"#REF!"},{"$f":"#REF!","v":{"$error":"#REF!"}}]
[{"$error":"#REF!"},{"$f":"#REF!","v":{"$error":"#REF!"}},{"$f":"#REF!","v":{"$error":"#REF!"}},{"$f":"#REF!","v":{"$error":"#REF!"}},{"$error":"#REF!"},{"$f":"#REF!","v":{"$error":"#REF!"}}]
[{"$error":"#REF!"},{"$f":"#REF!","v":{"$error":"#REF!"}},{"$f":"#REF!","v":{"$error":"#REF!"}},{"$f":"#REF!","v":{"$error":"#REF!"}},{"$error":"#REF!"},{"$f":"#REF!","v":{"$error":"#REF!"}}]
[{"$error":"#REF!"},{"$f":"#REF!","v":{"$error":"#REF!"}},{"$f":"#REF!","v":{"$error":"#REF!"}},{"$f":"#REF!","v":{"$error":"#REF!"}},{"$error":"#REF!"},{"$f":"#REF!","v":{"$error":"#REF!"}}]
[{"$error":"#REF!"},{"$f":"#REF!","v":{"$error":"#REF!"}},{"$f":"#REF!","v":{"$error":"#REF!"}},{"$f":"#REF!","v":{"$error":"#REF!"}},{"$error":"#REF!"},{"$f":"#REF!","v":{"$error":"#REF!"}}]
[{"$error":"#REF!"},{"$f":"#REF!","v":{"$error":"#REF!"}},{"$f":"#REF!","v":{"$error":"#REF!"}},{"$f":"#REF!","v":{"$error":"#REF!"}},{"$error":"#REF!"},{"$f":"#REF!","v":{"$error":"#REF!"}}]
[{"$error":"#REF!"},{"$f":"#REF!","v":{"$error":"#REF!"}},{"$f":"#REF!","v":{"$error":"#REF!"}},{"$f":"#REF!","v":{"$error":"#REF!"}},{"$error":"#REF!"},{"$f":"#REF!","v":{"$error":"#REF!"}}]
[{"$error":"#REF!"},{"$f":"#REF!","v":{"$error":"#REF!"}},{"$f":"#REF!","v":{"$error":"#REF!"}},{"$f":"#REF!","v":{"$error":"#REF!"}},{"$error":"#REF!"},{"$f":"#REF!","v":{"$error":"#REF!"}}]
[{"$error":"#REF!"},{"$f":"#REF!","v":{"$error":"#REF!"}},{"$f":"#REF!","v":{"$error":"#REF!"}},{"$f":"#REF!","v":{"$error":"#REF!"}},{"$error":"#REF!"},{"$f":"#REF!","v":{"$error":"#REF!"}}]
[{"$error":"#REF!"},{"$f":"#REF!","v":{"$error":"#REF!"}},{"$f":"#REF!","v":{"$error":"#REF!"}},{"$f":"#REF!","v":{"$error":"#REF!"}},{"$error":"#REF!"},{"$f":"#REF!","v":{"$error":"#REF!"}}]
[{"$error":"#REF!"},{"$f":"#REF!","v":{"$error":"#REF!"}},{"$f":"#REF!","v":{"$error":"#REF!"}},{"$f":"#REF!","v":{"$error":"#REF!"}},{"$error":"#REF!"},{"$f":"#REF!","v":{"$error":"#REF!"}}]
[{"$error":"#REF!"},{"$f":"#REF!","v":{"$error":"#REF!"}},{"$f":"#REF!","v":{"$error":"#REF!"}},{"$f":"#REF!","v":{"$error":"#REF!"}},{"$f":"IF(OFFSET(INDIRECT(ADDRESS(ROW(),COLUMN())),0,-3)=0,0,VLOOKUP(F132,$I$4:$J$60,2,FALSE))","v":{"$error":"#REF!"}},{"$f":"#REF!","v":{"$error":"#REF!"}}]
[{"$f":"IF(B133=0,\"\",A132+1)","v":{"$error":"#REF!"}},{"$f":"#REF!","v":{"$error":"#REF!"}},{"$f":"#REF!","v":{"$error":"#REF!"}},{"$f":"#REF!","v":{"$error":"#REF!"}},{"$error":"#REF!"},{"$f":"#REF!","v":{"$error":"#REF!"}}]
[{"$error":"#REF!"},{"$f":"#REF!","v":{"$error":"#REF!"}},{"$f":"#REF!","v":{"$error":"#REF!"}},{"$f":"#REF!","v":{"$error":"#REF!"}},{"$error":"#REF!"},{"$f":"#REF!","v":{"$error":"#REF!"}}]
[{"$error":"#REF!"},{"$f":"#REF!","v":{"$error":"#REF!"}},{"$f":"#REF!","v":{"$error":"#REF!"}},{"$f":"#REF!","v":{"$error":"#REF!"}},{"$error":"#REF!"},{"$f":"#REF!","v":{"$error":"#REF!"}}]
[{"$error":"#REF!"},{"$f":"#REF!","v":{"$error":"#REF!"}},{"$f":"#REF!","v":{"$error":"#REF!"}},{"$f":"#REF!","v":{"$error":"#REF!"}},{"$error":"#REF!"},{"$f":"#REF!","v":{"$error":"#REF!"}}]
[{"$error":"#REF!"},{"$f":"#REF!","v":{"$error":"#REF!"}},{"$f":"#REF!","v":{"$error":"#REF!"}},{"$f":"#REF!","v":{"$error":"#REF!"}},{"$error":"#REF!"},{"$f":"#REF!","v":{"$error":"#REF!"}}]
[{"$error":"#REF!"},{"$f":"#REF!","v":{"$error":"#REF!"}},{"$f":"#REF!","v":{"$error":"#REF!"}},{"$f":"#REF!","v":{"$error":"#REF!"}},{"$error":"#REF!"},{"$f":"#REF!","v":{"$error":"#REF!"}}]
[{"$error":"#REF!"},{"$f":"#REF!","v":{"$error":"#REF!"}},{"$f":"#REF!","v":{"$error":"#REF!"}},{"$f":"#REF!","v":{"$error":"#REF!"}},{"$error":"#REF!"},{"$f":"#REF!","v":{"$error":"#REF!"}}]
[{"$error":"#REF!"},{"$f":"#REF!","v":{"$error":"#REF!"}},{"$f":"#REF!","v":{"$error":"#REF!"}},{"$f":"#REF!","v":{"$error":"#REF!"}},{"$error":"#REF!"},{"$f":"#REF!","v":{"$error":"#REF!"}}]
[{"$error":"#REF!"},{"$f":"#REF!","v":{"$error":"#REF!"}},{"$f":"#REF!","v":{"$error":"#REF!"}},{"$f":"#REF!","v":{"$error":"#REF!"}},{"$error":"#REF!"},{"$f":"#REF!","v":{"$error":"#REF!"}}]
[{"$error":"#REF!"},{"$f":"#REF!","v":{"$error":"#REF!"}},{"$f":"#REF!","v":{"$error":"#REF!"}},{"$f":"#REF!","v":{"$error":"#REF!"}},{"$error":"#REF!"},{"$f":"#REF!","v":{"$error":"#REF!"}}]
[{"$error":"#REF!"},{"$f":"#REF!","v":{"$error":"#REF!"}},{"$f":"#REF!","v":{"$error":"#REF!"}},{"$f":"#REF!","v":{"$error":"#REF!"}},{"$error":"#REF!"},{"$f":"#REF!","v":{"$error":"#REF!"}}]
[{"$error":"#REF!"},{"$f":"#REF!","v":{"$error":"#REF!"}},{"$f":"#REF!","v":{"$error":"#REF!"}},{"$f":"#REF!","v":{"$error":"#REF!"}},{"$error":"#REF!"},{"$f":"#REF!","v":{"$error":"#REF!"}}]
[{"$error":"#REF!"},{"$f":"#REF!","v":{"$error":"#REF!"}},{"$f":"#REF!","v":{"$error":"#REF!"}},{"$f":"#REF!","v":{"$error":"#REF!"}},{"$error":"#REF!"},{"$f":"#REF!","v":{"$error":"#REF!"}}]
[{"$error":"#REF!"},{"$f":"#REF!","v":{"$error":"#REF!"}},{"$f":"#REF!","v":{"$error":"#REF!"}},{"$f":"#REF!","v":{"$error":"#REF!"}},{"$error":"#REF!"},{"$f":"#REF!","v":{"$error":"#REF!"}}]
[{"$error":"#REF!"},{"$f":"#REF!","v":{"$error":"#REF!"}},{"$f":"#REF!","v":{"$error":"#REF!"}},{"$f":"#REF!","v":{"$error":"#REF!"}},{"$error":"#REF!"},{"$f":"#REF!","v":{"$error":"#REF!"}}]
[{"$error":"#REF!"},{"$f":"#REF!","v":{"$error":"#REF!"}},{"$f":"#REF!","v":{"$error":"#REF!"}},{"$f":"#REF!","v":{"$error":"#REF!"}},{"$error":"#REF!"},{"$f":"#REF!","v":{"$error":"#REF!"}}]
[{"$error":"#REF!"},{"$f":"#REF!","v":{"$error":"#REF!"}},{"$f":"#REF!","v":{"$error":"#REF!"}},{"$f":"#REF!","v":{"$error":"#REF!"}},{"$error":"#REF!"},{"$f":"#REF!","v":{"$error":"#REF!"}}]
[{"$error":"#REF!"},{"$f":"#REF!","v":{"$error":"#REF!"}},{"$f":"#REF!","v":{"$error":"#REF!"}},{"$f":"#REF!","v":{"$error":"#REF!"}},{"$error":"#REF!"},{"$f":"#REF!","v":{"$error":"#REF!"}}]
[{"$error":"#REF!"},{"$f":"#REF!","v":{"$error":"#REF!"}},{"$f":"#REF!","v":{"$error":"#REF!"}},{"$f":"#REF!","v":{"$error":"#REF!"}},{"$error":"#REF!"},{"$f":"#REF!","v":{"$error":"#REF!"}}]
[{"$error":"#REF!"},{"$f":"#REF!","v":{"$error":"#REF!"}},{"$f":"#REF!","v":{"$error":"#REF!"}},{"$f":"#REF!","v":{"$error":"#REF!"}},{"$error":"#REF!"},{"$f":"#REF!","v":{"$error":"#REF!"}}]
[{"$error":"#REF!"},{"$f":"#REF!","v":{"$error":"#REF!"}},{"$f":"#REF!","v":{"$error":"#REF!"}},{"$f":"#REF!","v":{"$error":"#REF!"}},{"$error":"#REF!"},{"$f":"#REF!","v":{"$error":"#REF!"}}]
[{"$error":"#REF!"},{"$f":"#REF!","v":{"$error":"#REF!"}},{"$f":"#REF!","v":{"$error":"#REF!"}},{"$f":"#REF!","v":{"$error":"#REF!"}},{"$error":"#REF!"},{"$f":"#REF!","v":{"$error":"#REF!"}}]
[{"$error":"#REF!"},{"$f":"#REF!","v":{"$error":"#REF!"}},{"$f":"#REF!","v":{"$error":"#REF!"}},{"$f":"#REF!","v":{"$error":"#REF!"}},{"$error":"#REF!"},{"$f":"#REF!","v":{"$error":"#REF!"}}]
[{"$error":"#REF!"},{"$f":"#REF!","v":{"$error":"#REF!"}},{"$f":"#REF!","v":{"$error":"#REF!"}},{"$f":"#REF!","v":{"$error":"#REF!"}},{"$error":"#REF!"},{"$f":"#REF!","v":{"$error":"#REF!"}}]
[{"$error":"#REF!"},{"$f":"#REF!","v":{"$error":"#REF!"}},{"$f":"#REF!","v":{"$error":"#REF!"}},{"$f":"#REF!","v":{"$error":"#REF!"}},{"$error":"#REF!"},{"$f":"#REF!","v":{"$error":"#REF!"}}]
[{"$error":"#REF!"},{"$f":"#REF!","v":{"$error":"#REF!"}},{"$f":"#REF!","v":{"$error":"#REF!"}},{"$f":"#REF!","v":{"$error":"#REF!"}},{"$error":"#REF!"},{"$f":"#REF!","v":{"$error":"#REF!"}}]
[{"$error":"#REF!"},{"$f":"#REF!","v":{"$error":"#REF!"}},{"$f":"#REF!","v":{"$error":"#REF!"}},{"$f":"#REF!","v":{"$error":"#REF!"}},{"$error":"#REF!"},{"$f":"#REF!","v":{"$error":"#REF!"}}]
[{"$error":"#REF!"},{"$f":"#REF!","v":{"$error":"#REF!"}},{"$f":"#REF!","v":{"$error":"#REF!"}},{"$f":"#REF!","v":{"$error":"#REF!"}},{"$error":"#REF!"},{"$f":"#REF!","v":{"$error":"#REF!"}}]
[{"$error":"#REF!"},{"$f":"#REF!","v":{"$error":"#REF!"}},{"$f":"#REF!","v":{"$error":"#REF!"}},{"$f":"#REF!","v":{"$error":"#REF!"}},{"$error":"#REF!"},{"$f":"#REF!","v":{"$error":"#REF!"}}]
[{"$error":"#REF!"},{"$f":"#REF!","v":{"$error":"#REF!"}},{"$f":"#REF!","v":{"$error":"#REF!"}},{"$f":"#REF!","v":{"$error":"#REF!"}},{"$error":"#REF!"},{"$f":"#REF!","v":{"$error":"#REF!"}}]
[{"$error":"#REF!"},{"$f":"#REF!","v":{"$error":"#REF!"}},{"$f":"#REF!","v":{"$error":"#REF!"}},{"$f":"#REF!","v":{"$error":"#REF!"}},{"$error":"#REF!"},{"$f":"#REF!","v":{"$error":"#REF!"}}]
[{"$error":"#REF!"},{"$f":"#REF!","v":{"$error":"#REF!"}},{"$f":"#REF!","v":{"$error":"#REF!"}},{"$f":"#REF!","v":{"$error":"#REF!"}},{"$error":"#REF!"},{"$f":"#REF!","v":{"$error":"#REF!"}}]
[{"$error":"#REF!"},{"$f":"#REF!","v":{"$error":"#REF!"}},{"$f":"#REF!","v":{"$error":"#REF!"}},{"$f":"#REF!","v":{"$error":"#REF!"}},{"$error":"#REF!"},{"$f":"#REF!","v":{"$error":"#REF!"}}]
[{"$error":"#REF!"},{"$f":"#REF!","v":{"$error":"#REF!"}},{"$f":"#REF!","v":{"$error":"#REF!"}},{"$f":"#REF!","v":{"$error":"#REF!"}},{"$error":"#REF!"},{"$f":"#REF!","v":{"$error":"#REF!"}}]
[{"$error":"#REF!"},{"$f":"#REF!","v":{"$error":"#REF!"}},{"$f":"#REF!","v":{"$error":"#REF!"}},{"$f":"#REF!","v":{"$error":"#REF!"}},{"$error":"#REF!"},{"$f":"#REF!","v":{"$error":"#REF!"}}]
[{"$error":"#REF!"},{"$f":"#REF!","v":{"$error":"#REF!"}},{"$f":"#REF!","v":{"$error":"#REF!"}},{"$f":"#REF!","v":{"$error":"#REF!"}},{"$error":"#REF!"},{"$f":"#REF!","v":{"$error":"#REF!"}}]
[{"$error":"#REF!"},{"$f":"#REF!","v":{"$error":"#REF!"}},{"$f":"#REF!","v":{"$error":"#REF!"}},{"$f":"#REF!","v":{"$error":"#REF!"}},{"$error":"#REF!"},{"$f":"#REF!","v":{"$error":"#REF!"}}]
[{"$error":"#REF!"},{"$f":"#REF!","v":{"$error":"#REF!"}},{"$f":"#REF!","v":{"$error":"#REF!"}},{"$f":"#REF!","v":{"$error":"#REF!"}},{"$error":"#REF!"},{"$f":"#REF!","v":{"$error":"#REF!"}}]
[{"$error":"#REF!"},{"$f":"#REF!","v":{"$error":"#REF!"}},{"$f":"#REF!","v":{"$error":"#REF!"}},{"$f":"#REF!","v":{"$error":"#REF!"}},{"$error":"#REF!"},{"$f":"#REF!","v":{"$error":"#REF!"}}]
[{"$error":"#REF!"},{"$f":"#REF!","v":{"$error":"#REF!"}},{"$f":"#REF!","v":{"$error":"#REF!"}},{"$f":"#REF!","v":{"$error":"#REF!"}},{"$error":"#REF!"},{"$f":"#REF!","v":{"$error":"#REF!"}}]
[{"$error":"#REF!"},{"$f":"#REF!","v":{"$error":"#REF!"}},{"$f":"#REF!","v":{"$error":"#REF!"}},{"$f":"#REF!","v":{"$error":"#REF!"}},{"$error":"#REF!"},{"$f":"#REF!","v":{"$error":"#REF!"}}]
[{"$error":"#REF!"},{"$f":"#REF!","v":{"$error":"#REF!"}},{"$f":"#REF!","v":{"$error":"#REF!"}},{"$f":"#REF!","v":{"$error":"#REF!"}},{"$error":"#REF!"},{"$f":"#REF!","v":{"$error":"#REF!"}}]
[{"$error":"#REF!"},{"$f":"#REF!","v":{"$error":"#REF!"}},{"$f":"#REF!","v":{"$error":"#REF!"}},{"$f":"#REF!","v":{"$error":"#REF!"}},{"$error":"#REF!"},{"$f":"#REF!","v":{"$error":"#REF!"}}]
[{"$error":"#REF!"},{"$f":"#REF!","v":{"$error":"#REF!"}},{"$f":"#REF!","v":{"$error":"#REF!"}},{"$f":"#REF!","v":{"$error":"#REF!"}},{"$error":"#REF!"},{"$f":"#REF!","v":{"$error":"#REF!"}}]
[{"$error":"#REF!"},{"$f":"#REF!","v":{"$error":"#REF!"}},{"$f":"#REF!","v":{"$error":"#REF!"}},{"$f":"#REF!","v":{"$error":"#REF!"}},{"$error":"#REF!"},{"$f":"#REF!","v":{"$error":"#REF!"}}]
[{"$error":"#REF!"},{"$f":"#REF!","v":{"$error":"#REF!"}},{"$f":"#REF!","v":{"$error":"#REF!"}},{"$f":"#REF!","v":{"$error":"#REF!"}},{"$error":"#REF!"},{"$f":"#REF!","v":{"$error":"#REF!"}}]
[{"$error":"#REF!"},{"$f":"#REF!","v":{"$error":"#REF!"}},{"$f":"#REF!","v":{"$error":"#REF!"}},{"$f":"#REF!","v":{"$error":"#REF!"}},{"$error":"#REF!"},{"$f":"#REF!","v":{"$error":"#REF!"}}]
[{"$error":"#REF!"},{"$f":"#REF!","v":{"$error":"#REF!"}},{"$f":"#REF!","v":{"$error":"#REF!"}},{"$f":"#REF!","v":{"$error":"#REF!"}},{"$error":"#REF!"},{"$f":"#REF!","v":{"$error":"#REF!"}}]
[{"$error":"#REF!"},{"$f":"#REF!","v":{"$error":"#REF!"}},{"$f":"#REF!","v":{"$error":"#REF!"}},{"$f":"#REF!","v":{"$error":"#REF!"}},{"$error":"#REF!"},{"$f":"#REF!","v":{"$error":"#REF!"}}]
[{"$error":"#REF!"},{"$f":"#REF!","v":{"$error":"#REF!"}},{"$f":"#REF!","v":{"$error":"#REF!"}},{"$f":"#REF!","v":{"$error":"#REF!"}},{"$error":"#REF!"},{"$f":"#REF!","v":{"$error":"#REF!"}}]
[{"$error":"#REF!"},{"$f":"#REF!","v":{"$error":"#REF!"}},{"$f":"#REF!","v":{"$error":"#REF!"}},{"$f":"#REF!","v":{"$error":"#REF!"}},{"$error":"#REF!"},{"$f":"#REF!","v":{"$error":"#REF!"}}]
[{"$error":"#REF!"},{"$f":"#REF!","v":{"$error":"#REF!"}},{"$f":"#REF!","v":{"$error":"#REF!"}},{"$f":"#REF!","v":{"$error":"#REF!"}},{"$error":"#REF!"},{"$f":"#REF!","v":{"$error":"#REF!"}}]
[{"$error":"#REF!"},{"$f":"#REF!","v":{"$error":"#REF!"}},{"$f":"#REF!","v":{"$error":"#REF!"}},{"$f":"#REF!","v":{"$error":"#REF!"}},{"$error":"#REF!"},{"$f":"#REF!","v":{"$error":"#REF!"}}]
[{"$error":"#REF!"},{"$f":"#REF!","v":{"$error":"#REF!"}},{"$f":"#REF!","v":{"$error":"#REF!"}},{"$f":"#REF!","v":{"$error":"#REF!"}},{"$error":"#REF!"},{"$f":"#REF!","v":{"$error":"#REF!"}}]
[{"$error":"#REF!"},{"$f":"#REF!","v":{"$error":"#REF!"}},{"$f":"#REF!","v":{"$error":"#REF!"}},{"$f":"#REF!","v":{"$error":"#REF!"}},{"$error":"#REF!"},{"$f":"#REF!","v":{"$error":"#REF!"}}]
[{"$error":"#REF!"},{"$f":"#REF!","v":{"$error":"#REF!"}},{"$f":"#REF!","v":{"$error":"#REF!"}},{"$f":"#REF!","v":{"$error":"#REF!"}},{"$error":"#REF!"},{"$f":"#REF!","v":{"$error":"#REF!"}}]
[{"$error":"#REF!"},{"$f":"#REF!","v":{"$error":"#REF!"}},{"$f":"#REF!","v":{"$error":"#REF!"}},{"$f":"#REF!","v":{"$error":"#REF!"}},{"$error":"#REF!"},{"$f":"#REF!","v":{"$error":"#REF!"}}]
[{"$error":"#REF!"},{"$f":"#REF!","v":{"$error":"#REF!"}},{"$f":"#REF!","v":{"$error":"#REF!"}},{"$f":"#REF!","v":{"$error":"#REF!"}},{"$error":"#REF!"},{"$f":"#REF!","v":{"$error":"#REF!"}}]
[{"$error":"#REF!"},{"$f":"#REF!","v":{"$error":"#REF!"}},{"$f":"#REF!","v":{"$error":"#REF!"}},{"$f":"#REF!","v":{"$error":"#REF!"}},{"$error":"#REF!"},{"$f":"#REF!","v":{"$error":"#REF!"}}]
[{"$error":"#REF!"},{"$f":"#REF!","v":{"$error":"#REF!"}},{"$f":"#REF!","v":{"$error":"#REF!"}},{"$f":"#REF!","v":{"$error":"#REF!"}},{"$error":"#REF!"},{"$f":"#REF!","v":{"$error":"#REF!"}}]
[{"$error":"#REF!"},{"$f":"#REF!","v":{"$error":"#REF!"}},{"$f":"#REF!","v":{"$error":"#REF!"}},{"$f":"#REF!","v":{"$error":"#REF!"}},{"$error":"#REF!"},{"$f":"#REF!","v":{"$error":"#REF!"}}]
[{"$error":"#REF!"},{"$f":"#REF!","v":{"$error":"#REF!"}},{"$f":"#REF!","v":{"$error":"#REF!"}},{"$f":"#REF!","v":{"$error":"#REF!"}},{"$error":"#REF!"},{"$f":"#REF!","v":{"$error":"#REF!"}}]
[{"$error":"#REF!"},{"$f":"#REF!","v":{"$error":"#REF!"}},{"$f":"#REF!","v":{"$error":"#REF!"}},{"$f":"#REF!","v":{"$error":"#REF!"}},{"$error":"#REF!"},{"$f":"#REF!","v":{"$error":"#REF!"}}]
[{"$error":"#REF!"},{"$f":"#REF!","v":{"$error":"#REF!"}},{"$f":"#REF!","v":{"$error":"#REF!"}},{"$f":"#REF!","v":{"$error":"#REF!"}},{"$f":"IF(OFFSET(INDIRECT(ADDRESS(ROW(),COLUMN())),0,-3)=0,0,VLOOKUP(F196,$I$4:$J$60,2,FALSE))","v":{"$error":"#REF!"}},{"$f":"#REF!","v":{"$error":"#REF!"}}]
[{"$f":"IF(B197=0,\"\",A196+1)","v":{"$error":"#REF!"}},{"$f":"#REF!","v":{"$error":"#REF!"}},{"$f":"#REF!","v":{"$error":"#REF!"}},{"$f":"#REF!","v":{"$error":"#REF!"}},{"$error":"#REF!"},{"$f":"#REF!","v":{"$error":"#REF!"}}]
[{"$error":"#REF!"},{"$f":"#REF!","v":{"$error":"#REF!"}},{"$f":"#REF!","v":{"$error":"#REF!"}},{"$f":"#REF!","v":{"$error":"#REF!"}},{"$error":"#REF!"},{"$f":"#REF!","v":{"$error":"#REF!"}}]
[{"$error":"#REF!"},{"$f":"#REF!","v":{"$error":"#REF!"}},{"$f":"#REF!","v":{"$error":"#REF!"}},{"$f":"#REF!","v":{"$error":"#REF!"}},{"$error":"#REF!"},{"$f":"#REF!","v":{"$error":"#REF!"}}]
[{"$error":"#REF!"},{"$f":"#REF!","v":{"$error":"#REF!"}},{"$f":"#REF!","v":{"$error":"#REF!"}},{"$f":"#REF!","v":{"$error":"#REF!"}},{"$error":"#REF!"},{"$f":"#REF!","v":{"$error":"#REF!"}}]
[{"$error":"#REF!"},{"$f":"#REF!","v":{"$error":"#REF!"}},{"$f":"#REF!","v":{"$error":"#REF!"}},{"$f":"#REF!","v":{"$error":"#REF!"}},{"$error":"#REF!"},{"$f":"#REF!","v":{"$error":"#REF!"}}]
[{"$error":"#REF!"},{"$f":"#REF!","v":{"$error":"#REF!"}},{"$f":"#REF!","v":{"$error":"#REF!"}},{"$f":"#REF!","v":{"$error":"#REF!"}},{"$error":"#REF!"},{"$f":"#REF!","v":{"$error":"#REF!"}}]
[{"$error":"#REF!"},{"$f":"#REF!","v":{"$error":"#REF!"}},{"$f":"#REF!","v":{"$error":"#REF!"}},{"$f":"#REF!","v":{"$error":"#REF!"}},{"$error":"#REF!"},{"$f":"#REF!","v":{"$error":"#REF!"}}]
[{"$error":"#REF!"},{"$f":"#REF!","v":{"$error":"#REF!"}},{"$f":"#REF!","v":{"$error":"#REF!"}},{"$f":"#REF!","v":{"$error":"#REF!"}},{"$error":"#REF!"},{"$f":"#REF!","v":{"$error":"#REF!"}}]
[{"$error":"#REF!"},{"$f":"#REF!","v":{"$error":"#REF!"}},{"$f":"#REF!","v":{"$error":"#REF!"}},{"$f":"#REF!","v":{"$error":"#REF!"}},{"$error":"#REF!"},{"$f":"#REF!","v":{"$error":"#REF!"}}]
[{"$error":"#REF!"},{"$f":"#REF!","v":{"$error":"#REF!"}},{"$f":"#REF!","v":{"$error":"#REF!"}},{"$f":"#REF!","v":{"$error":"#REF!"}},{"$error":"#REF!"},{"$f":"#REF!","v":{"$error":"#REF!"}}]
[{"$error":"#REF!"},{"$f":"#REF!","v":{"$error":"#REF!"}},{"$f":"#REF!","v":{"$error":"#REF!"}},{"$f":"#REF!","v":{"$error":"#REF!"}},{"$error":"#REF!"},{"$f":"#REF!","v":{"$error":"#REF!"}}]
[{"$error":"#REF!"},{"$f":"#REF!","v":{"$error":"#REF!"}},{"$f":"#REF!","v":{"$error":"#REF!"}},{"$f":"#REF!","v":{"$error":"#REF!"}},{"$error":"#REF!"},{"$f":"#REF!","v":{"$error":"#REF!"}}]
[{"$error":"#REF!"},{"$f":"#REF!","v":{"$error":"#REF!"}},{"$f":"#REF!","v":{"$error":"#REF!"}},{"$f":"#REF!","v":{"$error":"#REF!"}},{"$error":"#REF!"},{"$f":"#REF!","v":{"$error":"#REF!"}}]
[{"$error":"#REF!"},{"$f":"#REF!","v":{"$error":"#REF!"}},{"$f":"#REF!","v":{"$error":"#REF!"}},{"$f":"#REF!","v":{"$error":"#REF!"}},{"$error":"#REF!"},{"$f":"#REF!","v":{"$error":"#REF!"}}]
[{"$error":"#REF!"},{"$f":"#REF!","v":{"$error":"#REF!"}},{"$f":"#REF!","v":{"$error":"#REF!"}},{"$f":"#REF!","v":{"$error":"#REF!"}},{"$error":"#REF!"},{"$f":"#REF!","v":{"$error":"#REF!"}}]
[{"$error":"#REF!"},{"$f":"#REF!","v":{"$error":"#REF!"}},{"$f":"#REF!","v":{"$error":"#REF!"}},{"$f":"#REF!","v":{"$error":"#REF!"}},{"$error":"#REF!"},{"$f":"#REF!","v":{"$error":"#REF!"}}]
[{"$error":"#REF!"},{"$f":"#REF!","v":{"$error":"#REF!"}},{"$f":"#REF!","v":{"$error":"#REF!"}},{"$f":"#REF!","v":{"$error":"#REF!"}},{"$error":"#REF!"},{"$f":"#REF!","v":{"$error":"#REF!"}}]
[{"$error":"#REF!"},{"$f":"#REF!","v":{"$error":"#REF!"}},{"$f":"#REF!","v":{"$error":"#REF!"}},{"$f":"#REF!","v":{"$error":"#REF!"}},{"$error":"#REF!"},{"$f":"#REF!","v":{"$error":"#REF!"}}]
[{"$error":"#REF!"},{"$f":"#REF!","v":{"$error":"#REF!"}},{"$f":"#REF!","v":{"$error":"#REF!"}},{"$f":"#REF!","v":{"$error":"#REF!"}},{"$error":"#REF!"},{"$f":"#REF!","v":{"$error":"#REF!"}}]
[{"$error":"#REF!"},{"$f":"#REF!","v":{"$error":"#REF!"}},{"$f":"#REF!","v":{"$error":"#REF!"}},{"$f":"#REF!","v":{"$error":"#REF!"}},{"$error":"#REF!"},{"$f":"#REF!","v":{"$error":"#REF!"}}]
[{"$error":"#REF!"},{"$f":"#REF!","v":{"$error":"#REF!"}},{"$f":"#REF!","v":{"$error":"#REF!"}},{"$f":"#REF!","v":{"$error":"#REF!"}},{"$error":"#REF!"},{"$f":"#REF!","v":{"$error":"#REF!"}}]
[{"$error":"#REF!"},{"$f":"#REF!","v":{"$error":"#REF!"}},{"$f":"#REF!","v":{"$error":"#REF!"}},{"$f":"#REF!","v":{"$error":"#REF!"}},{"$error":"#REF!"},{"$f":"#REF!","v":{"$error":"#REF!"}}]
[{"$error":"#REF!"},{"$f":"#REF!","v":{"$error":"#REF!"}},{"$f":"#REF!","v":{"$error":"#REF!"}},{"$f":"#REF!","v":{"$error":"#REF!"}},{"$error":"#REF!"},{"$f":"#REF!","v":{"$error":"#REF!"}}]
[{"$error":"#REF!"},{"$f":"#REF!","v":{"$error":"#REF!"}},{"$f":"#REF!","v":{"$error":"#REF!"}},{"$f":"#REF!","v":{"$error":"#REF!"}},{"$error":"#REF!"},{"$f":"#REF!","v":{"$error":"#REF!"}}]
[{"$error":"#REF!"},{"$f":"#REF!","v":{"$error":"#REF!"}},{"$f":"#REF!","v":{"$error":"#REF!"}},{"$f":"#REF!","v":{"$error":"#REF!"}},{"$error":"#REF!"},{"$f":"#REF!","v":{"$error":"#REF!"}}]
[{"$error":"#REF!"},{"$f":"#REF!","v":{"$error":"#REF!"}},{"$f":"#REF!","v":{"$error":"#REF!"}},{"$f":"#REF!","v":{"$error":"#REF!"}},{"$error":"#REF!"},{"$f":"#REF!","v":{"$error":"#REF!"}}]
[{"$error":"#REF!"},{"$f":"#REF!","v":{"$error":"#REF!"}},{"$f":"#REF!","v":{"$error":"#REF!"}},{"$f":"#REF!","v":{"$error":"#REF!"}},{"$error":"#REF!"},{"$f":"#REF!","v":{"$error":"#REF!"}}]
[{"$error":"#REF!"},{"$f":"#REF!","v":{"$error":"#REF!"}},{"$f":"#REF!","v":{"$error":"#REF!"}},{"$f":"#REF!","v":{"$error":"#REF!"}},{"$error":"#REF!"},{"$f":"#REF!","v":{"$error":"#REF!"}}]
[{"$error":"#REF!"},{"$f":"#REF!","v":{"$error":"#REF!"}},{"$f":"#REF!","v":{"$error":"#REF!"}},{"$f":"#REF!","v":{"$error":"#REF!"}},{"$error":"#REF!"},{"$f":"#REF!","v":{"$error":"#REF!"}}]
[{"$error":"#REF!"},{"$f":"#REF!","v":{"$error":"#REF!"}},{"$f":"#REF!","v":{"$error":"#REF!"}},{"$f":"#REF!","v":{"$error":"#REF!"}},{"$error":"#REF!"},{"$f":"#REF!","v":{"$error":"#REF!"}}]
[{"$error":"#REF!"},{"$f":"#REF!","v":{"$error":"#REF!"}},{"$f":"#REF!","v":{"$error":"#REF!"}},{"$f":"#REF!","v":{"$error":"#REF!"}},{"$error":"#REF!"},{"$f":"#REF!","v":{"$error":"#REF!"}}]
[{"$error":"#REF!"},{"$f":"#REF!","v":{"$error":"#REF!"}},{"$f":"#REF!","v":{"$error":"#REF!"}},{"$f":"#REF!","v":{"$error":"#REF!"}},{"$error":"#REF!"},{"$f":"#REF!","v":{"$error":"#REF!"}}]
[{"$error":"#REF!"},{"$f":"#REF!","v":{"$error":"#REF!"}},{"$f":"#REF!","v":{"$error":"#REF!"}},{"$f":"#REF!","v":{"$error":"#REF!"}},{"$error":"#REF!"},{"$f":"#REF!","v":{"$error":"#REF!"}}]
[{"$error":"#REF!"},{"$f":"#REF!","v":{"$error":"#REF!"}},{"$f":"#REF!","v":{"$error":"#REF!"}},{"$f":"#REF!","v":{"$error":"#REF!"}},{"$error":"#REF!"},{"$f":"#REF!","v":{"$error":"#REF!"}}]
[{"$error":"#REF!"},{"$f":"#REF!","v":{"$error":"#REF!"}},{"$f":"#REF!","v":{"$error":"#REF!"}},{"$f":"#REF!","v":{"$error":"#REF!"}},{"$error":"#REF!"},{"$f":"#REF!","v":{"$error":"#REF!"}}]
[{"$error":"#REF!"},{"$f":"#REF!","v":{"$error":"#REF!"}},{"$f":"#REF!","v":{"$error":"#REF!"}},{"$f":"#REF!","v":{"$error":"#REF!"}},{"$error":"#REF!"},{"$f":"#REF!","v":{"$error":"#REF!"}}]
[{"$error":"#REF!"},{"$f":"#REF!","v":{"$error":"#REF!"}},{"$f":"#REF!","v":{"$error":"#REF!"}},{"$f":"#REF!","v":{"$error":"#REF!"}},{"$error":"#REF!"},{"$f":"#REF!","v":{"$error":"#REF!"}}]
[{"$error":"#REF!"},{"$f":"#REF!","v":{"$error":"#REF!"}},{"$f":"#REF!","v":{"$error":"#REF!"}},{"$f":"#REF!","v":{"$error":"#REF!"}},{"$error":"#REF!"},{"$f":"#REF!","v":{"$error":"#REF!"}}]
[{"$error":"#REF!"},{"$f":"#REF!","v":{"$error":"#REF!"}},{"$f":"#REF!","v":{"$error":"#REF!"}},{"$f":"#REF!","v":{"$error":"#REF!"}},{"$error":"#REF!"},{"$f":"#REF!","v":{"$error":"#REF!"}}]
[{"$error":"#REF!"},{"$f":"#REF!","v":{"$error":"#REF!"}},{"$f":"#REF!","v":{"$error":"#REF!"}},{"$f":"#REF!","v":{"$error":"#REF!"}},{"$error":"#REF!"},{"$f":"#REF!","v":{"$error":"#REF!"}}]
[{"$error":"#REF!"},{"$f":"#REF!","v":{"$error":"#REF!"}},{"$f":"#REF!","v":{"$error":"#REF!"}},{"$f":"#REF!","v":{"$error":"#REF!"}},{"$error":"#REF!"},{"$f":"#REF!","v":{"$error":"#REF!"}}]
[{"$error":"#REF!"},{"$f":"#REF!","v":{"$error":"#REF!"}},{"$f":"#REF!","v":{"$error":"#REF!"}},{"$f":"#REF!","v":{"$error":"#REF!"}},{"$error":"#REF!"},{"$f":"#REF!","v":{"$error":"#REF!"}}]
[{"$error":"#REF!"},{"$f":"#REF!","v":{"$error":"#REF!"}},{"$f":"#REF!","v":{"$error":"#REF!"}},{"$f":"#REF!","v":{"$error":"#REF!"}},{"$error":"#REF!"},{"$f":"#REF!","v":{"$error":"#REF!"}}]
[{"$error":"#REF!"},{"$f":"#REF!","v":{"$error":"#REF!"}},{"$f":"#REF!","v":{"$error":"#REF!"}},{"$f":"#REF!","v":{"$error":"#REF!"}},{"$error":"#REF!"},{"$f":"#REF!","v":{"$error":"#REF!"}}]
[{"$error":"#REF!"},{"$f":"#REF!","v":{"$error":"#REF!"}},{"$f":"#REF!","v":{"$error":"#REF!"}},{"$f":"#REF!","v":{"$error":"#REF!"}},{"$error":"#REF!"},{"$f":"#REF!","v":{"$error":"#REF!"}}]
[{"$error":"#REF!"},{"$f":"#REF!","v":{"$error":"#REF!"}},{"$f":"#REF!","v":{"$error":"#REF!"}},{"$f":"#REF!","v":{"$error":"#REF!"}},{"$error":"#REF!"},{"$f":"#REF!","v":{"$error":"#REF!"}}]
[{"$error":"#REF!"},{"$f":"#REF!","v":{"$error":"#REF!"}},{"$f":"#REF!","v":{"$error":"#REF!"}},{"$f":"#REF!","v":{"$error":"#REF!"}},{"$error":"#REF!"},{"$f":"#REF!","v":{"$error":"#REF!"}}]
[{"$error":"#REF!"},{"$f":"#REF!","v":{"$error":"#REF!"}},{"$f":"#REF!","v":{"$error":"#REF!"}},{"$f":"#REF!","v":{"$error":"#REF!"}},{"$error":"#REF!"},{"$f":"#REF!","v":{"$error":"#REF!"}}]
[{"$error":"#REF!"},{"$f":"#REF!","v":{"$error":"#REF!"}},{"$f":"#REF!","v":{"$error":"#REF!"}},{"$f":"#REF!","v":{"$error":"#REF!"}},{"$error":"#REF!"},{"$f":"#REF!","v":{"$error":"#REF!"}}]
[{"$error":"#REF!"},{"$f":"#REF!","v":{"$error":"#REF!"}},{"$f":"#REF!","v":{"$error":"#REF!"}},{"$f":"#REF!","v":{"$error":"#REF!"}},{"$error":"#REF!"},{"$f":"#REF!","v":{"$error":"#REF!"}}]
[{"$error":"#REF!"},{"$f":"#REF!","v":{"$error":"#REF!"}},{"$f":"#REF!","v":{"$error":"#REF!"}},{"$f":"#REF!","v":{"$error":"#REF!"}},{"$error":"#REF!"},{"$f":"#REF!","v":{"$error":"#REF!"}}]
[{"$error":"#REF!"},{"$f":"#REF!","v":{"$error":"#REF!"}},{"$f":"#REF!","v":{"$error":"#REF!"}},{"$f":"#REF!","v":{"$error":"#REF!"}},{"$error":"#REF!"},{"$f":"#REF!","v":{"$error":"#REF!"}}]
[{"$error":"#REF!"},{"$f":"#REF!","v":{"$error":"#REF!"}},{"$f":"#REF!","v":{"$error":"#REF!"}},{"$f":"#REF!","v":{"$error":"#REF!"}},{"$error":"#REF!"},{"$f":"#REF!","v":{"$error":"#REF!"}}]
[{"$error":"#REF!"},{"$f":"#REF!","v":{"$error":"#REF!"}},{"$f":"#REF!","v":{"$error":"#REF!"}},{"$f":"#REF!","v":{"$error":"#REF!"}},{"$error":"#REF!"},{"$f":"#REF!","v":{"$error":"#REF!"}}]
[{"$error":"#REF!"},{"$f":"#REF!","v":{"$error":"#REF!"}},{"$f":"#REF!","v":{"$error":"#REF!"}},{"$f":"#REF!","v":{"$error":"#REF!"}},{"$error":"#REF!"},{"$f":"#REF!","v":{"$error":"#REF!"}}]
[{"$error":"#REF!"},{"$f":"#REF!","v":{"$error":"#REF!"}},{"$f":"#REF!","v":{"$error":"#REF!"}},{"$f":"#REF!","v":{"$error":"#REF!"}},{"$error":"#REF!"},{"$f":"#REF!","v":{"$error":"#REF!"}}]
[{"$error":"#REF!"},{"$f":"#REF!","v":{"$error":"#REF!"}},{"$f":"#REF!","v":{"$error":"#REF!"}},{"$f":"#REF!","v":{"$error":"#REF!"}},{"$error":"#REF!"},{"$f":"#REF!","v":{"$error":"#REF!"}}]
[{"$error":"#REF!"},{"$f":"#REF!","v":{"$error":"#REF!"}},{"$f":"#REF!","v":{"$error":"#REF!"}},{"$f":"#REF!","v":{"$error":"#REF!"}},{"$error":"#REF!"},{"$f":"#REF!","v":{"$error":"#REF!"}}]
[{"$error":"#REF!"},{"$f":"#REF!","v":{"$error":"#REF!"}},{"$f":"#REF!","v":{"$error":"#REF!"}},{"$f":"#REF!","v":{"$error":"#REF!"}},{"$error":"#REF!"},{"$f":"#REF!","v":{"$error":"#REF!"}}]
[{"$error":"#REF!"},{"$f":"#REF!","v":{"$error":"#REF!"}},{"$f":"#REF!","v":{"$error":"#REF!"}},{"$f":"#REF!","v":{"$error":"#REF!"}},{"$error":"#REF!"},{"$f":"#REF!","v":{"$error":"#REF!"}}]
[{"$error":"#REF!"},{"$f":"#REF!","v":{"$error":"#REF!"}},{"$f":"#REF!","v":{"$error":"#REF!"}},{"$f":"#REF!","v":{"$error":"#REF!"}},{"$error":"#REF!"},{"$f":"#REF!","v":{"$error":"#REF!"}}]
[{"$error":"#REF!"},{"$f":"#REF!","v":{"$error":"#REF!"}},{"$f":"#REF!","v":{"$error":"#REF!"}},{"$f":"#REF!","v":{"$error":"#REF!"}},{"$error":"#REF!"},{"$f":"#REF!","v":{"$error":"#REF!"}}]
[{"$error":"#REF!"},{"$f":"#REF!","v":{"$error":"#REF!"}},{"$f":"#REF!","v":{"$error":"#REF!"}},{"$f":"#REF!","v":{"$error":"#REF!"}},{"$error":"#REF!"},{"$f":"#REF!","v":{"$error":"#REF!"}}]
[{"$error":"#REF!"},{"$f":"#REF!","v":{"$error":"#REF!"}},{"$f":"#REF!","v":{"$error":"#REF!"}},{"$f":"#REF!","v":{"$error":"#REF!"}},{"$f":"IF(OFFSET(INDIRECT(ADDRESS(ROW(),COLUMN())),0,-3)=0,0,VLOOKUP(F260,$I$4:$J$60,2,FALSE))","v":{"$error":"#REF!"}},{"$f":"#REF!","v":{"$error":"#REF!"}}]
[{"$f":"IF(B261=0,\"\",A260+1)","v":{"$error":"#REF!"}},{"$f":"#REF!","v":{"$error":"#REF!"}},{"$f":"#REF!","v":{"$error":"#REF!"}},{"$f":"#REF!","v":{"$error":"#REF!"}},{"$error":"#REF!"},{"$f":"#REF!","v":{"$error":"#REF!"}}]
[{"$error":"#REF!"},{"$f":"#REF!","v":{"$error":"#REF!"}},{"$f":"#REF!","v":{"$error":"#REF!"}},{"$f":"#REF!","v":{"$error":"#REF!"}},{"$error":"#REF!"},{"$f":"#REF!","v":{"$error":"#REF!"}}]
[{"$error":"#REF!"},{"$f":"#REF!","v":{"$error":"#REF!"}},{"$f":"#REF!","v":{"$error":"#REF!"}},{"$f":"#REF!","v":{"$error":"#REF!"}},{"$error":"#REF!"},{"$f":"#REF!","v":{"$error":"#REF!"}}]
[{"$error":"#REF!"},{"$f":"#REF!","v":{"$error":"#REF!"}},{"$f":"#REF!","v":{"$error":"#REF!"}},{"$f":"#REF!","v":{"$error":"#REF!"}},{"$error":"#REF!"},{"$f":"#REF!","v":{"$error":"#REF!"}}]
[{"$error":"#REF!"},{"$f":"#REF!","v":{"$error":"#REF!"}},{"$f":"#REF!","v":{"$error":"#REF!"}},{"$f":"#REF!","v":{"$error":"#REF!"}},{"$error":"#REF!"},{"$f":"#REF!","v":{"$error":"#REF!"}}]
[{"$error":"#REF!"},{"$f":"#REF!","v":{"$error":"#REF!"}},{"$f":"#REF!","v":{"$error":"#REF!"}},{"$f":"#REF!","v":{"$error":"#REF!"}},{"$error":"#REF!"},{"$f":"#REF!","v":{"$error":"#REF!"}}]
[{"$error":"#REF!"},{"$f":"#REF!","v":{"$error":"#REF!"}},{"$f":"#REF!","v":{"$error":"#REF!"}},{"$f":"#REF!","v":{"$error":"#REF!"}},{"$error":"#REF!"},{"$f":"#REF!","v":{"$error":"#REF!"}}]
[{"$error":"#REF!"},{"$f":"#REF!","v":{"$error":"#REF!"}},{"$f":"#REF!","v":{"$error":"#REF!"}},{"$f":"#REF!","v":{"$error":"#REF!"}},{"$error":"#REF!"},{"$f":"#REF!","v":{"$error":"#REF!"}}]
[{"$error":"#REF!"},{"$f":"#REF!","v":{"$error":"#REF!"}},{"$f":"#REF!","v":{"$error":"#REF!"}},{"$f":"#REF!","v":{"$error":"#REF!"}},{"$error":"#REF!"},{"$f":"#REF!","v":{"$error":"#REF!"}}]
[{"$error":"#REF!"},{"$f":"#REF!","v":{"$error":"#REF!"}},{"$f":"#REF!","v":{"$error":"#REF!"}},{"$f":"#REF!","v":{"$error":"#REF!"}},{"$error":"#REF!"},{"$f":"#REF!","v":{"$error":"#REF!"}}]
[{"$error":"#REF!"},{"$f":"#REF!","v":{"$error":"#REF!"}},{"$f":"#REF!","v":{"$error":"#REF!"}},{"$f":"#REF!","v":{"$error":"#REF!"}},{"$error":"#REF!"},{"$f":"#REF!","v":{"$error":"#REF!"}}]
[{"$error":"#REF!"},{"$f":"#REF!","v":{"$error":"#REF!"}},{"$f":"#REF!","v":{"$error":"#REF!"}},{"$f":"#REF!","v":{"$error":"#REF!"}},{"$error":"#REF!"},{"$f":"#REF!","v":{"$error":"#REF!"}}]
[{"$error":"#REF!"},{"$f":"#REF!","v":{"$error":"#REF!"}},{"$f":"#REF!","v":{"$error":"#REF!"}},{"$f":"#REF!","v":{"$error":"#REF!"}},{"$error":"#REF!"},{"$f":"#REF!","v":{"$error":"#REF!"}}]
[{"$error":"#REF!"},{"$f":"#REF!","v":{"$error":"#REF!"}},{"$f":"#REF!","v":{"$error":"#REF!"}},{"$f":"#REF!","v":{"$error":"#REF!"}},{"$error":"#REF!"},{"$f":"#REF!","v":{"$error":"#REF!"}}]
[{"$error":"#REF!"},{"$f":"#REF!","v":{"$error":"#REF!"}},{"$f":"#REF!","v":{"$error":"#REF!"}},{"$f":"#REF!","v":{"$error":"#REF!"}},{"$error":"#REF!"},{"$f":"#REF!","v":{"$error":"#REF!"}}]
[{"$error":"#REF!"},{"$f":"#REF!","v":{"$error":"#REF!"}},{"$f":"#REF!","v":{"$error":"#REF!"}},{"$f":"#REF!","v":{"$error":"#REF!"}},{"$error":"#REF!"},{"$f":"#REF!","v":{"$error":"#REF!"}}]
[{"$error":"#REF!"},{"$f":"#REF!","v":{"$error":"#REF!"}},{"$f":"#REF!","v":{"$error":"#REF!"}},{"$f":"#REF!","v":{"$error":"#REF!"}},{"$error":"#REF!"},{"$f":"#REF!","v":{"$error":"#REF!"}}]
[{"$error":"#REF!"},{"$f":"#REF!","v":{"$error":"#REF!"}},{"$f":"#REF!","v":{"$error":"#REF!"}},{"$f":"#REF!","v":{"$error":"#REF!"}},{"$error":"#REF!"},{"$f":"#REF!","v":{"$error":"#REF!"}}]
[{"$error":"#REF!"},{"$f":"#REF!","v":{"$error":"#REF!"}},{"$f":"#REF!","v":{"$error":"#REF!"}},{"$f":"#REF!","v":{"$error":"#REF!"}},{"$error":"#REF!"},{"$f":"#REF!","v":{"$error":"#REF!"}}]
[{"$error":"#REF!"},{"$f":"#REF!","v":{"$error":"#REF!"}},{"$f":"#REF!","v":{"$error":"#REF!"}},{"$f":"#REF!","v":{"$error":"#REF!"}},{"$error":"#REF!"},{"$f":"#REF!","v":{"$error":"#REF!"}}]
[{"$error":"#REF!"},{"$f":"#REF!","v":{"$error":"#REF!"}},{"$f":"#REF!","v":{"$error":"#REF!"}},{"$f":"#REF!","v":{"$error":"#REF!"}},{"$error":"#REF!"},{"$f":"#REF!","v":{"$error":"#REF!"}}]
[{"$error":"#REF!"},{"$f":"#REF!","v":{"$error":"#REF!"}},{"$f":"#REF!","v":{"$error":"#REF!"}},{"$f":"#REF!","v":{"$error":"#REF!"}},{"$error":"#REF!"},{"$f":"#REF!","v":{"$error":"#REF!"}}]
[{"$error":"#REF!"},{"$f":"#REF!","v":{"$error":"#REF!"}},{"$f":"#REF!","v":{"$error":"#REF!"}},{"$f":"#REF!","v":{"$error":"#REF!"}},{"$error":"#REF!"},{"$f":"#REF!","v":{"$error":"#REF!"}}]
[{"$error":"#REF!"},{"$f":"#REF!","v":{"$error":"#REF!"}},{"$f":"#REF!","v":{"$error":"#REF!"}},{"$f":"#REF!","v":{"$error":"#REF!"}},{"$error":"#REF!"},{"$f":"#REF!","v":{"$error":"#REF!"}}]
[{"$error":"#REF!"},{"$f":"#REF!","v":{"$error":"#REF!"}},{"$f":"#REF!","v":{"$error":"#REF!"}},{"$f":"#REF!","v":{"$error":"#REF!"}},{"$error":"#REF!"},{"$f":"#REF!","v":{"$error":"#REF!"}}]
[{"$error":"#REF!"},{"$f":"#REF!","v":{"$error":"#REF!"}},{"$f":"#REF!","v":{"$error":"#REF!"}},{"$f":"#REF!","v":{"$error":"#REF!"}},{"$error":"#REF!"},{"$f":"#REF!","v":{"$error":"#REF!"}}]
[{"$error":"#REF!"},{"$f":"#REF!","v":{"$error":"#REF!"}},{"$f":"#REF!","v":{"$error":"#REF!"}},{"$f":"#REF!","v":{"$error":"#REF!"}},{"$error":"#REF!"},{"$f":"#REF!","v":{"$error":"#REF!"}}]
[{"$error":"#REF!"},{"$f":"#REF!","v":{"$error":"#REF!"}},{"$f":"#REF!","v":{"$error":"#REF!"}},{"$f":"#REF!","v":{"$error":"#REF!"}},{"$error":"#REF!"},{"$f":"#REF!","v":{"$error":"#REF!"}}]
[{"$error":"#REF!"},{"$f":"#REF!","v":{"$error":"#REF!"}},{"$f":"#REF!","v":{"$error":"#REF!"}},{"$f":"#REF!","v":{"$error":"#REF!"}},{"$error":"#REF!"},{"$f":"#REF!","v":{"$error":"#REF!"}}]
[{"$error":"#REF!"},{"$f":"#REF!","v":{"$error":"#REF!"}},{"$f":"#REF!","v":{"$error":"#REF!"}},{"$f":"#REF!","v":{"$error":"#REF!"}},{"$error":"#REF!"},{"$f":"#REF!","v":{"$error":"#REF!"}}]
[{"$error":"#REF!"},{"$f":"#REF!","v":{"$error":"#REF!"}},{"$f":"#REF!","v":{"$error":"#REF!"}},{"$f":"#REF!","v":{"$error":"#REF!"}},{"$error":"#REF!"},{"$f":"#REF!","v":{"$error":"#REF!"}}]
[{"$error":"#REF!"},{"$f":"#REF!","v":{"$error":"#REF!"}},{"$f":"#REF!","v":{"$error":"#REF!"}},{"$f":"#REF!","v":{"$error":"#REF!"}},{"$error":"#REF!"},{"$f":"#REF!","v":{"$error":"#REF!"}}]
[{"$error":"#REF!"},{"$f":"#REF!","v":{"$error":"#REF!"}},{"$f":"#REF!","v":{"$error":"#REF!"}},{"$f":"#REF!","v":{"$error":"#REF!"}},{"$error":"#REF!"},{"$f":"#REF!","v":{"$error":"#REF!"}}]
[{"$error":"#REF!"},{"$f":"#REF!","v":{"$error":"#REF!"}},{"$f":"#REF!","v":{"$error":"#REF!"}},{"$f":"#REF!","v":{"$error":"#REF!"}},{"$error":"#REF!"},{"$f":"#REF!","v":{"$error":"#REF!"}}]
[{"$error":"#REF!"},{"$f":"#REF!","v":{"$error":"#REF!"}},{"$f":"#REF!","v":{"$error":"#REF!"}},{"$f":"#REF!","v":{"$error":"#REF!"}},{"$error":"#REF!"},{"$f":"#REF!","v":{"$error":"#REF!"}}]
[{"$error":"#REF!"},{"$f":"#REF!","v":{"$error":"#REF!"}},{"$f":"#REF!","v":{"$error":"#REF!"}},{"$f":"#REF!","v":{"$error":"#REF!"}},{"$error":"#REF!"},{"$f":"#REF!","v":{"$error":"#REF!"}}]
[{"$error":"#REF!"},{"$f":"#REF!","v":{"$error":"#REF!"}},{"$f":"#REF!","v":{"$error":"#REF!"}},{"$f":"#REF!","v":{"$error":"#REF!"}},{"$error":"#REF!"},{"$f":"#REF!","v":{"$error":"#REF!"}}]
[{"$error":"#REF!"},{"$f":"#REF!","v":{"$error":"#REF!"}},{"$f":"#REF!","v":{"$error":"#REF!"}},{"$f":"#REF!","v":{"$error":"#REF!"}},{"$error":"#REF!"},{"$f":"#REF!","v":{"$error":"#REF!"}}]
[{"$error":"#REF!"},{"$f":"#REF!","v":{"$error":"#REF!"}},{"$f":"#REF!","v":{"$error":"#REF!"}},{"$f":"#REF!","v":{"$error":"#REF!"}},{"$error":"#REF!"},{"$f":"#REF!","v":{"$error":"#REF!"}}]
[{"$error":"#REF!"},{"$f":"#REF!","v":{"$error":"#REF!"}},{"$f":"#REF!","v":{"$error":"#REF!"}},{"$f":"#REF!","v":{"$error":"#REF!"}},{"$error":"#REF!"},{"$f":"#REF!","v":{"$error":"#REF!"}}]
[{"$error":"#REF!"},{"$f":"#REF!","v":{"$error":"#REF!"}},{"$f":"#REF!","v":{"$error":"#REF!"}},{"$f":"#REF!","v":{"$error":"#REF!"}},{"$error":"#REF!"},{"$f":"#REF!","v":{"$error":"#REF!"}}]
[{"$error":"#REF!"},{"$f":"#REF!","v":{"$error":"#REF!"}},{"$f":"#REF!","v":{"$error":"#REF!"}},{"$f":"#REF!","v":{"$error":"#REF!"}},{"$error":"#REF!"},{"$f":"#REF!","v":{"$error":"#REF!"}}]
[{"$error":"#REF!"},{"$f":"#REF!","v":{"$error":"#REF!"}},{"$f":"#REF!","v":{"$error":"#REF!"}},{"$f":"#REF!","v":{"$error":"#REF!"}},{"$error":"#REF!"},{"$f":"#REF!","v":{"$error":"#REF!"}}]
[{"$error":"#REF!"},{"$f":"#REF!","v":{"$error":"#REF!"}},{"$f":"#REF!","v":{"$error":"#REF!"}},{"$f":"#REF!","v":{"$error":"#REF!"}},{"$error":"#REF!"},{"$f":"#REF!","v":{"$error":"#REF!"}}]
[{"$error":"#REF!"},{"$f":"#REF!","v":{"$error":"#REF!"}},{"$f":"#REF!","v":{"$error":"#REF!"}},{"$f":"#REF!","v":{"$error":"#REF!"}},{"$error":"#REF!"},{"$f":"#REF!","v":{"$error":"#REF!"}}]
[{"$error":"#REF!"},{"$f":"#REF!","v":{"$error":"#REF!"}},{"$f":"#REF!","v":{"$error":"#REF!"}},{"$f":"#REF!","v":{"$error":"#REF!"}},{"$error":"#REF!"},{"$f":"#REF!","v":{"$error":"#REF!"}}]
[{"$error":"#REF!"},{"$f":"#REF!","v":{"$error":"#REF!"}},{"$f":"#REF!","v":{"$error":"#REF!"}},{"$f":"#REF!","v":{"$error":"#REF!"}},{"$error":"#REF!"},{"$f":"#REF!","v":{"$error":"#REF!"}}]
[{"$error":"#REF!"},{"$f":"#REF!","v":{"$error":"#REF!"}},{"$f":"#REF!","v":{"$error":"#REF!"}},{"$f":"#REF!","v":{"$error":"#REF!"}},{"$error":"#REF!"},{"$f":"#REF!","v":{"$error":"#REF!"}}]
[{"$error":"#REF!"},{"$f":"#REF!","v":{"$error":"#REF!"}},{"$f":"#REF!","v":{"$error":"#REF!"}},{"$f":"#REF!","v":{"$error":"#REF!"}},{"$error":"#REF!"},{"$f":"#REF!","v":{"$error":"#REF!"}}]
[{"$error":"#REF!"},{"$f":"#REF!","v":{"$error":"#REF!"}},{"$f":"#REF!","v":{"$error":"#REF!"}},{"$f":"#REF!","v":{"$error":"#REF!"}},{"$error":"#REF!"},{"$f":"#REF!","v":{"$error":"#REF!"}}]
[{"$error":"#REF!"},{"$f":"#REF!","v":{"$error":"#REF!"}},{"$f":"#REF!","v":{"$error":"#REF!"}},{"$f":"#REF!","v":{"$error":"#REF!"}},{"$error":"#REF!"},{"$f":"#REF!","v":{"$error":"#REF!"}}]
[{"$error":"#REF!"},{"$f":"#REF!","v":{"$error":"#REF!"}},{"$f":"#REF!","v":{"$error":"#REF!"}},{"$f":"#REF!","v":{"$error":"#REF!"}},{"$error":"#REF!"},{"$f":"#REF!","v":{"$error":"#REF!"}}]
[{"$error":"#REF!"},{"$f":"#REF!","v":{"$error":"#REF!"}},{"$f":"#REF!","v":{"$error":"#REF!"}},{"$f":"#REF!","v":{"$error":"#REF!"}},{"$error":"#REF!"},{"$f":"#REF!","v":{"$error":"#REF!"}}]
[{"$error":"#REF!"},{"$f":"#REF!","v":{"$error":"#REF!"}},{"$f":"#REF!","v":{"$error":"#REF!"}},{"$f":"#REF!","v":{"$error":"#REF!"}},{"$error":"#REF!"},{"$f":"#REF!","v":{"$error":"#REF!"}}]
[{"$error":"#REF!"},{"$f":"#REF!","v":{"$error":"#REF!"}},{"$f":"#REF!","v":{"$error":"#REF!"}},{"$f":"#REF!","v":{"$error":"#REF!"}},{"$error":"#REF!"},{"$f":"#REF!","v":{"$error":"#REF!"}}]
[{"$error":"#REF!"},{"$f":"#REF!","v":{"$error":"#REF!"}},{"$f":"#REF!","v":{"$error":"#REF!"}},{"$f":"#REF!","v":{"$error":"#REF!"}},{"$error":"#REF!"},{"$f":"#REF!","v":{"$error":"#REF!"}}]
[{"$error":"#REF!"},{"$f":"#REF!","v":{"$error":"#REF!"}},{"$f":"#REF!","v":{"$error":"#REF!"}},{"$f":"#REF!","v":{"$error":"#REF!"}},{"$error":"#REF!"},{"$f":"#REF!","v":{"$error":"#REF!"}}]
[{"$error":"#REF!"},{"$f":"#REF!","v":{"$error":"#REF!"}},{"$f":"#REF!","v":{"$error":"#REF!"}},{"$f":"#REF!","v":{"$error":"#REF!"}},{"$error":"#REF!"},{"$f":"#REF!","v":{"$error":"#REF!"}}]
[{"$error":"#REF!"},{"$f":"#REF!","v":{"$error":"#REF!"}},{"$f":"#REF!","v":{"$error":"#REF!"}},{"$f":"#REF!","v":{"$error":"#REF!"}},{"$error":"#REF!"},{"$f":"#REF!","v":{"$error":"#REF!"}}]
[{"$error":"#REF!"},{"$f":"#REF!","v":{"$error":"#REF!"}},{"$f":"#REF!","v":{"$error":"#REF!"}},{"$f":"#REF!","v":{"$error":"#REF!"}},{"$error":"#REF!"},{"$f":"#REF!","v":{"$error":"#REF!"}}]
[{"$error":"#REF!"},{"$f":"#REF!","v":{"$error":"#REF!"}},{"$f":"#REF!","v":{"$error":"#REF!"}},{"$f":"#REF!","v":{"$error":"#REF!"}},{"$error":"#REF!"},{"$f":"#REF!","v":{"$error":"#REF!"}}]
[{"$error":"#REF!"},{"$f":"#REF!","v":{"$error":"#REF!"}},{"$f":"#REF!","v":{"$error":"#REF!"}},{"$f":"#REF!","v":{"$error":"#REF!"}},{"$error":"#REF!"},{"$f":"#REF!","v":{"$error":"#REF!"}}]
[{"$error":"#REF!"},{"$f":"#REF!","v":{"$error":"#REF!"}},{"$f":"#REF!","v":{"$error":"#REF!"}},{"$f":"#REF!","v":{"$error":"#REF!"}},{"$error":"#REF!"},{"$f":"#REF!","v":{"$error":"#REF!"}}]
[{"$error":"#REF!"},{"$f":"#REF!","v":{"$error":"#REF!"}},{"$f":"#REF!","v":{"$error":"#REF!"}},{"$f":"#REF!","v":{"$error":"#REF!"}},{"$f":"IF(OFFSET(INDIRECT(ADDRESS(ROW(),COLUMN())),0,-3)=0,0,VLOOKUP(F324,$I$4:$J$60,2,FALSE))","v":{"$error":"#REF!"}},{"$f":"#REF!","v":{"$error":"#REF!"}}]
[{"$f":"IF(B325=0,\"\",A324+1)","v":{"$error":"#REF!"}},{"$f":"#REF!","v":{"$error":"#REF!"}},{"$f":"#REF!","v":{"$error":"#REF!"}},{"$f":"#REF!","v":{"$error":"#REF!"}},{"$error":"#REF!"},{"$f":"#REF!","v":{"$error":"#REF!"}}]
[{"$error":"#REF!"},{"$f":"#REF!","v":{"$error":"#REF!"}},{"$f":"#REF!","v":{"$error":"#REF!"}},{"$f":"#REF!","v":{"$error":"#REF!"}},{"$error":"#REF!"},{"$f":"#REF!","v":{"$error":"#REF!"}}]
[{"$error":"#REF!"},{"$f":"#REF!","v":{"$error":"#REF!"}},{"$f":"#REF!","v":{"$error":"#REF!"}},{"$f":"#REF!","v":{"$error":"#REF!"}},{"$error":"#REF!"},{"$f":"#REF!","v":{"$error":"#REF!"}}]
[{"$error":"#REF!"},{"$f":"#REF!","v":{"$error":"#REF!"}},{"$f":"#REF!","v":{"$error":"#REF!"}},{"$f":"#REF!","v":{"$error":"#REF!"}},{"$error":"#REF!"},{"$f":"#REF!","v":{"$error":"#REF!"}}]
[{"$error":"#REF!"},{"$f":"#REF!","v":{"$error":"#REF!"}},{"$f":"#REF!","v":{"$error":"#REF!"}},{"$f":"#REF!","v":{"$error":"#REF!"}},{"$error":"#REF!"},{"$f":"#REF!","v":{"$error":"#REF!"}}]
[{"$error":"#REF!"},{"$f":"#REF!","v":{"$error":"#REF!"}},{"$f":"#REF!","v":{"$error":"#REF!"}},{"$f":"#REF!","v":{"$error":"#REF!"}},{"$error":"#REF!"},{"$f":"#REF!","v":{"$error":"#REF!"}}]
[{"$error":"#REF!"},{"$f":"#REF!","v":{"$error":"#REF!"}},{"$f":"#REF!","v":{"$error":"#REF!"}},{"$f":"#REF!","v":{"$error":"#REF!"}},{"$error":"#REF!"},{"$f":"#REF!","v":{"$error":"#REF!"}}]
[{"$error":"#REF!"},{"$f":"#REF!","v":{"$error":"#REF!"}},{"$f":"#REF!","v":{"$error":"#REF!"}},{"$f":"#REF!","v":{"$error":"#REF!"}},{"$error":"#REF!"},{"$f":"#REF!","v":{"$error":"#REF!"}}]
[{"$error":"#REF!"},{"$f":"#REF!","v":{"$error":"#REF!"}},{"$f":"#REF!","v":{"$error":"#REF!"}},{"$f":"#REF!","v":{"$error":"#REF!"}},{"$error":"#REF!"},{"$f":"#REF!","v":{"$error":"#REF!"}}]
[{"$error":"#REF!"},{"$f":"#REF!","v":{"$error":"#REF!"}},{"$f":"#REF!","v":{"$error":"#REF!"}},{"$f":"#REF!","v":{"$error":"#REF!"}},{"$error":"#REF!"},{"$f":"#REF!","v":{"$error":"#REF!"}}]
[{"$error":"#REF!"},{"$f":"#REF!","v":{"$error":"#REF!"}},{"$f":"#REF!","v":{"$error":"#REF!"}},{"$f":"#REF!","v":{"$error":"#REF!"}},{"$error":"#REF!"},{"$f":"#REF!","v":{"$error":"#REF!"}}]
[{"$error":"#REF!"},{"$f":"#REF!","v":{"$error":"#REF!"}},{"$f":"#REF!","v":{"$error":"#REF!"}},{"$f":"#REF!","v":{"$error":"#REF!"}},{"$error":"#REF!"},{"$f":"#REF!","v":{"$error":"#REF!"}}]
[{"$error":"#REF!"},{"$f":"#REF!","v":{"$error":"#REF!"}},{"$f":"#REF!","v":{"$error":"#REF!"}},{"$f":"#REF!","v":{"$error":"#REF!"}},{"$error":"#REF!"},{"$f":"#REF!","v":{"$error":"#REF!"}}]
[{"$error":"#REF!"},{"$f":"#REF!","v":{"$error":"#REF!"}},{"$f":"#REF!","v":{"$error":"#REF!"}},{"$f":"#REF!","v":{"$error":"#REF!"}},{"$error":"#REF!"},{"$f":"#REF!","v":{"$error":"#REF!"}}]
[{"$error":"#REF!"},{"$f":"#REF!","v":{"$error":"#REF!"}},{"$f":"#REF!","v":{"$error":"#REF!"}},{"$f":"#REF!","v":{"$error":"#REF!"}},{"$error":"#REF!"},{"$f":"#REF!","v":{"$error":"#REF!"}}]
[{"$error":"#REF!"},{"$f":"#REF!","v":{"$error":"#REF!"}},{"$f":"#REF!","v":{"$error":"#REF!"}},{"$f":"#REF!","v":{"$error":"#REF!"}},{"$error":"#REF!"},{"$f":"#REF!","v":{"$error":"#REF!"}}]
[{"$error":"#REF!"},{"$f":"#REF!","v":{"$error":"#REF!"}},{"$f":"#REF!","v":{"$error":"#REF!"}},{"$f":"#REF!","v":{"$error":"#REF!"}},{"$error":"#REF!"},{"$f":"#REF!","v":{"$error":"#REF!"}}]
[{"$error":"#REF!"},{"$f":"#REF!","v":{"$error":"#REF!"}},{"$f":"#REF!","v":{"$error":"#REF!"}},{"$f":"#REF!","v":{"$error":"#REF!"}},{"$error":"#REF!"},{"$f":"#REF!","v":{"$error":"#REF!"}}]
[{"$error":"#REF!"},{"$f":"#REF!","v":{"$error":"#REF!"}},{"$f":"#REF!","v":{"$error":"#REF!"}},{"$f":"#REF!","v":{"$error":"#REF!"}},{"$error":"#REF!"},{"$f":"#REF!","v":{"$error":"#REF!"}}]
[{"$error":"#REF!"},{"$f":"#REF!","v":{"$error":"#REF!"}},{"$f":"#REF!","v":{"$error":"#REF!"}},{"$f":"#REF!","v":{"$error":"#REF!"}},{"$error":"#REF!"},{"$f":"#REF!","v":{"$error":"#REF!"}}]
[{"$error":"#REF!"},{"$f":"#REF!","v":{"$error":"#REF!"}},{"$f":"#REF!","v":{"$error":"#REF!"}},{"$f":"#REF!","v":{"$error":"#REF!"}},{"$error":"#REF!"},{"$f":"#REF!","v":{"$error":"#REF!"}}]
[{"$error":"#REF!"},{"$f":"#REF!","v":{"$error":"#REF!"}},{"$f":"#REF!","v":{"$error":"#REF!"}},{"$f":"#REF!","v":{"$error":"#REF!"}},{"$error":"#REF!"},{"$f":"#REF!","v":{"$error":"#REF!"}}]
[{"$error":"#REF!"},{"$f":"#REF!","v":{"$error":"#REF!"}},{"$f":"#REF!","v":{"$error":"#REF!"}},{"$f":"#REF!","v":{"$error":"#REF!"}},{"$error":"#REF!"},{"$f":"#REF!","v":{"$error":"#REF!"}}]
[{"$error":"#REF!"},{"$f":"#REF!","v":{"$error":"#REF!"}},{"$f":"#REF!","v":{"$error":"#REF!"}},{"$f":"#REF!","v":{"$error":"#REF!"}},{"$error":"#REF!"},{"$f":"#REF!","v":{"$error":"#REF!"}}]
[{"$error":"#REF!"},{"$f":"#REF!","v":{"$error":"#REF!"}},{"$f":"#REF!","v":{"$error":"#REF!"}},{"$f":"#REF!","v":{"$error":"#REF!"}},{"$error":"#REF!"},{"$f":"#REF!","v":{"$error":"#REF!"}}]
[{"$error":"#REF!"},{"$f":"#REF!","v":{"$error":"#REF!"}},{"$f":"#REF!","v":{"$error":"#REF!"}},{"$f":"#REF!","v":{"$error":"#REF!"}},{"$error":"#REF!"},{"$f":"#REF!","v":{"$error":"#REF!"}}]
[{"$error":"#REF!"},{"$f":"#REF!","v":{"$error":"#REF!"}},{"$f":"#REF!","v":{"$error":"#REF!"}},{"$f":"#REF!","v":{"$error":"#REF!"}},{"$error":"#REF!"},{"$f":"#REF!","v":{"$error":"#REF!"}}]
[{"$error":"#REF!"},{"$f":"#REF!","v":{"$error":"#REF!"}},{"$f":"#REF!","v":{"$error":"#REF!"}},{"$f":"#REF!","v":{"$error":"#REF!"}},{"$error":"#REF!"},{"$f":"#REF!","v":{"$error":"#REF!"}}]
[{"$error":"#REF!"},{"$f":"#REF!","v":{"$error":"#REF!"}},{"$f":"#REF!","v":{"$error":"#REF!"}},{"$f":"#REF!","v":{"$error":"#REF!"}},{"$error":"#REF!"},{"$f":"#REF!","v":{"$error":"#REF!"}}]
[{"$error":"#REF!"},{"$f":"#REF!","v":{"$error":"#REF!"}},{"$f":"#REF!","v":{"$error":"#REF!"}},{"$f":"#REF!","v":{"$error":"#REF!"}},{"$error":"#REF!"},{"$f":"#REF!","v":{"$error":"#REF!"}}]
[{"$error":"#REF!"},{"$f":"#REF!","v":{"$error":"#REF!"}},{"$f":"#REF!","v":{"$error":"#REF!"}},{"$f":"#REF!","v":{"$error":"#REF!"}},{"$error":"#REF!"},{"$f":"#REF!","v":{"$error":"#REF!"}}]
[{"$error":"#REF!"},{"$f":"#REF!","v":{"$error":"#REF!"}},{"$f":"#REF!","v":{"$error":"#REF!"}},{"$f":"#REF!","v":{"$error":"#REF!"}},{"$error":"#REF!"},{"$f":"#REF!","v":{"$error":"#REF!"}}]
[{"$error":"#REF!"},{"$f":"#REF!","v":{"$error":"#REF!"}},{"$f":"#REF!","v":{"$error":"#REF!"}},{"$f":"#REF!","v":{"$error":"#REF!"}},{"$error":"#REF!"},{"$f":"#REF!","v":{"$error":"#REF!"}}]
[{"$error":"#REF!"},{"$f":"#REF!","v":{"$error":"#REF!"}},{"$f":"#REF!","v":{"$error":"#REF!"}},{"$f":"#REF!","v":{"$error":"#REF!"}},{"$error":"#REF!"},{"$f":"#REF!","v":{"$error":"#REF!"}}]
[{"$error":"#REF!"},{"$f":"#REF!","v":{"$error":"#REF!"}},{"$f":"#REF!","v":{"$error":"#REF!"}},{"$f":"#REF!","v":{"$error":"#REF!"}},{"$error":"#REF!"},{"$f":"#REF!","v":{"$error":"#REF!"}}]
[{"$error":"#REF!"},{"$f":"#REF!","v":{"$error":"#REF!"}},{"$f":"#REF!","v":{"$error":"#REF!"}},{"$f":"#REF!","v":{"$error":"#REF!"}},{"$error":"#REF!"},{"$f":"#REF!","v":{"$error":"#REF!"}}]
[{"$error":"#REF!"},{"$f":"#REF!","v":{"$error":"#REF!"}},{"$f":"#REF!","v":{"$error":"#REF!"}},{"$f":"#REF!","v":{"$error":"#REF!"}},{"$error":"#REF!"},{"$f":"#REF!","v":{"$error":"#REF!"}}]
[{"$error":"#REF!"},{"$f":"#REF!","v":{"$error":"#REF!"}},{"$f":"#REF!","v":{"$error":"#REF!"}},{"$f":"#REF!","v":{"$error":"#REF!"}},{"$error":"#REF!"},{"$f":"#REF!","v":{"$error":"#REF!"}}]
[{"$error":"#REF!"},{"$f":"#REF!","v":{"$error":"#REF!"}},{"$f":"#REF!","v":{"$error":"#REF!"}},{"$f":"#REF!","v":{"$error":"#REF!"}},{"$error":"#REF!"},{"$f":"#REF!","v":{"$error":"#REF!"}}]
[{"$error":"#REF!"},{"$f":"#REF!","v":{"$error":"#REF!"}},{"$f":"#REF!","v":{"$error":"#REF!"}},{"$f":"#REF!","v":{"$error":"#REF!"}},{"$error":"#REF!"},{"$f":"#REF!","v":{"$error":"#REF!"}}]
[{"$error":"#REF!"},{"$f":"#REF!","v":{"$error":"#REF!"}},{"$f":"#REF!","v":{"$error":"#REF!"}},{"$f":"#REF!","v":{"$error":"#REF!"}},{"$error":"#REF!"},{"$f":"#REF!","v":{"$error":"#REF!"}}]
[{"$error":"#REF!"},{"$f":"#REF!","v":{"$error":"#REF!"}},{"$f":"#REF!","v":{"$error":"#REF!"}},{"$f":"#REF!","v":{"$error":"#REF!"}},{"$error":"#REF!"},{"$f":"#REF!","v":{"$error":"#REF!"}}]
[{"$error":"#REF!"},{"$f":"#REF!","v":{"$error":"#REF!"}},{"$f":"#REF!","v":{"$error":"#REF!"}},{"$f":"#REF!","v":{"$error":"#REF!"}},{"$error":"#REF!"},{"$f":"#REF!","v":{"$error":"#REF!"}}]
[{"$error":"#REF!"},{"$f":"#REF!","v":{"$error":"#REF!"}},{"$f":"#REF!","v":{"$error":"#REF!"}},{"$f":"#REF!","v":{"$error":"#REF!"}},{"$error":"#REF!"},{"$f":"#REF!","v":{"$error":"#REF!"}}]
[{"$error":"#REF!"},{"$f":"#REF!","v":{"$error":"#REF!"}},{"$f":"#REF!","v":{"$error":"#REF!"}},{"$f":"#REF!","v":{"$error":"#REF!"}},{"$error":"#REF!"},{"$f":"#REF!","v":{"$error":"#REF!"}}]
[{"$error":"#REF!"},{"$f":"#REF!","v":{"$error":"#REF!"}},{"$f":"#REF!","v":{"$error":"#REF!"}},{"$f":"#REF!","v":{"$error":"#REF!"}},{"$error":"#REF!"},{"$f":"#REF!","v":{"$error":"#REF!"}}]
[{"$error":"#REF!"},{"$f":"#REF!","v":{"$error":"#REF!"}},{"$f":"#REF!","v":{"$error":"#REF!"}},{"$f":"#REF!","v":{"$error":"#REF!"}},{"$error":"#REF!"},{"$f":"#REF!","v":{"$error":"#REF!"}}]
[{"$error":"#REF!"},{"$f":"#REF!","v":{"$error":"#REF!"}},{"$f":"#REF!","v":{"$error":"#REF!"}},{"$f":"#REF!","v":{"$error":"#REF!"}},{"$error":"#REF!"},{"$f":"#REF!","v":{"$error":"#REF!"}}]
[{"$error":"#REF!"},{"$f":"#REF!","v":{"$error":"#REF!"}},{"$f":"#REF!","v":{"$error":"#REF!"}},{"$f":"#REF!","v":{"$error":"#REF!"}},{"$error":"#REF!"},{"$f":"#REF!","v":{"$error":"#REF!"}}]
[{"$error":"#REF!"},{"$f":"#REF!","v":{"$error":"#REF!"}},{"$f":"#REF!","v":{"$error":"#REF!"}},{"$f":"#REF!","v":{"$error":"#REF!"}},{"$error":"#REF!"},{"$f":"#REF!","v":{"$error":"#REF!"}}]
[{"$error":"#REF!"},{"$f":"#REF!","v":{"$error":"#REF!"}},{"$f":"#REF!","v":{"$error":"#REF!"}},{"$f":"#REF!","v":{"$error":"#REF!"}},{"$error":"#REF!"},{"$f":"#REF!","v":{"$error":"#REF!"}}]
[{"$error":"#REF!"},{"$f":"#REF!","v":{"$error":"#REF!"}},{"$f":"#REF!","v":{"$error":"#REF!"}},{"$f":"#REF!","v":{"$error":"#REF!"}},{"$error":"#REF!"},{"$f":"#REF!","v":{"$error":"#REF!"}}]
[{"$error":"#REF!"},{"$f":"#REF!","v":{"$error":"#REF!"}},{"$f":"#REF!","v":{"$error":"#REF!"}},{"$f":"#REF!","v":{"$error":"#REF!"}},{"$error":"#REF!"},{"$f":"#REF!","v":{"$error":"#REF!"}}]
[{"$error":"#REF!"},{"$f":"#REF!","v":{"$error":"#REF!"}},{"$f":"#REF!","v":{"$error":"#REF!"}},{"$f":"#REF!","v":{"$error":"#REF!"}},{"$error":"#REF!"},{"$f":"#REF!","v":{"$error":"#REF!"}}]
[{"$error":"#REF!"},{"$f":"#REF!","v":{"$error":"#REF!"}},{"$f":"#REF!","v":{"$error":"#REF!"}},{"$f":"#REF!","v":{"$error":"#REF!"}},{"$error":"#REF!"},{"$f":"#REF!","v":{"$error":"#REF!"}}]
[{"$error":"#REF!"},{"$f":"#REF!","v":{"$error":"#REF!"}},{"$f":"#REF!","v":{"$error":"#REF!"}},{"$f":"#REF!","v":{"$error":"#REF!"}},{"$error":"#REF!"},{"$f":"#REF!","v":{"$error":"#REF!"}}]
[{"$error":"#REF!"},{"$f":"#REF!","v":{"$error":"#REF!"}},{"$f":"#REF!","v":{"$error":"#REF!"}},{"$f":"#REF!","v":{"$error":"#REF!"}},{"$error":"#REF!"},{"$f":"#REF!","v":{"$error":"#REF!"}}]
[{"$error":"#REF!"},{"$f":"#REF!","v":{"$error":"#REF!"}},{"$f":"#REF!","v":{"$error":"#REF!"}},{"$f":"#REF!","v":{"$error":"#REF!"}},{"$error":"#REF!"},{"$f":"#REF!","v":{"$error":"#REF!"}}]
[{"$error":"#REF!"},{"$f":"#REF!","v":{"$error":"#REF!"}},{"$f":"#REF!","v":{"$error":"#REF!"}},{"$f":"#REF!","v":{"$error":"#REF!"}},{"$error":"#REF!"},{"$f":"#REF!","v":{"$error":"#REF!"}}]
[{"$error":"#REF!"},{"$f":"#REF!","v":{"$error":"#REF!"}},{"$f":"#REF!","v":{"$error":"#REF!"}},{"$f":"#REF!","v":{"$error":"#REF!"}},{"$error":"#REF!"},{"$f":"#REF!","v":{"$error":"#REF!"}}]
[{"$error":"#REF!"},{"$f":"#REF!","v":{"$error":"#REF!"}},{"$f":"#REF!","v":{"$error":"#REF!"}},{"$f":"#REF!","v":{"$error":"#REF!"}},{"$error":"#REF!"},{"$f":"#REF!","v":{"$error":"#REF!"}}]
[{"$error":"#REF!"},{"$f":"#REF!","v":{"$error":"#REF!"}},{"$f":"#REF!","v":{"$error":"#REF!"}},{"$f":"#REF!","v":{"$error":"#REF!"}},{"$error":"#REF!"},{"$f":"#REF!","v":{"$error":"#REF!"}}]
[{"$error":"#REF!"},{"$f":"#REF!","v":{"$error":"#REF!"}},{"$f":"#REF!","v":{"$error":"#REF!"}},{"$f":"#REF!","v":{"$error":"#REF!"}},{"$error":"#REF!"},{"$f":"#REF!","v":{"$error":"#REF!"}}]
[{"$error":"#REF!"},{"$f":"#REF!","v":{"$error":"#REF!"}},{"$f":"#REF!","v":{"$error":"#REF!"}},{"$f":"#REF!","v":{"$error":"#REF!"}},{"$f":"IF(OFFSET(INDIRECT(ADDRESS(ROW(),COLUMN())),0,-3)=0,0,VLOOKUP(F388,$I$4:$J$60,2,FALSE))","v":{"$error":"#REF!"}},{"$f":"#REF!","v":{"$error":"#REF!"}}]
[{"$f":"IF(B389=0,\"\",A388+1)","v":{"$error":"#REF!"}},{"$f":"#REF!","v":{"$error":"#REF!"}},{"$f":"#REF!","v":{"$error":"#REF!"}},{"$f":"#REF!","v":{"$error":"#REF!"}},{"$error":"#REF!"},{"$f":"#REF!","v":{"$error":"#REF!"}}]
[{"$error":"#REF!"},{"$f":"#REF!","v":{"$error":"#REF!"}},{"$f":"#REF!","v":{"$error":"#REF!"}},{"$f":"#REF!","v":{"$error":"#REF!"}},{"$error":"#REF!"},{"$f":"#REF!","v":{"$error":"#REF!"}}]
[{"$error":"#REF!"},{"$f":"#REF!","v":{"$error":"#REF!"}},{"$f":"#REF!","v":{"$error":"#REF!"}},{"$f":"#REF!","v":{"$error":"#REF!"}},{"$error":"#REF!"},{"$f":"#REF!","v":{"$error":"#REF!"}}]
[{"$error":"#REF!"},{"$f":"#REF!","v":{"$error":"#REF!"}},{"$f":"#REF!","v":{"$error":"#REF!"}},{"$f":"#REF!","v":{"$error":"#REF!"}},{"$error":"#REF!"},{"$f":"#REF!","v":{"$error":"#REF!"}}]
[{"$error":"#REF!"},{"$f":"#REF!","v":{"$error":"#REF!"}},{"$f":"#REF!","v":{"$error":"#REF!"}},{"$f":"#REF!","v":{"$error":"#REF!"}},{"$error":"#REF!"},{"$f":"#REF!","v":{"$error":"#REF!"}}]
[{"$error":"#REF!"},{"$f":"#REF!","v":{"$error":"#REF!"}},{"$f":"#REF!","v":{"$error":"#REF!"}},{"$f":"#REF!","v":{"$error":"#REF!"}},{"$error":"#REF!"},{"$f":"#REF!","v":{"$error":"#REF!"}}]
[{"$error":"#REF!"},{"$f":"#REF!","v":{"$error":"#REF!"}},{"$f":"#REF!","v":{"$error":"#REF!"}},{"$f":"#REF!","v":{"$error":"#REF!"}},{"$error":"#REF!"},{"$f":"#REF!","v":{"$error":"#REF!"}}]
[{"$error":"#REF!"},{"$f":"#REF!","v":{"$error":"#REF!"}},{"$f":"#REF!","v":{"$error":"#REF!"}},{"$f":"#REF!","v":{"$error":"#REF!"}},{"$error":"#REF!"},{"$f":"#REF!","v":{"$error":"#REF!"}}]
[{"$error":"#REF!"},{"$f":"#REF!","v":{"$error":"#REF!"}},{"$f":"#REF!","v":{"$error":"#REF!"}},{"$f":"#REF!","v":{"$error":"#REF!"}},{"$error":"#REF!"},{"$f":"#REF!","v":{"$error":"#REF!"}}]
[{"$error":"#REF!"},{"$f":"#REF!","v":{"$error":"#REF!"}},{"$f":"#REF!","v":{"$error":"#REF!"}},{"$f":"#REF!","v":{"$error":"#REF!"}},{"$error":"#REF!"},{"$f":"#REF!","v":{"$error":"#REF!"}}]
[{"$error":"#REF!"},{"$f":"#REF!","v":{"$error":"#REF!"}},{"$f":"#REF!","v":{"$error":"#REF!"}},{"$f":"#REF!","v":{"$error":"#REF!"}},{"$error":"#REF!"},{"$f":"#REF!","v":{"$error":"#REF!"}}]
[{"$error":"#REF!"},{"$f":"#REF!","v":{"$error":"#REF!"}},{"$f":"#REF!","v":{"$error":"#REF!"}},{"$f":"#REF!","v":{"$error":"#REF!"}},{"$error":"#REF!"},{"$f":"#REF!","v":{"$error":"#REF!"}}]
[{"$error":"#REF!"},{"$f":"#REF!","v":{"$error":"#REF!"}},{"$f":"#REF!","v":{"$error":"#REF!"}},{"$f":"#REF!","v":{"$error":"#REF!"}},{"$error":"#REF!"},{"$f":"#REF!","v":{"$error":"#REF!"}}]
[{"$error":"#REF!"},{"$f":"#REF!","v":{"$error":"#REF!"}},{"$f":"#REF!","v":{"$error":"#REF!"}},{"$f":"#REF!","v":{"$error":"#REF!"}},{"$error":"#REF!"},{"$f":"#REF!","v":{"$error":"#REF!"}}]
[{"$error":"#REF!"},{"$f":"#REF!","v":{"$error":"#REF!"}},{"$f":"#REF!","v":{"$error":"#REF!"}},{"$f":"#REF!","v":{"$error":"#REF!"}},{"$error":"#REF!"},{"$f":"#REF!","v":{"$error":"#REF!"}}]
[{"$error":"#REF!"},{"$f":"#REF!","v":{"$error":"#REF!"}},{"$f":"#REF!","v":{"$error":"#REF!"}},{"$f":"#REF!","v":{"$error":"#REF!"}},{"$error":"#REF!"},{"$f":"#REF!","v":{"$error":"#REF!"}}]
[{"$error":"#REF!"},{"$f":"#REF!","v":{"$error":"#REF!"}},{"$f":"#REF!","v":{"$error":"#REF!"}},{"$f":"#REF!","v":{"$error":"#REF!"}},{"$error":"#REF!"},{"$f":"#REF!","v":{"$error":"#REF!"}}]
[{"$error":"#REF!"},{"$f":"#REF!","v":{"$error":"#REF!"}},{"$f":"#REF!","v":{"$error":"#REF!"}},{"$f":"#REF!","v":{"$error":"#REF!"}},{"$error":"#REF!"},{"$f":"#REF!","v":{"$error":"#REF!"}}]
[{"$error":"#REF!"},{"$f":"#REF!","v":{"$error":"#REF!"}},{"$f":"#REF!","v":{"$error":"#REF!"}},{"$f":"#REF!","v":{"$error":"#REF!"}},{"$error":"#REF!"},{"$f":"#REF!","v":{"$error":"#REF!"}}]
[{"$error":"#REF!"},{"$f":"#REF!","v":{"$error":"#REF!"}},{"$f":"#REF!","v":{"$error":"#REF!"}},{"$f":"#REF!","v":{"$error":"#REF!"}},{"$error":"#REF!"},{"$f":"#REF!","v":{"$error":"#REF!"}}]
[{"$error":"#REF!"},{"$f":"#REF!","v":{"$error":"#REF!"}},{"$f":"#REF!","v":{"$error":"#REF!"}},{"$f":"#REF!","v":{"$error":"#REF!"}},{"$error":"#REF!"},{"$f":"#REF!","v":{"$error":"#REF!"}}]
[{"$error":"#REF!"},{"$f":"#REF!","v":{"$error":"#REF!"}},{"$f":"#REF!","v":{"$error":"#REF!"}},{"$f":"#REF!","v":{"$error":"#REF!"}},{"$error":"#REF!"},{"$f":"#REF!","v":{"$error":"#REF!"}}]
[{"$error":"#REF!"},{"$f":"#REF!","v":{"$error":"#REF!"}},{"$f":"#REF!","v":{"$error":"#REF!"}},{"$f":"#REF!","v":{"$error":"#REF!"}},{"$error":"#REF!"},{"$f":"#REF!","v":{"$error":"#REF!"}}]
[{"$error":"#REF!"},{"$f":"#REF!","v":{"$error":"#REF!"}},{"$f":"#REF!","v":{"$error":"#REF!"}},{"$f":"#REF!","v":{"$error":"#REF!"}},{"$error":"#REF!"},{"$f":"#REF!","v":{"$error":"#REF!"}}]
[{"$error":"#REF!"},{"$f":"#REF!","v":{"$error":"#REF!"}},{"$f":"#REF!","v":{"$error":"#REF!"}},{"$f":"#REF!","v":{"$error":"#REF!"}},{"$error":"#REF!"},{"$f":"#REF!","v":{"$error":"#REF!"}}]
[{"$error":"#REF!"},{"$f":"#REF!","v":{"$error":"#REF!"}},{"$f":"#REF!","v":{"$error":"#REF!"}},{"$f":"#REF!","v":{"$error":"#REF!"}},{"$error":"#REF!"},{"$f":"#REF!","v":{"$error":"#REF!"}}]
[{"$error":"#REF!"},{"$f":"#REF!","v":{"$error":"#REF!"}},{"$f":"#REF!","v":{"$error":"#REF!"}},{"$f":"#REF!","v":{"$error":"#REF!"}},{"$error":"#REF!"},{"$f":"#REF!","v":{"$error":"#REF!"}}]
[{"$error":"#REF!"},{"$f":"#REF!","v":{"$error":"#REF!"}},{"$f":"#REF!","v":{"$error":"#REF!"}},{"$f":"#REF!","v":{"$error":"#REF!"}},{"$error":"#REF!"},{"$f":"#REF!","v":{"$error":"#REF!"}}]
[{"$error":"#REF!"},{"$f":"#REF!","v":{"$error":"#REF!"}},{"$f":"#REF!","v":{"$error":"#REF!"}},{"$f":"#REF!","v":{"$error":"#REF!"}},{"$error":"#REF!"},{"$f":"#REF!","v":{"$error":"#REF!"}}]
[{"$error":"#REF!"},{"$f":"#REF!","v":{"$error":"#REF!"}},{"$f":"#REF!","v":{"$error":"#REF!"}},{"$f":"#REF!","v":{"$error":"#REF!"}},{"$error":"#REF!"},{"$f":"#REF!","v":{"$error":"#REF!"}}]
[{"$error":"#REF!"},{"$f":"#REF!","v":{"$error":"#REF!"}},{"$f":"#REF!","v":{"$error":"#REF!"}},{"$f":"#REF!","v":{"$error":"#REF!"}},{"$error":"#REF!"},{"$f":"#REF!","v":{"$error":"#REF!"}}]
[{"$error":"#REF!"},{"$f":"#REF!","v":{"$error":"#REF!"}},{"$f":"#REF!","v":{"$error":"#REF!"}},{"$f":"#REF!","v":{"$error":"#REF!"}},{"$error":"#REF!"},{"$f":"#REF!","v":{"$error":"#REF!"}}]
[{"$error":"#REF!"},{"$f":"#REF!","v":{"$error":"#REF!"}},{"$f":"#REF!","v":{"$error":"#REF!"}},{"$f":"#REF!","v":{"$error":"#REF!"}},{"$error":"#REF!"},{"$f":"#REF!","v":{"$error":"#REF!"}}]
[{"$error":"#REF!"},{"$f":"#REF!","v":{"$error":"#REF!"}},{"$f":"#REF!","v":{"$error":"#REF!"}},{"$f":"#REF!","v":{"$error":"#REF!"}},{"$error":"#REF!"},{"$f":"#REF!","v":{"$error":"#REF!"}}]
[{"$error":"#REF!"},{"$f":"#REF!","v":{"$error":"#REF!"}},{"$f":"#REF!","v":{"$error":"#REF!"}},{"$f":"#REF!","v":{"$error":"#REF!"}},{"$error":"#REF!"},{"$f":"#REF!","v":{"$error":"#REF!"}}]
[{"$error":"#REF!"},{"$f":"#REF!","v":{"$error":"#REF!"}},{"$f":"#REF!","v":{"$error":"#REF!"}},{"$f":"#REF!","v":{"$error":"#REF!"}},{"$error":"#REF!"},{"$f":"#REF!","v":{"$error":"#REF!"}}]
[{"$error":"#REF!"},{"$f":"#REF!","v":{"$error":"#REF!"}},{"$f":"#REF!","v":{"$error":"#REF!"}},{"$f":"#REF!","v":{"$error":"#REF!"}},{"$error":"#REF!"},{"$f":"#REF!","v":{"$error":"#REF!"}}]
[{"$error":"#REF!"},{"$f":"#REF!","v":{"$error":"#REF!"}},{"$f":"#REF!","v":{"$error":"#REF!"}},{"$f":"#REF!","v":{"$error":"#REF!"}},{"$error":"#REF!"},{"$f":"#REF!","v":{"$error":"#REF!"}}]
[{"$error":"#REF!"},{"$f":"#REF!","v":{"$error":"#REF!"}},{"$f":"#REF!","v":{"$error":"#REF!"}},{"$f":"#REF!","v":{"$error":"#REF!"}},{"$error":"#REF!"},{"$f":"#REF!","v":{"$error":"#REF!"}}]
[{"$error":"#REF!"},{"$f":"#REF!","v":{"$error":"#REF!"}},{"$f":"#REF!","v":{"$error":"#REF!"}},{"$f":"#REF!","v":{"$error":"#REF!"}},{"$error":"#REF!"},{"$f":"#REF!","v":{"$error":"#REF!"}}]
[{"$error":"#REF!"},{"$f":"#REF!","v":{"$error":"#REF!"}},{"$f":"#REF!","v":{"$error":"#REF!"}},{"$f":"#REF!","v":{"$error":"#REF!"}},{"$error":"#REF!"},{"$f":"#REF!","v":{"$error":"#REF!"}}]
[{"$error":"#REF!"},{"$f":"#REF!","v":{"$error":"#REF!"}},{"$f":"#REF!","v":{"$error":"#REF!"}},{"$f":"#REF!","v":{"$error":"#REF!"}},{"$error":"#REF!"},{"$f":"#REF!","v":{"$error":"#REF!"}}]
[{"$error":"#REF!"},{"$f":"#REF!","v":{"$error":"#REF!"}},{"$f":"#REF!","v":{"$error":"#REF!"}},{"$f":"#REF!","v":{"$error":"#REF!"}},{"$error":"#REF!"},{"$f":"#REF!","v":{"$error":"#REF!"}}]
[{"$error":"#REF!"},{"$f":"#REF!","v":{"$error":"#REF!"}},{"$f":"#REF!","v":{"$error":"#REF!"}},{"$f":"#REF!","v":{"$error":"#REF!"}},{"$error":"#REF!"},{"$f":"#REF!","v":{"$error":"#REF!"}}]
[{"$error":"#REF!"},{"$f":"#REF!","v":{"$error":"#REF!"}},{"$f":"#REF!","v":{"$error":"#REF!"}},{"$f":"#REF!","v":{"$error":"#REF!"}},{"$error":"#REF!"},{"$f":"#REF!","v":{"$error":"#REF!"}}]
[{"$error":"#REF!"},{"$f":"#REF!","v":{"$error":"#REF!"}},{"$f":"#REF!","v":{"$error":"#REF!"}},{"$f":"#REF!","v":{"$error":"#REF!"}},{"$error":"#REF!"},{"$f":"#REF!","v":{"$error":"#REF!"}}]
[{"$error":"#REF!"},{"$f":"#REF!","v":{"$error":"#REF!"}},{"$f":"#REF!","v":{"$error":"#REF!"}},{"$f":"#REF!","v":{"$error":"#REF!"}},{"$error":"#REF!"},{"$f":"#REF!","v":{"$error":"#REF!"}}]
[{"$error":"#REF!"},{"$f":"#REF!","v":{"$error":"#REF!"}},{"$f":"#REF!","v":{"$error":"#REF!"}},{"$f":"#REF!","v":{"$error":"#REF!"}},{"$error":"#REF!"},{"$f":"#REF!","v":{"$error":"#REF!"}}]
[{"$error":"#REF!"},{"$f":"#REF!","v":{"$error":"#REF!"}},{"$f":"#REF!","v":{"$error":"#REF!"}},{"$f":"#REF!","v":{"$error":"#REF!"}},{"$error":"#REF!"},{"$f":"#REF!","v":{"$error":"#REF!"}}]
[{"$error":"#REF!"},{"$f":"#REF!","v":{"$error":"#REF!"}},{"$f":"#REF!","v":{"$error":"#REF!"}},{"$f":"#REF!","v":{"$error":"#REF!"}},{"$error":"#REF!"},{"$f":"#REF!","v":{"$error":"#REF!"}}]
[{"$error":"#REF!"},{"$f":"#REF!","v":{"$error":"#REF!"}},{"$f":"#REF!","v":{"$error":"#REF!"}},{"$f":"#REF!","v":{"$error":"#REF!"}},{"$error":"#REF!"},{"$f":"#REF!","v":{"$error":"#REF!"}}]
[{"$error":"#REF!"},{"$f":"#REF!","v":{"$error":"#REF!"}},{"$f":"#REF!","v":{"$error":"#REF!"}},{"$f":"#REF!","v":{"$error":"#REF!"}},{"$error":"#REF!"},{"$f":"#REF!","v":{"$error":"#REF!"}}]
[{"$error":"#REF!"},{"$f":"#REF!","v":{"$error":"#REF!"}},{"$f":"#REF!","v":{"$error":"#REF!"}},{"$f":"#REF!","v":{"$error":"#REF!"}},{"$error":"#REF!"},{"$f":"#REF!","v":{"$error":"#REF!"}}]
[{"$error":"#REF!"},{"$f":"#REF!","v":{"$error":"#REF!"}},{"$f":"#REF!","v":{"$error":"#REF!"}},{"$f":"#REF!","v":{"$error":"#REF!"}},{"$error":"#REF!"},{"$f":"#REF!","v":{"$error":"#REF!"}}]
[{"$error":"#REF!"},{"$f":"#REF!","v":{"$error":"#REF!"}},{"$f":"#REF!","v":{"$error":"#REF!"}},{"$f":"#REF!","v":{"$error":"#REF!"}},{"$error":"#REF!"},{"$f":"#REF!","v":{"$error":"#REF!"}}]
[{"$error":"#REF!"},{"$f":"#REF!","v":{"$error":"#REF!"}},{"$f":"#REF!","v":{"$error":"#REF!"}},{"$f":"#REF!","v":{"$error":"#REF!"}},{"$error":"#REF!"},{"$f":"#REF!","v":{"$error":"#REF!"}}]
[{"$error":"#REF!"},{"$f":"#REF!","v":{"$error":"#REF!"}},{"$f":"#REF!","v":{"$error":"#REF!"}},{"$f":"#REF!","v":{"$error":"#REF!"}},{"$error":"#REF!"},{"$f":"#REF!","v":{"$error":"#REF!"}}]
[{"$error":"#REF!"},{"$f":"#REF!","v":{"$error":"#REF!"}},{"$f":"#REF!","v":{"$error":"#REF!"}},{"$f":"#REF!","v":{"$error":"#REF!"}},{"$error":"#REF!"},{"$f":"#REF!","v":{"$error":"#REF!"}}]
[{"$error":"#REF!"},{"$f":"#REF!","v":{"$error":"#REF!"}},{"$f":"#REF!","v":{"$error":"#REF!"}},{"$f":"#REF!","v":{"$error":"#REF!"}},{"$error":"#REF!"},{"$f":"#REF!","v":{"$error":"#REF!"}}]
[{"$error":"#REF!"},{"$f":"#REF!","v":{"$error":"#REF!"}},{"$f":"#REF!","v":{"$error":"#REF!"}},{"$f":"#REF!","v":{"$error":"#REF!"}},{"$error":"#REF!"},{"$f":"#REF!","v":{"$error":"#REF!"}}]
[{"$error":"#REF!"},{"$f":"#REF!","v":{"$error":"#REF!"}},{"$f":"#REF!","v":{"$error":"#REF!"}},{"$f":"#REF!","v":{"$error":"#REF!"}},{"$error":"#REF!"},{"$f":"#REF!","v":{"$error":"#REF!"}}]
[{"$error":"#REF!"},{"$f":"#REF!","v":{"$error":"#REF!"}},{"$f":"#REF!","v":{"$error":"#REF!"}},{"$f":"#REF!","v":{"$error":"#REF!"}},{"$error":"#REF!"},{"$f":"#REF!","v":{"$error":"#REF!"}}]
[{"$error":"#REF!"},{"$f":"#REF!","v":{"$error":"#REF!"}},{"$f":"#REF!","v":{"$error":"#REF!"}},{"$f":"#REF!","v":{"$error":"#REF!"}},{"$error":"#REF!"},{"$f":"#REF!","v":{"$error":"#REF!"}}]
[{"$error":"#REF!"},{"$f":"#REF!","v":{"$error":"#REF!"}},{"$f":"#REF!","v":{"$error":"#REF!"}},{"$f":"#REF!","v":{"$error":"#REF!"}},{"$f":"IF(OFFSET(INDIRECT(ADDRESS(ROW(),COLUMN())),0,-3)=0,0,VLOOKUP(F452,$I$4:$J$60,2,FALSE))","v":{"$error":"#REF!"}},{"$f":"#REF!","v":{"$error":"#REF!"}}]
[{"$f":"IF(B453=0,\"\",A452+1)","v":{"$error":"#REF!"}},{"$f":"#REF!","v":{"$error":"#REF!"}},{"$f":"#REF!","v":{"$error":"#REF!"}},{"$f":"#REF!","v":{"$error":"#REF!"}},{"$error":"#REF!"},{"$f":"#REF!","v":{"$error":"#REF!"}}]
[{"$error":"#REF!"},{"$f":"#REF!","v":{"$error":"#REF!"}},{"$f":"#REF!","v":{"$error":"#REF!"}},{"$f":"#REF!","v":{"$error":"#REF!"}},{"$error":"#REF!"},{"$f":"#REF!","v":{"$error":"#REF!"}}]
[{"$error":"#REF!"},{"$f":"#REF!","v":{"$error":"#REF!"}},{"$f":"#REF!","v":{"$error":"#REF!"}},{"$f":"#REF!","v":{"$error":"#REF!"}},{"$error":"#REF!"},{"$f":"#REF!","v":{"$error":"#REF!"}}]
[{"$error":"#REF!"},{"$f":"#REF!","v":{"$error":"#REF!"}},{"$f":"#REF!","v":{"$error":"#REF!"}},{"$f":"#REF!","v":{"$error":"#REF!"}},{"$error":"#REF!"},{"$f":"#REF!","v":{"$error":"#REF!"}}]
[{"$error":"#REF!"},{"$f":"#REF!","v":{"$error":"#REF!"}},{"$f":"#REF!","v":{"$error":"#REF!"}},{"$f":"#REF!","v":{"$error":"#REF!"}},{"$error":"#REF!"},{"$f":"#REF!","v":{"$error":"#REF!"}}]
[{"$error":"#REF!"},{"$f":"#REF!","v":{"$error":"#REF!"}},{"$f":"#REF!","v":{"$error":"#REF!"}},{"$f":"#REF!","v":{"$error":"#REF!"}},{"$error":"#REF!"},{"$f":"#REF!","v":{"$error":"#REF!"}}]
[{"$error":"#REF!"},{"$f":"#REF!","v":{"$error":"#REF!"}},{"$f":"#REF!","v":{"$error":"#REF!"}},{"$f":"#REF!","v":{"$error":"#REF!"}},{"$error":"#REF!"},{"$f":"#REF!","v":{"$error":"#REF!"}}]
[{"$error":"#REF!"},{"$f":"#REF!","v":{"$error":"#REF!"}},{"$f":"#REF!","v":{"$error":"#REF!"}},{"$f":"#REF!","v":{"$error":"#REF!"}},{"$error":"#REF!"},{"$f":"#REF!","v":{"$error":"#REF!"}}]
[{"$error":"#REF!"},{"$f":"#REF!","v":{"$error":"#REF!"}},{"$f":"#REF!","v":{"$error":"#REF!"}},{"$f":"#REF!","v":{"$error":"#REF!"}},{"$error":"#REF!"},{"$f":"#REF!","v":{"$error":"#REF!"}}]
[{"$error":"#REF!"},{"$f":"#REF!","v":{"$error":"#REF!"}},{"$f":"#REF!","v":{"$error":"#REF!"}},{"$f":"#REF!","v":{"$error":"#REF!"}},{"$error":"#REF!"},{"$f":"#REF!","v":{"$error":"#REF!"}}]
[{"$error":"#REF!"},{"$f":"#REF!","v":{"$error":"#REF!"}},{"$f":"#REF!","v":{"$error":"#REF!"}},{"$f":"#REF!","v":{"$error":"#REF!"}},{"$error":"#REF!"},{"$f":"#REF!","v":{"$error":"#REF!"}}]
[{"$error":"#REF!"},{"$f":"#REF!","v":{"$error":"#REF!"}},{"$f":"#REF!","v":{"$error":"#REF!"}},{"$f":"#REF!","v":{"$error":"#REF!"}},{"$error":"#REF!"},{"$f":"#REF!","v":{"$error":"#REF!"}}]
[{"$error":"#REF!"},{"$f":"#REF!","v":{"$error":"#REF!"}},{"$f":"#REF!","v":{"$error":"#REF!"}},{"$f":"#REF!","v":{"$error":"#REF!"}},{"$error":"#REF!"},{"$f":"#REF!","v":{"$error":"#REF!"}}]
[{"$error":"#REF!"},{"$f":"#REF!","v":{"$error":"#REF!"}},{"$f":"#REF!","v":{"$error":"#REF!"}},{"$f":"#REF!","v":{"$error":"#REF!"}},{"$error":"#REF!"},{"$f":"#REF!","v":{"$error":"#REF!"}}]
[{"$error":"#REF!"},{"$f":"#REF!","v":{"$error":"#REF!"}},{"$f":"#REF!","v":{"$error":"#REF!"}},{"$f":"#REF!","v":{"$error":"#REF!"}},{"$error":"#REF!"},{"$f":"#REF!","v":{"$error":"#REF!"}}]
[{"$error":"#REF!"},{"$f":"#REF!","v":{"$error":"#REF!"}},{"$f":"#REF!","v":{"$error":"#REF!"}},{"$f":"#REF!","v":{"$error":"#REF!"}},{"$error":"#REF!"},{"$f":"#REF!","v":{"$error":"#REF!"}}]
[{"$error":"#REF!"},{"$f":"#REF!","v":{"$error":"#REF!"}},{"$f":"#REF!","v":{"$error":"#REF!"}},{"$f":"#REF!","v":{"$error":"#REF!"}},{"$error":"#REF!"},{"$f":"#REF!","v":{"$error":"#REF!"}}]
[{"$error":"#REF!"},{"$f":"#REF!","v":{"$error":"#REF!"}},{"$f":"#REF!","v":{"$error":"#REF!"}},{"$f":"#REF!","v":{"$error":"#REF!"}},{"$error":"#REF!"},{"$f":"#REF!","v":{"$error":"#REF!"}}]
[{"$error":"#REF!"},{"$f":"#REF!","v":{"$error":"#REF!"}},{"$f":"#REF!","v":{"$error":"#REF!"}},{"$f":"#REF!","v":{"$error":"#REF!"}},{"$error":"#REF!"},{"$f":"#REF!","v":{"$error":"#REF!"}}]
[{"$error":"#REF!"},{"$f":"#REF!","v":{"$error":"#REF!"}},{"$f":"#REF!","v":{"$error":"#REF!"}},{"$f":"#REF!","v":{"$error":"#REF!"}},{"$error":"#REF!"},{"$f":"#REF!","v":{"$error":"#REF!"}}]
[{"$error":"#REF!"},{"$f":"#REF!","v":{"$error":"#REF!"}},{"$f":"#REF!","v":{"$error":"#REF!"}},{"$f":"#REF!","v":{"$error":"#REF!"}},{"$error":"#REF!"},{"$f":"#REF!","v":{"$error":"#REF!"}}]
[{"$error":"#REF!"},{"$f":"#REF!","v":{"$error":"#REF!"}},{"$f":"#REF!","v":{"$error":"#REF!"}},{"$f":"#REF!","v":{"$error":"#REF!"}},{"$error":"#REF!"},{"$f":"#REF!","v":{"$error":"#REF!"}}]
[{"$error":"#REF!"},{"$f":"#REF!","v":{"$error":"#REF!"}},{"$f":"#REF!","v":{"$error":"#REF!"}},{"$f":"#REF!","v":{"$error":"#REF!"}},{"$error":"#REF!"},{"$f":"#REF!","v":{"$error":"#REF!"}}]
[{"$error":"#REF!"},{"$f":"#REF!","v":{"$error":"#REF!"}},{"$f":"#REF!","v":{"$error":"#REF!"}},{"$f":"#REF!","v":{"$error":"#REF!"}},{"$error":"#REF!"},{"$f":"#REF!","v":{"$error":"#REF!"}}]
[{"$error":"#REF!"},{"$f":"#REF!","v":{"$error":"#REF!"}},{"$f":"#REF!","v":{"$error":"#REF!"}},{"$f":"#REF!","v":{"$error":"#REF!"}},{"$error":"#REF!"},{"$f":"#REF!","v":{"$error":"#REF!"}}]
[{"$error":"#REF!"},{"$f":"#REF!","v":{"$error":"#REF!"}},{"$f":"#REF!","v":{"$error":"#REF!"}},{"$f":"#REF!","v":{"$error":"#REF!"}},{"$error":"#REF!"},{"$f":"#REF!","v":{"$error":"#REF!"}}]
[{"$error":"#REF!"},{"$f":"#REF!","v":{"$error":"#REF!"}},{"$f":"#REF!","v":{"$error":"#REF!"}},{"$f":"#REF!","v":{"$error":"#REF!"}},{"$error":"#REF!"},{"$f":"#REF!","v":{"$error":"#REF!"}}]
[{"$error":"#REF!"},{"$f":"#REF!","v":{"$error":"#REF!"}},{"$f":"#REF!","v":{"$error":"#REF!"}},{"$f":"#REF!","v":{"$error":"#REF!"}},{"$error":"#REF!"},{"$f":"#REF!","v":{"$error":"#REF!"}}]
[{"$error":"#REF!"},{"$f":"#REF!","v":{"$error":"#REF!"}},{"$f":"#REF!","v":{"$error":"#REF!"}},{"$f":"#REF!","v":{"$error":"#REF!"}},{"$error":"#REF!"},{"$f":"#REF!","v":{"$error":"#REF!"}}]
[{"$error":"#REF!"},{"$f":"#REF!","v":{"$error":"#REF!"}},{"$f":"#REF!","v":{"$error":"#REF!"}},{"$f":"#REF!","v":{"$error":"#REF!"}},{"$error":"#REF!"},{"$f":"#REF!","v":{"$error":"#REF!"}}]
[{"$error":"#REF!"},{"$f":"#REF!","v":{"$error":"#REF!"}},{"$f":"#REF!","v":{"$error":"#REF!"}},{"$f":"#REF!","v":{"$error":"#REF!"}},{"$error":"#REF!"},{"$f":"#REF!","v":{"$error":"#REF!"}}]
[{"$error":"#REF!"},{"$f":"#REF!","v":{"$error":"#REF!"}},{"$f":"#REF!","v":{"$error":"#REF!"}},{"$f":"#REF!","v":{"$error":"#REF!"}},{"$error":"#REF!"},{"$f":"#REF!","v":{"$error":"#REF!"}}]
[{"$error":"#REF!"},{"$f":"#REF!","v":{"$error":"#REF!"}},{"$f":"#REF!","v":{"$error":"#REF!"}},{"$f":"#REF!","v":{"$error":"#REF!"}},{"$error":"#REF!"},{"$f":"#REF!","v":{"$error":"#REF!"}}]
[{"$error":"#REF!"},{"$f":"#REF!","v":{"$error":"#REF!"}},{"$f":"#REF!","v":{"$error":"#REF!"}},{"$f":"#REF!","v":{"$error":"#REF!"}},{"$error":"#REF!"},{"$f":"#REF!","v":{"$error":"#REF!"}}]
[{"$error":"#REF!"},{"$f":"#REF!","v":{"$error":"#REF!"}},{"$f":"#REF!","v":{"$error":"#REF!"}},{"$f":"#REF!","v":{"$error":"#REF!"}},{"$error":"#REF!"},{"$f":"#REF!","v":{"$error":"#REF!"}}]
[{"$error":"#REF!"},{"$f":"#REF!","v":{"$error":"#REF!"}},{"$f":"#REF!","v":{"$error":"#REF!"}},{"$f":"#REF!","v":{"$error":"#REF!"}},{"$error":"#REF!"},{"$f":"#REF!","v":{"$error":"#REF!"}}]
[{"$error":"#REF!"},{"$f":"#REF!","v":{"$error":"#REF!"}},{"$f":"#REF!","v":{"$error":"#REF!"}},{"$f":"#REF!","v":{"$error":"#REF!"}},{"$error":"#REF!"},{"$f":"#REF!","v":{"$error":"#REF!"}}]
[{"$error":"#REF!"},{"$f":"#REF!","v":{"$error":"#REF!"}},{"$f":"#REF!","v":{"$error":"#REF!"}},{"$f":"#REF!","v":{"$error":"#REF!"}},{"$error":"#REF!"},{"$f":"#REF!","v":{"$error":"#REF!"}}]
[{"$error":"#REF!"},{"$f":"#REF!","v":{"$error":"#REF!"}},{"$f":"#REF!","v":{"$error":"#REF!"}},{"$f":"#REF!","v":{"$error":"#REF!"}},{"$error":"#REF!"},{"$f":"#REF!","v":{"$error":"#REF!"}}]
[{"$error":"#REF!"},{"$f":"#REF!","v":{"$error":"#REF!"}},{"$f":"#REF!","v":{"$error":"#REF!"}},{"$f":"#REF!","v":{"$error":"#REF!"}},{"$error":"#REF!"},{"$f":"#REF!","v":{"$error":"#REF!"}}]
[{"$error":"#REF!"},{"$f":"#REF!","v":{"$error":"#REF!"}},{"$f":"#REF!","v":{"$error":"#REF!"}},{"$f":"#REF!","v":{"$error":"#REF!"}},{"$error":"#REF!"},{"$f":"#REF!","v":{"$error":"#REF!"}}]
[{"$error":"#REF!"},{"$f":"#REF!","v":{"$error":"#REF!"}},{"$f":"#REF!","v":{"$error":"#REF!"}},{"$f":"#REF!","v":{"$error":"#REF!"}},{"$error":"#REF!"},{"$f":"#REF!","v":{"$error":"#REF!"}}]
[{"$error":"#REF!"},{"$f":"#REF!","v":{"$error":"#REF!"}},{"$f":"#REF!","v":{"$error":"#REF!"}},{"$f":"#REF!","v":{"$error":"#REF!"}},{"$error":"#REF!"},{"$f":"#REF!","v":{"$error":"#REF!"}}]
[{"$error":"#REF!"},{"$f":"#REF!","v":{"$error":"#REF!"}},{"$f":"#REF!","v":{"$error":"#REF!"}},{"$f":"#REF!","v":{"$error":"#REF!"}},{"$error":"#REF!"},{"$f":"#REF!","v":{"$error":"#REF!"}}]
[{"$error":"#REF!"},{"$f":"#REF!","v":{"$error":"#REF!"}},{"$f":"#REF!","v":{"$error":"#REF!"}},{"$f":"#REF!","v":{"$error":"#REF!"}},{"$error":"#REF!"},{"$f":"#REF!","v":{"$error":"#REF!"}}]
[{"$error":"#REF!"},{"$f":"#REF!","v":{"$error":"#REF!"}},{"$f":"#REF!","v":{"$error":"#REF!"}},{"$f":"#REF!","v":{"$error":"#REF!"}},{"$error":"#REF!"},{"$f":"#REF!","v":{"$error":"#REF!"}}]
[{"$f":"IF(B499=0,\"\",A498+1)","v":{"$error":"#REF!"}},{"$f":"#REF!","v":{"$error":"#REF!"}},{"$f":"#REF!","v":{"$error":"#REF!"}},{"$f":"#REF!","v":{"$error":"#REF!"}},{"$error":"#REF!"},{"$f":"#REF!","v":{"$error":"#REF!"}}]
[{"$error":"#REF!"},{"$f":"#REF!","v":{"$error":"#REF!"}},{"$f":"#REF!","v":{"$error":"#REF!"}},{"$f":"#REF!","v":{"$error":"#REF!"}},{"$error":"#REF!"},{"$f":"#REF!","v":{"$error":"#REF!"}}]
[{"$error":"#REF!"},{"$f":"#REF!","v":{"$error":"#REF!"}},{"$f":"#REF!","v":{"$error":"#REF!"}},{"$f":"#REF!","v":{"$error":"#REF!"}},{"$error":"#REF!"},{"$f":"#REF!","v":{"$error":"#REF!"}}]
[{"$error":"#REF!"},{"$f":"#REF!","v":{"$error":"#REF!"}},{"$f":"#REF!","v":{"$error":"#REF!"}},{"$f":"#REF!","v":{"$error":"#REF!"}},{"$error":"#REF!"},{"$f":"#REF!","v":{"$error":"#REF!"}}]
[{"$error":"#REF!"},{"$f":"#REF!","v":{"$error":"#REF!"}},{"$f":"#REF!","v":{"$error":"#REF!"}},{"$f":"#REF!","v":{"$error":"#REF!"}},{"$error":"#REF!"},{"$f":"#REF!","v":{"$error":"#REF!"}}]
[{"$error":"#REF!"},{"$f":"#REF!","v":{"$error":"#REF!"}},{"$f":"#REF!","v":{"$error":"#REF!"}},{"$f":"#REF!","v":{"$error":"#REF!"}},{"$error":"#REF!"},{"$f":"#REF!","v":{"$error":"#REF!"}}]
[{"$error":"#REF!"},{"$f":"#REF!","v":{"$error":"#REF!"}},{"$f":"#REF!","v":{"$error":"#REF!"}},{"$f":"#REF!","v":{"$error":"#REF!"}},{"$error":"#REF!"},{"$f":"#REF!","v":{"$error":"#REF!"}}]
[{"$error":"#REF!"},{"$f":"#REF!","v":{"$error":"#REF!"}},{"$f":"#REF!","v":{"$error":"#REF!"}},{"$f":"#REF!","v":{"$error":"#REF!"}},{"$error":"#REF!"},{"$f":"#REF!","v":{"$error":"#REF!"}}]
[{"$error":"#REF!"},{"$f":"#REF!","v":{"$error":"#REF!"}},{"$f":"#REF!","v":{"$error":"#REF!"}},{"$f":"#REF!","v":{"$error":"#REF!"}},{"$error":"#REF!"},{"$f":"#REF!","v":{"$error":"#REF!"}}]
[{"$error":"#REF!"},{"$f":"#REF!","v":{"$error":"#REF!"}},{"$f":"#REF!","v":{"$error":"#REF!"}},{"$f":"#REF!","v":{"$error":"#REF!"}},{"$error":"#REF!"},{"$f":"#REF!","v":{"$error":"#REF!"}}]
[{"$error":"#REF!"},{"$f":"#REF!","v":{"$error":"#REF!"}},{"$f":"#REF!","v":{"$error":"#REF!"}},{"$f":"#REF!","v":{"$error":"#REF!"}},{"$error":"#REF!"},{"$f":"#REF!","v":{"$error":"#REF!"}}]
[{"$error":"#REF!"},{"$f":"#REF!","v":{"$error":"#REF!"}},{"$f":"#REF!","v":{"$error":"#REF!"}},{"$f":"#REF!","v":{"$error":"#REF!"}},{"$error":"#REF!"},{"$f":"#REF!","v":{"$error":"#REF!"}}]
[{"$error":"#REF!"},{"$f":"#REF!","v":{"$error":"#REF!"}},{"$f":"#REF!","v":{"$error":"#REF!"}},{"$f":"#REF!","v":{"$error":"#REF!"}},{"$error":"#REF!"},{"$f":"#REF!","v":{"$error":"#REF!"}}]
[{"$error":"#REF!"},{"$f":"#REF!","v":{"$error":"#REF!"}},{"$f":"#REF!","v":{"$error":"#REF!"}},{"$f":"#REF!","v":{"$error":"#REF!"}},{"$error":"#REF!"},{"$f":"#REF!","v":{"$error":"#REF!"}}]
[{"$error":"#REF!"},{"$f":"#REF!","v":{"$error":"#REF!"}},{"$f":"#REF!","v":{"$error":"#REF!"}},{"$f":"#REF!","v":{"$error":"#REF!"}},{"$error":"#REF!"},{"$f":"#REF!","v":{"$error":"#REF!"}}]
[{"$error":"#REF!"},{"$f":"#REF!","v":{"$error":"#REF!"}},{"$f":"#REF!","v":{"$error":"#REF!"}},{"$f":"#REF!","v":{"$error":"#REF!"}},{"$error":"#REF!"},{"$f":"#REF!","v":{"$error":"#REF!"}}]
[{"$error":"#REF!"},{"$f":"#REF!","v":{"$error":"#REF!"}},{"$f":"#REF!","v":{"$error":"#REF!"}},{"$f":"#REF!","v":{"$error":"#REF!"}},{"$error":"#REF!"},{"$f":"#REF!","v":{"$error":"#REF!"}}]
[{"$error":"#REF!"},{"$f":"#REF!","v":{"$error":"#REF!"}},{"$f":"#REF!","v":{"$error":"#REF!"}},{"$f":"#REF!","v":{"$error":"#REF!"}},{"$f":"IF(OFFSET(INDIRECT(ADDRESS(ROW(),COLUMN())),0,-3)=0,0,VLOOKUP(F516,$I$4:$J$60,2,FALSE))","v":{"$error":"#REF!"}},{"$f":"#REF!","v":{"$error":"#REF!"}}]
[{"$error":"#REF!"},{"$f":"#REF!","v":{"$error":"#REF!"}},{"$f":"#REF!","v":{"$error":"#REF!"}},{"$f":"#REF!","v":{"$error":"#REF!"}},{"$error":"#REF!"},{"$f":"#REF!","v":{"$error":"#REF!"}}]
[{"$error":"#REF!"},{"$f":"#REF!","v":{"$error":"#REF!"}},{"$f":"#REF!","v":{"$error":"#REF!"}},{"$f":"#REF!","v":{"$error":"#REF!"}},{"$error":"#REF!"},{"$f":"#REF!","v":{"$error":"#REF!"}}]
[{"$error":"#REF!"},{"$f":"#REF!","v":{"$error":"#REF!"}},{"$f":"#REF!","v":{"$error":"#REF!"}},{"$f":"#REF!","v":{"$error":"#REF!"}},{"$error":"#REF!"},{"$f":"#REF!","v":{"$error":"#REF!"}}]
[{"$error":"#REF!"},{"$f":"#REF!","v":{"$error":"#REF!"}},{"$f":"#REF!","v":{"$error":"#REF!"}},{"$f":"#REF!","v":{"$error":"#REF!"}},{"$error":"#REF!"},{"$f":"#REF!","v":{"$error":"#REF!"}}]
[{"$error":"#REF!"},{"$f":"#REF!","v":{"$error":"#REF!"}},{"$f":"#REF!","v":{"$error":"#REF!"}},{"$f":"#REF!","v":{"$error":"#REF!"}},{"$error":"#REF!"},{"$f":"#REF!","v":{"$error":"#REF!"}}]
[{"$error":"#REF!"},{"$f":"#REF!","v":{"$error":"#REF!"}},{"$f":"#REF!","v":{"$error":"#REF!"}},{"$f":"#REF!","v":{"$error":"#REF!"}},{"$error":"#REF!"},{"$f":"#REF!","v":{"$error":"#REF!"}}]
[{"$error":"#REF!"},{"$f":"#REF!","v":{"$error":"#REF!"}},{"$f":"#REF!","v":{"$error":"#REF!"}},{"$f":"#REF!","v":{"$error":"#REF!"}},{"$error":"#REF!"},{"$f":"#REF!","v":{"$error":"#REF!"}}]
[{"$error":"#REF!"},{"$f":"#REF!","v":{"$error":"#REF!"}},{"$f":"#REF!","v":{"$error":"#REF!"}},{"$f":"#REF!","v":{"$error":"#REF!"}},{"$error":"#REF!"},{"$f":"#REF!","v":{"$error":"#REF!"}}]
[{"$error":"#REF!"},{"$f":"#REF!","v":{"$error":"#REF!"}},{"$f":"#REF!","v":{"$error":"#REF!"}},{"$f":"#REF!","v":{"$error":"#REF!"}},{"$error":"#REF!"},{"$f":"#REF!","v":{"$error":"#REF!"}}]
[{"$error":"#REF!"},{"$f":"#REF!","v":{"$error":"#REF!"}},{"$f":"#REF!","v":{"$error":"#REF!"}},{"$f":"#REF!","v":{"$error":"#REF!"}},{"$error":"#REF!"},{"$f":"#REF!","v":{"$error":"#REF!"}}]
[{"$error":"#REF!"},{"$f":"#REF!","v":{"$error":"#REF!"}},{"$f":"#REF!","v":{"$error":"#REF!"}},{"$f":"#REF!","v":{"$error":"#REF!"}},{"$error":"#REF!"},{"$f":"#REF!","v":{"$error":"#REF!"}}]
[{"$error":"#REF!"},{"$f":"#REF!","v":{"$error":"#REF!"}},{"$f":"#REF!","v":{"$error":"#REF!"}},{"$f":"#REF!","v":{"$error":"#REF!"}},{"$error":"#REF!"},{"$f":"#REF!","v":{"$error":"#REF!"}}]
[{"$error":"#REF!"},{"$f":"#REF!","v":{"$error":"#REF!"}},{"$f":"#REF!","v":{"$error":"#REF!"}},{"$f":"#REF!","v":{"$error":"#REF!"}},{"$error":"#REF!"},{"$f":"#REF!","v":{"$error":"#REF!"}}]
[{"$error":"#REF!"},{"$f":"#REF!","v":{"$error":"#REF!"}},{"$f":"#REF!","v":{"$error":"#REF!"}},{"$f":"#REF!","v":{"$error":"#REF!"}},{"$error":"#REF!"},{"$f":"#REF!","v":{"$error":"#REF!"}}]
[{"$error":"#REF!"},{"$f":"#REF!","v":{"$error":"#REF!"}},{"$f":"#REF!","v":{"$error":"#REF!"}},{"$f":"#REF!","v":{"$error":"#REF!"}},{"$error":"#REF!"},{"$f":"#REF!","v":{"$error":"#REF!"}}]
[{"$error":"#REF!"},{"$f":"#REF!","v":{"$error":"#REF!"}},{"$f":"#REF!","v":{"$error":"#REF!"}},{"$f":"#REF!","v":{"$error":"#REF!"}},{"$error":"#REF!"},{"$f":"#REF!","v":{"$error":"#REF!"}}]
[{"$error":"#REF!"},{"$f":"#REF!","v":{"$error":"#REF!"}},{"$f":"#REF!","v":{"$error":"#REF!"}},{"$f":"#REF!","v":{"$error":"#REF!"}},{"$error":"#REF!"},{"$f":"#REF!","v":{"$error":"#REF!"}}]
[{"$error":"#REF!"},{"$f":"#REF!","v":{"$error":"#REF!"}},{"$f":"#REF!","v":{"$error":"#REF!"}},{"$f":"#REF!","v":{"$error":"#REF!"}},{"$error":"#REF!"},{"$f":"#REF!","v":{"$error":"#REF!"}}]
[{"$error":"#REF!"},{"$f":"#REF!","v":{"$error":"#REF!"}},{"$f":"#REF!","v":{"$error":"#REF!"}},{"$f":"#REF!","v":{"$error":"#REF!"}},{"$error":"#REF!"},{"$f":"#REF!","v":{"$error":"#REF!"}}]
[{"$error":"#REF!"},{"$f":"#REF!","v":{"$error":"#REF!"}},{"$f":"#REF!","v":{"$error":"#REF!"}},{"$f":"#REF!","v":{"$error":"#REF!"}},{"$error":"#REF!"},{"$f":"#REF!","v":{"$error":"#REF!"}}]
[{"$error":"#REF!"},{"$f":"#REF!","v":{"$error":"#REF!"}},{"$f":"#REF!","v":{"$error":"#REF!"}},{"$f":"#REF!","v":{"$error":"#REF!"}},{"$error":"#REF!"},{"$f":"#REF!","v":{"$error":"#REF!"}}]
[{"$error":"#REF!"},{"$f":"#REF!","v":{"$error":"#REF!"}},{"$f":"#REF!","v":{"$error":"#REF!"}},{"$f":"#REF!","v":{"$error":"#REF!"}},{"$error":"#REF!"},{"$f":"#REF!","v":{"$error":"#REF!"}}]
[{"$error":"#REF!"},{"$f":"#REF!","v":{"$error":"#REF!"}},{"$f":"#REF!","v":{"$error":"#REF!"}},{"$f":"#REF!","v":{"$error":"#REF!"}},{"$error":"#REF!"},{"$f":"#REF!","v":{"$error":"#REF!"}}]
[{"$error":"#REF!"},{"$f":"#REF!","v":{"$error":"#REF!"}},{"$f":"#REF!","v":{"$error":"#REF!"}},{"$f":"#REF!","v":{"$error":"#REF!"}},{"$error":"#REF!"},{"$f":"#REF!","v":{"$error":"#REF!"}}]
[{"$error":"#REF!"},{"$f":"#REF!","v":{"$error":"#REF!"}},{"$f":"#REF!","v":{"$error":"#REF!"}},{"$f":"#REF!","v":{"$error":"#REF!"}},{"$error":"#REF!"},{"$f":"#REF!","v":{"$error":"#REF!"}}]
[{"$error":"#REF!"},{"$f":"#REF!","v":{"$error":"#REF!"}},{"$f":"#REF!","v":{"$error":"#REF!"}},{"$f":"#REF!","v":{"$error":"#REF!"}},{"$error":"#REF!"},{"$f":"#REF!","v":{"$error":"#REF!"}}]
[{"$error":"#REF!"},{"$f":"#REF!","v":{"$error":"#REF!"}},{"$f":"#REF!","v":{"$error":"#REF!"}},{"$f":"#REF!","v":{"$error":"#REF!"}},{"$error":"#REF!"},{"$f":"#REF!","v":{"$error":"#REF!"}}]
[{"$error":"#REF!"},{"$f":"#REF!","v":{"$error":"#REF!"}},{"$f":"#REF!","v":{"$error":"#REF!"}},{"$f":"#REF!","v":{"$error":"#REF!"}},{"$error":"#REF!"},{"$f":"#REF!","v":{"$error":"#REF!"}}]
[{"$error":"#REF!"},{"$f":"#REF!","v":{"$error":"#REF!"}},{"$f":"#REF!","v":{"$error":"#REF!"}},{"$f":"#REF!","v":{"$error":"#REF!"}},{"$error":"#REF!"},{"$f":"#REF!","v":{"$error":"#REF!"}}]
[{"$error":"#REF!"},{"$f":"#REF!","v":{"$error":"#REF!"}},{"$f":"#REF!","v":{"$error":"#REF!"}},{"$f":"#REF!","v":{"$error":"#REF!"}},{"$error":"#REF!"},{"$f":"#REF!","v":{"$error":"#REF!"}}]
[{"$error":"#REF!"},{"$f":"#REF!","v":{"$error":"#REF!"}},{"$f":"#REF!","v":{"$error":"#REF!"}},{"$f":"#REF!","v":{"$error":"#REF!"}},{"$error":"#REF!"},{"$f":"#REF!","v":{"$error":"#REF!"}}]
[{"$error":"#REF!"},{"$f":"#REF!","v":{"$error":"#REF!"}},{"$f":"#REF!","v":{"$error":"#REF!"}},{"$f":"#REF!","v":{"$error":"#REF!"}},{"$error":"#REF!"},{"$f":"#REF!","v":{"$error":"#REF!"}}]
[{"$error":"#REF!"},{"$f":"#REF!","v":{"$error":"#REF!"}},{"$f":"#REF!","v":{"$error":"#REF!"}},{"$f":"#REF!","v":{"$error":"#REF!"}},{"$error":"#REF!"},{"$f":"#REF!","v":{"$error":"#REF!"}}]
[{"$error":"#REF!"},{"$f":"#REF!","v":{"$error":"#REF!"}},{"$f":"#REF!","v":{"$error":"#REF!"}},{"$f":"#REF!","v":{"$error":"#REF!"}},{"$error":"#REF!"},{"$f":"#REF!","v":{"$error":"#REF!"}}]
[{"$error":"#REF!"},{"$f":"#REF!","v":{"$error":"#REF!"}},{"$f":"#REF!","v":{"$error":"#REF!"}},{"$f":"#REF!","v":{"$error":"#REF!"}},{"$error":"#REF!"},{"$f":"#REF!","v":{"$error":"#REF!"}}]
[{"$error":"#REF!"},{"$f":"#REF!","v":{"$error":"#REF!"}},{"$f":"#REF!","v":{"$error":"#REF!"}},{"$f":"#REF!","v":{"$error":"#REF!"}},{"$error":"#REF!"},{"$f":"#REF!","v":{"$error":"#REF!"}}]
[{"$error":"#REF!"},{"$f":"#REF!","v":{"$error":"#REF!"}},{"$f":"#REF!","v":{"$error":"#REF!"}},{"$f":"#REF!","v":{"$error":"#REF!"}},{"$error":"#REF!"},{"$f":"#REF!","v":{"$error":"#REF!"}}]
[{"$error":"#REF!"},{"$f":"#REF!","v":{"$error":"#REF!"}},{"$f":"#REF!","v":{"$error":"#REF!"}},{"$f":"#REF!","v":{"$error":"#REF!"}},{"$error":"#REF!"},{"$f":"#REF!","v":{"$error":"#REF!"}}]
[{"$error":"#REF!"},{"$f":"#REF!","v":{"$error":"#REF!"}},{"$f":"#REF!","v":{"$error":"#REF!"}},{"$f":"#REF!","v":{"$error":"#REF!"}},{"$error":"#REF!"},{"$f":"#REF!","v":{"$error":"#REF!"}}]
[{"$error":"#REF!"},{"$f":"#REF!","v":{"$error":"#REF!"}},{"$f":"#REF!","v":{"$error":"#REF!"}},{"$f":"#REF!","v":{"$error":"#REF!"}},{"$error":"#REF!"},{"$f":"#REF!","v":{"$error":"#REF!"}}]
[{"$error":"#REF!"},{"$f":"#REF!","v":{"$error":"#REF!"}},{"$f":"#REF!","v":{"$error":"#REF!"}},{"$f":"#REF!","v":{"$error":"#REF!"}},{"$error":"#REF!"},{"$f":"#REF!","v":{"$error":"#REF!"}}]
[{"$error":"#REF!"},{"$f":"#REF!","v":{"$error":"#REF!"}},{"$f":"#REF!","v":{"$error":"#REF!"}},{"$f":"#REF!","v":{"$error":"#REF!"}},{"$error":"#REF!"},{"$f":"#REF!","v":{"$error":"#REF!"}}]
[{"$error":"#REF!"},{"$f":"#REF!","v":{"$error":"#REF!"}},{"$f":"#REF!","v":{"$error":"#REF!"}},{"$f":"#REF!","v":{"$error":"#REF!"}},{"$error":"#REF!"},{"$f":"#REF!","v":{"$error":"#REF!"}}]
[{"$error":"#REF!"},{"$f":"#REF!","v":{"$error":"#REF!"}},{"$f":"#REF!","v":{"$error":"#REF!"}},{"$f":"#REF!","v":{"$error":"#REF!"}},{"$error":"#REF!"},{"$f":"#REF!","v":{"$error":"#REF!"}}]
[{"$error":"#REF!"},{"$f":"#REF!","v":{"$error":"#REF!"}},{"$f":"#REF!","v":{"$error":"#REF!"}},{"$f":"#REF!","v":{"$error":"#REF!"}},{"$error":"#REF!"},{"$f":"#REF!","v":{"$error":"#REF!"}}]
[{"$error":"#REF!"},{"$f":"#REF!","v":{"$error":"#REF!"}},{"$f":"#REF!","v":{"$error":"#REF!"}},{"$f":"#REF!","v":{"$error":"#REF!"}},{"$error":"#REF!"},{"$f":"#REF!","v":{"$error":"#REF!"}}]
[{"$f":"IF(B563=0,\"\",A562+1)","v":{"$error":"#REF!"}},{"$f":"#REF!","v":{"$error":"#REF!"}},{"$f":"#REF!","v":{"$error":"#REF!"}},{"$f":"#REF!","v":{"$error":"#REF!"}},{"$error":"#REF!"},{"$f":"#REF!","v":{"$error":"#REF!"}}]
[{"$error":"#REF!"},{"$f":"#REF!","v":{"$error":"#REF!"}},{"$f":"#REF!","v":{"$error":"#REF!"}},{"$f":"#REF!","v":{"$error":"#REF!"}},{"$error":"#REF!"},{"$f":"#REF!","v":{"$error":"#REF!"}}]
[{"$error":"#REF!"},{"$f":"#REF!","v":{"$error":"#REF!"}},{"$f":"#REF!","v":{"$error":"#REF!"}},{"$f":"#REF!","v":{"$error":"#REF!"}},{"$error":"#REF!"},{"$f":"#REF!","v":{"$error":"#REF!"}}]
[{"$error":"#REF!"},{"$f":"#REF!","v":{"$error":"#REF!"}},{"$f":"#REF!","v":{"$error":"#REF!"}},{"$f":"#REF!","v":{"$error":"#REF!"}},{"$error":"#REF!"},{"$f":"#REF!","v":{"$error":"#REF!"}}]
[{"$error":"#REF!"},{"$f":"#REF!","v":{"$error":"#REF!"}},{"$f":"#REF!","v":{"$error":"#REF!"}},{"$f":"#REF!","v":{"$error":"#REF!"}},{"$error":"#REF!"},{"$f":"#REF!","v":{"$error":"#REF!"}}]
[{"$error":"#REF!"},{"$f":"#REF!","v":{"$error":"#REF!"}},{"$f":"#REF!","v":{"$error":"#REF!"}},{"$f":"#REF!","v":{"$error":"#REF!"}},{"$error":"#REF!"},{"$f":"#REF!","v":{"$error":"#REF!"}}]
[{"$error":"#REF!"},{"$f":"#REF!","v":{"$error":"#REF!"}},{"$f":"#REF!","v":{"$error":"#REF!"}},{"$f":"#REF!","v":{"$error":"#REF!"}},{"$error":"#REF!"},{"$f":"#REF!","v":{"$error":"#REF!"}}]
[{"$error":"#REF!"},{"$f":"#REF!","v":{"$error":"#REF!"}},{"$f":"#REF!","v":{"$error":"#REF!"}},{"$f":"#REF!","v":{"$error":"#REF!"}},{"$error":"#REF!"},{"$f":"#REF!","v":{"$error":"#REF!"}}]
[{"$error":"#REF!"},{"$f":"#REF!","v":{"$error":"#REF!"}},{"$f":"#REF!","v":{"$error":"#REF!"}},{"$f":"#REF!","v":{"$error":"#REF!"}},{"$error":"#REF!"},{"$f":"#REF!","v":{"$error":"#REF!"}}]
[{"$error":"#REF!"},{"$f":"#REF!","v":{"$error":"#REF!"}},{"$f":"#REF!","v":{"$error":"#REF!"}},{"$f":"#REF!","v":{"$error":"#REF!"}},{"$error":"#REF!"},{"$f":"#REF!","v":{"$error":"#REF!"}}]
[{"$error":"#REF!"},{"$f":"#REF!","v":{"$error":"#REF!"}},{"$f":"#REF!","v":{"$error":"#REF!"}},{"$f":"#REF!","v":{"$error":"#REF!"}},{"$error":"#REF!"},{"$f":"#REF!","v":{"$error":"#REF!"}}]
[{"$error":"#REF!"},{"$f":"#REF!","v":{"$error":"#REF!"}},{"$f":"#REF!","v":{"$error":"#REF!"}},{"$f":"#REF!","v":{"$error":"#REF!"}},{"$error":"#REF!"},{"$f":"#REF!","v":{"$error":"#REF!"}}]
[{"$error":"#REF!"},{"$f":"#REF!","v":{"$error":"#REF!"}},{"$f":"#REF!","v":{"$error":"#REF!"}},{"$f":"#REF!","v":{"$error":"#REF!"}},{"$error":"#REF!"},{"$f":"#REF!","v":{"$error":"#REF!"}}]
[{"$error":"#REF!"},{"$f":"#REF!","v":{"$error":"#REF!"}},{"$f":"#REF!","v":{"$error":"#REF!"}},{"$f":"#REF!","v":{"$error":"#REF!"}},{"$error":"#REF!"},{"$f":"#REF!","v":{"$error":"#REF!"}}]
[{"$error":"#REF!"},{"$f":"#REF!","v":{"$error":"#REF!"}},{"$f":"#REF!","v":{"$error":"#REF!"}},{"$f":"#REF!","v":{"$error":"#REF!"}},{"$error":"#REF!"},{"$f":"#REF!","v":{"$error":"#REF!"}}]
[{"$error":"#REF!"},{"$f":"#REF!","v":{"$error":"#REF!"}},{"$f":"#REF!","v":{"$error":"#REF!"}},{"$f":"#REF!","v":{"$error":"#REF!"}},{"$error":"#REF!"},{"$f":"#REF!","v":{"$error":"#REF!"}}]
[{"$error":"#REF!"},{"$f":"#REF!","v":{"$error":"#REF!"}},{"$f":"#REF!","v":{"$error":"#REF!"}},{"$f":"#REF!","v":{"$error":"#REF!"}},{"$error":"#REF!"},{"$f":"#REF!","v":{"$error":"#REF!"}}]
[{"$error":"#REF!"},{"$f":"#REF!","v":{"$error":"#REF!"}},{"$f":"#REF!","v":{"$error":"#REF!"}},{"$f":"#REF!","v":{"$error":"#REF!"}},{"$f":"IF(OFFSET(INDIRECT(ADDRESS(ROW(),COLUMN())),0,-3)=0,0,VLOOKUP(F580,$I$4:$J$60,2,FALSE))","v":{"$error":"#REF!"}},{"$f":"#REF!","v":{"$error":"#REF!"}}]
[{"$error":"#REF!"},{"$f":"#REF!","v":{"$error":"#REF!"}},{"$f":"#REF!","v":{"$error":"#REF!"}},{"$f":"#REF!","v":{"$error":"#REF!"}},{"$error":"#REF!"},{"$f":"#REF!","v":{"$error":"#REF!"}}]
[{"$error":"#REF!"},{"$f":"#REF!","v":{"$error":"#REF!"}},{"$f":"#REF!","v":{"$error":"#REF!"}},{"$f":"#REF!","v":{"$error":"#REF!"}},{"$error":"#REF!"},{"$f":"#REF!","v":{"$error":"#REF!"}}]
[{"$error":"#REF!"},{"$f":"#REF!","v":{"$error":"#REF!"}},{"$f":"#REF!","v":{"$error":"#REF!"}},{"$f":"#REF!","v":{"$error":"#REF!"}},{"$error":"#REF!"},{"$f":"#REF!","v":{"$error":"#REF!"}}]
[{"$error":"#REF!"},{"$f":"#REF!","v":{"$error":"#REF!"}},{"$f":"#REF!","v":{"$error":"#REF!"}},{"$f":"#REF!","v":{"$error":"#REF!"}},{"$error":"#REF!"},{"$f":"#REF!","v":{"$error":"#REF!"}}]
[{"$error":"#REF!"},{"$f":"#REF!","v":{"$error":"#REF!"}},{"$f":"#REF!","v":{"$error":"#REF!"}},{"$f":"#REF!","v":{"$error":"#REF!"}},{"$error":"#REF!"},{"$f":"#REF!","v":{"$error":"#REF!"}}]
[{"$error":"#REF!"},{"$f":"#REF!","v":{"$error":"#REF!"}},{"$f":"#REF!","v":{"$error":"#REF!"}},{"$f":"#REF!","v":{"$error":"#REF!"}},{"$error":"#REF!"},{"$f":"#REF!","v":{"$error":"#REF!"}}]
[{"$error":"#REF!"},{"$f":"#REF!","v":{"$error":"#REF!"}},{"$f":"#REF!","v":{"$error":"#REF!"}},{"$f":"#REF!","v":{"$error":"#REF!"}},{"$error":"#REF!"},{"$f":"#REF!","v":{"$error":"#REF!"}}]
[{"$error":"#REF!"},{"$f":"#REF!","v":{"$error":"#REF!"}},{"$f":"#REF!","v":{"$error":"#REF!"}},{"$f":"#REF!","v":{"$error":"#REF!"}},{"$error":"#REF!"},{"$f":"#REF!","v":{"$error":"#REF!"}}]
[{"$error":"#REF!"},{"$f":"#REF!","v":{"$error":"#REF!"}},{"$f":"#REF!","v":{"$error":"#REF!"}},{"$f":"#REF!","v":{"$error":"#REF!"}},{"$error":"#REF!"},{"$f":"#REF!","v":{"$error":"#REF!"}}]
[{"$error":"#REF!"},{"$f":"#REF!","v":{"$error":"#REF!"}},{"$f":"#REF!","v":{"$error":"#REF!"}},{"$f":"#REF!","v":{"$error":"#REF!"}},{"$error":"#REF!"},{"$f":"#REF!","v":{"$error":"#REF!"}}]
[{"$error":"#REF!"},{"$f":"#REF!","v":{"$error":"#REF!"}},{"$f":"#REF!","v":{"$error":"#REF!"}},{"$f":"#REF!","v":{"$error":"#REF!"}},{"$error":"#REF!"},{"$f":"#REF!","v":{"$error":"#REF!"}}]
[{"$error":"#REF!"},{"$f":"#REF!","v":{"$error":"#REF!"}},{"$f":"#REF!","v":{"$error":"#REF!"}},{"$f":"#REF!","v":{"$error":"#REF!"}},{"$error":"#REF!"},{"$f":"#REF!","v":{"$error":"#REF!"}}]
[{"$error":"#REF!"},{"$f":"#REF!","v":{"$error":"#REF!"}},{"$f":"#REF!","v":{"$error":"#REF!"}},{"$f":"#REF!","v":{"$error":"#REF!"}},{"$error":"#REF!"},{"$f":"#REF!","v":{"$error":"#REF!"}}]
[{"$error":"#REF!"},{"$f":"#REF!","v":{"$error":"#REF!"}},{"$f":"#REF!","v":{"$error":"#REF!"}},{"$f":"#REF!","v":{"$error":"#REF!"}},{"$error":"#REF!"},{"$f":"#REF!","v":{"$error":"#REF!"}}]
[{"$error":"#REF!"},{"$f":"#REF!","v":{"$error":"#REF!"}},{"$f":"#REF!","v":{"$error":"#REF!"}},{"$f":"#REF!","v":{"$error":"#REF!"}},{"$error":"#REF!"},{"$f":"#REF!","v":{"$error":"#REF!"}}]
[{"$error":"#REF!"},{"$f":"#REF!","v":{"$error":"#REF!"}},{"$f":"#REF!","v":{"$error":"#REF!"}},{"$f":"#REF!","v":{"$error":"#REF!"}},{"$error":"#REF!"},{"$f":"#REF!","v":{"$error":"#REF!"}}]
[{"$error":"#REF!"},{"$f":"#REF!","v":{"$error":"#REF!"}},{"$f":"#REF!","v":{"$error":"#REF!"}},{"$f":"#REF!","v":{"$error":"#REF!"}},{"$error":"#REF!"},{"$f":"#REF!","v":{"$error":"#REF!"}}]
[{"$error":"#REF!"},{"$f":"#REF!","v":{"$error":"#REF!"}},{"$f":"#REF!","v":{"$error":"#REF!"}},{"$f":"#REF!","v":{"$error":"#REF!"}},{"$error":"#REF!"},{"$f":"#REF!","v":{"$error":"#REF!"}}]
[{"$error":"#REF!"},{"$f":"#REF!","v":{"$error":"#REF!"}},{"$f":"#REF!","v":{"$error":"#REF!"}},{"$f":"#REF!","v":{"$error":"#REF!"}},{"$error":"#REF!"},{"$f":"#REF!","v":{"$error":"#REF!"}}]
[{"$error":"#REF!"},{"$f":"#REF!","v":{"$error":"#REF!"}},{"$f":"#REF!","v":{"$error":"#REF!"}},{"$f":"#REF!","v":{"$error":"#REF!"}},{"$error":"#REF!"},{"$f":"#REF!","v":{"$error":"#REF!"}}]
[{"$error":"#REF!"},{"$f":"#REF!","v":{"$error":"#REF!"}},{"$f":"#REF!","v":{"$error":"#REF!"}},{"$f":"#REF!","v":{"$error":"#REF!"}},{"$error":"#REF!"},{"$f":"#REF!","v":{"$error":"#REF!"}}]
[{"$error":"#REF!"},{"$f":"#REF!","v":{"$error":"#REF!"}},{"$f":"#REF!","v":{"$error":"#REF!"}},{"$f":"#REF!","v":{"$error":"#REF!"}},{"$error":"#REF!"},{"$f":"#REF!","v":{"$error":"#REF!"}}]
[{"$error":"#REF!"},{"$f":"#REF!","v":{"$error":"#REF!"}},{"$f":"#REF!","v":{"$error":"#REF!"}},{"$f":"#REF!","v":{"$error":"#REF!"}},{"$error":"#REF!"},{"$f":"#REF!","v":{"$error":"#REF!"}}]
[{"$error":"#REF!"},{"$f":"#REF!","v":{"$error":"#REF!"}},{"$f":"#REF!","v":{"$error":"#REF!"}},{"$f":"#REF!","v":{"$error":"#REF!"}},{"$error":"#REF!"},{"$f":"#REF!","v":{"$error":"#REF!"}}]
[{"$error":"#REF!"},{"$f":"#REF!","v":{"$error":"#REF!"}},{"$f":"#REF!","v":{"$error":"#REF!"}},{"$f":"#REF!","v":{"$error":"#REF!"}},{"$error":"#REF!"},{"$f":"#REF!","v":{"$error":"#REF!"}}]
[{"$error":"#REF!"},{"$f":"#REF!","v":{"$error":"#REF!"}},{"$f":"#REF!","v":{"$error":"#REF!"}},{"$f":"#REF!","v":{"$error":"#REF!"}},{"$error":"#REF!"},{"$f":"#REF!","v":{"$error":"#REF!"}}]
[{"$error":"#REF!"},{"$f":"#REF!","v":{"$error":"#REF!"}},{"$f":"#REF!","v":{"$error":"#REF!"}},{"$f":"#REF!","v":{"$error":"#REF!"}},{"$error":"#REF!"},{"$f":"#REF!","v":{"$error":"#REF!"}}]
[{"$error":"#REF!"},{"$f":"#REF!","v":{"$error":"#REF!"}},{"$f":"#REF!","v":{"$error":"#REF!"}},{"$f":"#REF!","v":{"$error":"#REF!"}},{"$error":"#REF!"},{"$f":"#REF!","v":{"$error":"#REF!"}}]
[{"$error":"#REF!"},{"$f":"#REF!","v":{"$error":"#REF!"}},{"$f":"#REF!","v":{"$error":"#REF!"}},{"$f":"#REF!","v":{"$error":"#REF!"}},{"$error":"#REF!"},{"$f":"#REF!","v":{"$error":"#REF!"}}]
[{"$error":"#REF!"},{"$f":"#REF!","v":{"$error":"#REF!"}},{"$f":"#REF!","v":{"$error":"#REF!"}},{"$f":"#REF!","v":{"$error":"#REF!"}},{"$error":"#REF!"},{"$f":"#REF!","v":{"$error":"#REF!"}}]
[{"$error":"#REF!"},{"$f":"#REF!","v":{"$error":"#REF!"}},{"$f":"#REF!","v":{"$error":"#REF!"}},{"$f":"#REF!","v":{"$error":"#REF!"}},{"$error":"#REF!"},{"$f":"#REF!","v":{"$error":"#REF!"}}]
[{"$error":"#REF!"},{"$f":"#REF!","v":{"$error":"#REF!"}},{"$f":"#REF!","v":{"$error":"#REF!"}},{"$f":"#REF!","v":{"$error":"#REF!"}},{"$error":"#REF!"},{"$f":"#REF!","v":{"$error":"#REF!"}}]
[{"$error":"#REF!"},{"$f":"#REF!","v":{"$error":"#REF!"}},{"$f":"#REF!","v":{"$error":"#REF!"}},{"$f":"#REF!","v":{"$error":"#REF!"}},{"$error":"#REF!"},{"$f":"#REF!","v":{"$error":"#REF!"}}]
[{"$error":"#REF!"},{"$f":"#REF!","v":{"$error":"#REF!"}},{"$f":"#REF!","v":{"$error":"#REF!"}},{"$f":"#REF!","v":{"$error":"#REF!"}},{"$error":"#REF!"},{"$f":"#REF!","v":{"$error":"#REF!"}}]
[{"$error":"#REF!"},{"$f":"#REF!","v":{"$error":"#REF!"}},{"$f":"#REF!","v":{"$error":"#REF!"}},{"$f":"#REF!","v":{"$error":"#REF!"}},{"$error":"#REF!"},{"$f":"#REF!","v":{"$error":"#REF!"}}]
[{"$error":"#REF!"},{"$f":"#REF!","v":{"$error":"#REF!"}},{"$f":"#REF!","v":{"$error":"#REF!"}},{"$f":"#REF!","v":{"$error":"#REF!"}},{"$error":"#REF!"},{"$f":"#REF!","v":{"$error":"#REF!"}}]
[{"$error":"#REF!"},{"$f":"#REF!","v":{"$error":"#REF!"}},{"$f":"#REF!","v":{"$error":"#REF!"}},{"$f":"#REF!","v":{"$error":"#REF!"}},{"$error":"#REF!"},{"$f":"#REF!","v":{"$error":"#REF!"}}]
[{"$error":"#REF!"},{"$f":"#REF!","v":{"$error":"#REF!"}},{"$f":"#REF!","v":{"$error":"#REF!"}},{"$f":"#REF!","v":{"$error":"#REF!"}},{"$error":"#REF!"},{"$f":"#REF!","v":{"$error":"#REF!"}}]
[{"$error":"#REF!"},{"$f":"#REF!","v":{"$error":"#REF!"}},{"$f":"#REF!","v":{"$error":"#REF!"}},{"$f":"#REF!","v":{"$error":"#REF!"}},{"$error":"#REF!"},{"$f":"#REF!","v":{"$error":"#REF!"}}]
[{"$error":"#REF!"},{"$f":"#REF!","v":{"$error":"#REF!"}},{"$f":"#REF!","v":{"$error":"#REF!"}},{"$f":"#REF!","v":{"$error":"#REF!"}},{"$error":"#REF!"},{"$f":"#REF!","v":{"$error":"#REF!"}}]
[{"$error":"#REF!"},{"$f":"#REF!","v":{"$error":"#REF!"}},{"$f":"#REF!","v":{"$error":"#REF!"}},{"$f":"#REF!","v":{"$error":"#REF!"}},{"$error":"#REF!"},{"$f":"#REF!","v":{"$error":"#REF!"}}]
[{"$error":"#REF!"},{"$f":"#REF!","v":{"$error":"#REF!"}},{"$f":"#REF!","v":{"$error":"#REF!"}},{"$f":"#REF!","v":{"$error":"#REF!"}},{"$error":"#REF!"},{"$f":"#REF!","v":{"$error":"#REF!"}}]
[{"$error":"#REF!"},{"$f":"#REF!","v":{"$error":"#REF!"}},{"$f":"#REF!","v":{"$error":"#REF!"}},{"$f":"#REF!","v":{"$error":"#REF!"}},{"$error":"#REF!"},{"$f":"#REF!","v":{"$error":"#REF!"}}]
[{"$error":"#REF!"},{"$f":"#REF!","v":{"$error":"#REF!"}},{"$f":"#REF!","v":{"$error":"#REF!"}},{"$f":"#REF!","v":{"$error":"#REF!"}},{"$error":"#REF!"},{"$f":"#REF!","v":{"$error":"#REF!"}}]
[{"$error":"#REF!"},{"$f":"#REF!","v":{"$error":"#REF!"}},{"$f":"#REF!","v":{"$error":"#REF!"}},{"$f":"#REF!","v":{"$error":"#REF!"}},{"$error":"#REF!"},{"$f":"#REF!","v":{"$error":"#REF!"}}]
[{"$error":"#REF!"},{"$f":"#REF!","v":{"$error":"#REF!"}},{"$f":"#REF!","v":{"$error":"#REF!"}},{"$f":"#REF!","v":{"$error":"#REF!"}},{"$error":"#REF!"},{"$f":"#REF!","v":{"$error":"#REF!"}}]
[{"$f":"IF(B627=0,\"\",A626+1)","v":{"$error":"#REF!"}},{"$f":"#REF!","v":{"$error":"#REF!"}},{"$f":"#REF!","v":{"$error":"#REF!"}},{"$f":"#REF!","v":{"$error":"#REF!"}},{"$error":"#REF!"},{"$f":"#REF!","v":{"$error":"#REF!"}}]
[{"$error":"#REF!"},{"$f":"#REF!","v":{"$error":"#REF!"}},{"$f":"#REF!","v":{"$error":"#REF!"}},{"$f":"#REF!","v":{"$error":"#REF!"}},{"$error":"#REF!"},{"$f":"#REF!","v":{"$error":"#REF!"}}]
[{"$error":"#REF!"},{"$f":"#REF!","v":{"$error":"#REF!"}},{"$f":"#REF!","v":{"$error":"#REF!"}},{"$f":"#REF!","v":{"$error":"#REF!"}},{"$error":"#REF!"},{"$f":"#REF!","v":{"$error":"#REF!"}}]
[{"$error":"#REF!"},{"$f":"#REF!","v":{"$error":"#REF!"}},{"$f":"#REF!","v":{"$error":"#REF!"}},{"$f":"#REF!","v":{"$error":"#REF!"}},{"$error":"#REF!"},{"$f":"#REF!","v":{"$error":"#REF!"}}]
[{"$error":"#REF!"},{"$f":"#REF!","v":{"$error":"#REF!"}},{"$f":"#REF!","v":{"$error":"#REF!"}},{"$f":"#REF!","v":{"$error":"#REF!"}},{"$error":"#REF!"},{"$f":"#REF!","v":{"$error":"#REF!"}}]
[{"$error":"#REF!"},{"$f":"#REF!","v":{"$error":"#REF!"}},{"$f":"#REF!","v":{"$error":"#REF!"}},{"$f":"#REF!","v":{"$error":"#REF!"}},{"$error":"#REF!"},{"$f":"#REF!","v":{"$error":"#REF!"}}]
[{"$error":"#REF!"},{"$f":"#REF!","v":{"$error":"#REF!"}},{"$f":"#REF!","v":{"$error":"#REF!"}},{"$f":"#REF!","v":{"$error":"#REF!"}},{"$error":"#REF!"},{"$f":"#REF!","v":{"$error":"#REF!"}}]
[{"$error":"#REF!"},{"$f":"#REF!","v":{"$error":"#REF!"}},{"$f":"#REF!","v":{"$error":"#REF!"}},{"$f":"#REF!","v":{"$error":"#REF!"}},{"$error":"#REF!"},{"$f":"#REF!","v":{"$error":"#REF!"}}]
[{"$error":"#REF!"},{"$f":"#REF!","v":{"$error":"#REF!"}},{"$f":"#REF!","v":{"$error":"#REF!"}},{"$f":"#REF!","v":{"$error":"#REF!"}},{"$error":"#REF!"},{"$f":"#REF!","v":{"$error":"#REF!"}}]
[{"$error":"#REF!"},{"$f":"#REF!","v":{"$error":"#REF!"}},{"$f":"#REF!","v":{"$error":"#REF!"}},{"$f":"#REF!","v":{"$error":"#REF!"}},{"$error":"#REF!"},{"$f":"#REF!","v":{"$error":"#REF!"}}]
[{"$error":"#REF!"},{"$f":"#REF!","v":{"$error":"#REF!"}},{"$f":"#REF!","v":{"$error":"#REF!"}},{"$f":"#REF!","v":{"$error":"#REF!"}},{"$error":"#REF!"},{"$f":"#REF!","v":{"$error":"#REF!"}}]
[{"$error":"#REF!"},{"$f":"#REF!","v":{"$error":"#REF!"}},{"$f":"#REF!","v":{"$error":"#REF!"}},{"$f":"#REF!","v":{"$error":"#REF!"}},{"$error":"#REF!"},{"$f":"#REF!","v":{"$error":"#REF!"}}]
[{"$error":"#REF!"},{"$f":"#REF!","v":{"$error":"#REF!"}},{"$f":"#REF!","v":{"$error":"#REF!"}},{"$f":"#REF!","v":{"$error":"#REF!"}},{"$error":"#REF!"},{"$f":"#REF!","v":{"$error":"#REF!"}}]
[{"$error":"#REF!"},{"$f":"#REF!","v":{"$error":"#REF!"}},{"$f":"#REF!","v":{"$error":"#REF!"}},{"$f":"#REF!","v":{"$error":"#REF!"}},{"$error":"#REF!"},{"$f":"#REF!","v":{"$error":"#REF!"}}]
[{"$error":"#REF!"},{"$f":"#REF!","v":{"$error":"#REF!"}},{"$f":"#REF!","v":{"$error":"#REF!"}},{"$f":"#REF!","v":{"$error":"#REF!"}},{"$error":"#REF!"},{"$f":"#REF!","v":{"$error":"#REF!"}}]
[{"$error":"#REF!"},{"$f":"#REF!","v":{"$error":"#REF!"}},{"$f":"#REF!","v":{"$error":"#REF!"}},{"$f":"#REF!","v":{"$error":"#REF!"}},{"$error":"#REF!"},{"$f":"#REF!","v":{"$error":"#REF!"}}]
[{"$error":"#REF!"},{"$f":"#REF!","v":{"$error":"#REF!"}},{"$f":"#REF!","v":{"$error":"#REF!"}},{"$f":"#REF!","v":{"$error":"#REF!"}},{"$error":"#REF!"},{"$f":"#REF!","v":{"$error":"#REF!"}}]
[{"$error":"#REF!"},{"$f":"#REF!","v":{"$error":"#REF!"}},{"$f":"#REF!","v":{"$error":"#REF!"}},{"$f":"#REF!","v":{"$error":"#REF!"}},{"$f":"IF(OFFSET(INDIRECT(ADDRESS(ROW(),COLUMN())),0,-3)=0,0,VLOOKUP(F644,$I$4:$J$60,2,FALSE))","v":{"$error":"#REF!"}},{"$f":"#REF!","v":{"$error":"#REF!"}}]
[{"$error":"#REF!"},{"$f":"#REF!","v":{"$error":"#REF!"}},{"$f":"#REF!","v":{"$error":"#REF!"}},{"$f":"#REF!","v":{"$error":"#REF!"}},{"$error":"#REF!"},{"$f":"#REF!","v":{"$error":"#REF!"}}]
[{"$error":"#REF!"},{"$f":"#REF!","v":{"$error":"#REF!"}},{"$f":"#REF!","v":{"$error":"#REF!"}},{"$f":"#REF!","v":{"$error":"#REF!"}},{"$error":"#REF!"},{"$f":"#REF!","v":{"$error":"#REF!"}}]
[{"$error":"#REF!"},{"$f":"#REF!","v":{"$error":"#REF!"}},{"$f":"#REF!","v":{"$error":"#REF!"}},{"$f":"#REF!","v":{"$error":"#REF!"}},{"$error":"#REF!"},{"$f":"#REF!","v":{"$error":"#REF!"}}]
[{"$error":"#REF!"},{"$f":"#REF!","v":{"$error":"#REF!"}},{"$f":"#REF!","v":{"$error":"#REF!"}},{"$f":"#REF!","v":{"$error":"#REF!"}},{"$error":"#REF!"},{"$f":"#REF!","v":{"$error":"#REF!"}}]
[{"$error":"#REF!"},{"$f":"#REF!","v":{"$error":"#REF!"}},{"$f":"#REF!","v":{"$error":"#REF!"}},{"$f":"#REF!","v":{"$error":"#REF!"}},{"$error":"#REF!"},{"$f":"#REF!","v":{"$error":"#REF!"}}]
[{"$error":"#REF!"},{"$f":"#REF!","v":{"$error":"#REF!"}},{"$f":"#REF!","v":{"$error":"#REF!"}},{"$f":"#REF!","v":{"$error":"#REF!"}},{"$error":"#REF!"},{"$f":"#REF!","v":{"$error":"#REF!"}}]
[{"$error":"#REF!"},{"$f":"#REF!","v":{"$error":"#REF!"}},{"$f":"#REF!","v":{"$error":"#REF!"}},{"$f":"#REF!","v":{"$error":"#REF!"}},{"$error":"#REF!"},{"$f":"#REF!","v":{"$error":"#REF!"}}]
[{"$error":"#REF!"},{"$f":"#REF!","v":{"$error":"#REF!"}},{"$f":"#REF!","v":{"$error":"#REF!"}},{"$f":"#REF!","v":{"$error":"#REF!"}},{"$error":"#REF!"},{"$f":"#REF!","v":{"$error":"#REF!"}}]
[{"$error":"#REF!"},{"$f":"#REF!","v":{"$error":"#REF!"}},{"$f":"#REF!","v":{"$error":"#REF!"}},{"$f":"#REF!","v":{"$error":"#REF!"}},{"$error":"#REF!"},{"$f":"#REF!","v":{"$error":"#REF!"}}]
[{"$error":"#REF!"},{"$f":"#REF!","v":{"$error":"#REF!"}},{"$f":"#REF!","v":{"$error":"#REF!"}},{"$f":"#REF!","v":{"$error":"#REF!"}},{"$error":"#REF!"},{"$f":"#REF!","v":{"$error":"#REF!"}}]
[{"$error":"#REF!"},{"$f":"#REF!","v":{"$error":"#REF!"}},{"$f":"#REF!","v":{"$error":"#REF!"}},{"$f":"#REF!","v":{"$error":"#REF!"}},{"$error":"#REF!"},{"$f":"#REF!","v":{"$error":"#REF!"}}]
[{"$error":"#REF!"},{"$f":"#REF!","v":{"$error":"#REF!"}},{"$f":"#REF!","v":{"$error":"#REF!"}},{"$f":"#REF!","v":{"$error":"#REF!"}},{"$error":"#REF!"},{"$f":"#REF!","v":{"$error":"#REF!"}}]
[{"$error":"#REF!"},{"$f":"#REF!","v":{"$error":"#REF!"}},{"$f":"#REF!","v":{"$error":"#REF!"}},{"$f":"#REF!","v":{"$error":"#REF!"}},{"$error":"#REF!"},{"$f":"#REF!","v":{"$error":"#REF!"}}]
[{"$error":"#REF!"},{"$f":"#REF!","v":{"$error":"#REF!"}},{"$f":"#REF!","v":{"$error":"#REF!"}},{"$f":"#REF!","v":{"$error":"#REF!"}},{"$error":"#REF!"},{"$f":"#REF!","v":{"$error":"#REF!"}}]
[{"$error":"#REF!"},{"$f":"#REF!","v":{"$error":"#REF!"}},{"$f":"#REF!","v":{"$error":"#REF!"}},{"$f":"#REF!","v":{"$error":"#REF!"}},{"$error":"#REF!"},{"$f":"#REF!","v":{"$error":"#REF!"}}]
[{"$error":"#REF!"},{"$f":"#REF!","v":{"$error":"#REF!"}},{"$f":"#REF!","v":{"$error":"#REF!"}},{"$f":"#REF!","v":{"$error":"#REF!"}},{"$error":"#REF!"},{"$f":"#REF!","v":{"$error":"#REF!"}}]
[{"$error":"#REF!"},{"$f":"#REF!","v":{"$error":"#REF!"}},{"$f":"#REF!","v":{"$error":"#REF!"}},{"$f":"#REF!","v":{"$error":"#REF!"}},{"$error":"#REF!"},{"$f":"#REF!","v":{"$error":"#REF!"}}]
[{"$error":"#REF!"},{"$f":"#REF!","v":{"$error":"#REF!"}},{"$f":"#REF!","v":{"$error":"#REF!"}},{"$f":"#REF!","v":{"$error":"#REF!"}},{"$error":"#REF!"},{"$f":"#REF!","v":{"$error":"#REF!"}}]
[{"$error":"#REF!"},{"$f":"#REF!","v":{"$error":"#REF!"}},{"$f":"#REF!","v":{"$error":"#REF!"}},{"$f":"#REF!","v":{"$error":"#REF!"}},{"$error":"#REF!"},{"$f":"#REF!","v":{"$error":"#REF!"}}]
[{"$error":"#REF!"},{"$f":"#REF!","v":{"$error":"#REF!"}},{"$f":"#REF!","v":{"$error":"#REF!"}},{"$f":"#REF!","v":{"$error":"#REF!"}},{"$error":"#REF!"},{"$f":"#REF!","v":{"$error":"#REF!"}}]
[{"$error":"#REF!"},{"$f":"#REF!","v":{"$error":"#REF!"}},{"$f":"#REF!","v":{"$error":"#REF!"}},{"$f":"#REF!","v":{"$error":"#REF!"}},{"$error":"#REF!"},{"$f":"#REF!","v":{"$error":"#REF!"}}]
[{"$error":"#REF!"},{"$f":"#REF!","v":{"$error":"#REF!"}},{"$f":"#REF!","v":{"$error":"#REF!"}},{"$f":"#REF!","v":{"$error":"#REF!"}},{"$error":"#REF!"},{"$f":"#REF!","v":{"$error":"#REF!"}}]
[{"$error":"#REF!"},{"$f":"#REF!","v":{"$error":"#REF!"}},{"$f":"#REF!","v":{"$error":"#REF!"}},{"$f":"#REF!","v":{"$error":"#REF!"}},{"$error":"#REF!"},{"$f":"#REF!","v":{"$error":"#REF!"}}]
[{"$error":"#REF!"},{"$f":"#REF!","v":{"$error":"#REF!"}},{"$f":"#REF!","v":{"$error":"#REF!"}},{"$f":"#REF!","v":{"$error":"#REF!"}},{"$error":"#REF!"},{"$f":"#REF!","v":{"$error":"#REF!"}}]
[{"$error":"#REF!"},{"$f":"#REF!","v":{"$error":"#REF!"}},{"$f":"#REF!","v":{"$error":"#REF!"}},{"$f":"#REF!","v":{"$error":"#REF!"}},{"$error":"#REF!"},{"$f":"#REF!","v":{"$error":"#REF!"}}]
[{"$error":"#REF!"},{"$f":"#REF!","v":{"$error":"#REF!"}},{"$f":"#REF!","v":{"$error":"#REF!"}},{"$f":"#REF!","v":{"$error":"#REF!"}},{"$error":"#REF!"},{"$f":"#REF!","v":{"$error":"#REF!"}}]
[{"$error":"#REF!"},{"$f":"#REF!","v":{"$error":"#REF!"}},{"$f":"#REF!","v":{"$error":"#REF!"}},{"$f":"#REF!","v":{"$error":"#REF!"}},{"$error":"#REF!"},{"$f":"#REF!","v":{"$error":"#REF!"}}]
[{"$error":"#REF!"},{"$f":"#REF!","v":{"$error":"#REF!"}},{"$f":"#REF!","v":{"$error":"#REF!"}},{"$f":"#REF!","v":{"$error":"#REF!"}},{"$error":"#REF!"},{"$f":"#REF!","v":{"$error":"#REF!"}}]
[{"$error":"#REF!"},{"$f":"#REF!","v":{"$error":"#REF!"}},{"$f":"#REF!","v":{"$error":"#REF!"}},{"$f":"#REF!","v":{"$error":"#REF!"}},{"$error":"#REF!"},{"$f":"#REF!","v":{"$error":"#REF!"}}]
[{"$error":"#REF!"},{"$f":"#REF!","v":{"$error":"#REF!"}},{"$f":"#REF!","v":{"$error":"#REF!"}},{"$f":"#REF!","v":{"$error":"#REF!"}},{"$error":"#REF!"},{"$f":"#REF!","v":{"$error":"#REF!"}}]
[{"$error":"#REF!"},{"$f":"#REF!","v":{"$error":"#REF!"}},{"$f":"#REF!","v":{"$error":"#REF!"}},{"$f":"#REF!","v":{"$error":"#REF!"}},{"$error":"#REF!"},{"$f":"#REF!","v":{"$error":"#REF!"}}]
[{"$error":"#REF!"},{"$f":"#REF!","v":{"$error":"#REF!"}},{"$f":"#REF!","v":{"$error":"#REF!"}},{"$f":"#REF!","v":{"$error":"#REF!"}},{"$error":"#REF!"},{"$f":"#REF!","v":{"$error":"#REF!"}}]
[{"$error":"#REF!"},{"$f":"#REF!","v":{"$error":"#REF!"}},{"$f":"#REF!","v":{"$error":"#REF!"}},{"$f":"#REF!","v":{"$error":"#REF!"}},{"$error":"#REF!"},{"$f":"#REF!","v":{"$error":"#REF!"}}]
[{"$error":"#REF!"},{"$f":"#REF!","v":{"$error":"#REF!"}},{"$f":"#REF!","v":{"$error":"#REF!"}},{"$f":"#REF!","v":{"$error":"#REF!"}},{"$error":"#REF!"},{"$f":"#REF!","v":{"$error":"#REF!"}}]
[{"$error":"#REF!"},{"$f":"#REF!","v":{"$error":"#REF!"}},{"$f":"#REF!","v":{"$error":"#REF!"}},{"$f":"#REF!","v":{"$error":"#REF!"}},{"$error":"#REF!"},{"$f":"#REF!","v":{"$error":"#REF!"}}]
[{"$error":"#REF!"},{"$f":"#REF!","v":{"$error":"#REF!"}},{"$f":"#REF!","v":{"$error":"#REF!"}},{"$f":"#REF!","v":{"$error":"#REF!"}},{"$error":"#REF!"},{"$f":"#REF!","v":{"$error":"#REF!"}}]
[{"$error":"#REF!"},{"$f":"#REF!","v":{"$error":"#REF!"}},{"$f":"#REF!","v":{"$error":"#REF!"}},{"$f":"#REF!","v":{"$error":"#REF!"}},{"$error":"#REF!"},{"$f":"#REF!","v":{"$error":"#REF!"}}]
[{"$error":"#REF!"},{"$f":"#REF!","v":{"$error":"#REF!"}},{"$f":"#REF!","v":{"$error":"#REF!"}},{"$f":"#REF!","v":{"$error":"#REF!"}},{"$error":"#REF!"},{"$f":"#REF!","v":{"$error":"#REF!"}}]
[{"$error":"#REF!"},{"$f":"#REF!","v":{"$error":"#REF!"}},{"$f":"#REF!","v":{"$error":"#REF!"}},{"$f":"#REF!","v":{"$error":"#REF!"}},{"$error":"#REF!"},{"$f":"#REF!","v":{"$error":"#REF!"}}]
[{"$error":"#REF!"},{"$f":"#REF!","v":{"$error":"#REF!"}},{"$f":"#REF!","v":{"$error":"#REF!"}},{"$f":"#REF!","v":{"$error":"#REF!"}},{"$error":"#REF!"},{"$f":"#REF!","v":{"$error":"#REF!"}}]
[{"$error":"#REF!"},{"$f":"#REF!","v":{"$error":"#REF!"}},{"$f":"#REF!","v":{"$error":"#REF!"}},{"$f":"#REF!","v":{"$error":"#REF!"}},{"$error":"#REF!"},{"$f":"#REF!","v":{"$error":"#REF!"}}]
[{"$error":"#REF!"},{"$f":"#REF!","v":{"$error":"#REF!"}},{"$f":"#REF!","v":{"$error":"#REF!"}},{"$f":"#REF!","v":{"$error":"#REF!"}},{"$error":"#REF!"},{"$f":"#REF!","v":{"$error":"#REF!"}}]
[{"$error":"#REF!"},{"$f":"#REF!","v":{"$error":"#REF!"}},{"$f":"#REF!","v":{"$error":"#REF!"}},{"$f":"#REF!","v":{"$error":"#REF!"}},{"$error":"#REF!"},{"$f":"#REF!","v":{"$error":"#REF!"}}]
[{"$error":"#REF!"},{"$f":"#REF!","v":{"$error":"#REF!"}},{"$f":"#REF!","v":{"$error":"#REF!"}},{"$f":"#REF!","v":{"$error":"#REF!"}},{"$error":"#REF!"},{"$f":"#REF!","v":{"$error":"#REF!"}}]
[{"$error":"#REF!"},{"$f":"#REF!","v":{"$error":"#REF!"}},{"$f":"#REF!","v":{"$error":"#REF!"}},{"$f":"#REF!","v":{"$error":"#REF!"}},{"$error":"#REF!"},{"$f":"#REF!","v":{"$error":"#REF!"}}]
[{"$error":"#REF!"},{"$f":"#REF!","v":{"$error":"#REF!"}},{"$f":"#REF!","v":{"$error":"#REF!"}},{"$f":"#REF!","v":{"$error":"#REF!"}},{"$error":"#REF!"},{"$f":"#REF!","v":{"$error":"#REF!"}}]
[{"$f":"IF(B691=0,\"\",A690+1)","v":{"$error":"#REF!"}},{"$f":"#REF!","v":{"$error":"#REF!"}},{"$f":"#REF!","v":{"$error":"#REF!"}},{"$f":"#REF!","v":{"$error":"#REF!"}},{"$error":"#REF!"},{"$f":"#REF!","v":{"$error":"#REF!"}}]
[{"$error":"#REF!"},{"$f":"#REF!","v":{"$error":"#REF!"}},{"$f":"#REF!","v":{"$error":"#REF!"}},{"$f":"#REF!","v":{"$error":"#REF!"}},{"$error":"#REF!"},{"$f":"#REF!","v":{"$error":"#REF!"}}]
[{"$error":"#REF!"},{"$f":"#REF!","v":{"$error":"#REF!"}},{"$f":"#REF!","v":{"$error":"#REF!"}},{"$f":"#REF!","v":{"$error":"#REF!"}},{"$error":"#REF!"},{"$f":"#REF!","v":{"$error":"#REF!"}}]
[{"$error":"#REF!"},{"$f":"#REF!","v":{"$error":"#REF!"}},{"$f":"#REF!","v":{"$error":"#REF!"}},{"$f":"#REF!","v":{"$error":"#REF!"}},{"$error":"#REF!"},{"$f":"#REF!","v":{"$error":"#REF!"}}]
[{"$error":"#REF!"},{"$f":"#REF!","v":{"$error":"#REF!"}},{"$f":"#REF!","v":{"$error":"#REF!"}},{"$f":"#REF!","v":{"$error":"#REF!"}},{"$error":"#REF!"},{"$f":"#REF!","v":{"$error":"#REF!"}}]
[{"$error":"#REF!"},{"$f":"#REF!","v":{"$error":"#REF!"}},{"$f":"#REF!","v":{"$error":"#REF!"}},{"$f":"#REF!","v":{"$error":"#REF!"}},{"$error":"#REF!"},{"$f":"#REF!","v":{"$error":"#REF!"}}]
[{"$error":"#REF!"},{"$f":"#REF!","v":{"$error":"#REF!"}},{"$f":"#REF!","v":{"$error":"#REF!"}},{"$f":"#REF!","v":{"$error":"#REF!"}},{"$error":"#REF!"},{"$f":"#REF!","v":{"$error":"#REF!"}}]
[{"$error":"#REF!"},{"$f":"#REF!","v":{"$error":"#REF!"}},{"$f":"#REF!","v":{"$error":"#REF!"}},{"$f":"#REF!","v":{"$error":"#REF!"}},{"$error":"#REF!"},{"$f":"#REF!","v":{"$error":"#REF!"}}]
[{"$error":"#REF!"},{"$f":"#REF!","v":{"$error":"#REF!"}},{"$f":"#REF!","v":{"$error":"#REF!"}},{"$f":"#REF!","v":{"$error":"#REF!"}},{"$error":"#REF!"},{"$f":"#REF!","v":{"$error":"#REF!"}}]
[{"$error":"#REF!"},{"$f":"#REF!","v":{"$error":"#REF!"}},{"$f":"#REF!","v":{"$error":"#REF!"}},{"$f":"#REF!","v":{"$error":"#REF!"}},{"$error":"#REF!"},{"$f":"#REF!","v":{"$error":"#REF!"}}]
[{"$error":"#REF!"},{"$f":"#REF!","v":{"$error":"#REF!"}},{"$f":"#REF!","v":{"$error":"#REF!"}},{"$f":"#REF!","v":{"$error":"#REF!"}},{"$error":"#REF!"},{"$f":"#REF!","v":{"$error":"#REF!"}}]
[{"$error":"#REF!"},{"$f":"#REF!","v":{"$error":"#REF!"}},{"$f":"#REF!","v":{"$error":"#REF!"}},{"$f":"#REF!","v":{"$error":"#REF!"}},{"$error":"#REF!"},{"$f":"#REF!","v":{"$error":"#REF!"}}]
[{"$error":"#REF!"},{"$f":"#REF!","v":{"$error":"#REF!"}},{"$f":"#REF!","v":{"$error":"#REF!"}},{"$f":"#REF!","v":{"$error":"#REF!"}},{"$error":"#REF!"},{"$f":"#REF!","v":{"$error":"#REF!"}}]
[{"$error":"#REF!"},{"$f":"#REF!","v":{"$error":"#REF!"}},{"$f":"#REF!","v":{"$error":"#REF!"}},{"$f":"#REF!","v":{"$error":"#REF!"}},{"$error":"#REF!"},{"$f":"#REF!","v":{"$error":"#REF!"}}]
[{"$error":"#REF!"},{"$f":"#REF!","v":{"$error":"#REF!"}},{"$f":"#REF!","v":{"$error":"#REF!"}},{"$f":"#REF!","v":{"$error":"#REF!"}},{"$error":"#REF!"},{"$f":"#REF!","v":{"$error":"#REF!"}}]
[{"$error":"#REF!"},{"$f":"#REF!","v":{"$error":"#REF!"}},{"$f":"#REF!","v":{"$error":"#REF!"}},{"$f":"#REF!","v":{"$error":"#REF!"}},{"$error":"#REF!"},{"$f":"#REF!","v":{"$error":"#REF!"}}]
[{"$error":"#REF!"},{"$f":"#REF!","v":{"$error":"#REF!"}},{"$f":"#REF!","v":{"$error":"#REF!"}},{"$f":"#REF!","v":{"$error":"#REF!"}},{"$error":"#REF!"},{"$f":"#REF!","v":{"$error":"#REF!"}}]
[{"$error":"#REF!"},{"$f":"#REF!","v":{"$error":"#REF!"}},{"$f":"#REF!","v":{"$error":"#REF!"}},{"$f":"#REF!","v":{"$error":"#REF!"}},{"$f":"IF(OFFSET(INDIRECT(ADDRESS(ROW(),COLUMN())),0,-3)=0,0,VLOOKUP(F708,$I$4:$J$60,2,FALSE))","v":{"$error":"#REF!"}},{"$f":"#REF!","v":{"$error":"#REF!"}}]
[{"$error":"#REF!"},{"$f":"#REF!","v":{"$error":"#REF!"}},{"$f":"#REF!","v":{"$error":"#REF!"}},{"$f":"#REF!","v":{"$error":"#REF!"}},{"$error":"#REF!"},{"$f":"#REF!","v":{"$error":"#REF!"}}]
[{"$error":"#REF!"},{"$f":"#REF!","v":{"$error":"#REF!"}},{"$f":"#REF!","v":{"$error":"#REF!"}},{"$f":"#REF!","v":{"$error":"#REF!"}},{"$error":"#REF!"},{"$f":"#REF!","v":{"$error":"#REF!"}}]
[{"$error":"#REF!"},{"$f":"#REF!","v":{"$error":"#REF!"}},{"$f":"#REF!","v":{"$error":"#REF!"}},{"$f":"#REF!","v":{"$error":"#REF!"}},{"$error":"#REF!"},{"$f":"#REF!","v":{"$error":"#REF!"}}]
[{"$error":"#REF!"},{"$f":"#REF!","v":{"$error":"#REF!"}},{"$f":"#REF!","v":{"$error":"#REF!"}},{"$f":"#REF!","v":{"$error":"#REF!"}},{"$error":"#REF!"},{"$f":"#REF!","v":{"$error":"#REF!"}}]
[{"$error":"#REF!"},{"$f":"#REF!","v":{"$error":"#REF!"}},{"$f":"#REF!","v":{"$error":"#REF!"}},{"$f":"#REF!","v":{"$error":"#REF!"}},{"$error":"#REF!"},{"$f":"#REF!","v":{"$error":"#REF!"}}]
[{"$error":"#REF!"},{"$f":"#REF!","v":{"$error":"#REF!"}},{"$f":"#REF!","v":{"$error":"#REF!"}},{"$f":"#REF!","v":{"$error":"#REF!"}},{"$error":"#REF!"},{"$f":"#REF!","v":{"$error":"#REF!"}}]
[{"$error":"#REF!"},{"$f":"#REF!","v":{"$error":"#REF!"}},{"$f":"#REF!","v":{"$error":"#REF!"}},{"$f":"#REF!","v":{"$error":"#REF!"}},{"$error":"#REF!"},{"$f":"#REF!","v":{"$error":"#REF!"}}]
[{"$error":"#REF!"},{"$f":"#REF!","v":{"$error":"#REF!"}},{"$f":"#REF!","v":{"$error":"#REF!"}},{"$f":"#REF!","v":{"$error":"#REF!"}},{"$error":"#REF!"},{"$f":"#REF!","v":{"$error":"#REF!"}}]
[{"$error":"#REF!"},{"$f":"#REF!","v":{"$error":"#REF!"}},{"$f":"#REF!","v":{"$error":"#REF!"}},{"$f":"#REF!","v":{"$error":"#REF!"}},{"$error":"#REF!"},{"$f":"#REF!","v":{"$error":"#REF!"}}]
[{"$error":"#REF!"},{"$f":"#REF!","v":{"$error":"#REF!"}},{"$f":"#REF!","v":{"$error":"#REF!"}},{"$f":"#REF!","v":{"$error":"#REF!"}},{"$error":"#REF!"},{"$f":"#REF!","v":{"$error":"#REF!"}}]
[{"$error":"#REF!"},{"$f":"#REF!","v":{"$error":"#REF!"}},{"$f":"#REF!","v":{"$error":"#REF!"}},{"$f":"#REF!","v":{"$error":"#REF!"}},{"$error":"#REF!"},{"$f":"#REF!","v":{"$error":"#REF!"}}]
[{"$error":"#REF!"},{"$f":"#REF!","v":{"$error":"#REF!"}},{"$f":"#REF!","v":{"$error":"#REF!"}},{"$f":"#REF!","v":{"$error":"#REF!"}},{"$error":"#REF!"},{"$f":"#REF!","v":{"$error":"#REF!"}}]
[{"$error":"#REF!"},{"$f":"#REF!","v":{"$error":"#REF!"}},{"$f":"#REF!","v":{"$error":"#REF!"}},{"$f":"#REF!","v":{"$error":"#REF!"}},{"$error":"#REF!"},{"$f":"#REF!","v":{"$error":"#REF!"}}]
[{"$error":"#REF!"},{"$f":"#REF!","v":{"$error":"#REF!"}},{"$f":"#REF!","v":{"$error":"#REF!"}},{"$f":"#REF!","v":{"$error":"#REF!"}},{"$error":"#REF!"},{"$f":"#REF!","v":{"$error":"#REF!"}}]
[{"$error":"#REF!"},{"$f":"#REF!","v":{"$error":"#REF!"}},{"$f":"#REF!","v":{"$error":"#REF!"}},{"$f":"#REF!","v":{"$error":"#REF!"}},{"$error":"#REF!"},{"$f":"#REF!","v":{"$error":"#REF!"}}]
[{"$error":"#REF!"},{"$f":"#REF!","v":{"$error":"#REF!"}},{"$f":"#REF!","v":{"$error":"#REF!"}},{"$f":"#REF!","v":{"$error":"#REF!"}},{"$error":"#REF!"},{"$f":"#REF!","v":{"$error":"#REF!"}}]
[{"$error":"#REF!"},{"$f":"#REF!","v":{"$error":"#REF!"}},{"$f":"#REF!","v":{"$error":"#REF!"}},{"$f":"#REF!","v":{"$error":"#REF!"}},{"$error":"#REF!"},{"$f":"#REF!","v":{"$error":"#REF!"}}]
[{"$error":"#REF!"},{"$f":"#REF!","v":{"$error":"#REF!"}},{"$f":"#REF!","v":{"$error":"#REF!"}},{"$f":"#REF!","v":{"$error":"#REF!"}},{"$error":"#REF!"},{"$f":"#REF!","v":{"$error":"#REF!"}}]
[{"$error":"#REF!"},{"$f":"#REF!","v":{"$error":"#REF!"}},{"$f":"#REF!","v":{"$error":"#REF!"}},{"$f":"#REF!","v":{"$error":"#REF!"}},{"$error":"#REF!"},{"$f":"#REF!","v":{"$error":"#REF!"}}]
[{"$error":"#REF!"},{"$f":"#REF!","v":{"$error":"#REF!"}},{"$f":"#REF!","v":{"$error":"#REF!"}},{"$f":"#REF!","v":{"$error":"#REF!"}},{"$error":"#REF!"},{"$f":"#REF!","v":{"$error":"#REF!"}}]
[{"$error":"#REF!"},{"$f":"#REF!","v":{"$error":"#REF!"}},{"$f":"#REF!","v":{"$error":"#REF!"}},{"$f":"#REF!","v":{"$error":"#REF!"}},{"$error":"#REF!"},{"$f":"#REF!","v":{"$error":"#REF!"}}]
[{"$error":"#REF!"},{"$f":"#REF!","v":{"$error":"#REF!"}},{"$f":"#REF!","v":{"$error":"#REF!"}},{"$f":"#REF!","v":{"$error":"#REF!"}},{"$error":"#REF!"},{"$f":"#REF!","v":{"$error":"#REF!"}}]
[{"$error":"#REF!"},{"$f":"#REF!","v":{"$error":"#REF!"}},{"$f":"#REF!","v":{"$error":"#REF!"}},{"$f":"#REF!","v":{"$error":"#REF!"}},{"$error":"#REF!"},{"$f":"#REF!","v":{"$error":"#REF!"}}]
[{"$error":"#REF!"},{"$f":"#REF!","v":{"$error":"#REF!"}},{"$f":"#REF!","v":{"$error":"#REF!"}},{"$f":"#REF!","v":{"$error":"#REF!"}},{"$error":"#REF!"},{"$f":"#REF!","v":{"$error":"#REF!"}}]
[{"$error":"#REF!"},{"$f":"#REF!","v":{"$error":"#REF!"}},{"$f":"#REF!","v":{"$error":"#REF!"}},{"$f":"#REF!","v":{"$error":"#REF!"}},{"$error":"#REF!"},{"$f":"#REF!","v":{"$error":"#REF!"}}]
[{"$error":"#REF!"},{"$f":"#REF!","v":{"$error":"#REF!"}},{"$f":"#REF!","v":{"$error":"#REF!"}},{"$f":"#REF!","v":{"$error":"#REF!"}},{"$error":"#REF!"},{"$f":"#REF!","v":{"$error":"#REF!"}}]
[{"$error":"#REF!"},{"$f":"#REF!","v":{"$error":"#REF!"}},{"$f":"#REF!","v":{"$error":"#REF!"}},{"$f":"#REF!","v":{"$error":"#REF!"}},{"$error":"#REF!"},{"$f":"#REF!","v":{"$error":"#REF!"}}]
[{"$error":"#REF!"},{"$f":"#REF!","v":{"$error":"#REF!"}},{"$f":"#REF!","v":{"$error":"#REF!"}},{"$f":"#REF!","v":{"$error":"#REF!"}},{"$error":"#REF!"},{"$f":"#REF!","v":{"$error":"#REF!"}}]
[{"$error":"#REF!"},{"$f":"#REF!","v":{"$error":"#REF!"}},{"$f":"#REF!","v":{"$error":"#REF!"}},{"$f":"#REF!","v":{"$error":"#REF!"}},{"$error":"#REF!"},{"$f":"#REF!","v":{"$error":"#REF!"}}]
[{"$error":"#REF!"},{"$f":"#REF!","v":{"$error":"#REF!"}},{"$f":"#REF!","v":{"$error":"#REF!"}},{"$f":"#REF!","v":{"$error":"#REF!"}},{"$error":"#REF!"},{"$f":"#REF!","v":{"$error":"#REF!"}}]
[{"$error":"#REF!"},{"$f":"#REF!","v":{"$error":"#REF!"}},{"$f":"#REF!","v":{"$error":"#REF!"}},{"$f":"#REF!","v":{"$error":"#REF!"}},{"$error":"#REF!"},{"$f":"#REF!","v":{"$error":"#REF!"}}]
[{"$error":"#REF!"},{"$f":"#REF!","v":{"$error":"#REF!"}},{"$f":"#REF!","v":{"$error":"#REF!"}},{"$f":"#REF!","v":{"$error":"#REF!"}},{"$error":"#REF!"},{"$f":"#REF!","v":{"$error":"#REF!"}}]
[{"$error":"#REF!"},{"$f":"#REF!","v":{"$error":"#REF!"}},{"$f":"#REF!","v":{"$error":"#REF!"}},{"$f":"#REF!","v":{"$error":"#REF!"}},{"$error":"#REF!"},{"$f":"#REF!","v":{"$error":"#REF!"}}]
[{"$error":"#REF!"},{"$f":"#REF!","v":{"$error":"#REF!"}},{"$f":"#REF!","v":{"$error":"#REF!"}},{"$f":"#REF!","v":{"$error":"#REF!"}},{"$error":"#REF!"},{"$f":"#REF!","v":{"$error":"#REF!"}}]
[{"$error":"#REF!"},{"$f":"#REF!","v":{"$error":"#REF!"}},{"$f":"#REF!","v":{"$error":"#REF!"}},{"$f":"#REF!","v":{"$error":"#REF!"}},{"$error":"#REF!"},{"$f":"#REF!","v":{"$error":"#REF!"}}]
[{"$error":"#REF!"},{"$f":"#REF!","v":{"$error":"#REF!"}},{"$f":"#REF!","v":{"$error":"#REF!"}},{"$f":"#REF!","v":{"$error":"#REF!"}},{"$error":"#REF!"},{"$f":"#REF!","v":{"$error":"#REF!"}}]
[{"$error":"#REF!"},{"$f":"#REF!","v":{"$error":"#REF!"}},{"$f":"#REF!","v":{"$error":"#REF!"}},{"$f":"#REF!","v":{"$error":"#REF!"}},{"$error":"#REF!"},{"$f":"#REF!","v":{"$error":"#REF!"}}]
[{"$error":"#REF!"},{"$f":"#REF!","v":{"$error":"#REF!"}},{"$f":"#REF!","v":{"$error":"#REF!"}},{"$f":"#REF!","v":{"$error":"#REF!"}},{"$error":"#REF!"},{"$f":"#REF!","v":{"$error":"#REF!"}}]
[{"$error":"#REF!"},{"$f":"#REF!","v":{"$error":"#REF!"}},{"$f":"#REF!","v":{"$error":"#REF!"}},{"$f":"#REF!","v":{"$error":"#REF!"}},{"$error":"#REF!"},{"$f":"#REF!","v":{"$error":"#REF!"}}]
[{"$error":"#REF!"},{"$f":"#REF!","v":{"$error":"#REF!"}},{"$f":"#REF!","v":{"$error":"#REF!"}},{"$f":"#REF!","v":{"$error":"#REF!"}},{"$error":"#REF!"},{"$f":"#REF!","v":{"$error":"#REF!"}}]
[{"$error":"#REF!"},{"$f":"#REF!","v":{"$error":"#REF!"}},{"$f":"#REF!","v":{"$error":"#REF!"}},{"$f":"#REF!","v":{"$error":"#REF!"}},{"$error":"#REF!"},{"$f":"#REF!","v":{"$error":"#REF!"}}]
[{"$error":"#REF!"},{"$f":"#REF!","v":{"$error":"#REF!"}},{"$f":"#REF!","v":{"$error":"#REF!"}},{"$f":"#REF!","v":{"$error":"#REF!"}},{"$error":"#REF!"},{"$f":"#REF!","v":{"$error":"#REF!"}}]
[{"$error":"#REF!"},{"$f":"#REF!","v":{"$error":"#REF!"}},{"$f":"#REF!","v":{"$error":"#REF!"}},{"$f":"#REF!","v":{"$error":"#REF!"}},{"$error":"#REF!"},{"$f":"#REF!","v":{"$error":"#REF!"}}]
[{"$error":"#REF!"},{"$f":"#REF!","v":{"$error":"#REF!"}},{"$f":"#REF!","v":{"$error":"#REF!"}},{"$f":"#REF!","v":{"$error":"#REF!"}},{"$error":"#REF!"},{"$f":"#REF!","v":{"$error":"#REF!"}}]
[{"$error":"#REF!"},{"$f":"#REF!","v":{"$error":"#REF!"}},{"$f":"#REF!","v":{"$error":"#REF!"}},{"$f":"#REF!","v":{"$error":"#REF!"}},{"$error":"#REF!"},{"$f":"#REF!","v":{"$error":"#REF!"}}]
[{"$error":"#REF!"},{"$f":"#REF!","v":{"$error":"#REF!"}},{"$f":"#REF!","v":{"$error":"#REF!"}},{"$f":"#REF!","v":{"$error":"#REF!"}},{"$error":"#REF!"},{"$f":"#REF!","v":{"$error":"#REF!"}}]
[{"$f":"IF(B755=0,\"\",A754+1)","v":{"$error":"#REF!"}},{"$f":"#REF!","v":{"$error":"#REF!"}},{"$f":"#REF!","v":{"$error":"#REF!"}},{"$f":"#REF!","v":{"$error":"#REF!"}},{"$error":"#REF!"},{"$f":"#REF!","v":{"$error":"#REF!"}}]
[{"$error":"#REF!"},{"$f":"#REF!","v":{"$error":"#REF!"}},{"$f":"#REF!","v":{"$error":"#REF!"}},{"$f":"#REF!","v":{"$error":"#REF!"}},{"$error":"#REF!"},{"$f":"#REF!","v":{"$error":"#REF!"}}]
[{"$error":"#REF!"},{"$f":"#REF!","v":{"$error":"#REF!"}},{"$f":"#REF!","v":{"$error":"#REF!"}},{"$f":"#REF!","v":{"$error":"#REF!"}},{"$error":"#REF!"},{"$f":"#REF!","v":{"$error":"#REF!"}}]
[{"$error":"#REF!"},{"$f":"#REF!","v":{"$error":"#REF!"}},{"$f":"#REF!","v":{"$error":"#REF!"}},{"$f":"#REF!","v":{"$error":"#REF!"}},{"$error":"#REF!"},{"$f":"#REF!","v":{"$error":"#REF!"}}]
[{"$error":"#REF!"},{"$f":"#REF!","v":{"$error":"#REF!"}},{"$f":"#REF!","v":{"$error":"#REF!"}},{"$f":"#REF!","v":{"$error":"#REF!"}},{"$error":"#REF!"},{"$f":"#REF!","v":{"$error":"#REF!"}}]
[{"$error":"#REF!"},{"$f":"#REF!","v":{"$error":"#REF!"}},{"$f":"#REF!","v":{"$error":"#REF!"}},{"$f":"#REF!","v":{"$error":"#REF!"}},{"$error":"#REF!"},{"$f":"#REF!","v":{"$error":"#REF!"}}]
[{"$error":"#REF!"},{"$f":"#REF!","v":{"$error":"#REF!"}},{"$f":"#REF!","v":{"$error":"#REF!"}},{"$f":"#REF!","v":{"$error":"#REF!"}},{"$error":"#REF!"},{"$f":"#REF!","v":{"$error":"#REF!"}}]
[{"$error":"#REF!"},{"$f":"#REF!","v":{"$error":"#REF!"}},{"$f":"#REF!","v":{"$error":"#REF!"}},{"$f":"#REF!","v":{"$error":"#REF!"}},{"$error":"#REF!"},{"$f":"#REF!","v":{"$error":"#REF!"}}]
[{"$error":"#REF!"},{"$f":"#REF!","v":{"$error":"#REF!"}},{"$f":"#REF!","v":{"$error":"#REF!"}},{"$f":"#REF!","v":{"$error":"#REF!"}},{"$error":"#REF!"},{"$f":"#REF!","v":{"$error":"#REF!"}}]
[{"$error":"#REF!"},{"$f":"#REF!","v":{"$error":"#REF!"}},{"$f":"#REF!","v":{"$error":"#REF!"}},{"$f":"#REF!","v":{"$error":"#REF!"}},{"$error":"#REF!"},{"$f":"#REF!","v":{"$error":"#REF!"}}]
[{"$error":"#REF!"},{"$f":"#REF!","v":{"$error":"#REF!"}},{"$f":"#REF!","v":{"$error":"#REF!"}},{"$f":"#REF!","v":{"$error":"#REF!"}},{"$error":"#REF!"},{"$f":"#REF!","v":{"$error":"#REF!"}}]
[{"$error":"#REF!"},{"$f":"#REF!","v":{"$error":"#REF!"}},{"$f":"#REF!","v":{"$error":"#REF!"}},{"$f":"#REF!","v":{"$error":"#REF!"}},{"$error":"#REF!"},{"$f":"#REF!","v":{"$error":"#REF!"}}]
[{"$error":"#REF!"},{"$f":"#REF!","v":{"$error":"#REF!"}},{"$f":"#REF!","v":{"$error":"#REF!"}},{"$f":"#REF!","v":{"$error":"#REF!"}},{"$error":"#REF!"},{"$f":"#REF!","v":{"$error":"#REF!"}}]
[{"$error":"#REF!"},{"$f":"#REF!","v":{"$error":"#REF!"}},{"$f":"#REF!","v":{"$error":"#REF!"}},{"$f":"#REF!","v":{"$error":"#REF!"}},{"$error":"#REF!"},{"$f":"#REF!","v":{"$error":"#REF!"}}]
[{"$error":"#REF!"},{"$f":"#REF!","v":{"$error":"#REF!"}},{"$f":"#REF!","v":{"$error":"#REF!"}},{"$f":"#REF!","v":{"$error":"#REF!"}},{"$error":"#REF!"},{"$f":"#REF!","v":{"$error":"#REF!"}}]
[{"$error":"#REF!"},{"$f":"#REF!","v":{"$error":"#REF!"}},{"$f":"#REF!","v":{"$error":"#REF!"}},{"$f":"#REF!","v":{"$error":"#REF!"}},{"$error":"#REF!"},{"$f":"#REF!","v":{"$error":"#REF!"}}]
[{"$error":"#REF!"},{"$f":"#REF!","v":{"$error":"#REF!"}},{"$f":"#REF!","v":{"$error":"#REF!"}},{"$f":"#REF!","v":{"$error":"#REF!"}},{"$error":"#REF!"},{"$f":"#REF!","v":{"$error":"#REF!"}}]
[{"$error":"#REF!"},{"$f":"#REF!","v":{"$error":"#REF!"}},{"$f":"#REF!","v":{"$error":"#REF!"}},{"$f":"#REF!","v":{"$error":"#REF!"}},{"$f":"IF(OFFSET(INDIRECT(ADDRESS(ROW(),COLUMN())),0,-3)=0,0,VLOOKUP(F772,$I$4:$J$60,2,FALSE))","v":{"$error":"#REF!"}},{"$f":"#REF!","v":{"$error":"#REF!"}}]
[{"$error":"#REF!"},{"$f":"#REF!","v":{"$error":"#REF!"}},{"$f":"#REF!","v":{"$error":"#REF!"}},{"$f":"#REF!","v":{"$error":"#REF!"}},{"$error":"#REF!"},{"$f":"#REF!","v":{"$error":"#REF!"}}]
[{"$error":"#REF!"},{"$f":"#REF!","v":{"$error":"#REF!"}},{"$f":"#REF!","v":{"$error":"#REF!"}},{"$f":"#REF!","v":{"$error":"#REF!"}},{"$error":"#REF!"},{"$f":"#REF!","v":{"$error":"#REF!"}}]
[{"$error":"#REF!"},{"$f":"#REF!","v":{"$error":"#REF!"}},{"$f":"#REF!","v":{"$error":"#REF!"}},{"$f":"#REF!","v":{"$error":"#REF!"}},{"$error":"#REF!"},{"$f":"#REF!","v":{"$error":"#REF!"}}]
[{"$error":"#REF!"},{"$f":"#REF!","v":{"$error":"#REF!"}},{"$f":"#REF!","v":{"$error":"#REF!"}},{"$f":"#REF!","v":{"$error":"#REF!"}},{"$error":"#REF!"},{"$f":"#REF!","v":{"$error":"#REF!"}}]
[{"$error":"#REF!"},{"$f":"#REF!","v":{"$error":"#REF!"}},{"$f":"#REF!","v":{"$error":"#REF!"}},{"$f":"#REF!","v":{"$error":"#REF!"}},{"$error":"#REF!"},{"$f":"#REF!","v":{"$error":"#REF!"}}]
[{"$error":"#REF!"},{"$f":"#REF!","v":{"$error":"#REF!"}},{"$f":"#REF!","v":{"$error":"#REF!"}},{"$f":"#REF!","v":{"$error":"#REF!"}},{"$error":"#REF!"},{"$f":"#REF!","v":{"$error":"#REF!"}}]
[{"$error":"#REF!"},{"$f":"#REF!","v":{"$error":"#REF!"}},{"$f":"#REF!","v":{"$error":"#REF!"}},{"$f":"#REF!","v":{"$error":"#REF!"}},{"$error":"#REF!"},{"$f":"#REF!","v":{"$error":"#REF!"}}]
[{"$error":"#REF!"},{"$f":"#REF!","v":{"$error":"#REF!"}},{"$f":"#REF!","v":{"$error":"#REF!"}},{"$f":"#REF!","v":{"$error":"#REF!"}},{"$error":"#REF!"},{"$f":"#REF!","v":{"$error":"#REF!"}}]
[{"$error":"#REF!"},{"$f":"#REF!","v":{"$error":"#REF!"}},{"$f":"#REF!","v":{"$error":"#REF!"}},{"$f":"#REF!","v":{"$error":"#REF!"}},{"$error":"#REF!"},{"$f":"#REF!","v":{"$error":"#REF!"}}]
[{"$error":"#REF!"},{"$f":"#REF!","v":{"$error":"#REF!"}},{"$f":"#REF!","v":{"$error":"#REF!"}},{"$f":"#REF!","v":{"$error":"#REF!"}},{"$error":"#REF!"},{"$f":"#REF!","v":{"$error":"#REF!"}}]
[{"$error":"#REF!"},{"$f":"#REF!","v":{"$error":"#REF!"}},{"$f":"#REF!","v":{"$error":"#REF!"}},{"$f":"#REF!","v":{"$error":"#REF!"}},{"$error":"#REF!"},{"$f":"#REF!","v":{"$error":"#REF!"}}]
[{"$error":"#REF!"},{"$f":"#REF!","v":{"$error":"#REF!"}},{"$f":"#REF!","v":{"$error":"#REF!"}},{"$f":"#REF!","v":{"$error":"#REF!"}},{"$error":"#REF!"},{"$f":"#REF!","v":{"$error":"#REF!"}}]
[{"$error":"#REF!"},{"$f":"#REF!","v":{"$error":"#REF!"}},{"$f":"#REF!","v":{"$error":"#REF!"}},{"$f":"#REF!","v":{"$error":"#REF!"}},{"$error":"#REF!"},{"$f":"#REF!","v":{"$error":"#REF!"}}]
[{"$error":"#REF!"},{"$f":"#REF!","v":{"$error":"#REF!"}},{"$f":"#REF!","v":{"$error":"#REF!"}},{"$f":"#REF!","v":{"$error":"#REF!"}},{"$error":"#REF!"},{"$f":"#REF!","v":{"$error":"#REF!"}}]
[{"$error":"#REF!"},{"$f":"#REF!","v":{"$error":"#REF!"}},{"$f":"#REF!","v":{"$error":"#REF!"}},{"$f":"#REF!","v":{"$error":"#REF!"}},{"$error":"#REF!"},{"$f":"#REF!","v":{"$error":"#REF!"}}]
[{"$error":"#REF!"},{"$f":"#REF!","v":{"$error":"#REF!"}},{"$f":"#REF!","v":{"$error":"#REF!"}},{"$f":"#REF!","v":{"$error":"#REF!"}},{"$error":"#REF!"},{"$f":"#REF!","v":{"$error":"#REF!"}}]
[{"$error":"#REF!"},{"$f":"#REF!","v":{"$error":"#REF!"}},{"$f":"#REF!","v":{"$error":"#REF!"}},{"$f":"#REF!","v":{"$error":"#REF!"}},{"$error":"#REF!"},{"$f":"#REF!","v":{"$error":"#REF!"}}]
[{"$error":"#REF!"},{"$f":"#REF!","v":{"$error":"#REF!"}},{"$f":"#REF!","v":{"$error":"#REF!"}},{"$f":"#REF!","v":{"$error":"#REF!"}},{"$error":"#REF!"},{"$f":"#REF!","v":{"$error":"#REF!"}}]
[{"$error":"#REF!"},{"$f":"#REF!","v":{"$error":"#REF!"}},{"$f":"#REF!","v":{"$error":"#REF!"}},{"$f":"#REF!","v":{"$error":"#REF!"}},{"$error":"#REF!"},{"$f":"#REF!","v":{"$error":"#REF!"}}]
[{"$error":"#REF!"},{"$f":"#REF!","v":{"$error":"#REF!"}},{"$f":"#REF!","v":{"$error":"#REF!"}},{"$f":"#REF!","v":{"$error":"#REF!"}},{"$error":"#REF!"},{"$f":"#REF!","v":{"$error":"#REF!"}}]
[{"$error":"#REF!"},{"$f":"#REF!","v":{"$error":"#REF!"}},{"$f":"#REF!","v":{"$error":"#REF!"}},{"$f":"#REF!","v":{"$error":"#REF!"}},{"$error":"#REF!"},{"$f":"#REF!","v":{"$error":"#REF!"}}]
[{"$error":"#REF!"},{"$f":"#REF!","v":{"$error":"#REF!"}},{"$f":"#REF!","v":{"$error":"#REF!"}},{"$f":"#REF!","v":{"$error":"#REF!"}},{"$error":"#REF!"},{"$f":"#REF!","v":{"$error":"#REF!"}}]
[{"$error":"#REF!"},{"$f":"#REF!","v":{"$error":"#REF!"}},{"$f":"#REF!","v":{"$error":"#REF!"}},{"$f":"#REF!","v":{"$error":"#REF!"}},{"$error":"#REF!"},{"$f":"#REF!","v":{"$error":"#REF!"}}]
[{"$error":"#REF!"},{"$f":"#REF!","v":{"$error":"#REF!"}},{"$f":"#REF!","v":{"$error":"#REF!"}},{"$f":"#REF!","v":{"$error":"#REF!"}},{"$error":"#REF!"},{"$f":"#REF!","v":{"$error":"#REF!"}}]
[{"$error":"#REF!"},{"$f":"#REF!","v":{"$error":"#REF!"}},{"$f":"#REF!","v":{"$error":"#REF!"}},{"$f":"#REF!","v":{"$error":"#REF!"}},{"$error":"#REF!"},{"$f":"#REF!","v":{"$error":"#REF!"}}]
[{"$error":"#REF!"},{"$f":"#REF!","v":{"$error":"#REF!"}},{"$f":"#REF!","v":{"$error":"#REF!"}},{"$f":"#REF!","v":{"$error":"#REF!"}},{"$error":"#REF!"},{"$f":"#REF!","v":{"$error":"#REF!"}}]
[{"$error":"#REF!"},{"$f":"#REF!","v":{"$error":"#REF!"}},{"$f":"#REF!","v":{"$error":"#REF!"}},{"$f":"#REF!","v":{"$error":"#REF!"}},{"$error":"#REF!"},{"$f":"#REF!","v":{"$error":"#REF!"}}]
[{"$error":"#REF!"},{"$f":"#REF!","v":{"$error":"#REF!"}},{"$f":"#REF!","v":{"$error":"#REF!"}},{"$f":"#REF!","v":{"$error":"#REF!"}},{"$error":"#REF!"},{"$f":"#REF!","v":{"$error":"#REF!"}}]
[{"$error":"#REF!"},{"$f":"#REF!","v":{"$error":"#REF!"}},{"$f":"#REF!","v":{"$error":"#REF!"}},{"$f":"#REF!","v":{"$error":"#REF!"}},{"$error":"#REF!"},{"$f":"#REF!","v":{"$error":"#REF!"}}]
[{"$error":"#REF!"},{"$f":"#REF!","v":{"$error":"#REF!"}},{"$f":"#REF!","v":{"$error":"#REF!"}},{"$f":"#REF!","v":{"$error":"#REF!"}},{"$error":"#REF!"},{"$f":"#REF!","v":{"$error":"#REF!"}}]
[{"$error":"#REF!"},{"$f":"#REF!","v":{"$error":"#REF!"}},{"$f":"#REF!","v":{"$error":"#REF!"}},{"$f":"#REF!","v":{"$error":"#REF!"}},{"$error":"#REF!"},{"$f":"#REF!","v":{"$error":"#REF!"}}]
[{"$error":"#REF!"},{"$f":"#REF!","v":{"$error":"#REF!"}},{"$f":"#REF!","v":{"$error":"#REF!"}},{"$f":"#REF!","v":{"$error":"#REF!"}},{"$error":"#REF!"},{"$f":"#REF!","v":{"$error":"#REF!"}}]
[{"$error":"#REF!"},{"$f":"#REF!","v":{"$error":"#REF!"}},{"$f":"#REF!","v":{"$error":"#REF!"}},{"$f":"#REF!","v":{"$error":"#REF!"}},{"$error":"#REF!"},{"$f":"#REF!","v":{"$error":"#REF!"}}]
[{"$error":"#REF!"},{"$f":"#REF!","v":{"$error":"#REF!"}},{"$f":"#REF!","v":{"$error":"#REF!"}},{"$f":"#REF!","v":{"$error":"#REF!"}},{"$error":"#REF!"},{"$f":"#REF!","v":{"$error":"#REF!"}}]
[{"$error":"#REF!"},{"$f":"#REF!","v":{"$error":"#REF!"}},{"$f":"#REF!","v":{"$error":"#REF!"}},{"$f":"#REF!","v":{"$error":"#REF!"}},{"$error":"#REF!"},{"$f":"#REF!","v":{"$error":"#REF!"}}]
[{"$error":"#REF!"},{"$f":"#REF!","v":{"$error":"#REF!"}},{"$f":"#REF!","v":{"$error":"#REF!"}},{"$f":"#REF!","v":{"$error":"#REF!"}},{"$error":"#REF!"},{"$f":"#REF!","v":{"$error":"#REF!"}}]
[{"$error":"#REF!"},{"$f":"#REF!","v":{"$error":"#REF!"}},{"$f":"#REF!","v":{"$error":"#REF!"}},{"$f":"#REF!","v":{"$error":"#REF!"}},{"$error":"#REF!"},{"$f":"#REF!","v":{"$error":"#REF!"}}]
[{"$error":"#REF!"},{"$f":"#REF!","v":{"$error":"#REF!"}},{"$f":"#REF!","v":{"$error":"#REF!"}},{"$f":"#REF!","v":{"$error":"#REF!"}},{"$error":"#REF!"},{"$f":"#REF!","v":{"$error":"#REF!"}}]
[{"$error":"#REF!"},{"$f":"#REF!","v":{"$error":"#REF!"}},{"$f":"#REF!","v":{"$error":"#REF!"}},{"$f":"#REF!","v":{"$error":"#REF!"}},{"$error":"#REF!"},{"$f":"#REF!","v":{"$error":"#REF!"}}]
[{"$error":"#REF!"},{"$f":"#REF!","v":{"$error":"#REF!"}},{"$f":"#REF!","v":{"$error":"#REF!"}},{"$f":"#REF!","v":{"$error":"#REF!"}},{"$error":"#REF!"},{"$f":"#REF!","v":{"$error":"#REF!"}}]
[{"$error":"#REF!"},{"$f":"#REF!","v":{"$error":"#REF!"}},{"$f":"#REF!","v":{"$error":"#REF!"}},{"$f":"#REF!","v":{"$error":"#REF!"}},{"$error":"#REF!"},{"$f":"#REF!","v":{"$error":"#REF!"}}]
[{"$error":"#REF!"},{"$f":"#REF!","v":{"$error":"#REF!"}},{"$f":"#REF!","v":{"$error":"#REF!"}},{"$f":"#REF!","v":{"$error":"#REF!"}},{"$error":"#REF!"},{"$f":"#REF!","v":{"$error":"#REF!"}}]
[{"$error":"#REF!"},{"$f":"#REF!","v":{"$error":"#REF!"}},{"$f":"#REF!","v":{"$error":"#REF!"}},{"$f":"#REF!","v":{"$error":"#REF!"}},{"$error":"#REF!"},{"$f":"#REF!","v":{"$error":"#REF!"}}]
[{"$error":"#REF!"},{"$f":"#REF!","v":{"$error":"#REF!"}},{"$f":"#REF!","v":{"$error":"#REF!"}},{"$f":"#REF!","v":{"$error":"#REF!"}},{"$error":"#REF!"},{"$f":"#REF!","v":{"$error":"#REF!"}}]
[{"$error":"#REF!"},{"$f":"#REF!","v":{"$error":"#REF!"}},{"$f":"#REF!","v":{"$error":"#REF!"}},{"$f":"#REF!","v":{"$error":"#REF!"}},{"$error":"#REF!"},{"$f":"#REF!","v":{"$error":"#REF!"}}]
[{"$error":"#REF!"},{"$f":"#REF!","v":{"$error":"#REF!"}},{"$f":"#REF!","v":{"$error":"#REF!"}},{"$f":"#REF!","v":{"$error":"#REF!"}},{"$error":"#REF!"},{"$f":"#REF!","v":{"$error":"#REF!"}}]
[{"$f":"IF(B819=0,\"\",A818+1)","v":{"$error":"#REF!"}},{"$f":"#REF!","v":{"$error":"#REF!"}},{"$f":"#REF!","v":{"$error":"#REF!"}},{"$f":"#REF!","v":{"$error":"#REF!"}},{"$error":"#REF!"},{"$f":"#REF!","v":{"$error":"#REF!"}}]
[{"$error":"#REF!"},{"$f":"#REF!","v":{"$error":"#REF!"}},{"$f":"#REF!","v":{"$error":"#REF!"}},{"$f":"#REF!","v":{"$error":"#REF!"}},{"$error":"#REF!"},{"$f":"#REF!","v":{"$error":"#REF!"}}]
[{"$error":"#REF!"},{"$f":"#REF!","v":{"$error":"#REF!"}},{"$f":"#REF!","v":{"$error":"#REF!"}},{"$f":"#REF!","v":{"$error":"#REF!"}},{"$error":"#REF!"},{"$f":"#REF!","v":{"$error":"#REF!"}}]
[{"$error":"#REF!"},{"$f":"#REF!","v":{"$error":"#REF!"}},{"$f":"#REF!","v":{"$error":"#REF!"}},{"$f":"#REF!","v":{"$error":"#REF!"}},{"$error":"#REF!"},{"$f":"#REF!","v":{"$error":"#REF!"}}]
[{"$error":"#REF!"},{"$f":"#REF!","v":{"$error":"#REF!"}},{"$f":"#REF!","v":{"$error":"#REF!"}},{"$f":"#REF!","v":{"$error":"#REF!"}},{"$error":"#REF!"},{"$f":"#REF!","v":{"$error":"#REF!"}}]
[{"$error":"#REF!"},{"$f":"#REF!","v":{"$error":"#REF!"}},{"$f":"#REF!","v":{"$error":"#REF!"}},{"$f":"#REF!","v":{"$error":"#REF!"}},{"$error":"#REF!"},{"$f":"#REF!","v":{"$error":"#REF!"}}]
[{"$error":"#REF!"},{"$f":"#REF!","v":{"$error":"#REF!"}},{"$f":"#REF!","v":{"$error":"#REF!"}},{"$f":"#REF!","v":{"$error":"#REF!"}},{"$error":"#REF!"},{"$f":"#REF!","v":{"$error":"#REF!"}}]
[{"$error":"#REF!"},{"$f":"#REF!","v":{"$error":"#REF!"}},{"$f":"#REF!","v":{"$error":"#REF!"}},{"$f":"#REF!","v":{"$error":"#REF!"}},{"$error":"#REF!"},{"$f":"#REF!","v":{"$error":"#REF!"}}]
[{"$error":"#REF!"},{"$f":"#REF!","v":{"$error":"#REF!"}},{"$f":"#REF!","v":{"$error":"#REF!"}},{"$f":"#REF!","v":{"$error":"#REF!"}},{"$error":"#REF!"},{"$f":"#REF!","v":{"$error":"#REF!"}}]
[{"$error":"#REF!"},{"$f":"#REF!","v":{"$error":"#REF!"}},{"$f":"#REF!","v":{"$error":"#REF!"}},{"$f":"#REF!","v":{"$error":"#REF!"}},{"$error":"#REF!"},{"$f":"#REF!","v":{"$error":"#REF!"}}]
[{"$error":"#REF!"},{"$f":"#REF!","v":{"$error":"#REF!"}},{"$f":"#REF!","v":{"$error":"#REF!"}},{"$f":"#REF!","v":{"$error":"#REF!"}},{"$error":"#REF!"},{"$f":"#REF!","v":{"$error":"#REF!"}}]
[{"$error":"#REF!"},{"$f":"#REF!","v":{"$error":"#REF!"}},{"$f":"#REF!","v":{"$error":"#REF!"}},{"$f":"#REF!","v":{"$error":"#REF!"}},{"$error":"#REF!"},{"$f":"#REF!","v":{"$error":"#REF!"}}]
[{"$error":"#REF!"},{"$f":"#REF!","v":{"$error":"#REF!"}},{"$f":"#REF!","v":{"$error":"#REF!"}},{"$f":"#REF!","v":{"$error":"#REF!"}},{"$error":"#REF!"},{"$f":"#REF!","v":{"$error":"#REF!"}}]
[{"$error":"#REF!"},{"$f":"#REF!","v":{"$error":"#REF!"}},{"$f":"#REF!","v":{"$error":"#REF!"}},{"$f":"#REF!","v":{"$error":"#REF!"}},{"$error":"#REF!"},{"$f":"#REF!","v":{"$error":"#REF!"}}]
[{"$error":"#REF!"},{"$f":"#REF!","v":{"$error":"#REF!"}},{"$f":"#REF!","v":{"$error":"#REF!"}},{"$f":"#REF!","v":{"$error":"#REF!"}},{"$error":"#REF!"},{"$f":"#REF!","v":{"$error":"#REF!"}}]
[{"$error":"#REF!"},{"$f":"#REF!","v":{"$error":"#REF!"}},{"$f":"#REF!","v":{"$error":"#REF!"}},{"$f":"#REF!","v":{"$error":"#REF!"}},{"$error":"#REF!"},{"$f":"#REF!","v":{"$error":"#REF!"}}]
[{"$error":"#REF!"},{"$f":"#REF!","v":{"$error":"#REF!"}},{"$f":"#REF!","v":{"$error":"#REF!"}},{"$f":"#REF!","v":{"$error":"#REF!"}},{"$error":"#REF!"},{"$f":"#REF!","v":{"$error":"#REF!"}}]
[{"$error":"#REF!"},{"$f":"#REF!","v":{"$error":"#REF!"}},{"$f":"#REF!","v":{"$error":"#REF!"}},{"$f":"#REF!","v":{"$error":"#REF!"}},{"$f":"IF(OFFSET(INDIRECT(ADDRESS(ROW(),COLUMN())),0,-3)=0,0,VLOOKUP(F836,$I$4:$J$60,2,FALSE))","v":{"$error":"#REF!"}},{"$f":"#REF!","v":{"$error":"#REF!"}}]
[{"$error":"#REF!"},{"$f":"#REF!","v":{"$error":"#REF!"}},{"$f":"#REF!","v":{"$error":"#REF!"}},{"$f":"#REF!","v":{"$error":"#REF!"}},{"$error":"#REF!"},{"$f":"#REF!","v":{"$error":"#REF!"}}]
[{"$error":"#REF!"},{"$f":"#REF!","v":{"$error":"#REF!"}},{"$f":"#REF!","v":{"$error":"#REF!"}},{"$f":"#REF!","v":{"$error":"#REF!"}},{"$error":"#REF!"},{"$f":"#REF!","v":{"$error":"#REF!"}}]
[{"$error":"#REF!"},{"$f":"#REF!","v":{"$error":"#REF!"}},{"$f":"#REF!","v":{"$error":"#REF!"}},{"$f":"#REF!","v":{"$error":"#REF!"}},{"$error":"#REF!"},{"$f":"#REF!","v":{"$error":"#REF!"}}]
[{"$error":"#REF!"},{"$f":"#REF!","v":{"$error":"#REF!"}},{"$f":"#REF!","v":{"$error":"#REF!"}},{"$f":"#REF!","v":{"$error":"#REF!"}},{"$error":"#REF!"},{"$f":"#REF!","v":{"$error":"#REF!"}}]
[{"$error":"#REF!"},{"$f":"#REF!","v":{"$error":"#REF!"}},{"$f":"#REF!","v":{"$error":"#REF!"}},{"$f":"#REF!","v":{"$error":"#REF!"}},{"$error":"#REF!"},{"$f":"#REF!","v":{"$error":"#REF!"}}]
[{"$error":"#REF!"},{"$f":"#REF!","v":{"$error":"#REF!"}},{"$f":"#REF!","v":{"$error":"#REF!"}},{"$f":"#REF!","v":{"$error":"#REF!"}},{"$error":"#REF!"},{"$f":"#REF!","v":{"$error":"#REF!"}}]
[{"$error":"#REF!"},{"$f":"#REF!","v":{"$error":"#REF!"}},{"$f":"#REF!","v":{"$error":"#REF!"}},{"$f":"#REF!","v":{"$error":"#REF!"}},{"$error":"#REF!"},{"$f":"#REF!","v":{"$error":"#REF!"}}]
[{"$error":"#REF!"},{"$f":"#REF!","v":{"$error":"#REF!"}},{"$f":"#REF!","v":{"$error":"#REF!"}},{"$f":"#REF!","v":{"$error":"#REF!"}},{"$error":"#REF!"},{"$f":"#REF!","v":{"$error":"#REF!"}}]
[{"$error":"#REF!"},{"$f":"#REF!","v":{"$error":"#REF!"}},{"$f":"#REF!","v":{"$error":"#REF!"}},{"$f":"#REF!","v":{"$error":"#REF!"}},{"$error":"#REF!"},{"$f":"#REF!","v":{"$error":"#REF!"}}]
[{"$error":"#REF!"},{"$f":"#REF!","v":{"$error":"#REF!"}},{"$f":"#REF!","v":{"$error":"#REF!"}},{"$f":"#REF!","v":{"$error":"#REF!"}},{"$error":"#REF!"},{"$f":"#REF!","v":{"$error":"#REF!"}}]
[{"$error":"#REF!"},{"$f":"#REF!","v":{"$error":"#REF!"}},{"$f":"#REF!","v":{"$error":"#REF!"}},{"$f":"#REF!","v":{"$error":"#REF!"}},{"$error":"#REF!"},{"$f":"#REF!","v":{"$error":"#REF!"}}]
[{"$error":"#REF!"},{"$f":"#REF!","v":{"$error":"#REF!"}},{"$f":"#REF!","v":{"$error":"#REF!"}},{"$f":"#REF!","v":{"$error":"#REF!"}},{"$error":"#REF!"},{"$f":"#REF!","v":{"$error":"#REF!"}}]
[{"$error":"#REF!"},{"$f":"#REF!","v":{"$error":"#REF!"}},{"$f":"#REF!","v":{"$error":"#REF!"}},{"$f":"#REF!","v":{"$error":"#REF!"}},{"$error":"#REF!"},{"$f":"#REF!","v":{"$error":"#REF!"}}]
[{"$error":"#REF!"},{"$f":"#REF!","v":{"$error":"#REF!"}},{"$f":"#REF!","v":{"$error":"#REF!"}},{"$f":"#REF!","v":{"$error":"#REF!"}},{"$error":"#REF!"},{"$f":"#REF!","v":{"$error":"#REF!"}}]
[{"$error":"#REF!"},{"$f":"#REF!","v":{"$error":"#REF!"}},{"$f":"#REF!","v":{"$error":"#REF!"}},{"$f":"#REF!","v":{"$error":"#REF!"}},{"$error":"#REF!"},{"$f":"#REF!","v":{"$error":"#REF!"}}]
[{"$error":"#REF!"},{"$f":"#REF!","v":{"$error":"#REF!"}},{"$f":"#REF!","v":{"$error":"#REF!"}},{"$f":"#REF!","v":{"$error":"#REF!"}},{"$error":"#REF!"},{"$f":"#REF!","v":{"$error":"#REF!"}}]
[{"$error":"#REF!"},{"$f":"#REF!","v":{"$error":"#REF!"}},{"$f":"#REF!","v":{"$error":"#REF!"}},{"$f":"#REF!","v":{"$error":"#REF!"}},{"$error":"#REF!"},{"$f":"#REF!","v":{"$error":"#REF!"}}]
[{"$error":"#REF!"},{"$f":"#REF!","v":{"$error":"#REF!"}},{"$f":"#REF!","v":{"$error":"#REF!"}},{"$f":"#REF!","v":{"$error":"#REF!"}},{"$error":"#REF!"},{"$f":"#REF!","v":{"$error":"#REF!"}}]
[{"$error":"#REF!"},{"$f":"#REF!","v":{"$error":"#REF!"}},{"$f":"#REF!","v":{"$error":"#REF!"}},{"$f":"#REF!","v":{"$error":"#REF!"}},{"$error":"#REF!"},{"$f":"#REF!","v":{"$error":"#REF!"}}]
[{"$error":"#REF!"},{"$f":"#REF!","v":{"$error":"#REF!"}},{"$f":"#REF!","v":{"$error":"#REF!"}},{"$f":"#REF!","v":{"$error":"#REF!"}},{"$error":"#REF!"},{"$f":"#REF!","v":{"$error":"#REF!"}}]
[{"$error":"#REF!"},{"$f":"#REF!","v":{"$error":"#REF!"}},{"$f":"#REF!","v":{"$error":"#REF!"}},{"$f":"#REF!","v":{"$error":"#REF!"}},{"$error":"#REF!"},{"$f":"#REF!","v":{"$error":"#REF!"}}]
[{"$error":"#REF!"},{"$f":"#REF!","v":{"$error":"#REF!"}},{"$f":"#REF!","v":{"$error":"#REF!"}},{"$f":"#REF!","v":{"$error":"#REF!"}},{"$error":"#REF!"},{"$f":"#REF!","v":{"$error":"#REF!"}}]
[{"$error":"#REF!"},{"$f":"#REF!","v":{"$error":"#REF!"}},{"$f":"#REF!","v":{"$error":"#REF!"}},{"$f":"#REF!","v":{"$error":"#REF!"}},{"$error":"#REF!"},{"$f":"#REF!","v":{"$error":"#REF!"}}]
[{"$error":"#REF!"},{"$f":"#REF!","v":{"$error":"#REF!"}},{"$f":"#REF!","v":{"$error":"#REF!"}},{"$f":"#REF!","v":{"$error":"#REF!"}},{"$error":"#REF!"},{"$f":"#REF!","v":{"$error":"#REF!"}}]
[{"$error":"#REF!"},{"$f":"#REF!","v":{"$error":"#REF!"}},{"$f":"#REF!","v":{"$error":"#REF!"}},{"$f":"#REF!","v":{"$error":"#REF!"}},{"$error":"#REF!"},{"$f":"#REF!","v":{"$error":"#REF!"}}]
[{"$error":"#REF!"},{"$f":"#REF!","v":{"$error":"#REF!"}},{"$f":"#REF!","v":{"$error":"#REF!"}},{"$f":"#REF!","v":{"$error":"#REF!"}},{"$error":"#REF!"},{"$f":"#REF!","v":{"$error":"#REF!"}}]
[{"$error":"#REF!"},{"$f":"#REF!","v":{"$error":"#REF!"}},{"$f":"#REF!","v":{"$error":"#REF!"}},{"$f":"#REF!","v":{"$error":"#REF!"}},{"$error":"#REF!"},{"$f":"#REF!","v":{"$error":"#REF!"}}]
[{"$error":"#REF!"},{"$f":"#REF!","v":{"$error":"#REF!"}},{"$f":"#REF!","v":{"$error":"#REF!"}},{"$f":"#REF!","v":{"$error":"#REF!"}},{"$error":"#REF!"},{"$f":"#REF!","v":{"$error":"#REF!"}}]
[{"$error":"#REF!"},{"$f":"#REF!","v":{"$error":"#REF!"}},{"$f":"#REF!","v":{"$error":"#REF!"}},{"$f":"#REF!","v":{"$error":"#REF!"}},{"$error":"#REF!"},{"$f":"#REF!","v":{"$error":"#REF!"}}]
[{"$error":"#REF!"},{"$f":"#REF!","v":{"$error":"#REF!"}},{"$f":"#REF!","v":{"$error":"#REF!"}},{"$f":"#REF!","v":{"$error":"#REF!"}},{"$error":"#REF!"},{"$f":"#REF!","v":{"$error":"#REF!"}}]
[{"$error":"#REF!"},{"$f":"#REF!","v":{"$error":"#REF!"}},{"$f":"#REF!","v":{"$error":"#REF!"}},{"$f":"#REF!","v":{"$error":"#REF!"}},{"$error":"#REF!"},{"$f":"#REF!","v":{"$error":"#REF!"}}]
[{"$error":"#REF!"},{"$f":"#REF!","v":{"$error":"#REF!"}},{"$f":"#REF!","v":{"$error":"#REF!"}},{"$f":"#REF!","v":{"$error":"#REF!"}},{"$error":"#REF!"},{"$f":"#REF!","v":{"$error":"#REF!"}}]
[{"$error":"#REF!"},{"$f":"#REF!","v":{"$error":"#REF!"}},{"$f":"#REF!","v":{"$error":"#REF!"}},{"$f":"#REF!","v":{"$error":"#REF!"}},{"$error":"#REF!"},{"$f":"#REF!","v":{"$error":"#REF!"}}]
[{"$error":"#REF!"},{"$f":"#REF!","v":{"$error":"#REF!"}},{"$f":"#REF!","v":{"$error":"#REF!"}},{"$f":"#REF!","v":{"$error":"#REF!"}},{"$error":"#REF!"},{"$f":"#REF!","v":{"$error":"#REF!"}}]
[{"$error":"#REF!"},{"$f":"#REF!","v":{"$error":"#REF!"}},{"$f":"#REF!","v":{"$error":"#REF!"}},{"$f":"#REF!","v":{"$error":"#REF!"}},{"$error":"#REF!"},{"$f":"#REF!","v":{"$error":"#REF!"}}]
[{"$error":"#REF!"},{"$f":"#REF!","v":{"$error":"#REF!"}},{"$f":"#REF!","v":{"$error":"#REF!"}},{"$f":"#REF!","v":{"$error":"#REF!"}},{"$error":"#REF!"},{"$f":"#REF!","v":{"$error":"#REF!"}}]
[{"$error":"#REF!"},{"$f":"#REF!","v":{"$error":"#REF!"}},{"$f":"#REF!","v":{"$error":"#REF!"}},{"$f":"#REF!","v":{"$error":"#REF!"}},{"$error":"#REF!"},{"$f":"#REF!","v":{"$error":"#REF!"}}]
[{"$error":"#REF!"},{"$f":"#REF!","v":{"$error":"#REF!"}},{"$f":"#REF!","v":{"$error":"#REF!"}},{"$f":"#REF!","v":{"$error":"#REF!"}},{"$error":"#REF!"},{"$f":"#REF!","v":{"$error":"#REF!"}}]
[{"$error":"#REF!"},{"$f":"#REF!","v":{"$error":"#REF!"}},{"$f":"#REF!","v":{"$error":"#REF!"}},{"$f":"#REF!","v":{"$error":"#REF!"}},{"$error":"#REF!"},{"$f":"#REF!","v":{"$error":"#REF!"}}]
[{"$error":"#REF!"},{"$f":"#REF!","v":{"$error":"#REF!"}},{"$f":"#REF!","v":{"$error":"#REF!"}},{"$f":"#REF!","v":{"$error":"#REF!"}},{"$error":"#REF!"},{"$f":"#REF!","v":{"$error":"#REF!"}}]
[{"$error":"#REF!"},{"$f":"#REF!","v":{"$error":"#REF!"}},{"$f":"#REF!","v":{"$error":"#REF!"}},{"$f":"#REF!","v":{"$error":"#REF!"}},{"$error":"#REF!"},{"$f":"#REF!","v":{"$error":"#REF!"}}]
[{"$error":"#REF!"},{"$f":"#REF!","v":{"$error":"#REF!"}},{"$f":"#REF!","v":{"$error":"#REF!"}},{"$f":"#REF!","v":{"$error":"#REF!"}},{"$error":"#REF!"},{"$f":"#REF!","v":{"$error":"#REF!"}}]
[{"$error":"#REF!"},{"$f":"#REF!","v":{"$error":"#REF!"}},{"$f":"#REF!","v":{"$error":"#REF!"}},{"$f":"#REF!","v":{"$error":"#REF!"}},{"$error":"#REF!"},{"$f":"#REF!","v":{"$error":"#REF!"}}]
[{"$error":"#REF!"},{"$f":"#REF!","v":{"$error":"#REF!"}},{"$f":"#REF!","v":{"$error":"#REF!"}},{"$f":"#REF!","v":{"$error":"#REF!"}},{"$error":"#REF!"},{"$f":"#REF!","v":{"$error":"#REF!"}}]
[{"$error":"#REF!"},{"$f":"#REF!","v":{"$error":"#REF!"}},{"$f":"#REF!","v":{"$error":"#REF!"}},{"$f":"#REF!","v":{"$error":"#REF!"}},{"$error":"#REF!"},{"$f":"#REF!","v":{"$error":"#REF!"}}]
[{"$error":"#REF!"},{"$f":"#REF!","v":{"$error":"#REF!"}},{"$f":"#REF!","v":{"$error":"#REF!"}},{"$f":"#REF!","v":{"$error":"#REF!"}},{"$error":"#REF!"},{"$f":"#REF!","v":{"$error":"#REF!"}}]
[{"$f":"IF(B883=0,\"\",A882+1)","v":{"$error":"#REF!"}},{"$f":"#REF!","v":{"$error":"#REF!"}},{"$f":"#REF!","v":{"$error":"#REF!"}},{"$f":"#REF!","v":{"$error":"#REF!"}},{"$error":"#REF!"},{"$f":"#REF!","v":{"$error":"#REF!"}}]
[{"$error":"#REF!"},{"$f":"#REF!","v":{"$error":"#REF!"}},{"$f":"#REF!","v":{"$error":"#REF!"}},{"$f":"#REF!","v":{"$error":"#REF!"}},{"$error":"#REF!"},{"$f":"#REF!","v":{"$error":"#REF!"}}]
[{"$error":"#REF!"},{"$f":"#REF!","v":{"$error":"#REF!"}},{"$f":"#REF!","v":{"$error":"#REF!"}},{"$f":"#REF!","v":{"$error":"#REF!"}},{"$error":"#REF!"},{"$f":"#REF!","v":{"$error":"#REF!"}}]
[{"$error":"#REF!"},{"$f":"#REF!","v":{"$error":"#REF!"}},{"$f":"#REF!","v":{"$error":"#REF!"}},{"$f":"#REF!","v":{"$error":"#REF!"}},{"$error":"#REF!"},{"$f":"#REF!","v":{"$error":"#REF!"}}]
[{"$error":"#REF!"},{"$f":"#REF!","v":{"$error":"#REF!"}},{"$f":"#REF!","v":{"$error":"#REF!"}},{"$f":"#REF!","v":{"$error":"#REF!"}},{"$error":"#REF!"},{"$f":"#REF!","v":{"$error":"#REF!"}}]
[{"$error":"#REF!"},{"$f":"#REF!","v":{"$error":"#REF!"}},{"$f":"#REF!","v":{"$error":"#REF!"}},{"$f":"#REF!","v":{"$error":"#REF!"}},{"$error":"#REF!"},{"$f":"#REF!","v":{"$error":"#REF!"}}]
[{"$error":"#REF!"},{"$f":"#REF!","v":{"$error":"#REF!"}},{"$f":"#REF!","v":{"$error":"#REF!"}},{"$f":"#REF!","v":{"$error":"#REF!"}},{"$error":"#REF!"},{"$f":"#REF!","v":{"$error":"#REF!"}}]
[{"$error":"#REF!"},{"$f":"#REF!","v":{"$error":"#REF!"}},{"$f":"#REF!","v":{"$error":"#REF!"}},{"$f":"#REF!","v":{"$error":"#REF!"}},{"$error":"#REF!"},{"$f":"#REF!","v":{"$error":"#REF!"}}]
[{"$error":"#REF!"},{"$f":"#REF!","v":{"$error":"#REF!"}},{"$f":"#REF!","v":{"$error":"#REF!"}},{"$f":"#REF!","v":{"$error":"#REF!"}},{"$error":"#REF!"},{"$f":"#REF!","v":{"$error":"#REF!"}}]
[{"$error":"#REF!"},{"$f":"#REF!","v":{"$error":"#REF!"}},{"$f":"#REF!","v":{"$error":"#REF!"}},{"$f":"#REF!","v":{"$error":"#REF!"}},{"$error":"#REF!"},{"$f":"#REF!","v":{"$error":"#REF!"}}]
[{"$error":"#REF!"},{"$f":"#REF!","v":{"$error":"#REF!"}},{"$f":"#REF!","v":{"$error":"#REF!"}},{"$f":"#REF!","v":{"$error":"#REF!"}},{"$error":"#REF!"},{"$f":"#REF!","v":{"$error":"#REF!"}}]
[{"$error":"#REF!"},{"$f":"#REF!","v":{"$error":"#REF!"}},{"$f":"#REF!","v":{"$error":"#REF!"}},{"$f":"#REF!","v":{"$error":"#REF!"}},{"$error":"#REF!"},{"$f":"#REF!","v":{"$error":"#REF!"}}]
[{"$error":"#REF!"},{"$f":"#REF!","v":{"$error":"#REF!"}},{"$f":"#REF!","v":{"$error":"#REF!"}},{"$f":"#REF!","v":{"$error":"#REF!"}},{"$error":"#REF!"},{"$f":"#REF!","v":{"$error":"#REF!"}}]
[{"$error":"#REF!"},{"$f":"#REF!","v":{"$error":"#REF!"}},{"$f":"#REF!","v":{"$error":"#REF!"}},{"$f":"#REF!","v":{"$error":"#REF!"}},{"$error":"#REF!"},{"$f":"#REF!","v":{"$error":"#REF!"}}]
[{"$error":"#REF!"},{"$f":"#REF!","v":{"$error":"#REF!"}},{"$f":"#REF!","v":{"$error":"#REF!"}},{"$f":"#REF!","v":{"$error":"#REF!"}},{"$error":"#REF!"},{"$f":"#REF!","v":{"$error":"#REF!"}}]
[{"$error":"#REF!"},{"$f":"#REF!","v":{"$error":"#REF!"}},{"$f":"#REF!","v":{"$error":"#REF!"}},{"$f":"#REF!","v":{"$error":"#REF!"}},{"$error":"#REF!"},{"$f":"#REF!","v":{"$error":"#REF!"}}]
[{"$error":"#REF!"},{"$f":"#REF!","v":{"$error":"#REF!"}},{"$f":"#REF!","v":{"$error":"#REF!"}},{"$f":"#REF!","v":{"$error":"#REF!"}},{"$error":"#REF!"},{"$f":"#REF!","v":{"$error":"#REF!"}}]
[{"$error":"#REF!"},{"$f":"#REF!","v":{"$error":"#REF!"}},{"$f":"#REF!","v":{"$error":"#REF!"}},{"$f":"#REF!","v":{"$error":"#REF!"}},{"$f":"IF(OFFSET(INDIRECT(ADDRESS(ROW(),COLUMN())),0,-3)=0,0,VLOOKUP(F900,$I$4:$J$60,2,FALSE))","v":{"$error":"#REF!"}},{"$f":"#REF!","v":{"$error":"#REF!"}}]
[{"$error":"#REF!"},{"$f":"#REF!","v":{"$error":"#REF!"}},{"$f":"#REF!","v":{"$error":"#REF!"}},{"$f":"#REF!","v":{"$error":"#REF!"}},{"$error":"#REF!"},{"$f":"#REF!","v":{"$error":"#REF!"}}]
[{"$error":"#REF!"},{"$f":"#REF!","v":{"$error":"#REF!"}},{"$f":"#REF!","v":{"$error":"#REF!"}},{"$f":"#REF!","v":{"$error":"#REF!"}},{"$error":"#REF!"},{"$f":"#REF!","v":{"$error":"#REF!"}}]
[{"$error":"#REF!"},{"$f":"#REF!","v":{"$error":"#REF!"}},{"$f":"#REF!","v":{"$error":"#REF!"}},{"$f":"#REF!","v":{"$error":"#REF!"}},{"$error":"#REF!"},{"$f":"#REF!","v":{"$error":"#REF!"}}]
[{"$error":"#REF!"},{"$f":"#REF!","v":{"$error":"#REF!"}},{"$f":"#REF!","v":{"$error":"#REF!"}},{"$f":"#REF!","v":{"$error":"#REF!"}},{"$error":"#REF!"},{"$f":"#REF!","v":{"$error":"#REF!"}}]
[{"$error":"#REF!"},{"$f":"#REF!","v":{"$error":"#REF!"}},{"$f":"#REF!","v":{"$error":"#REF!"}},{"$f":"#REF!","v":{"$error":"#REF!"}},{"$error":"#REF!"},{"$f":"#REF!","v":{"$error":"#REF!"}}]
[{"$error":"#REF!"},{"$f":"#REF!","v":{"$error":"#REF!"}},{"$f":"#REF!","v":{"$error":"#REF!"}},{"$f":"#REF!","v":{"$error":"#REF!"}},{"$error":"#REF!"},{"$f":"#REF!","v":{"$error":"#REF!"}}]
[{"$error":"#REF!"},{"$f":"#REF!","v":{"$error":"#REF!"}},{"$f":"#REF!","v":{"$error":"#REF!"}},{"$f":"#REF!","v":{"$error":"#REF!"}},{"$error":"#REF!"},{"$f":"#REF!","v":{"$error":"#REF!"}}]
[{"$error":"#REF!"},{"$f":"#REF!","v":{"$error":"#REF!"}},{"$f":"#REF!","v":{"$error":"#REF!"}},{"$f":"#REF!","v":{"$error":"#REF!"}},{"$error":"#REF!"},{"$f":"#REF!","v":{"$error":"#REF!"}}]
[{"$error":"#REF!"},{"$f":"#REF!","v":{"$error":"#REF!"}},{"$f":"#REF!","v":{"$error":"#REF!"}},{"$f":"#REF!","v":{"$error":"#REF!"}},{"$error":"#REF!"},{"$f":"#REF!","v":{"$error":"#REF!"}}]
[{"$error":"#REF!"},{"$f":"#REF!","v":{"$error":"#REF!"}},{"$f":"#REF!","v":{"$error":"#REF!"}},{"$f":"#REF!","v":{"$error":"#REF!"}},{"$error":"#REF!"},{"$f":"#REF!","v":{"$error":"#REF!"}}]
[{"$error":"#REF!"},{"$f":"#REF!","v":{"$error":"#REF!"}},{"$f":"#REF!","v":{"$error":"#REF!"}},{"$f":"#REF!","v":{"$error":"#REF!"}},{"$error":"#REF!"},{"$f":"#REF!","v":{"$error":"#REF!"}}]
[{"$error":"#REF!"},{"$f":"#REF!","v":{"$error":"#REF!"}},{"$f":"#REF!","v":{"$error":"#REF!"}},{"$f":"#REF!","v":{"$error":"#REF!"}},{"$error":"#REF!"},{"$f":"#REF!","v":{"$error":"#REF!"}}]
[{"$error":"#REF!"},{"$f":"#REF!","v":{"$error":"#REF!"}},{"$f":"#REF!","v":{"$error":"#REF!"}},{"$f":"#REF!","v":{"$error":"#REF!"}},{"$error":"#REF!"},{"$f":"#REF!","v":{"$error":"#REF!"}}]
[{"$error":"#REF!"},{"$f":"#REF!","v":{"$error":"#REF!"}},{"$f":"#REF!","v":{"$error":"#REF!"}},{"$f":"#REF!","v":{"$error":"#REF!"}},{"$error":"#REF!"},{"$f":"#REF!","v":{"$error":"#REF!"}}]
[{"$error":"#REF!"},{"$f":"#REF!","v":{"$error":"#REF!"}},{"$f":"#REF!","v":{"$error":"#REF!"}},{"$f":"#REF!","v":{"$error":"#REF!"}},{"$error":"#REF!"},{"$f":"#REF!","v":{"$error":"#REF!"}}]
[{"$error":"#REF!"},{"$f":"#REF!","v":{"$error":"#REF!"}},{"$f":"#REF!","v":{"$error":"#REF!"}},{"$f":"#REF!","v":{"$error":"#REF!"}},{"$error":"#REF!"},{"$f":"#REF!","v":{"$error":"#REF!"}}]
[{"$error":"#REF!"},{"$f":"#REF!","v":{"$error":"#REF!"}},{"$f":"#REF!","v":{"$error":"#REF!"}},{"$f":"#REF!","v":{"$error":"#REF!"}},{"$error":"#REF!"},{"$f":"#REF!","v":{"$error":"#REF!"}}]
[{"$error":"#REF!"},{"$f":"#REF!","v":{"$error":"#REF!"}},{"$f":"#REF!","v":{"$error":"#REF!"}},{"$f":"#REF!","v":{"$error":"#REF!"}},{"$error":"#REF!"},{"$f":"#REF!","v":{"$error":"#REF!"}}]
[{"$error":"#REF!"},{"$f":"#REF!","v":{"$error":"#REF!"}},{"$f":"#REF!","v":{"$error":"#REF!"}},{"$f":"#REF!","v":{"$error":"#REF!"}},{"$error":"#REF!"},{"$f":"#REF!","v":{"$error":"#REF!"}}]
[{"$error":"#REF!"},{"$f":"#REF!","v":{"$error":"#REF!"}},{"$f":"#REF!","v":{"$error":"#REF!"}},{"$f":"#REF!","v":{"$error":"#REF!"}},{"$error":"#REF!"},{"$f":"#REF!","v":{"$error":"#REF!"}}]
[{"$error":"#REF!"},{"$f":"#REF!","v":{"$error":"#REF!"}},{"$f":"#REF!","v":{"$error":"#REF!"}},{"$f":"#REF!","v":{"$error":"#REF!"}},{"$error":"#REF!"},{"$f":"#REF!","v":{"$error":"#REF!"}}]
[{"$error":"#REF!"},{"$f":"#REF!","v":{"$error":"#REF!"}},{"$f":"#REF!","v":{"$error":"#REF!"}},{"$f":"#REF!","v":{"$error":"#REF!"}},{"$error":"#REF!"},{"$f":"#REF!","v":{"$error":"#REF!"}}]
[{"$error":"#REF!"},{"$f":"#REF!","v":{"$error":"#REF!"}},{"$f":"#REF!","v":{"$error":"#REF!"}},{"$f":"#REF!","v":{"$error":"#REF!"}},{"$error":"#REF!"},{"$f":"#REF!","v":{"$error":"#REF!"}}]
[{"$error":"#REF!"},{"$f":"#REF!","v":{"$error":"#REF!"}},{"$f":"#REF!","v":{"$error":"#REF!"}},{"$f":"#REF!","v":{"$error":"#REF!"}},{"$error":"#REF!"},{"$f":"#REF!","v":{"$error":"#REF!"}}]
[{"$error":"#REF!"},{"$f":"#REF!","v":{"$error":"#REF!"}},{"$f":"#REF!","v":{"$error":"#REF!"}},{"$f":"#REF!","v":{"$error":"#REF!"}},{"$error":"#REF!"},{"$f":"#REF!","v":{"$error":"#REF!"}}]
[{"$error":"#REF!"},{"$f":"#REF!","v":{"$error":"#REF!"}},{"$f":"#REF!","v":{"$error":"#REF!"}},{"$f":"#REF!","v":{"$error":"#REF!"}},{"$error":"#REF!"},{"$f":"#REF!","v":{"$error":"#REF!"}}]
[{"$error":"#REF!"},{"$f":"#REF!","v":{"$error":"#REF!"}},{"$f":"#REF!","v":{"$error":"#REF!"}},{"$f":"#REF!","v":{"$error":"#REF!"}},{"$error":"#REF!"},{"$f":"#REF!","v":{"$error":"#REF!"}}]
[{"$error":"#REF!"},{"$f":"#REF!","v":{"$error":"#REF!"}},{"$f":"#REF!","v":{"$error":"#REF!"}},{"$f":"#REF!","v":{"$error":"#REF!"}},{"$error":"#REF!"},{"$f":"#REF!","v":{"$error":"#REF!"}}]
[{"$error":"#REF!"},{"$f":"#REF!","v":{"$error":"#REF!"}},{"$f":"#REF!","v":{"$error":"#REF!"}},{"$f":"#REF!","v":{"$error":"#REF!"}},{"$error":"#REF!"},{"$f":"#REF!","v":{"$error":"#REF!"}}]
[{"$error":"#REF!"},{"$f":"#REF!","v":{"$error":"#REF!"}},{"$f":"#REF!","v":{"$error":"#REF!"}},{"$f":"#REF!","v":{"$error":"#REF!"}},{"$error":"#REF!"},{"$f":"#REF!","v":{"$error":"#REF!"}}]
[{"$error":"#REF!"},{"$f":"#REF!","v":{"$error":"#REF!"}},{"$f":"#REF!","v":{"$error":"#REF!"}},{"$f":"#REF!","v":{"$error":"#REF!"}},{"$error":"#REF!"},{"$f":"#REF!","v":{"$error":"#REF!"}}]
[{"$error":"#REF!"},{"$f":"#REF!","v":{"$error":"#REF!"}},{"$f":"#REF!","v":{"$error":"#REF!"}},{"$f":"#REF!","v":{"$error":"#REF!"}},{"$error":"#REF!"},{"$f":"#REF!","v":{"$error":"#REF!"}}]
[{"$error":"#REF!"},{"$f":"#REF!","v":{"$error":"#REF!"}},{"$f":"#REF!","v":{"$error":"#REF!"}},{"$f":"#REF!","v":{"$error":"#REF!"}},{"$error":"#REF!"},{"$f":"#REF!","v":{"$error":"#REF!"}}]
[{"$error":"#REF!"},{"$f":"#REF!","v":{"$error":"#REF!"}},{"$f":"#REF!","v":{"$error":"#REF!"}},{"$f":"#REF!","v":{"$error":"#REF!"}},{"$error":"#REF!"},{"$f":"#REF!","v":{"$error":"#REF!"}}]
[{"$error":"#REF!"},{"$f":"#REF!","v":{"$error":"#REF!"}},{"$f":"#REF!","v":{"$error":"#REF!"}},{"$f":"#REF!","v":{"$error":"#REF!"}},{"$error":"#REF!"},{"$f":"#REF!","v":{"$error":"#REF!"}}]
[{"$error":"#REF!"},{"$f":"#REF!","v":{"$error":"#REF!"}},{"$f":"#REF!","v":{"$error":"#REF!"}},{"$f":"#REF!","v":{"$error":"#REF!"}},{"$error":"#REF!"},{"$f":"#REF!","v":{"$error":"#REF!"}}]
[{"$error":"#REF!"},{"$f":"#REF!","v":{"$error":"#REF!"}},{"$f":"#REF!","v":{"$error":"#REF!"}},{"$f":"#REF!","v":{"$error":"#REF!"}},{"$error":"#REF!"},{"$f":"#REF!","v":{"$error":"#REF!"}}]
[{"$error":"#REF!"},{"$f":"#REF!","v":{"$error":"#REF!"}},{"$f":"#REF!","v":{"$error":"#REF!"}},{"$f":"#REF!","v":{"$error":"#REF!"}},{"$error":"#REF!"},{"$f":"#REF!","v":{"$error":"#REF!"}}]
[{"$error":"#REF!"},{"$f":"#REF!","v":{"$error":"#REF!"}},{"$f":"#REF!","v":{"$error":"#REF!"}},{"$f":"#REF!","v":{"$error":"#REF!"}},{"$error":"#REF!"},{"$f":"#REF!","v":{"$error":"#REF!"}}]
[{"$error":"#REF!"},{"$f":"#REF!","v":{"$error":"#REF!"}},{"$f":"#REF!","v":{"$error":"#REF!"}},{"$f":"#REF!","v":{"$error":"#REF!"}},{"$error":"#REF!"},{"$f":"#REF!","v":{"$error":"#REF!"}}]
[{"$error":"#REF!"},{"$f":"#REF!","v":{"$error":"#REF!"}},{"$f":"#REF!","v":{"$error":"#REF!"}},{"$f":"#REF!","v":{"$error":"#REF!"}},{"$error":"#REF!"},{"$f":"#REF!","v":{"$error":"#REF!"}}]
[{"$error":"#REF!"},{"$f":"#REF!","v":{"$error":"#REF!"}},{"$f":"#REF!","v":{"$error":"#REF!"}},{"$f":"#REF!","v":{"$error":"#REF!"}},{"$error":"#REF!"},{"$f":"#REF!","v":{"$error":"#REF!"}}]
[{"$error":"#REF!"},{"$f":"#REF!","v":{"$error":"#REF!"}},{"$f":"#REF!","v":{"$error":"#REF!"}},{"$f":"#REF!","v":{"$error":"#REF!"}},{"$error":"#REF!"},{"$f":"#REF!","v":{"$error":"#REF!"}}]
[{"$error":"#REF!"},{"$f":"#REF!","v":{"$error":"#REF!"}},{"$f":"#REF!","v":{"$error":"#REF!"}},{"$f":"#REF!","v":{"$error":"#REF!"}},{"$error":"#REF!"},{"$f":"#REF!","v":{"$error":"#REF!"}}]
[{"$error":"#REF!"},{"$f":"#REF!","v":{"$error":"#REF!"}},{"$f":"#REF!","v":{"$error":"#REF!"}},{"$f":"#REF!","v":{"$error":"#REF!"}},{"$error":"#REF!"},{"$f":"#REF!","v":{"$error":"#REF!"}}]
[{"$error":"#REF!"},{"$f":"#REF!","v":{"$error":"#REF!"}},{"$f":"#REF!","v":{"$error":"#REF!"}},{"$f":"#REF!","v":{"$error":"#REF!"}},{"$error":"#REF!"},{"$f":"#REF!","v":{"$error":"#REF!"}}]
[{"$f":"IF(B947=0,\"\",A946+1)","v":{"$error":"#REF!"}},{"$f":"#REF!","v":{"$error":"#REF!"}},{"$f":"#REF!","v":{"$error":"#REF!"}},{"$f":"#REF!","v":{"$error":"#REF!"}},{"$error":"#REF!"},{"$f":"#REF!","v":{"$error":"#REF!"}}]
[{"$error":"#REF!"},{"$f":"#REF!","v":{"$error":"#REF!"}},{"$f":"#REF!","v":{"$error":"#REF!"}},{"$f":"#REF!","v":{"$error":"#REF!"}},{"$error":"#REF!"},{"$f":"#REF!","v":{"$error":"#REF!"}}]
[{"$error":"#REF!"},{"$f":"#REF!","v":{"$error":"#REF!"}},{"$f":"#REF!","v":{"$error":"#REF!"}},{"$f":"#REF!","v":{"$error":"#REF!"}},{"$error":"#REF!"},{"$f":"#REF!","v":{"$error":"#REF!"}}]
[{"$error":"#REF!"},{"$f":"#REF!","v":{"$error":"#REF!"}},{"$f":"#REF!","v":{"$error":"#REF!"}},{"$f":"#REF!","v":{"$error":"#REF!"}},{"$error":"#REF!"},{"$f":"#REF!","v":{"$error":"#REF!"}}]
[{"$error":"#REF!"},{"$f":"#REF!","v":{"$error":"#REF!"}},{"$f":"#REF!","v":{"$error":"#REF!"}},{"$f":"#REF!","v":{"$error":"#REF!"}},{"$error":"#REF!"},{"$f":"#REF!","v":{"$error":"#REF!"}}]
[{"$error":"#REF!"},{"$f":"#REF!","v":{"$error":"#REF!"}},{"$f":"#REF!","v":{"$error":"#REF!"}},{"$f":"#REF!","v":{"$error":"#REF!"}},{"$error":"#REF!"},{"$f":"#REF!","v":{"$error":"#REF!"}}]
[{"$error":"#REF!"},{"$f":"#REF!","v":{"$error":"#REF!"}},{"$f":"#REF!","v":{"$error":"#REF!"}},{"$f":"#REF!","v":{"$error":"#REF!"}},{"$error":"#REF!"},{"$f":"#REF!","v":{"$error":"#REF!"}}]
[{"$error":"#REF!"},{"$f":"#REF!","v":{"$error":"#REF!"}},{"$f":"#REF!","v":{"$error":"#REF!"}},{"$f":"#REF!","v":{"$error":"#REF!"}},{"$error":"#REF!"},{"$f":"#REF!","v":{"$error":"#REF!"}}]
[{"$error":"#REF!"},{"$f":"#REF!","v":{"$error":"#REF!"}},{"$f":"#REF!","v":{"$error":"#REF!"}},{"$f":"#REF!","v":{"$error":"#REF!"}},{"$error":"#REF!"},{"$f":"#REF!","v":{"$error":"#REF!"}}]
[{"$error":"#REF!"},{"$f":"#REF!","v":{"$error":"#REF!"}},{"$f":"#REF!","v":{"$error":"#REF!"}},{"$f":"#REF!","v":{"$error":"#REF!"}},{"$error":"#REF!"},{"$f":"#REF!","v":{"$error":"#REF!"}}]
[{"$error":"#REF!"},{"$f":"#REF!","v":{"$error":"#REF!"}},{"$f":"#REF!","v":{"$error":"#REF!"}},{"$f":"#REF!","v":{"$error":"#REF!"}},{"$error":"#REF!"},{"$f":"#REF!","v":{"$error":"#REF!"}}]
[{"$error":"#REF!"},{"$f":"#REF!","v":{"$error":"#REF!"}},{"$f":"#REF!","v":{"$error":"#REF!"}},{"$f":"#REF!","v":{"$error":"#REF!"}},{"$error":"#REF!"},{"$f":"#REF!","v":{"$error":"#REF!"}}]
[{"$error":"#REF!"},{"$f":"#REF!","v":{"$error":"#REF!"}},{"$f":"#REF!","v":{"$error":"#REF!"}},{"$f":"#REF!","v":{"$error":"#REF!"}},{"$error":"#REF!"},{"$f":"#REF!","v":{"$error":"#REF!"}}]
[{"$error":"#REF!"},{"$f":"#REF!","v":{"$error":"#REF!"}},{"$f":"#REF!","v":{"$error":"#REF!"}},{"$f":"#REF!","v":{"$error":"#REF!"}},{"$error":"#REF!"},{"$f":"#REF!","v":{"$error":"#REF!"}}]
[{"$error":"#REF!"},{"$f":"#REF!","v":{"$error":"#REF!"}},{"$f":"#REF!","v":{"$error":"#REF!"}},{"$f":"#REF!","v":{"$error":"#REF!"}},{"$error":"#REF!"},{"$f":"#REF!","v":{"$error":"#REF!"}}]
[{"$error":"#REF!"},{"$f":"#REF!","v":{"$error":"#REF!"}},{"$f":"#REF!","v":{"$error":"#REF!"}},{"$f":"#REF!","v":{"$error":"#REF!"}},{"$error":"#REF!"},{"$f":"#REF!","v":{"$error":"#REF!"}}]
[{"$error":"#REF!"},{"$f":"#REF!","v":{"$error":"#REF!"}},{"$f":"#REF!","v":{"$error":"#REF!"}},{"$f":"#REF!","v":{"$error":"#REF!"}},{"$error":"#REF!"},{"$f":"#REF!","v":{"$error":"#REF!"}}]
[{"$error":"#REF!"},{"$f":"#REF!","v":{"$error":"#REF!"}},{"$f":"#REF!","v":{"$error":"#REF!"}},{"$f":"#REF!","v":{"$error":"#REF!"}},{"$f":"IF(OFFSET(INDIRECT(ADDRESS(ROW(),COLUMN())),0,-3)=0,0,VLOOKUP(F964,$I$4:$J$60,2,FALSE))","v":{"$error":"#REF!"}},{"$f":"#REF!","v":{"$error":"#REF!"}}]
[{"$error":"#REF!"},{"$f":"#REF!","v":{"$error":"#REF!"}},{"$f":"#REF!","v":{"$error":"#REF!"}},{"$f":"#REF!","v":{"$error":"#REF!"}},{"$error":"#REF!"},{"$f":"#REF!","v":{"$error":"#REF!"}}]
[{"$error":"#REF!"},{"$f":"#REF!","v":{"$error":"#REF!"}},{"$f":"#REF!","v":{"$error":"#REF!"}},{"$f":"#REF!","v":{"$error":"#REF!"}},{"$error":"#REF!"},{"$f":"#REF!","v":{"$error":"#REF!"}}]
[{"$error":"#REF!"},{"$f":"#REF!","v":{"$error":"#REF!"}},{"$f":"#REF!","v":{"$error":"#REF!"}},{"$f":"#REF!","v":{"$error":"#REF!"}},{"$error":"#REF!"},{"$f":"#REF!","v":{"$error":"#REF!"}}]
[{"$error":"#REF!"},{"$f":"#REF!","v":{"$error":"#REF!"}},{"$f":"#REF!","v":{"$error":"#REF!"}},{"$f":"#REF!","v":{"$error":"#REF!"}},{"$error":"#REF!"},{"$f":"#REF!","v":{"$error":"#REF!"}}]
[{"$error":"#REF!"},{"$f":"#REF!","v":{"$error":"#REF!"}},{"$f":"#REF!","v":{"$error":"#REF!"}},{"$f":"#REF!","v":{"$error":"#REF!"}},{"$error":"#REF!"},{"$f":"#REF!","v":{"$error":"#REF!"}}]
[{"$error":"#REF!"},{"$f":"#REF!","v":{"$error":"#REF!"}},{"$f":"#REF!","v":{"$error":"#REF!"}},{"$f":"#REF!","v":{"$error":"#REF!"}},{"$error":"#REF!"},{"$f":"#REF!","v":{"$error":"#REF!"}}]
[{"$error":"#REF!"},{"$f":"#REF!","v":{"$error":"#REF!"}},{"$f":"#REF!","v":{"$error":"#REF!"}},{"$f":"#REF!","v":{"$error":"#REF!"}},{"$error":"#REF!"},{"$f":"#REF!","v":{"$error":"#REF!"}}]
[{"$error":"#REF!"},{"$f":"#REF!","v":{"$error":"#REF!"}},{"$f":"#REF!","v":{"$error":"#REF!"}},{"$f":"#REF!","v":{"$error":"#REF!"}},{"$error":"#REF!"},{"$f":"#REF!","v":{"$error":"#REF!"}}]
[{"$error":"#REF!"},{"$f":"#REF!","v":{"$error":"#REF!"}},{"$f":"#REF!","v":{"$error":"#REF!"}},{"$f":"#REF!","v":{"$error":"#REF!"}},{"$error":"#REF!"},{"$f":"#REF!","v":{"$error":"#REF!"}}]
[{"$error":"#REF!"},{"$f":"#REF!","v":{"$error":"#REF!"}},{"$f":"#REF!","v":{"$error":"#REF!"}},{"$f":"#REF!","v":{"$error":"#REF!"}},{"$error":"#REF!"},{"$f":"#REF!","v":{"$error":"#REF!"}}]
[{"$error":"#REF!"},{"$f":"#REF!","v":{"$error":"#REF!"}},{"$f":"#REF!","v":{"$error":"#REF!"}},{"$f":"#REF!","v":{"$error":"#REF!"}},{"$error":"#REF!"},{"$f":"#REF!","v":{"$error":"#REF!"}}]
[{"$error":"#REF!"},{"$f":"#REF!","v":{"$error":"#REF!"}},{"$f":"#REF!","v":{"$error":"#REF!"}},{"$f":"#REF!","v":{"$error":"#REF!"}},{"$error":"#REF!"},{"$f":"#REF!","v":{"$error":"#REF!"}}]
[{"$error":"#REF!"},{"$f":"#REF!","v":{"$error":"#REF!"}},{"$f":"#REF!","v":{"$error":"#REF!"}},{"$f":"#REF!","v":{"$error":"#REF!"}},{"$error":"#REF!"},{"$f":"#REF!","v":{"$error":"#REF!"}}]
[{"$error":"#REF!"},{"$f":"#REF!","v":{"$error":"#REF!"}},{"$f":"#REF!","v":{"$error":"#REF!"}},{"$f":"#REF!","v":{"$error":"#REF!"}},{"$error":"#REF!"},{"$f":"#REF!","v":{"$error":"#REF!"}}]
[{"$error":"#REF!"},{"$f":"#REF!","v":{"$error":"#REF!"}},{"$f":"#REF!","v":{"$error":"#REF!"}},{"$f":"#REF!","v":{"$error":"#REF!"}},{"$error":"#REF!"},{"$f":"#REF!","v":{"$error":"#REF!"}}]
[{"$error":"#REF!"},{"$f":"#REF!","v":{"$error":"#REF!"}},{"$f":"#REF!","v":{"$error":"#REF!"}},{"$f":"#REF!","v":{"$error":"#REF!"}},{"$error":"#REF!"},{"$f":"#REF!","v":{"$error":"#REF!"}}]
[{"$error":"#REF!"},{"$f":"#REF!","v":{"$error":"#REF!"}},{"$f":"#REF!","v":{"$error":"#REF!"}},{"$f":"#REF!","v":{"$error":"#REF!"}},{"$error":"#REF!"},{"$f":"#REF!","v":{"$error":"#REF!"}}]
[{"$error":"#REF!"},{"$f":"#REF!","v":{"$error":"#REF!"}},{"$f":"#REF!","v":{"$error":"#REF!"}},{"$f":"#REF!","v":{"$error":"#REF!"}},{"$error":"#REF!"},{"$f":"#REF!","v":{"$error":"#REF!"}}]
[{"$error":"#REF!"},{"$f":"#REF!","v":{"$error":"#REF!"}},{"$f":"#REF!","v":{"$error":"#REF!"}},{"$f":"#REF!","v":{"$error":"#REF!"}},{"$error":"#REF!"},{"$f":"#REF!","v":{"$error":"#REF!"}}]
[{"$error":"#REF!"},{"$f":"#REF!","v":{"$error":"#REF!"}},{"$f":"#REF!","v":{"$error":"#REF!"}},{"$f":"#REF!","v":{"$error":"#REF!"}},{"$error":"#REF!"},{"$f":"#REF!","v":{"$error":"#REF!"}}]
[{"$error":"#REF!"},{"$f":"#REF!","v":{"$error":"#REF!"}},{"$f":"#REF!","v":{"$error":"#REF!"}},{"$f":"#REF!","v":{"$error":"#REF!"}},{"$error":"#REF!"},{"$f":"#REF!","v":{"$error":"#REF!"}}]
[{"$error":"#REF!"},{"$f":"#REF!","v":{"$error":"#REF!"}},{"$f":"#REF!","v":{"$error":"#REF!"}},{"$f":"#REF!","v":{"$error":"#REF!"}},{"$error":"#REF!"},{"$f":"#REF!","v":{"$error":"#REF!"}}]
[{"$error":"#REF!"},{"$f":"#REF!","v":{"$error":"#REF!"}},{"$f":"#REF!","v":{"$error":"#REF!"}},{"$f":"#REF!","v":{"$error":"#REF!"}},{"$error":"#REF!"},{"$f":"#REF!","v":{"$error":"#REF!"}}]
[{"$error":"#REF!"},{"$f":"#REF!","v":{"$error":"#REF!"}},{"$f":"#REF!","v":{"$error":"#REF!"}},{"$f":"#REF!","v":{"$error":"#REF!"}},{"$error":"#REF!"},{"$f":"#REF!","v":{"$error":"#REF!"}}]
[{"$error":"#REF!"},{"$f":"#REF!","v":{"$error":"#REF!"}},{"$f":"#REF!","v":{"$error":"#REF!"}},{"$f":"#REF!","v":{"$error":"#REF!"}},{"$error":"#REF!"},{"$f":"#REF!","v":{"$error":"#REF!"}}]
[{"$error":"#REF!"},{"$f":"#REF!","v":{"$error":"#REF!"}},{"$f":"#REF!","v":{"$error":"#REF!"}},{"$f":"#REF!","v":{"$error":"#REF!"}},{"$error":"#REF!"},{"$f":"#REF!","v":{"$error":"#REF!"}}]
[{"$error":"#REF!"},{"$f":"#REF!","v":{"$error":"#REF!"}},{"$f":"#REF!","v":{"$error":"#REF!"}},{"$f":"#REF!","v":{"$error":"#REF!"}},{"$error":"#REF!"},{"$f":"#REF!","v":{"$error":"#REF!"}}]
[{"$error":"#REF!"},{"$f":"#REF!","v":{"$error":"#REF!"}},{"$f":"#REF!","v":{"$error":"#REF!"}},{"$f":"#REF!","v":{"$error":"#REF!"}},{"$error":"#REF!"},{"$f":"#REF!","v":{"$error":"#REF!"}}]
[{"$error":"#REF!"},{"$f":"#REF!","v":{"$error":"#REF!"}},{"$f":"#REF!","v":{"$error":"#REF!"}},{"$f":"#REF!","v":{"$error":"#REF!"}},{"$error":"#REF!"},{"$f":"#REF!","v":{"$error":"#REF!"}}]
[{"$error":"#REF!"},{"$f":"#REF!","v":{"$error":"#REF!"}},{"$f":"#REF!","v":{"$error":"#REF!"}},{"$f":"#REF!","v":{"$error":"#REF!"}},{"$error":"#REF!"},{"$f":"#REF!","v":{"$error":"#REF!"}}]
[{"$error":"#REF!"},{"$f":"#REF!","v":{"$error":"#REF!"}},{"$f":"#REF!","v":{"$error":"#REF!"}},{"$f":"#REF!","v":{"$error":"#REF!"}},{"$error":"#REF!"},{"$f":"#REF!","v":{"$error":"#REF!"}}]
[{"$error":"#REF!"},{"$f":"#REF!","v":{"$error":"#REF!"}},{"$f":"#REF!","v":{"$error":"#REF!"}},{"$f":"#REF!","v":{"$error":"#REF!"}},{"$error":"#REF!"},{"$f":"#REF!","v":{"$error":"#REF!"}}]
[{"$error":"#REF!"},{"$f":"#REF!","v":{"$error":"#REF!"}},{"$f":"#REF!","v":{"$error":"#REF!"}},{"$f":"#REF!","v":{"$error":"#REF!"}},{"$error":"#REF!"},{"$f":"#REF!","v":{"$error":"#REF!"}}]
[{"$error":"#REF!"},{"$f":"#REF!","v":{"$error":"#REF!"}},{"$f":"#REF!","v":{"$error":"#REF!"}},{"$f":"#REF!","v":{"$error":"#REF!"}},{"$error":"#REF!"},{"$f":"#REF!","v":{"$error":"#REF!"}}]
[{"$error":"#REF!"},{"$f":"#REF!","v":{"$error":"#REF!"}},{"$f":"#REF!","v":{"$error":"#REF!"}},{"$f":"#REF!","v":{"$error":"#REF!"}},{"$error":"#REF!"},{"$f":"#REF!","v":{"$error":"#REF!"}}]
[{"$error":"#REF!"},{"$f":"#REF!","v":{"$error":"#REF!"}},{"$f":"#REF!","v":{"$error":"#REF!"}},{"$f":"#REF!","v":{"$error":"#REF!"}},{"$error":"#REF!"},{"$f":"#REF!","v":{"$error":"#REF!"}}]
[{"$error":"#REF!"},{"$f":"#REF!","v":{"$error":"#REF!"}},{"$f":"#REF!","v":{"$error":"#REF!"}},{"$f":"#REF!","v":{"$error":"#REF!"}},{"$error":"#REF!"},{"$f":"#REF!","v":{"$error":"#REF!"}}]
[{"$error":"#REF!"},{"$f":"#REF!","v":{"$error":"#REF!"}},{"$f":"#REF!","v":{"$error":"#REF!"}},{"$f":"#REF!","v":{"$error":"#REF!"}},{"$error":"#REF!"},{"$f":"#REF!","v":{"$error":"#REF!"}}]

{"sheet":"入札（見積）書","index":2,"n_rows":35,"n_cols":19,"rows_kept":35,"merged":[[0,0,0,6],[1,0,1,6],[3,0,3,6],[4,1,4,2],[6,0,6,1],[7,0,7,1],[8,0,8,1],[9,0,9,1],[10,0,10,1],[11,0,11,1],[12,0,12,1],[13,0,13,1],[14,0,14,1],[15,0,15,1],[16,0,16,1],[17,0,17,1],[18,0,18,1],[18,3,18,4],[18,5,18,6],[19,0,19,1],[19,3,19,5],[21,0,21,6],[22,0,22,6],[23,0,23,6],[24,0,24,6],[26,0,26,1],[32,3,32,6],[33,3,33,6],[34,3,34,6]]}
[]
["入　札　書",{"$nulls":11},"一般競争契約","入　札　書","入札書有効期間","　上記の公告に対して「入札及び契約心得」及び「標準契約書等」の契約条項等を","承諾のうえ入札いたします。","　また、当社は「入札及び契約心得」に示された暴力団排除に関する誓約事項について誓約","いたします。"]
[{"$nulls":12},"オープンカウンター（随意契約）","見　積　書","見積書有効期間","　上記の通知に対して「入札及び契約心得」、「オープンカウンター実施要項」及び","「標準契約書等」の契約条項等を承諾のうえ見積りいたします。","　また、当社は「入札及び契約心得」に示された暴力団排除に関する誓約事項について誓約","いたします。"]
[{"$nulls":12},"随意契約","見　積　書","見積書有効期間","　上記の通知に対して「入札及び契約心得」及び「標準契約書等」の契約条項等を","承諾のうえ見積いたします。","　また、当社は「入札及び契約心得」に示された暴力団排除に関する誓約事項について誓約","いたします。"]
["金 額 ￥"]
[]
["品　　名",null,"規　　　格","数量","単位","単　価","金　　額"]
["三つ折り衝立",null,"ＳＭＰ－３ＭＰ（Ｗ１８００×Ｄ４００×Ｈ１８００　ウォールナット色）又は同等品以上",140,"SH"]
[0,null,"以下余白",0,""]
[0,null,"",0,""]
[0,null,"",0,""]
[0,null,"",0,""]
[0,null,"",0,""]
[0,null,"",0,""]
[0,null,"",0,""]
[0,null,"",0,""]
[0,null,"",0,""]
["合　　計"]
["納入場所",null,"陸上自衛隊飯塚駐屯地","納　　期",null,"令和８年３月１９日"]
["入札（契約）保証金",null,"免　　除","入札書有効期間"]
["　"]
["　上記の公告に対して「入札及び契約心得」及び「標準契約書等」の契約条項等を"]
["承諾のうえ入札いたします。"]
["　また、当社は「入札及び契約心得」に示された暴力団排除に関する誓約事項について誓約"]
["いたします。"]
[]
["令和７年９月３０日"]
[]
["分任契約担当官"]
["陸上自衛隊飯塚駐屯地"]
["第３６６会計隊飯塚派遣隊長　卯津江　一幸　　殿"]
[]
[null,null,"住　　所"]
[null,null,"会 社 名"]
[null,null,"代表者名","㊞　　"]

{"sheet":"Sheet1","index":3,"n_rows":1000,"n_cols":4,"rows_kept":1000,"hidden":true}
[{"$f":"#REF!","v":{"$error":"#REF!"}},{"$f":"IF(COUNTIF($A$1:A1,A1)=1,ROW(),\"\")","v":1},null,{"$f":"IF(ISERROR(INDIRECT(\"A\"&SMALL(B:B,ROW(A1)))),\"\",INDIRECT(\"A\"&SMALL(B:B,ROW(A1))))","v":""}]
[{"$f":"#REF!","v":{"$error":"#REF!"}},{"$f":"IF(COUNTIF($A$1:A2,A2)=1,ROW(),\"\")","v":""},null,{"$f":"IF(ISERROR(INDIRECT(\"A\"&SMALL(B:B,ROW(A2)))),\"\",INDIRECT(\"A\"&SMALL(B:B,ROW(A2))))","v":""}]
[{"$f":"#REF!","v":{"$error":"#REF!"}},{"$f":"IF(COUNTIF($A$1:A3,A3)=1,ROW(),\"\")","v":""},null,""]
[{"$f":"#REF!","v":{"$error":"#REF!"}},{"$f":"IF(COUNTIF($A$1:A4,A4)=1,ROW(),\"\")","v":""},null,""]
[{"$f":"#REF!","v":{"$error":"#REF!"}},{"$f":"IF(COUNTIF($A$1:A5,A5)=1,ROW(),\"\")","v":""},null,""]
[{"$f":"#REF!","v":{"$error":"#REF!"}},{"$f":"IF(COUNTIF($A$1:A6,A6)=1,ROW(),\"\")","v":""},null,""]
[{"$f":"#REF!","v":{"$error":"#REF!"}},{"$f":"IF(COUNTIF($A$1:A7,A7)=1,ROW(),\"\")","v":""},null,""]
[{"$f":"#REF!","v":{"$error":"#REF!"}},{"$f":"IF(COUNTIF($A$1:A8,A8)=1,ROW(),\"\")","v":""},null,""]
[{"$f":"#REF!","v":{"$error":"#REF!"}},{"$f":"IF(COUNTIF($A$1:A9,A9)=1,ROW(),\"\")","v":""},null,""]
[{"$f":"#REF!","v":{"$error":"#REF!"}},{"$f":"IF(COUNTIF($A$1:A10,A10)=1,ROW(),\"\")","v":""},null,""]
[{"$f":"#REF!","v":{"$error":"#REF!"}},{"$f":"IF(COUNTIF($A$1:A11,A11)=1,ROW(),\"\")","v":""},null,""]
[{"$f":"#REF!","v":{"$error":"#REF!"}},{"$f":"IF(COUNTIF($A$1:A12,A12)=1,ROW(),\"\")","v":""},null,""]
[{"$f":"#REF!","v":{"$error":"#REF!"}},{"$f":"IF(COUNTIF($A$1:A13,A13)=1,ROW(),\"\")","v":""},null,""]
[{"$f":"#REF!","v":{"$error":"#REF!"}},{"$f":"IF(COUNTIF($A$1:A14,A14)=1,ROW(),\"\")","v":""},null,""]
[{"$f":"#REF!","v":{"$error":"#REF!"}},{"$f":"IF(COUNTIF($A$1:A15,A15)=1,ROW(),\"\")","v":""},null,""]
[{"$f":"#REF!","v":{"$error":"#REF!"}},{"$f":"IF(COUNTIF($A$1:A16,A16)=1,ROW(),\"\")","v":""},null,""]
[{"$f":"#REF!","v":{"$error":"#REF!"}},{"$f":"IF(COUNTIF($A$1:A17,A17)=1,ROW(),\"\")","v":""},null,""]
[{"$f":"#REF!","v":{"$error":"#REF!"}},{"$f":"IF(COUNTIF($A$1:A18,A18)=1,ROW(),\"\")","v":""},null,""]
[{"$f":"#REF!","v":{"$error":"#REF!"}},{"$f":"IF(COUNTIF($A$1:A19,A19)=1,ROW(),\"\")","v":""},null,""]
[{"$f":"#REF!","v":{"$error":"#REF!"}},{"$f":"IF(COUNTIF($A$1:A20,A20)=1,ROW(),\"\")","v":""},null,""]
[{"$f":"#REF!","v":{"$error":"#REF!"}},{"$f":"IF(COUNTIF($A$1:A21,A21)=1,ROW(),\"\")","v":""},null,""]
[{"$f":"#REF!","v":{"$error":"#REF!"}},{"$f":"IF(COUNTIF($A$1:A22,A22)=1,ROW(),\"\")","v":""},null,""]
[{"$f":"#REF!","v":{"$error":"#REF!"}},{"$f":"IF(COUNTIF($A$1:A23,A23)=1,ROW(),\"\")","v":""},null,""]
[{"$f":"#REF!","v":{"$error":"#REF!"}},{"$f":"IF(COUNTIF($A$1:A24,A24)=1,ROW(),\"\")","v":""},null,""]
[{"$f":"#REF!","v":{"$error":"#REF!"}},{"$f":"IF(COUNTIF($A$1:A25,A25)=1,ROW(),\"\")","v":""},null,""]
[{"$f":"#REF!","v":{"$error":"#REF!"}},{"$f":"IF(COUNTIF($A$1:A26,A26)=1,ROW(),\"\")","v":""},null,""]
[{"$f":"#REF!","v":{"$error":"#REF!"}},{"$f":"IF(COUNTIF($A$1:A27,A27)=1,ROW(),\"\")","v":""},null,""]
[{"$f":"#REF!","v":{"$error":"#REF!"}},{"$f":"IF(COUNTIF($A$1:A28,A28)=1,ROW(),\"\")","v":""},null,""]
[{"$f":"#REF!","v":{"$error":"#REF!"}},{"$f":"IF(COUNTIF($A$1:A29,A29)=1,ROW(),\"\")","v":""},null,""]
[{"$f":"#REF!","v":{"$error":"#REF!"}},{"$f":"IF(COUNTIF($A$1:A30,A30)=1,ROW(),\"\")","v":""},null,""]
[{"$f":"#REF!","v":{"$error":"#REF!"}},{"$f":"IF(COUNTIF($A$1:A31,A31)=1,ROW(),\"\")","v":""},null,""]
[{"$f":"#REF!","v":{"$error":"#REF!"}},{"$f":"IF(COUNTIF($A$1:A32,A32)=1,ROW(),\"\")","v":""},null,""]
[{"$f":"#REF!","v":{"$error":"#REF!"}},{"$f":"IF(COUNTIF($A$1:A33,A33)=1,ROW(),\"\")","v":""},null,""]
[{"$f":"#REF!","v":{"$error":"#REF!"}},{"$f":"IF(COUNTIF($A$1:A34,A34)=1,ROW(),\"\")","v":""},null,""]
[{"$f":"#REF!","v":{"$error":"#REF!"}},{"$f":"IF(COUNTIF($A$1:A35,A35)=1,ROW(),\"\")","v":""},null,""]
[{"$f":"#REF!","v":{"$error":"#REF!"}},{"$f":"IF(COUNTIF($A$1:A36,A36)=1,ROW(),\"\")","v":""},null,""]
[{"$f":"#REF!","v":{"$error":"#REF!"}},{"$f":"IF(COUNTIF($A$1:A37,A37)=1,ROW(),\"\")","v":""},null,""]
[{"$f":"#REF!","v":{"$error":"#REF!"}},{"$f":"IF(COUNTIF($A$1:A38,A38)=1,ROW(),\"\")","v":""},null,""]
[{"$f":"#REF!","v":{"$error":"#REF!"}},{"$f":"IF(COUNTIF($A$1:A39,A39)=1,ROW(),\"\")","v":""},null,""]
[{"$f":"#REF!","v":{"$error":"#REF!"}},{"$f":"IF(COUNTIF($A$1:A40,A40)=1,ROW(),\"\")","v":""},null,""]
[{"$f":"#REF!","v":{"$error":"#REF!"}},{"$f":"IF(COUNTIF($A$1:A41,A41)=1,ROW(),\"\")","v":""},null,""]
[{"$f":"#REF!","v":{"$error":"#REF!"}},{"$f":"IF(COUNTIF($A$1:A42,A42)=1,ROW(),\"\")","v":""},null,""]
[{"$f":"#REF!","v":{"$error":"#REF!"}},{"$f":"IF(COUNTIF($A$1:A43,A43)=1,ROW(),\"\")","v":""},null,""]
[{"$f":"#REF!","v":{"$error":"#REF!"}},{"$f":"IF(COUNTIF($A$1:A44,A44)=1,ROW(),\"\")","v":""},null,""]
[{"$f":"#REF!","v":{"$error":"#REF!"}},{"$f":"IF(COUNTIF($A$1:A45,A45)=1,ROW(),\"\")","v":""},null,""]
[{"$f":"#REF!","v":{"$error":"#REF!"}},{"$f":"IF(COUNTIF($A$1:A46,A46)=1,ROW(),\"\")","v":""},null,""]
[{"$f":"#REF!","v":{"$error":"#REF!"}},{"$f":"IF(COUNTIF($A$1:A47,A47)=1,ROW(),\"\")","v":""},null,""]
[{"$f":"#REF!","v":{"$error":"#REF!"}},{"$f":"IF(COUNTIF($A$1:A48,A48)=1,ROW(),\"\")","v":""},null,""]
[{"$f":"#REF!","v":{"$error":"#REF!"}},{"$f":"IF(COUNTIF($A$1:A49,A49)=1,ROW(),\"\")","v":""},null,""]
[{"$f":"#REF!","v":{"$error":"#REF!"}},{"$f":"IF(COUNTIF($A$1:A50,A50)=1,ROW(),\"\")","v":""},null,""]
[{"$f":"#REF!","v":{"$error":"#REF!"}},{"$f":"IF(COUNTIF($A$1:A51,A51)=1,ROW(),\"\")","v":""},null,""]
[{"$f":"#REF!","v":{"$error":"#REF!"}},{"$f":"IF(COUNTIF($A$1:A52,A52)=1,ROW(),\"\")","v":""},null,""]
[{"$f":"#REF!","v":{"$error":"#REF!"}},{"$f":"IF(COUNTIF($A$1:A53,A53)=1,ROW(),\"\")","v":""},null,""]
[{"$f":"#REF!","v":{"$error":"#REF!"}},{"$f":"IF(COUNTIF($A$1:A54,A54)=1,ROW(),\"\")","v":""},null,""]
[{"$f":"#REF!","v":{"$error":"#REF!"}},{"$f":"IF(COUNTIF($A$1:A55,A55)=1,ROW(),\"\")","v":""},null,""]
[{"$f":"#REF!","v":{"$error":"#REF!"}},{"$f":"IF(COUNTIF($A$1:A56,A56)=1,ROW(),\"\")","v":""},null,""]
[{"$f":"#REF!","v":{"$error":"#REF!"}},{"$f":"IF(COUNTIF($A$1:A57,A57)=1,ROW(),\"\")","v":""},null,""]
[{"$f":"#REF!","v":{"$error":"#REF!"}},{"$f":"IF(COUNTIF($A$1:A58,A58)=1,ROW(),\"\")","v":""},null,""]
[{"$f":"#REF!","v":{"$error":"#REF!"}},{"$f":"IF(COUNTIF($A$1:A59,A59)=1,ROW(),\"\")","v":""},null,""]
[{"$f":"#REF!","v":{"$error":"#REF!"}},{"$f":"IF(COUNTIF($A$1:A60,A60)=1,ROW(),\"\")","v":""},null,""]
[{"$f":"#REF!","v":{"$error":"#REF!"}},{"$f":"IF(COUNTIF($A$1:A61,A61)=1,ROW(),\"\")","v":""},null,""]
[{"$f":"#REF!","v":{"$error":"#REF!"}},{"$f":"IF(COUNTIF($A$1:A62,A62)=1,ROW(),\"\")","v":""},null,""]
[{"$f":"#REF!","v":{"$error":"#REF!"}},{"$f":"IF(COUNTIF($A$1:A63,A63)=1,ROW(),\"\")","v":""},null,""]
[{"$f":"#REF!","v":{"$error":"#REF!"}},{"$f":"IF(COUNTIF($A$1:A64,A64)=1,ROW(),\"\")","v":""},null,""]
[{"$f":"#REF!","v":{"$error":"#REF!"}},{"$f":"IF(COUNTIF($A$1:A65,A65)=1,ROW(),\"\")","v":""},null,{"$f":"IF(ISERROR(INDIRECT(\"A\"&SMALL(B:B,ROW(A65)))),\"\",INDIRECT(\"A\"&SMALL(B:B,ROW(A65))))","v":""}]
[{"$f":"#REF!","v":{"$error":"#REF!"}},{"$f":"IF(COUNTIF($A$1:A66,A66)=1,ROW(),\"\")","v":""},null,""]
[{"$f":"#REF!","v":{"$error":"#REF!"}},{"$f":"IF(COUNTIF($A$1:A67,A67)=1,ROW(),\"\")","v":""},null,""]
[{"$f":"#REF!","v":{"$error":"#REF!"}},{"$f":"IF(COUNTIF($A$1:A68,A68)=1,ROW(),\"\")","v":""},null,""]
[{"$f":"#REF!","v":{"$error":"#REF!"}},{"$f":"IF(COUNTIF($A$1:A69,A69)=1,ROW(),\"\")","v":""},null,""]
[{"$f":"#REF!","v":{"$error":"#REF!"}},{"$f":"IF(COUNTIF($A$1:A70,A70)=1,ROW(),\"\")","v":""},null,""]
[{"$f":"#REF!","v":{"$error":"#REF!"}},{"$f":"IF(COUNTIF($A$1:A71,A71)=1,ROW(),\"\")","v":""},null,""]
[{"$f":"#REF!","v":{"$error":"#REF!"}},{"$f":"IF(COUNTIF($A$1:A72,A72)=1,ROW(),\"\")","v":""},null,""]
[{"$f":"#REF!","v":{"$error":"#REF!"}},{"$f":"IF(COUNTIF($A$1:A73,A73)=1,ROW(),\"\")","v":""},null,""]
[{"$f":"#REF!","v":{"$error":"#REF!"}},{"$f":"IF(COUNTIF($A$1:A74,A74)=1,ROW(),\"\")","v":""},null,""]
[{"$f":"#REF!","v":{"$error":"#REF!"}},{"$f":"IF(COUNTIF($A$1:A75,A75)=1,ROW(),\"\")","v":""},null,""]
[{"$f":"#REF!","v":{"$error":"#REF!"}},{"$f":"IF(COUNTIF($A$1:A76,A76)=1,ROW(),\"\")","v":""},null,""]
[{"$f":"#REF!","v":{"$error":"#REF!"}},{"$f":"IF(COUNTIF($A$1:A77,A77)=1,ROW(),\"\")","v":""},null,""]
[{"$f":"#REF!","v":{"$error":"#REF!"}},{"$f":"IF(COUNTIF($A$1:A78,A78)=1,ROW(),\"\")","v":""},null,""]
[{"$f":"#REF!","v":{"$error":"#REF!"}},{"$f":"IF(COUNTIF($A$1:A79,A79)=1,ROW(),\"\")","v":""},null,""]
[{"$f":"#REF!","v":{"$error":"#REF!"}},{"$f":"IF(COUNTIF($A$1:A80,A80)=1,ROW(),\"\")","v":""},null,""]
[{"$f":"#REF!","v":{"$error":"#REF!"}},{"$f":"IF(COUNTIF($A$1:A81,A81)=1,ROW(),\"\")","v":""},null,""]
[{"$f":"#REF!","v":{"$error":"#REF!"}},{"$f":"IF(COUNTIF($A$1:A82,A82)=1,ROW(),\"\")","v":""},null,""]
[{"$f":"#REF!","v":{"$error":"#REF!"}},{"$f":"IF(COUNTIF($A$1:A83,A83)=1,ROW(),\"\")","v":""},null,""]
[{"$f":"#REF!","v":{"$error":"#REF!"}},{"$f":"IF(COUNTIF($A$1:A84,A84)=1,ROW(),\"\")","v":""},null,""]
[{"$f":"#REF!","v":{"$error":"#REF!"}},{"$f":"IF(COUNTIF($A$1:A85,A85)=1,ROW(),\"\")","v":""},null,""]
[{"$f":"#REF!","v":{"$error":"#REF!"}},{"$f":"IF(COUNTIF($A$1:A86,A86)=1,ROW(),\"\")","v":""},null,""]
[{"$f":"#REF!","v":{"$error":"#REF!"}},{"$f":"IF(COUNTIF($A$1:A87,A87)=1,ROW(),\"\")","v":""},null,""]
[{"$f":"#REF!","v":{"$error":"#REF!"}},{"$f":"IF(COUNTIF($A$1:A88,A88)=1,ROW(),\"\")","v":""},null,""]
[{"$f":"#REF!","v":{"$error":"#REF!"}},{"$f":"IF(COUNTIF($A$1:A89,A89)=1,ROW(),\"\")","v":""},null,""]
[{"$f":"#REF!","v":{"$error":"#REF!"}},{"$f":"IF(COUNTIF($A$1:A90,A90)=1,ROW(),\"\")","v":""},null,""]
[{"$f":"#REF!","v":{"$error":"#REF!"}},{"$f":"IF(COUNTIF($A$1:A91,A91)=1,ROW(),\"\")","v":""},null,""]
[{"$f":"#REF!","v":{"$error":"#REF!"}},{"$f":"IF(COUNTIF($A$1:A92,A92)=1,ROW(),\"\")","v":""},null,""]
[{"$f":"#REF!","v":{"$error":"#REF!"}},{"$f":"IF(COUNTIF($A$1:A93,A93)=1,ROW(),\"\")","v":""},null,""]
[{"$f":"#REF!","v":{"$error":"#REF!"}},{"$f":"IF(COUNTIF($A$1:A94,A94)=1,ROW(),\"\")","v":""},null,""]
[{"$f":"#REF!","v":{"$error":"#REF!"}},{"$f":"IF(COUNTIF($A$1:A95,A95)=1,ROW(),\"\")","v":""},null,""]
[{"$f":"#REF!","v":{"$error":"#REF!"}},{"$f":"IF(COUNTIF($A$1:A96,A96)=1,ROW(),\"\")","v":""},null,""]
[{"$f":"#REF!","v":{"$error":"#REF!"}},{"$f":"IF(COUNTIF($A$1:A97,A97)=1,ROW(),\"\")","v":""},null,""]
[{"$f":"#REF!","v":{"$error":"#REF!"}},{"$f":"IF(COUNTIF($A$1:A98,A98)=1,ROW(),\"\")","v":""},null,""]
[{"$f":"#REF!","v":{"$error":"#REF!"}},{"$f":"IF(COUNTIF($A$1:A99,A99)=1,ROW(),\"\")","v":""},null,""]
[{"$f":"#REF!","v":{"$error":"#REF!"}},{"$f":"IF(COUNTIF($A$1:A100,A100)=1,ROW(),\"\")","v":""},null,""]
[{"$f":"#REF!","v":{"$error":"#REF!"}},{"$f":"IF(COUNTIF($A$1:A101,A101)=1,ROW(),\"\")","v":""},null,""]
[{"$f":"#REF!","v":{"$error":"#REF!"}},{"$f":"IF(COUNTIF($A$1:A102,A102)=1,ROW(),\"\")","v":""},null,""]
[{"$f":"#REF!","v":{"$error":"#REF!"}},{"$f":"IF(COUNTIF($A$1:A103,A103)=1,ROW(),\"\")","v":""},null,""]
[{"$f":"#REF!","v":{"$error":"#REF!"}},{"$f":"IF(COUNTIF($A$1:A104,A104)=1,ROW(),\"\")","v":""},null,""]
[{"$f":"#REF!","v":{"$error":"#REF!"}},{"$f":"IF(COUNTIF($A$1:A105,A105)=1,ROW(),\"\")","v":""},null,""]
[{"$f":"#REF!","v":{"$error":"#REF!"}},{"$f":"IF(COUNTIF($A$1:A106,A106)=1,ROW(),\"\")","v":""},null,""]
[{"$f":"#REF!","v":{"$error":"#REF!"}},{"$f":"IF(COUNTIF($A$1:A107,A107)=1,ROW(),\"\")","v":""},null,""]
[{"$f":"#REF!","v":{"$error":"#REF!"}},{"$f":"IF(COUNTIF($A$1:A108,A108)=1,ROW(),\"\")","v":""},null,""]
[{"$f":"#REF!","v":{"$error":"#REF!"}},{"$f":"IF(COUNTIF($A$1:A109,A109)=1,ROW(),\"\")","v":""},null,""]
[{"$f":"#REF!","v":{"$error":"#REF!"}},{"$f":"IF(COUNTIF($A$1:A110,A110)=1,ROW(),\"\")","v":""},null,""]
[{"$f":"#REF!","v":{"$error":"#REF!"}},{"$f":"IF(COUNTIF($A$1:A111,A111)=1,ROW(),\"\")","v":""},null,""]
[{"$f":"#REF!","v":{"$error":"#REF!"}},{"$f":"IF(COUNTIF($A$1:A112,A112)=1,ROW(),\"\")","v":""},null,""]
[{"$f":"#REF!","v":{"$error":"#REF!"}},{"$f":"IF(COUNTIF($A$1:A113,A113)=1,ROW(),\"\")","v":""},null,""]
[{"$f":"#REF!","v":{"$error":"#REF!"}},{"$f":"IF(COUNTIF($A$1:A114,A114)=1,ROW(),\"\")","v":""},null,""]
[{"$f":"#REF!","v":{"$error":"#REF!"}},{"$f":"IF(COUNTIF($A$1:A115,A115)=1,ROW(),\"\")","v":""},null,""]
[{"$f":"#REF!","v":{"$error":"#REF!"}},{"$f":"IF(COUNTIF($A$1:A116,A116)=1,ROW(),\"\")","v":""},null,""]
[{"$f":"#REF!","v":{"$error":"#REF!"}},{"$f":"IF(COUNTIF($A$1:A117,A117)=1,ROW(),\"\")","v":""},null,""]
[{"$f":"#REF!","v":{"$error":"#REF!"}},{"$f":"IF(COUNTIF($A$1:A118,A118)=1,ROW(),\"\")","v":""},null,""]
[{"$f":"#REF!","v":{"$error":"#REF!"}},{"$f":"IF(COUNTIF($A$1:A119,A119)=1,ROW(),\"\")","v":""},null,""]
[{"$f":"#REF!","v":{"$error":"#REF!"}},{"$f":"IF(COUNTIF($A$1:A120,A120)=1,ROW(),\"\")","v":""},null,""]
[{"$f":"#REF!","v":{"$error":"#REF!"}},{"$f":"IF(COUNTIF($A$1:A121,A121)=1,ROW(),\"\")","v":""},null,""]
[{"$f":"#REF!","v":{"$error":"#REF!"}},{"$f":"IF(COUNTIF($A$1:A122,A122)=1,ROW(),\"\")","v":""},null,""]
[{"$f":"#REF!","v":{"$error":"#REF!"}},{"$f":"IF(COUNTIF($A$1:A123,A123)=1,ROW(),\"\")","v":""},null,""]
[{"$f":"#REF!","v":{"$error":"#REF!"}},{"$f":"IF(COUNTIF($A$1:A124,A124)=1,ROW(),\"\")","v":""},null,""]
[{"$f":"#REF!","v":{"$error":"#REF!"}},{"$f":"IF(COUNTIF($A$1:A125,A125)=1,ROW(),\"\")","v":""},null,""]
[{"$f":"#REF!","v":{"$error":"#REF!"}},{"$f":"IF(COUNTIF($A$1:A126,A126)=1,ROW(),\"\")","v":""},null,""]
[{"$f":"#REF!","v":{"$error":"#REF!"}},{"$f":"IF(COUNTIF($A$1:A127,A127)=1,ROW(),\"\")","v":""},null,""]
[{"$f":"#REF!","v":{"$error":"#REF!"}},{"$f":"IF(COUNTIF($A$1:A128,A128)=1,ROW(),\"\")","v":""},null,""]
[{"$f":"#REF!","v":{"$error":"#REF!"}},{"$f":"IF(COUNTIF($A$1:A129,A129)=1,ROW(),\"\")","v":""},null,{"$f":"IF(ISERROR(INDIRECT(\"A\"&SMALL(B:B,ROW(A129)))),\"\",INDIRECT(\"A\"&SMALL(B:B,ROW(A129))))","v":""}]
[{"$f":"#REF!","v":{"$error":"#REF!"}},{"$f":"IF(COUNTIF($A$1:A130,A130)=1,ROW(),\"\")","v":""},null,""]
[{"$f":"#REF!","v":{"$error":"#REF!"}},{"$f":"IF(COUNTIF($A$1:A131,A131)=1,ROW(),\"\")","v":""},null,""]
[{"$f":"#REF!","v":{"$error":"#REF!"}},{"$f":"IF(COUNTIF($A$1:A132,A132)=1,ROW(),\"\")","v":""},null,""]
[{"$f":"#REF!","v":{"$error":"#REF!"}},{"$f":"IF(COUNTIF($A$1:A133,A133)=1,ROW(),\"\")","v":""},null,""]
[{"$f":"#REF!","v":{"$error":"#REF!"}},{"$f":"IF(COUNTIF($A$1:A134,A134)=1,ROW(),\"\")","v":""},null,""]
[{"$f":"#REF!","v":{"$error":"#REF!"}},{"$f":"IF(COUNTIF($A$1:A135,A135)=1,ROW(),\"\")","v":""},null,""]
[{"$f":"#REF!","v":{"$error":"#REF!"}},{"$f":"IF(COUNTIF($A$1:A136,A136)=1,ROW(),\"\")","v":""},null,""]
[{"$f":"#REF!","v":{"$error":"#REF!"}},{"$f":"IF(COUNTIF($A$1:A137,A137)=1,ROW(),\"\")","v":""},null,""]
[{"$f":"#REF!","v":{"$error":"#REF!"}},{"$f":"IF(COUNTIF($A$1:A138,A138)=1,ROW(),\"\")","v":""},null,""]
[{"$f":"#REF!","v":{"$error":"#REF!"}},{"$f":"IF(COUNTIF($A$1:A139,A139)=1,ROW(),\"\")","v":""},null,""]
[{"$f":"#REF!","v":{"$error":"#REF!"}},{"$f":"IF(COUNTIF($A$1:A140,A140)=1,ROW(),\"\")","v":""},null,""]
[{"$f":"#REF!","v":{"$error":"#REF!"}},{"$f":"IF(COUNTIF($A$1:A141,A141)=1,ROW(),\"\")","v":""},null,""]
[{"$f":"#REF!","v":{"$error":"#REF!"}},{"$f":"IF(COUNTIF($A$1:A142,A142)=1,ROW(),\"\")","v":""},null,""]
[{"$f":"#REF!","v":{"$error":"#REF!"}},{"$f":"IF(COUNTIF($A$1:A143,A143)=1,ROW(),\"\")","v":""},null,""]
[{"$f":"#REF!","v":{"$error":"#REF!"}},{"$f":"IF(COUNTIF($A$1:A144,A144)=1,ROW(),\"\")","v":""},null,""]
[{"$f":"#REF!","v":{"$error":"#REF!"}},{"$f":"IF(COUNTIF($A$1:A145,A145)=1,ROW(),\"\")","v":""},null,""]
[{"$f":"#REF!","v":{"$error":"#REF!"}},{"$f":"IF(COUNTIF($A$1:A146,A146)=1,ROW(),\"\")","v":""},null,""]
[{"$f":"#REF!","v":{"$error":"#REF!"}},{"$f":"IF(COUNTIF($A$1:A147,A147)=1,ROW(),\"\")","v":""},null,""]
[{"$f":"#REF!","v":{"$error":"#REF!"}},{"$f":"IF(COUNTIF($A$1:A148,A148)=1,ROW(),\"\")","v":""},null,""]
[{"$f":"#REF!","v":{"$error":"#REF!"}},{"$f":"IF(COUNTIF($A$1:A149,A149)=1,ROW(),\"\")","v":""},null,""]
[{"$f":"#REF!","v":{"$error":"#REF!"}},{"$f":"IF(COUNTIF($A$1:A150,A150)=1,ROW(),\"\")","v":""},null,""]
[{"$f":"#REF!","v":{"$error":"#REF!"}},{"$f":"IF(COUNTIF($A$1:A151,A151)=1,ROW(),\"\")","v":""},null,""]
[{"$f":"#REF!","v":{"$error":"#REF!"}},{"$f":"IF(COUNTIF($A$1:A152,A152)=1,ROW(),\"\")","v":""},null,""]
[{"$f":"#REF!","v":{"$error":"#REF!"}},{"$f":"IF(COUNTIF($A$1:A153,A153)=1,ROW(),\"\")","v":""},null,""]
[{"$f":"#REF!","v":{"$error":"#REF!"}},{"$f":"IF(COUNTIF($A$1:A154,A154)=1,ROW(),\"\")","v":""},null,""]
[{"$f":"#REF!","v":{"$error":"#REF!"}},{"$f":"IF(COUNTIF($A$1:A155,A155)=1,ROW(),\"\")","v":""},null,""]
[{"$f":"#REF!","v":{"$error":"#REF!"}},{"$f":"IF(COUNTIF($A$1:A156,A156)=1,ROW(),\"\")","v":""},null,""]
[{"$f":"#REF!","v":{"$error":"#REF!"}},{"$f":"IF(COUNTIF($A$1:A157,A157)=1,ROW(),\"\")","v":""},null,""]
[{"$f":"#REF!","v":{"$error":"#REF!"}},{"$f":"IF(COUNTIF($A$1:A158,A158)=1,ROW(),\"\")","v":""},null,""]
[{"$f":"#REF!","v":{"$error":"#REF!"}},{"$f":"IF(COUNTIF($A$1:A159,A159)=1,ROW(),\"\")","v":""},null,""]
[{"$f":"#REF!","v":{"$error":"#REF!"}},{"$f":"IF(COUNTIF($A$1:A160,A160)=1,ROW(),\"\")","v":""},null,""]
[{"$f":"#REF!","v":{"$error":"#REF!"}},{"$f":"IF(COUNTIF($A$1:A161,A161)=1,ROW(),\"\")","v":""},null,""]
[{"$f":"#REF!","v":{"$error":"#REF!"}},{"$f":"IF(COUNTIF($A$1:A162,A162)=1,ROW(),\"\")","v":""},null,""]
[{"$f":"#REF!","v":{"$error":"#REF!"}},{"$f":"IF(COUNTIF($A$1:A163,A163)=1,ROW(),\"\")","v":""},null,""]
[{"$f":"#REF!","v":{"$error":"#REF!"}},{"$f":"IF(COUNTIF($A$1:A164,A164)=1,ROW(),\"\")","v":""},null,""]
[{"$f":"#REF!","v":{"$error":"#REF!"}},{"$f":"IF(COUNTIF($A$1:A165,A165)=1,ROW(),\"\")","v":""},null,""]
[{"$f":"#REF!","v":{"$error":"#REF!"}},{"$f":"IF(COUNTIF($A$1:A166,A166)=1,ROW(),\"\")","v":""},null,""]
[{"$f":"#REF!","v":{"$error":"#REF!"}},{"$f":"IF(COUNTIF($A$1:A167,A167)=1,ROW(),\"\")","v":""},null,""]
[{"$f":"#REF!","v":{"$error":"#REF!"}},{"$f":"IF(COUNTIF($A$1:A168,A168)=1,ROW(),\"\")","v":""},null,""]
[{"$f":"#REF!","v":{"$error":"#REF!"}},{"$f":"IF(COUNTIF($A$1:A169,A169)=1,ROW(),\"\")","v":""},null,""]
[{"$f":"#REF!","v":{"$error":"#REF!"}},{"$f":"IF(COUNTIF($A$1:A170,A170)=1,ROW(),\"\")","v":""},null,""]
[{"$f":"#REF!","v":{"$error":"#REF!"}},{"$f":"IF(COUNTIF($A$1:A171,A171)=1,ROW(),\"\")","v":""},null,""]
[{"$f":"#REF!","v":{"$error":"#REF!"}},{"$f":"IF(COUNTIF($A$1:A172,A172)=1,ROW(),\"\")","v":""},null,""]
[{"$f":"#REF!","v":{"$error":"#REF!"}},{"$f":"IF(COUNTIF($A$1:A173,A173)=1,ROW(),\"\")","v":""},null,""]
[{"$f":"#REF!","v":{"$error":"#REF!"}},{"$f":"IF(COUNTIF($A$1:A174,A174)=1,ROW(),\"\")","v":""},null,""]
[{"$f":"#REF!","v":{"$error":"#REF!"}},{"$f":"IF(COUNTIF($A$1:A175,A175)=1,ROW(),\"\")","v":""},null,""]
[{"$f":"#REF!","v":{"$error":"#REF!"}},{"$f":"IF(COUNTIF($A$1:A176,A176)=1,ROW(),\"\")","v":""},null,""]
[{"$f":"#REF!","v":{"$error":"#REF!"}},{"$f":"IF(COUNTIF($A$1:A177,A177)=1,ROW(),\"\")","v":""},null,""]
[{"$f":"#REF!","v":{"$error":"#REF!"}},{"$f":"IF(COUNTIF($A$1:A178,A178)=1,ROW(),\"\")","v":""},null,""]
[{"$f":"#REF!","v":{"$error":"#REF!"}},{"$f":"IF(COUNTIF($A$1:A179,A179)=1,ROW(),\"\")","v":""},null,""]
[{"$f":"#REF!","v":{"$error":"#REF!"}},{"$f":"IF(COUNTIF($A$1:A180,A180)=1,ROW(),\"\")","v":""},null,""]
[{"$f":"#REF!","v":{"$error":"#REF!"}},{"$f":"IF(COUNTIF($A$1:A181,A181)=1,ROW(),\"\")","v":""},null,""]
[{"$f":"#REF!","v":{"$error":"#REF!"}},{"$f":"IF(COUNTIF($A$1:A182,A182)=1,ROW(),\"\")","v":""},null,""]
[{"$f":"#REF!","v":{"$error":"#REF!"}},{"$f":"IF(COUNTIF($A$1:A183,A183)=1,ROW(),\"\")","v":""},null,""]
[{"$f":"#REF!","v":{"$error":"#REF!"}},{"$f":"IF(COUNTIF($A$1:A184,A184)=1,ROW(),\"\")","v":""},null,""]
[{"$f":"#REF!","v":{"$error":"#REF!"}},{"$f":"IF(COUNTIF($A$1:A185,A185)=1,ROW(),\"\")","v":""},null,""]
[{"$f":"#REF!","v":{"$error":"#REF!"}},{"$f":"IF(COUNTIF($A$1:A186,A186)=1,ROW(),\"\")","v":""},null,""]
[{"$f":"#REF!","v":{"$error":"#REF!"}},{"$f":"IF(COUNTIF($A$1:A187,A187)=1,ROW(),\"\")","v":""},null,""]
[{"$f":"#REF!","v":{"$error":"#REF!"}},{"$f":"IF(COUNTIF($A$1:A188,A188)=1,ROW(),\"\")","v":""},null,""]
[{"$f":"#REF!","v":{"$error":"#REF!"}},{"$f":"IF(COUNTIF($A$1:A189,A189)=1,ROW(),\"\")","v":""},null,""]
[{"$f":"#REF!","v":{"$error":"#REF!"}},{"$f":"IF(COUNTIF($A$1:A190,A190)=1,ROW(),\"\")","v":""},null,""]
[{"$f":"#REF!","v":{"$error":"#REF!"}},{"$f":"IF(COUNTIF($A$1:A191,A191)=1,ROW(),\"\")","v":""},null,""]
[{"$f":"#REF!","v":{"$error":"#REF!"}},{"$f":"IF(COUNTIF($A$1:A192,A192)=1,ROW(),\"\")","v":""},null,""]
[{"$f":"#REF!","v":{"$error":"#REF!"}},{"$f":"IF(COUNTIF($A$1:A193,A193)=1,ROW(),\"\")","v":""},null,{"$f":"IF(ISERROR(INDIRECT(\"A\"&SMALL(B:B,ROW(A193)))),\"\",INDIRECT(\"A\"&SMALL(B:B,ROW(A193))))","v":""}]
[{"$f":"#REF!","v":{"$error":"#REF!"}},{"$f":"IF(COUNTIF($A$1:A194,A194)=1,ROW(),\"\")","v":""},null,""]
[{"$f":"#REF!","v":{"$error":"#REF!"}},{"$f":"IF(COUNTIF($A$1:A195,A195)=1,ROW(),\"\")","v":""},null,""]
[{"$f":"#REF!","v":{"$error":"#REF!"}},{"$f":"IF(COUNTIF($A$1:A196,A196)=1,ROW(),\"\")","v":""},null,""]
[{"$f":"#REF!","v":{"$error":"#REF!"}},{"$f":"IF(COUNTIF($A$1:A197,A197)=1,ROW(),\"\")","v":""},null,""]
[{"$f":"#REF!","v":{"$error":"#REF!"}},{"$f":"IF(COUNTIF($A$1:A198,A198)=1,ROW(),\"\")","v":""},null,""]
[{"$f":"#REF!","v":{"$error":"#REF!"}},{"$f":"IF(COUNTIF($A$1:A199,A199)=1,ROW(),\"\")","v":""},null,""]
[{"$f":"#REF!","v":{"$error":"#REF!"}},{"$f":"IF(COUNTIF($A$1:A200,A200)=1,ROW(),\"\")","v":""},null,""]
[{"$f":"#REF!","v":{"$error":"#REF!"}},{"$f":"IF(COUNTIF($A$1:A201,A201)=1,ROW(),\"\")","v":""},null,""]
[{"$f":"#REF!","v":{"$error":"#REF!"}},{"$f":"IF(COUNTIF($A$1:A202,A202)=1,ROW(),\"\")","v":""},null,""]
[{"$f":"#REF!","v":{"$error":"#REF!"}},{"$f":"IF(COUNTIF($A$1:A203,A203)=1,ROW(),\"\")","v":""},null,""]
[{"$f":"#REF!","v":{"$error":"#REF!"}},{"$f":"IF(COUNTIF($A$1:A204,A204)=1,ROW(),\"\")","v":""},null,""]
[{"$f":"#REF!","v":{"$error":"#REF!"}},{"$f":"IF(COUNTIF($A$1:A205,A205)=1,ROW(),\"\")","v":""},null,""]
[{"$f":"#REF!","v":{"$error":"#REF!"}},{"$f":"IF(COUNTIF($A$1:A206,A206)=1,ROW(),\"\")","v":""},null,""]
[{"$f":"#REF!","v":{"$error":"#REF!"}},{"$f":"IF(COUNTIF($A$1:A207,A207)=1,ROW(),\"\")","v":""},null,""]
[{"$f":"#REF!","v":{"$error":"#REF!"}},{"$f":"IF(COUNTIF($A$1:A208,A208)=1,ROW(),\"\")","v":""},null,""]
[{"$f":"#REF!","v":{"$error":"#REF!"}},{"$f":"IF(COUNTIF($A$1:A209,A209)=1,ROW(),\"\")","v":""},null,""]
[{"$f":"#REF!","v":{"$error":"#REF!"}},{"$f":"IF(COUNTIF($A$1:A210,A210)=1,ROW(),\"\")","v":""},null,""]
[{"$f":"#REF!","v":{"$error":"#REF!"}},{"$f":"IF(COUNTIF($A$1:A211,A211)=1,ROW(),\"\")","v":""},null,""]
[{"$f":"#REF!","v":{"$error":"#REF!"}},{"$f":"IF(COUNTIF($A$1:A212,A212)=1,ROW(),\"\")","v":""},null,""]
[{"$f":"#REF!","v":{"$error":"#REF!"}},{"$f":"IF(COUNTIF($A$1:A213,A213)=1,ROW(),\"\")","v":""},null,""]
[{"$f":"#REF!","v":{"$error":"#REF!"}},{"$f":"IF(COUNTIF($A$1:A214,A214)=1,ROW(),\"\")","v":""},null,""]
[{"$f":"#REF!","v":{"$error":"#REF!"}},{"$f":"IF(COUNTIF($A$1:A215,A215)=1,ROW(),\"\")","v":""},null,""]
[{"$f":"#REF!","v":{"$error":"#REF!"}},{"$f":"IF(COUNTIF($A$1:A216,A216)=1,ROW(),\"\")","v":""},null,""]
[{"$f":"#REF!","v":{"$error":"#REF!"}},{"$f":"IF(COUNTIF($A$1:A217,A217)=1,ROW(),\"\")","v":""},null,""]
[{"$f":"#REF!","v":{"$error":"#REF!"}},{"$f":"IF(COUNTIF($A$1:A218,A218)=1,ROW(),\"\")","v":""},null,""]
[{"$f":"#REF!","v":{"$error":"#REF!"}},{"$f":"IF(COUNTIF($A$1:A219,A219)=1,ROW(),\"\")","v":""},null,""]
[{"$f":"#REF!","v":{"$error":"#REF!"}},{"$f":"IF(COUNTIF($A$1:A220,A220)=1,ROW(),\"\")","v":""},null,""]
[{"$f":"#REF!","v":{"$error":"#REF!"}},{"$f":"IF(COUNTIF($A$1:A221,A221)=1,ROW(),\"\")","v":""},null,""]
[{"$f":"#REF!","v":{"$error":"#REF!"}},{"$f":"IF(COUNTIF($A$1:A222,A222)=1,ROW(),\"\")","v":""},null,""]
[{"$f":"#REF!","v":{"$error":"#REF!"}},{"$f":"IF(COUNTIF($A$1:A223,A223)=1,ROW(),\"\")","v":""},null,""]
[{"$f":"#REF!","v":{"$error":"#REF!"}},{"$f":"IF(COUNTIF($A$1:A224,A224)=1,ROW(),\"\")","v":""},null,""]
[{"$f":"#REF!","v":{"$error":"#REF!"}},{"$f":"IF(COUNTIF($A$1:A225,A225)=1,ROW(),\"\")","v":""},null,""]
[{"$f":"#REF!","v":{"$error":"#REF!"}},{"$f":"IF(COUNTIF($A$1:A226,A226)=1,ROW(),\"\")","v":""},null,""]
[{"$f":"#REF!","v":{"$error":"#REF!"}},{"$f":"IF(COUNTIF($A$1:A227,A227)=1,ROW(),\"\")","v":""},null,""]
[{"$f":"#REF!","v":{"$error":"#REF!"}},{"$f":"IF(COUNTIF($A$1:A228,A228)=1,ROW(),\"\")","v":""},null,""]
[{"$f":"#REF!","v":{"$error":"#REF!"}},{"$f":"IF(COUNTIF($A$1:A229,A229)=1,ROW(),\"\")","v":""},null,""]
[{"$f":"#REF!","v":{"$error":"#REF!"}},{"$f":"IF(COUNTIF($A$1:A230,A230)=1,ROW(),\"\")","v":""},null,""]
[{"$f":"#REF!","v":{"$error":"#REF!"}},{"$f":"IF(COUNTIF($A$1:A231,A231)=1,ROW(),\"\")","v":""},null,""]
[{"$f":"#REF!","v":{"$error":"#REF!"}},{"$f":"IF(COUNTIF($A$1:A232,A232)=1,ROW(),\"\")","v":""},null,""]
[{"$f":"#REF!","v":{"$error":"#REF!"}},{"$f":"IF(COUNTIF($A$1:A233,A233)=1,ROW(),\"\")","v":""},null,""]
[{"$f":"#REF!","v":{"$error":"#REF!"}},{"$f":"IF(COUNTIF($A$1:A234,A234)=1,ROW(),\"\")","v":""},null,""]
[{"$f":"#REF!","v":{"$error":"#REF!"}},{"$f":"IF(COUNTIF($A$1:A235,A235)=1,ROW(),\"\")","v":""},null,""]
[{"$f":"#REF!","v":{"$error":"#REF!"}},{"$f":"IF(COUNTIF($A$1:A236,A236)=1,ROW(),\"\")","v":""},null,""]
[{"$f":"#REF!","v":{"$error":"#REF!"}},{"$f":"IF(COUNTIF($A$1:A237,A237)=1,ROW(),\"\")","v":""},null,""]
[{"$f":"#REF!","v":{"$error":"#REF!"}},{"$f":"IF(COUNTIF($A$1:A238,A238)=1,ROW(),\"\")","v":""},null,""]
[{"$f":"#REF!","v":{"$error":"#REF!"}},{"$f":"IF(COUNTIF($A$1:A239,A239)=1,ROW(),\"\")","v":""},null,""]
[{"$f":"#REF!","v":{"$error":"#REF!"}},{"$f":"IF(COUNTIF($A$1:A240,A240)=1,ROW(),\"\")","v":""},null,""]
[{"$f":"#REF!","v":{"$error":"#REF!"}},{"$f":"IF(COUNTIF($A$1:A241,A241)=1,ROW(),\"\")","v":""},null,""]
[{"$f":"#REF!","v":{"$error":"#REF!"}},{"$f":"IF(COUNTIF($A$1:A242,A242)=1,ROW(),\"\")","v":""},null,""]
[{"$f":"#REF!","v":{"$error":"#REF!"}},{"$f":"IF(COUNTIF($A$1:A243,A243)=1,ROW(),\"\")","v":""},null,""]
[{"$f":"#REF!","v":{"$error":"#REF!"}},{"$f":"IF(COUNTIF($A$1:A244,A244)=1,ROW(),\"\")","v":""},null,""]
[{"$f":"#REF!","v":{"$error":"#REF!"}},{"$f":"IF(COUNTIF($A$1:A245,A245)=1,ROW(),\"\")","v":""},null,""]
[{"$f":"#REF!","v":{"$error":"#REF!"}},{"$f":"IF(COUNTIF($A$1:A246,A246)=1,ROW(),\"\")","v":""},null,""]
[{"$f":"#REF!","v":{"$error":"#REF!"}},{"$f":"IF(COUNTIF($A$1:A247,A247)=1,ROW(),\"\")","v":""},null,""]
[{"$f":"#REF!","v":{"$error":"#REF!"}},{"$f":"IF(COUNTIF($A$1:A248,A248)=1,ROW(),\"\")","v":""},null,""]
[{"$f":"#REF!","v":{"$error":"#REF!"}},{"$f":"IF(COUNTIF($A$1:A249,A249)=1,ROW(),\"\")","v":""},null,""]
[{"$f":"#REF!","v":{"$error":"#REF!"}},{"$f":"IF(COUNTIF($A$1:A250,A250)=1,ROW(),\"\")","v":""},null,""]
[{"$f":"#REF!","v":{"$error":"#REF!"}},{"$f":"IF(COUNTIF($A$1:A251,A251)=1,ROW(),\"\")","v":""},null,""]
[{"$f":"#REF!","v":{"$error":"#REF!"}},{"$f":"IF(COUNTIF($A$1:A252,A252)=1,ROW(),\"\")","v":""},null,""]
[{"$f":"#REF!","v":{"$error":"#REF!"}},{"$f":"IF(COUNTIF($A$1:A253,A253)=1,ROW(),\"\")","v":""},null,""]
[{"$f":"#REF!","v":{"$error":"#REF!"}},{"$f":"IF(COUNTIF($A$1:A254,A254)=1,ROW(),\"\")","v":""},null,""]
[{"$f":"#REF!","v":{"$error":"#REF!"}},{"$f":"IF(COUNTIF($A$1:A255,A255)=1,ROW(),\"\")","v":""},null,""]
[{"$f":"#REF!","v":{"$error":"#REF!"}},{"$f":"IF(COUNTIF($A$1:A256,A256)=1,ROW(),\"\")","v":""},null,""]
[{"$f":"#REF!","v":{"$error":"#REF!"}},{"$f":"IF(COUNTIF($A$1:A257,A257)=1,ROW(),\"\")","v":""},null,{"$f":"IF(ISERROR(INDIRECT(\"A\"&SMALL(B:B,ROW(A257)))),\"\",INDIRECT(\"A\"&SMALL(B:B,ROW(A257))))","v":""}]
[{"$f":"#REF!","v":{"$error":"#REF!"}},{"$f":"IF(COUNTIF($A$1:A258,A258)=1,ROW(),\"\")","v":""},null,""]
[{"$f":"#REF!","v":{"$error":"#REF!"}},{"$f":"IF(COUNTIF($A$1:A259,A259)=1,ROW(),\"\")","v":""},null,""]
[{"$f":"#REF!","v":{"$error":"#REF!"}},{"$f":"IF(COUNTIF($A$1:A260,A260)=1,ROW(),\"\")","v":""},null,""]
[{"$f":"#REF!","v":{"$error":"#REF!"}},{"$f":"IF(COUNTIF($A$1:A261,A261)=1,ROW(),\"\")","v":""},null,""]
[{"$f":"#REF!","v":{"$error":"#REF!"}},{"$f":"IF(COUNTIF($A$1:A262,A262)=1,ROW(),\"\")","v":""},null,""]
[{"$f":"#REF!","v":{"$error":"#REF!"}},{"$f":"IF(COUNTIF($A$1:A263,A263)=1,ROW(),\"\")","v":""},null,""]
[{"$f":"#REF!","v":{"$error":"#REF!"}},{"$f":"IF(COUNTIF($A$1:A264,A264)=1,ROW(),\"\")","v":""},null,""]
[{"$f":"#REF!","v":{"$error":"#REF!"}},{"$f":"IF(COUNTIF($A$1:A265,A265)=1,ROW(),\"\")","v":""},null,""]
[{"$f":"#REF!","v":{"$error":"#REF!"}},{"$f":"IF(COUNTIF($A$1:A266,A266)=1,ROW(),\"\")","v":""},null,""]
[{"$f":"#REF!","v":{"$error":"#REF!"}},{"$f":"IF(COUNTIF($A$1:A267,A267)=1,ROW(),\"\")","v":""},null,""]
[{"$f":"#REF!","v":{"$error":"#REF!"}},{"$f":"IF(COUNTIF($A$1:A268,A268)=1,ROW(),\"\")","v":""},null,""]
[{"$f":"#REF!","v":{"$error":"#REF!"}},{"$f":"IF(COUNTIF($A$1:A269,A269)=1,ROW(),\"\")","v":""},null,""]
[{"$f":"#REF!","v":{"$error":"#REF!"}},{"$f":"IF(COUNTIF($A$1:A270,A270)=1,ROW(),\"\")","v":""},null,""]
[{"$f":"#REF!","v":{"$error":"#REF!"}},{"$f":"IF(COUNTIF($A$1:A271,A271)=1,ROW(),\"\")","v":""},null,""]
[{"$f":"#REF!","v":{"$error":"#REF!"}},{"$f":"IF(COUNTIF($A$1:A272,A272)=1,ROW(),\"\")","v":""},null,""]
[{"$f":"#REF!","v":{"$error":"#REF!"}},{"$f":"IF(COUNTIF($A$1:A273,A273)=1,ROW(),\"\")","v":""},null,""]
[{"$f":"#REF!","v":{"$error":"#REF!"}},{"$f":"IF(COUNTIF($A$1:A274,A274)=1,ROW(),\"\")","v":""},null,""]
[{"$f":"#REF!","v":{"$error":"#REF!"}},{"$f":"IF(COUNTIF($A$1:A275,A275)=1,ROW(),\"\")","v":""},null,""]
[{"$f":"#REF!","v":{"$error":"#REF!"}},{"$f":"IF(COUNTIF($A$1:A276,A276)=1,ROW(),\"\")","v":""},null,""]
[{"$f":"#REF!","v":{"$error":"#REF!"}},{"$f":"IF(COUNTIF($A$1:A277,A277)=1,ROW(),\"\")","v":""},null,""]
[{"$f":"#REF!","v":{"$error":"#REF!"}},{"$f":"IF(COUNTIF($A$1:A278,A278)=1,ROW(),\"\")","v":""},null,""]
[{"$f":"#REF!","v":{"$error":"#REF!"}},{"$f":"IF(COUNTIF($A$1:A279,A279)=1,ROW(),\"\")","v":""},null,""]
[{"$f":"#REF!","v":{"$error":"#REF!"}},{"$f":"IF(COUNTIF($A$1:A280,A280)=1,ROW(),\"\")","v":""},null,""]
[{"$f":"#REF!","v":{"$error":"#REF!"}},{"$f":"IF(COUNTIF($A$1:A281,A281)=1,ROW(),\"\")","v":""},null,""]
[{"$f":"#REF!","v":{"$error":"#REF!"}},{"$f":"IF(COUNTIF($A$1:A282,A282)=1,ROW(),\"\")","v":""},null,""]
[{"$f":"#REF!","v":{"$error":"#REF!"}},{"$f":"IF(COUNTIF($A$1:A283,A283)=1,ROW(),\"\")","v":""},null,""]
[{"$f":"#REF!","v":{"$error":"#REF!"}},{"$f":"IF(COUNTIF($A$1:A284,A284)=1,ROW(),\"\")","v":""},null,""]
[{"$f":"#REF!","v":{"$error":"#REF!"}},{"$f":"IF(COUNTIF($A$1:A285,A285)=1,ROW(),\"\")","v":""},null,""]
[{"$f":"#REF!","v":{"$error":"#REF!"}},{"$f":"IF(COUNTIF($A$1:A286,A286)=1,ROW(),\"\")","v":""},null,""]
[{"$f":"#REF!","v":{"$error":"#REF!"}},{"$f":"IF(COUNTIF($A$1:A287,A287)=1,ROW(),\"\")","v":""},null,""]
[{"$f":"#REF!","v":{"$error":"#REF!"}},{"$f":"IF(COUNTIF($A$1:A288,A288)=1,ROW(),\"\")","v":""},null,""]
[{"$f":"#REF!","v":{"$error":"#REF!"}},{"$f":"IF(COUNTIF($A$1:A289,A289)=1,ROW(),\"\")","v":""},null,""]
[{"$f":"#REF!","v":{"$error":"#REF!"}},{"$f":"IF(COUNTIF($A$1:A290,A290)=1,ROW(),\"\")","v":""},null,""]
[{"$f":"#REF!","v":{"$error":"#REF!"}},{"$f":"IF(COUNTIF($A$1:A291,A291)=1,ROW(),\"\")","v":""},null,""]
[{"$f":"#REF!","v":{"$error":"#REF!"}},{"$f":"IF(COUNTIF($A$1:A292,A292)=1,ROW(),\"\")","v":""},null,""]
[{"$f":"#REF!","v":{"$error":"#REF!"}},{"$f":"IF(COUNTIF($A$1:A293,A293)=1,ROW(),\"\")","v":""},null,""]
[{"$f":"#REF!","v":{"$error":"#REF!"}},{"$f":"IF(COUNTIF($A$1:A294,A294)=1,ROW(),\"\")","v":""},null,""]
[{"$f":"#REF!","v":{"$error":"#REF!"}},{"$f":"IF(COUNTIF($A$1:A295,A295)=1,ROW(),\"\")","v":""},null,""]
[{"$f":"#REF!","v":{"$error":"#REF!"}},{"$f":"IF(COUNTIF($A$1:A296,A296)=1,ROW(),\"\")","v":""},null,""]
[{"$f":"#REF!","v":{"$error":"#REF!"}},{"$f":"IF(COUNTIF($A$1:A297,A297)=1,ROW(),\"\")","v":""},null,""]
[{"$f":"#REF!","v":{"$error":"#REF!"}},{"$f":"IF(COUNTIF($A$1:A298,A298)=1,ROW(),\"\")","v":""},null,""]
[{"$f":"#REF!","v":{"$error":"#REF!"}},{"$f":"IF(COUNTIF($A$1:A299,A299)=1,ROW(),\"\")","v":""},null,""]
[{"$f":"#REF!","v":{"$error":"#REF!"}},{"$f":"IF(COUNTIF($A$1:A300,A300)=1,ROW(),\"\")","v":""},null,""]
[{"$f":"#REF!","v":{"$error":"#REF!"}},{"$f":"IF(COUNTIF($A$1:A301,A301)=1,ROW(),\"\")","v":""},null,""]
[{"$f":"#REF!","v":{"$error":"#REF!"}},{"$f":"IF(COUNTIF($A$1:A302,A302)=1,ROW(),\"\")","v":""},null,""]
[{"$f":"#REF!","v":{"$error":"#REF!"}},{"$f":"IF(COUNTIF($A$1:A303,A303)=1,ROW(),\"\")","v":""},null,""]
[{"$f":"#REF!","v":{"$error":"#REF!"}},{"$f":"IF(COUNTIF($A$1:A304,A304)=1,ROW(),\"\")","v":""},null,""]
[{"$f":"#REF!","v":{"$error":"#REF!"}},{"$f":"IF(COUNTIF($A$1:A305,A305)=1,ROW(),\"\")","v":""},null,""]
[{"$f":"#REF!","v":{"$error":"#REF!"}},{"$f":"IF(COUNTIF($A$1:A306,A306)=1,ROW(),\"\")","v":""},null,""]
[{"$f":"#REF!","v":{"$error":"#REF!"}},{"$f":"IF(COUNTIF($A$1:A307,A307)=1,ROW(),\"\")","v":""},null,""]
[{"$f":"#REF!","v":{"$error":"#REF!"}},{"$f":"IF(COUNTIF($A$1:A308,A308)=1,ROW(),\"\")","v":""},null,""]
[{"$f":"#REF!","v":{"$error":"#REF!"}},{"$f":"IF(COUNTIF($A$1:A309,A309)=1,ROW(),\"\")","v":""},null,""]
[{"$f":"#REF!","v":{"$error":"#REF!"}},{"$f":"IF(COUNTIF($A$1:A310,A310)=1,ROW(),\"\")","v":""},null,""]
[{"$f":"#REF!","v":{"$error":"#REF!"}},{"$f":"IF(COUNTIF($A$1:A311,A311)=1,ROW(),\"\")","v":""},null,""]
[{"$f":"#REF!","v":{"$error":"#REF!"}},{"$f":"IF(COUNTIF($A$1:A312,A312)=1,ROW(),\"\")","v":""},null,""]
[{"$f":"#REF!","v":{"$error":"#REF!"}},{"$f":"IF(COUNTIF($A$1:A313,A313)=1,ROW(),\"\")","v":""},null,""]
[{"$f":"#REF!","v":{"$error":"#REF!"}},{"$f":"IF(COUNTIF($A$1:A314,A314)=1,ROW(),\"\")","v":""},null,""]
[{"$f":"#REF!","v":{"$error":"#REF!"}},{"$f":"IF(COUNTIF($A$1:A315,A315)=1,ROW(),\"\")","v":""},null,""]
[{"$f":"#REF!","v":{"$error":"#REF!"}},{"$f":"IF(COUNTIF($A$1:A316,A316)=1,ROW(),\"\")","v":""},null,""]
[{"$f":"#REF!","v":{"$error":"#REF!"}},{"$f":"IF(COUNTIF($A$1:A317,A317)=1,ROW(),\"\")","v":""},null,""]
[{"$f":"#REF!","v":{"$error":"#REF!"}},{"$f":"IF(COUNTIF($A$1:A318,A318)=1,ROW(),\"\")","v":""},null,""]
[{"$f":"#REF!","v":{"$error":"#REF!"}},{"$f":"IF(COUNTIF($A$1:A319,A319)=1,ROW(),\"\")","v":""},null,""]
[{"$f":"#REF!","v":{"$error":"#REF!"}},{"$f":"IF(COUNTIF($A$1:A320,A320)=1,ROW(),\"\")","v":""},null,""]
[{"$f":"#REF!","v":{"$error":"#REF!"}},{"$f":"IF(COUNTIF($A$1:A321,A321)=1,ROW(),\"\")","v":""},null,{"$f":"IF(ISERROR(INDIRECT(\"A\"&SMALL(B:B,ROW(A321)))),\"\",INDIRECT(\"A\"&SMALL(B:B,ROW(A321))))","v":""}]
[{"$f":"#REF!","v":{"$error":"#REF!"}},{"$f":"IF(COUNTIF($A$1:A322,A322)=1,ROW(),\"\")","v":""},null,""]
[{"$f":"#REF!","v":{"$error":"#REF!"}},{"$f":"IF(COUNTIF($A$1:A323,A323)=1,ROW(),\"\")","v":""},null,""]
[{"$f":"#REF!","v":{"$error":"#REF!"}},{"$f":"IF(COUNTIF($A$1:A324,A324)=1,ROW(),\"\")","v":""},null,""]
[{"$f":"#REF!","v":{"$error":"#REF!"}},{"$f":"IF(COUNTIF($A$1:A325,A325)=1,ROW(),\"\")","v":""},null,""]
[{"$f":"#REF!","v":{"$error":"#REF!"}},{"$f":"IF(COUNTIF($A$1:A326,A326)=1,ROW(),\"\")","v":""},null,""]
[{"$f":"#REF!","v":{"$error":"#REF!"}},{"$f":"IF(COUNTIF($A$1:A327,A327)=1,ROW(),\"\")","v":""},null,""]
[{"$f":"#REF!","v":{"$error":"#REF!"}},{"$f":"IF(COUNTIF($A$1:A328,A328)=1,ROW(),\"\")","v":""},null,""]
[{"$f":"#REF!","v":{"$error":"#REF!"}},{"$f":"IF(COUNTIF($A$1:A329,A329)=1,ROW(),\"\")","v":""},null,""]
[{"$f":"#REF!","v":{"$error":"#REF!"}},{"$f":"IF(COUNTIF($A$1:A330,A330)=1,ROW(),\"\")","v":""},null,""]
[{"$f":"#REF!","v":{"$error":"#REF!"}},{"$f":"IF(COUNTIF($A$1:A331,A331)=1,ROW(),\"\")","v":""},null,""]
[{"$f":"#REF!","v":{"$error":"#REF!"}},{"$f":"IF(COUNTIF($A$1:A332,A332)=1,ROW(),\"\")","v":""},null,""]
[{"$f":"#REF!","v":{"$error":"#REF!"}},{"$f":"IF(COUNTIF($A$1:A333,A333)=1,ROW(),\"\")","v":""},null,""]
[{"$f":"#REF!","v":{"$error":"#REF!"}},{"$f":"IF(COUNTIF($A$1:A334,A334)=1,ROW(),\"\")","v":""},null,""]
[{"$f":"#REF!","v":{"$error":"#REF!"}},{"$f":"IF(COUNTIF($A$1:A335,A335)=1,ROW(),\"\")","v":""},null,""]
[{"$f":"#REF!","v":{"$error":"#REF!"}},{"$f":"IF(COUNTIF($A$1:A336,A336)=1,ROW(),\"\")","v":""},null,""]
[{"$f":"#REF!","v":{"$error":"#REF!"}},{"$f":"IF(COUNTIF($A$1:A337,A337)=1,ROW(),\"\")","v":""},null,""]
[{"$f":"#REF!","v":{"$error":"#REF!"}},{"$f":"IF(COUNTIF($A$1:A338,A338)=1,ROW(),\"\")","v":""},null,""]
[{"$f":"#REF!","v":{"$error":"#REF!"}},{"$f":"IF(COUNTIF($A$1:A339,A339)=1,ROW(),\"\")","v":""},null,""]
[{"$f":"#REF!","v":{"$error":"#REF!"}},{"$f":"IF(COUNTIF($A$1:A340,A340)=1,ROW(),\"\")","v":""},null,""]
[{"$f":"#REF!","v":{"$error":"#REF!"}},{"$f":"IF(COUNTIF($A$1:A341,A341)=1,ROW(),\"\")","v":""},null,""]
[{"$f":"#REF!","v":{"$error":"#REF!"}},{"$f":"IF(COUNTIF($A$1:A342,A342)=1,ROW(),\"\")","v":""},null,""]
[{"$f":"#REF!","v":{"$error":"#REF!"}},{"$f":"IF(COUNTIF($A$1:A343,A343)=1,ROW(),\"\")","v":""},null,""]
[{"$f":"#REF!","v":{"$error":"#REF!"}},{"$f":"IF(COUNTIF($A$1:A344,A344)=1,ROW(),\"\")","v":""},null,""]
[{"$f":"#REF!","v":{"$error":"#REF!"}},{"$f":"IF(COUNTIF($A$1:A345,A345)=1,ROW(),\"\")","v":""},null,""]
[{"$f":"#REF!","v":{"$error":"#REF!"}},{"$f":"IF(COUNTIF($A$1:A346,A346)=1,ROW(),\"\")","v":""},null,""]
[{"$f":"#REF!","v":{"$error":"#REF!"}},{"$f":"IF(COUNTIF($A$1:A347,A347)=1,ROW(),\"\")","v":""},null,""]
[{"$f":"#REF!","v":{"$error":"#REF!"}},{"$f":"IF(COUNTIF($A$1:A348,A348)=1,ROW(),\"\")","v":""},null,""]
[{"$f":"#REF!","v":{"$error":"#REF!"}},{"$f":"IF(COUNTIF($A$1:A349,A349)=1,ROW(),\"\")","v":""},null,""]
[{"$f":"#REF!","v":{"$error":"#REF!"}},{"$f":"IF(COUNTIF($A$1:A350,A350)=1,ROW(),\"\")","v":""},null,""]
[{"$f":"#REF!","v":{"$error":"#REF!"}},{"$f":"IF(COUNTIF($A$1:A351,A351)=1,ROW(),\"\")","v":""},null,""]
[{"$f":"#REF!","v":{"$error":"#REF!"}},{"$f":"IF(COUNTIF($A$1:A352,A352)=1,ROW(),\"\")","v":""},null,""]
[{"$f":"#REF!","v":{"$error":"#REF!"}},{"$f":"IF(COUNTIF($A$1:A353,A353)=1,ROW(),\"\")","v":""},null,""]
[{"$f":"#REF!","v":{"$error":"#REF!"}},{"$f":"IF(COUNTIF($A$1:A354,A354)=1,ROW(),\"\")","v":""},null,""]
[{"$f":"#REF!","v":{"$error":"#REF!"}},{"$f":"IF(COUNTIF($A$1:A355,A355)=1,ROW(),\"\")","v":""},null,""]
[{"$f":"#REF!","v":{"$error":"#REF!"}},{"$f":"IF(COUNTIF($A$1:A356,A356)=1,ROW(),\"\")","v":""},null,""]
[{"$f":"#REF!","v":{"$error":"#REF!"}},{"$f":"IF(COUNTIF($A$1:A357,A357)=1,ROW(),\"\")","v":""},null,""]
[{"$f":"#REF!","v":{"$error":"#REF!"}},{"$f":"IF(COUNTIF($A$1:A358,A358)=1,ROW(),\"\")","v":""},null,""]
[{"$f":"#REF!","v":{"$error":"#REF!"}},{"$f":"IF(COUNTIF($A$1:A359,A359)=1,ROW(),\"\")","v":""},null,""]
[{"$f":"#REF!","v":{"$error":"#REF!"}},{"$f":"IF(COUNTIF($A$1:A360,A360)=1,ROW(),\"\")","v":""},null,""]
[{"$f":"#REF!","v":{"$error":"#REF!"}},{"$f":"IF(COUNTIF($A$1:A361,A361)=1,ROW(),\"\")","v":""},null,""]
[{"$f":"#REF!","v":{"$error":"#REF!"}},{"$f":"IF(COUNTIF($A$1:A362,A362)=1,ROW(),\"\")","v":""},null,""]
[{"$f":"#REF!","v":{"$error":"#REF!"}},{"$f":"IF(COUNTIF($A$1:A363,A363)=1,ROW(),\"\")","v":""},null,""]
[{"$f":"#REF!","v":{"$error":"#REF!"}},{"$f":"IF(COUNTIF($A$1:A364,A364)=1,ROW(),\"\")","v":""},null,""]
[{"$f":"#REF!","v":{"$error":"#REF!"}},{"$f":"IF(COUNTIF($A$1:A365,A365)=1,ROW(),\"\")","v":""},null,""]
[{"$f":"#REF!","v":{"$error":"#REF!"}},{"$f":"IF(COUNTIF($A$1:A366,A366)=1,ROW(),\"\")","v":""},null,""]
[{"$f":"#REF!","v":{"$error":"#REF!"}},{"$f":"IF(COUNTIF($A$1:A367,A367)=1,ROW(),\"\")","v":""},null,""]
[{"$f":"#REF!","v":{"$error":"#REF!"}},{"$f":"IF(COUNTIF($A$1:A368,A368)=1,ROW(),\"\")","v":""},null,""]
[{"$f":"#REF!","v":{"$error":"#REF!"}},{"$f":"IF(COUNTIF($A$1:A369,A369)=1,ROW(),\"\")","v":""},null,""]
[{"$f":"#REF!","v":{"$error":"#REF!"}},{"$f":"IF(COUNTIF($A$1:A370,A370)=1,ROW(),\"\")","v":""},null,""]
[{"$f":"#REF!","v":{"$error":"#REF!"}},{"$f":"IF(COUNTIF($A$1:A371,A371)=1,ROW(),\"\")","v":""},null,""]
[{"$f":"#REF!","v":{"$error":"#REF!"}},{"$f":"IF(COUNTIF($A$1:A372,A372)=1,ROW(),\"\")","v":""},null,""]
[{"$f":"#REF!","v":{"$error":"#REF!"}},{"$f":"IF(COUNTIF($A$1:A373,A373)=1,ROW(),\"\")","v":""},null,""]
[{"$f":"#REF!","v":{"$error":"#REF!"}},{"$f":"IF(COUNTIF($A$1:A374,A374)=1,ROW(),\"\")","v":""},null,""]
[{"$f":"#REF!","v":{"$error":"#REF!"}},{"$f":"IF(COUNTIF($A$1:A375,A375)=1,ROW(),\"\")","v":""},null,""]
[{"$f":"#REF!","v":{"$error":"#REF!"}},{"$f":"IF(COUNTIF($A$1:A376,A376)=1,ROW(),\"\")","v":""},null,""]
[{"$f":"#REF!","v":{"$error":"#REF!"}},{"$f":"IF(COUNTIF($A$1:A377,A377)=1,ROW(),\"\")","v":""},null,""]
[{"$f":"#REF!","v":{"$error":"#REF!"}},{"$f":"IF(COUNTIF($A$1:A378,A378)=1,ROW(),\"\")","v":""},null,""]
[{"$f":"#REF!","v":{"$error":"#REF!"}},{"$f":"IF(COUNTIF($A$1:A379,A379)=1,ROW(),\"\")","v":""},null,""]
[{"$f":"#REF!","v":{"$error":"#REF!"}},{"$f":"IF(COUNTIF($A$1:A380,A380)=1,ROW(),\"\")","v":""},null,""]
[{"$f":"#REF!","v":{"$error":"#REF!"}},{"$f":"IF(COUNTIF($A$1:A381,A381)=1,ROW(),\"\")","v":""},null,""]
[{"$f":"#REF!","v":{"$error":"#REF!"}},{"$f":"IF(COUNTIF($A$1:A382,A382)=1,ROW(),\"\")","v":""},null,""]
[{"$f":"#REF!","v":{"$error":"#REF!"}},{"$f":"IF(COUNTIF($A$1:A383,A383)=1,ROW(),\"\")","v":""},null,""]
[{"$f":"#REF!","v":{"$error":"#REF!"}},{"$f":"IF(COUNTIF($A$1:A384,A384)=1,ROW(),\"\")","v":""},null,""]
[{"$f":"#REF!","v":{"$error":"#REF!"}},{"$f":"IF(COUNTIF($A$1:A385,A385)=1,ROW(),\"\")","v":""},null,{"$f":"IF(ISERROR(INDIRECT(\"A\"&SMALL(B:B,ROW(A385)))),\"\",INDIRECT(\"A\"&SMALL(B:B,ROW(A385))))","v":""}]
[{"$f":"#REF!","v":{"$error":"#REF!"}},{"$f":"IF(COUNTIF($A$1:A386,A386)=1,ROW(),\"\")","v":""},null,""]
[{"$f":"#REF!","v":{"$error":"#REF!"}},{"$f":"IF(COUNTIF($A$1:A387,A387)=1,ROW(),\"\")","v":""},null,""]
[{"$f":"#REF!","v":{"$error":"#REF!"}},{"$f":"IF(COUNTIF($A$1:A388,A388)=1,ROW(),\"\")","v":""},null,""]
[{"$f":"#REF!","v":{"$error":"#REF!"}},{"$f":"IF(COUNTIF($A$1:A389,A389)=1,ROW(),\"\")","v":""},null,""]
[{"$f":"#REF!","v":{"$error":"#REF!"}},{"$f":"IF(COUNTIF($A$1:A390,A390)=1,ROW(),\"\")","v":""},null,""]
[{"$f":"#REF!","v":{"$error":"#REF!"}},{"$f":"IF(COUNTIF($A$1:A391,A391)=1,ROW(),\"\")","v":""},null,""]
[{"$f":"#REF!","v":{"$error":"#REF!"}},{"$f":"IF(COUNTIF($A$1:A392,A392)=1,ROW(),\"\")","v":""},null,""]
[{"$f":"#REF!","v":{"$error":"#REF!"}},{"$f":"IF(COUNTIF($A$1:A393,A393)=1,ROW(),\"\")","v":""},null,""]
[{"$f":"#REF!","v":{"$error":"#REF!"}},{"$f":"IF(COUNTIF($A$1:A394,A394)=1,ROW(),\"\")","v":""},null,""]
[{"$f":"#REF!","v":{"$error":"#REF!"}},{"$f":"IF(COUNTIF($A$1:A395,A395)=1,ROW(),\"\")","v":""},null,""]
[{"$f":"#REF!","v":{"$error":"#REF!"}},{"$f":"IF(COUNTIF($A$1:A396,A396)=1,ROW(),\"\")","v":""},null,""]
[{"$f":"#REF!","v":{"$error":"#REF!"}},{"$f":"IF(COUNTIF($A$1:A397,A397)=1,ROW(),\"\")","v":""},null,""]
[{"$f":"#REF!","v":{"$error":"#REF!"}},{"$f":"IF(COUNTIF($A$1:A398,A398)=1,ROW(),\"\")","v":""},null,""]
[{"$f":"#REF!","v":{"$error":"#REF!"}},{"$f":"IF(COUNTIF($A$1:A399,A399)=1,ROW(),\"\")","v":""},null,""]
[{"$f":"#REF!","v":{"$error":"#REF!"}},{"$f":"IF(COUNTIF($A$1:A400,A400)=1,ROW(),\"\")","v":""},null,""]
[{"$f":"#REF!","v":{"$error":"#REF!"}},{"$f":"IF(COUNTIF($A$1:A401,A401)=1,ROW(),\"\")","v":""},null,""]
[{"$f":"#REF!","v":{"$error":"#REF!"}},{"$f":"IF(COUNTIF($A$1:A402,A402)=1,ROW(),\"\")","v":""},null,""]
[{"$f":"#REF!","v":{"$error":"#REF!"}},{"$f":"IF(COUNTIF($A$1:A403,A403)=1,ROW(),\"\")","v":""},null,""]
[{"$f":"#REF!","v":{"$error":"#REF!"}},{"$f":"IF(COUNTIF($A$1:A404,A404)=1,ROW(),\"\")","v":""},null,""]
[{"$f":"#REF!","v":{"$error":"#REF!"}},{"$f":"IF(COUNTIF($A$1:A405,A405)=1,ROW(),\"\")","v":""},null,""]
[{"$f":"#REF!","v":{"$error":"#REF!"}},{"$f":"IF(COUNTIF($A$1:A406,A406)=1,ROW(),\"\")","v":""},null,""]
[{"$f":"#REF!","v":{"$error":"#REF!"}},{"$f":"IF(COUNTIF($A$1:A407,A407)=1,ROW(),\"\")","v":""},null,""]
[{"$f":"#REF!","v":{"$error":"#REF!"}},{"$f":"IF(COUNTIF($A$1:A408,A408)=1,ROW(),\"\")","v":""},null,""]
[{"$f":"#REF!","v":{"$error":"#REF!"}},{"$f":"IF(COUNTIF($A$1:A409,A409)=1,ROW(),\"\")","v":""},null,""]
[{"$f":"#REF!","v":{"$error":"#REF!"}},{"$f":"IF(COUNTIF($A$1:A410,A410)=1,ROW(),\"\")","v":""},null,""]
[{"$f":"#REF!","v":{"$error":"#REF!"}},{"$f":"IF(COUNTIF($A$1:A411,A411)=1,ROW(),\"\")","v":""},null,""]
[{"$f":"#REF!","v":{"$error":"#REF!"}},{"$f":"IF(COUNTIF($A$1:A412,A412)=1,ROW(),\"\")","v":""},null,""]
[{"$f":"#REF!","v":{"$error":"#REF!"}},{"$f":"IF(COUNTIF($A$1:A413,A413)=1,ROW(),\"\")","v":""},null,""]
[{"$f":"#REF!","v":{"$error":"#REF!"}},{"$f":"IF(COUNTIF($A$1:A414,A414)=1,ROW(),\"\")","v":""},null,""]
[{"$f":"#REF!","v":{"$error":"#REF!"}},{"$f":"IF(COUNTIF($A$1:A415,A415)=1,ROW(),\"\")","v":""},null,""]
[{"$f":"#REF!","v":{"$error":"#REF!"}},{"$f":"IF(COUNTIF($A$1:A416,A416)=1,ROW(),\"\")","v":""},null,""]
[{"$f":"#REF!","v":{"$error":"#REF!"}},{"$f":"IF(COUNTIF($A$1:A417,A417)=1,ROW(),\"\")","v":""},null,""]
[{"$f":"#REF!","v":{"$error":"#REF!"}},{"$f":"IF(COUNTIF($A$1:A418,A418)=1,ROW(),\"\")","v":""},null,""]
[{"$f":"#REF!","v":{"$error":"#REF!"}},{"$f":"IF(COUNTIF($A$1:A419,A419)=1,ROW(),\"\")","v":""},null,""]
[{"$f":"#REF!","v":{"$error":"#REF!"}},{"$f":"IF(COUNTIF($A$1:A420,A420)=1,ROW(),\"\")","v":""},null,""]
[{"$f":"#REF!","v":{"$error":"#REF!"}},{"$f":"IF(COUNTIF($A$1:A421,A421)=1,ROW(),\"\")","v":""},null,""]
[{"$f":"#REF!","v":{"$error":"#REF!"}},{"$f":"IF(COUNTIF($A$1:A422,A422)=1,ROW(),\"\")","v":""},null,""]
[{"$f":"#REF!","v":{"$error":"#REF!"}},{"$f":"IF(COUNTIF($A$1:A423,A423)=1,ROW(),\"\")","v":""},null,""]
[{"$f":"#REF!","v":{"$error":"#REF!"}},{"$f":"IF(COUNTIF($A$1:A424,A424)=1,ROW(),\"\")","v":""},null,""]
[{"$f":"#REF!","v":{"$error":"#REF!"}},{"$f":"IF(COUNTIF($A$1:A425,A425)=1,ROW(),\"\")","v":""},null,""]
[{"$f":"#REF!","v":{"$error":"#REF!"}},{"$f":"IF(COUNTIF($A$1:A426,A426)=1,ROW(),\"\")","v":""},null,""]
[{"$f":"#REF!","v":{"$error":"#REF!"}},{"$f":"IF(COUNTIF($A$1:A427,A427)=1,ROW(),\"\")","v":""},null,""]
[{"$f":"#REF!","v":{"$error":"#REF!"}},{"$f":"IF(COUNTIF($A$1:A428,A428)=1,ROW(),\"\")","v":""},null,""]
[{"$f":"#REF!","v":{"$error":"#REF!"}},{"$f":"IF(COUNTIF($A$1:A429,A429)=1,ROW(),\"\")","v":""},null,""]
[{"$f":"#REF!","v":{"$error":"#REF!"}},{"$f":"IF(COUNTIF($A$1:A430,A430)=1,ROW(),\"\")","v":""},null,""]
[{"$f":"#REF!","v":{"$error":"#REF!"}},{"$f":"IF(COUNTIF($A$1:A431,A431)=1,ROW(),\"\")","v":""},null,""]
[{"$f":"#REF!","v":{"$error":"#REF!"}},{"$f":"IF(COUNTIF($A$1:A432,A432)=1,ROW(),\"\")","v":""},null,""]
[{"$f":"#REF!","v":{"$error":"#REF!"}},{"$f":"IF(COUNTIF($A$1:A433,A433)=1,ROW(),\"\")","v":""},null,""]
[{"$f":"#REF!","v":{"$error":"#REF!"}},{"$f":"IF(COUNTIF($A$1:A434,A434)=1,ROW(),\"\")","v":""},null,""]
[{"$f":"#REF!","v":{"$error":"#REF!"}},{"$f":"IF(COUNTIF($A$1:A435,A435)=1,ROW(),\"\")","v":""},null,""]
[{"$f":"#REF!","v":{"$error":"#REF!"}},{"$f":"IF(COUNTIF($A$1:A436,A436)=1,ROW(),\"\")","v":""},null,""]
[{"$f":"#REF!","v":{"$error":"#REF!"}},{"$f":"IF(COUNTIF($A$1:A437,A437)=1,ROW(),\"\")","v":""},null,""]
[{"$f":"#REF!","v":{"$error":"#REF!"}},{"$f":"IF(COUNTIF($A$1:A438,A438)=1,ROW(),\"\")","v":""},null,""]
[{"$f":"#REF!","v":{"$error":"#REF!"}},{"$f":"IF(COUNTIF($A$1:A439,A439)=1,ROW(),\"\")","v":""},null,""]
[{"$f":"#REF!","v":{"$error":"#REF!"}},{"$f":"IF(COUNTIF($A$1:A440,A440)=1,ROW(),\"\")","v":""},null,""]
[{"$f":"#REF!","v":{"$error":"#REF!"}},{"$f":"IF(COUNTIF($A$1:A441,A441)=1,ROW(),\"\")","v":""},null,""]
[{"$f":"#REF!","v":{"$error":"#REF!"}},{"$f":"IF(COUNTIF($A$1:A442,A442)=1,ROW(),\"\")","v":""},null,""]
[{"$f":"#REF!","v":{"$error":"#REF!"}},{"$f":"IF(COUNTIF($A$1:A443,A443)=1,ROW(),\"\")","v":""},null,""]
[{"$f":"#REF!","v":{"$error":"#REF!"}},{"$f":"IF(COUNTIF($A$1:A444,A444)=1,ROW(),\"\")","v":""},null,""]
[{"$f":"#REF!","v":{"$error":"#REF!"}},{"$f":"IF(COUNTIF($A$1:A445,A445)=1,ROW(),\"\")","v":""},null,""]
[{"$f":"#REF!","v":{"$error":"#REF!"}},{"$f":"IF(COUNTIF($A$1:A446,A446)=1,ROW(),\"\")","v":""},null,""]
[{"$f":"#REF!","v":{"$error":"#REF!"}},{"$f":"IF(COUNTIF($A$1:A447,A447)=1,ROW(),\"\")","v":""},null,""]
[{"$f":"#REF!","v":{"$error":"#REF!"}},{"$f":"IF(COUNTIF($A$1:A448,A448)=1,ROW(),\"\")","v":""},null,""]
[{"$f":"#REF!","v":{"$error":"#REF!"}},{"$f":"IF(COUNTIF($A$1:A449,A449)=1,ROW(),\"\")","v":""},null,{"$f":"IF(ISERROR(INDIRECT(\"A\"&SMALL(B:B,ROW(A449)))),\"\",INDIRECT(\"A\"&SMALL(B:B,ROW(A449))))","v":""}]
[{"$f":"#REF!","v":{"$error":"#REF!"}},{"$f":"IF(COUNTIF($A$1:A450,A450)=1,ROW(),\"\")","v":""},null,""]
[{"$f":"#REF!","v":{"$error":"#REF!"}},{"$f":"IF(COUNTIF($A$1:A451,A451)=1,ROW(),\"\")","v":""},null,""]
[{"$f":"#REF!","v":{"$error":"#REF!"}},{"$f":"IF(COUNTIF($A$1:A452,A452)=1,ROW(),\"\")","v":""},null,""]
[{"$f":"#REF!","v":{"$error":"#REF!"}},{"$f":"IF(COUNTIF($A$1:A453,A453)=1,ROW(),\"\")","v":""},null,""]
[{"$f":"#REF!","v":{"$error":"#REF!"}},{"$f":"IF(COUNTIF($A$1:A454,A454)=1,ROW(),\"\")","v":""},null,""]
[{"$f":"#REF!","v":{"$error":"#REF!"}},{"$f":"IF(COUNTIF($A$1:A455,A455)=1,ROW(),\"\")","v":""},null,""]
[{"$f":"#REF!","v":{"$error":"#REF!"}},{"$f":"IF(COUNTIF($A$1:A456,A456)=1,ROW(),\"\")","v":""},null,""]
[{"$f":"#REF!","v":{"$error":"#REF!"}},{"$f":"IF(COUNTIF($A$1:A457,A457)=1,ROW(),\"\")","v":""},null,""]
[{"$f":"#REF!","v":{"$error":"#REF!"}},{"$f":"IF(COUNTIF($A$1:A458,A458)=1,ROW(),\"\")","v":""},null,""]
[{"$f":"#REF!","v":{"$error":"#REF!"}},{"$f":"IF(COUNTIF($A$1:A459,A459)=1,ROW(),\"\")","v":""},null,""]
[{"$f":"#REF!","v":{"$error":"#REF!"}},{"$f":"IF(COUNTIF($A$1:A460,A460)=1,ROW(),\"\")","v":""},null,""]
[{"$f":"#REF!","v":{"$error":"#REF!"}},{"$f":"IF(COUNTIF($A$1:A461,A461)=1,ROW(),\"\")","v":""},null,""]
[{"$f":"#REF!","v":{"$error":"#REF!"}},{"$f":"IF(COUNTIF($A$1:A462,A462)=1,ROW(),\"\")","v":""},null,""]
[{"$f":"#REF!","v":{"$error":"#REF!"}},{"$f":"IF(COUNTIF($A$1:A463,A463)=1,ROW(),\"\")","v":""},null,""]
[{"$f":"#REF!","v":{"$error":"#REF!"}},{"$f":"IF(COUNTIF($A$1:A464,A464)=1,ROW(),\"\")","v":""},null,""]
[{"$f":"#REF!","v":{"$error":"#REF!"}},{"$f":"IF(COUNTIF($A$1:A465,A465)=1,ROW(),\"\")","v":""},null,""]
[{"$f":"#REF!","v":{"$error":"#REF!"}},{"$f":"IF(COUNTIF($A$1:A466,A466)=1,ROW(),\"\")","v":""},null,""]
[{"$f":"#REF!","v":{"$error":"#REF!"}},{"$f":"IF(COUNTIF($A$1:A467,A467)=1,ROW(),\"\")","v":""},null,""]
[{"$f":"#REF!","v":{"$error":"#REF!"}},{"$f":"IF(COUNTIF($A$1:A468,A468)=1,ROW(),\"\")","v":""},null,""]
[{"$f":"#REF!","v":{"$error":"#REF!"}},{"$f":"IF(COUNTIF($A$1:A469,A469)=1,ROW(),\"\")","v":""},null,""]
[{"$f":"#REF!","v":{"$error":"#REF!"}},{"$f":"IF(COUNTIF($A$1:A470,A470)=1,ROW(),\"\")","v":""},null,""]
[{"$f":"#REF!","v":{"$error":"#REF!"}},{"$f":"IF(COUNTIF($A$1:A471,A471)=1,ROW(),\"\")","v":""},null,""]
[{"$f":"#REF!","v":{"$error":"#REF!"}},{"$f":"IF(COUNTIF($A$1:A472,A472)=1,ROW(),\"\")","v":""},null,""]
[{"$f":"#REF!","v":{"$error":"#REF!"}},{"$f":"IF(COUNTIF($A$1:A473,A473)=1,ROW(),\"\")","v":""},null,""]
[{"$f":"#REF!","v":{"$error":"#REF!"}},{"$f":"IF(COUNTIF($A$1:A474,A474)=1,ROW(),\"\")","v":""},null,""]
[{"$f":"#REF!","v":{"$error":"#REF!"}},{"$f":"IF(COUNTIF($A$1:A475,A475)=1,ROW(),\"\")","v":""},null,""]
[{"$f":"#REF!","v":{"$error":"#REF!"}},{"$f":"IF(COUNTIF($A$1:A476,A476)=1,ROW(),\"\")","v":""},null,""]
[{"$f":"#REF!","v":{"$error":"#REF!"}},{"$f":"IF(COUNTIF($A$1:A477,A477)=1,ROW(),\"\")","v":""},null,""]
[{"$f":"#REF!","v":{"$error":"#REF!"}},{"$f":"IF(COUNTIF($A$1:A478,A478)=1,ROW(),\"\")","v":""},null,""]
[{"$f":"#REF!","v":{"$error":"#REF!"}},{"$f":"IF(COUNTIF($A$1:A479,A479)=1,ROW(),\"\")","v":""},null,""]
[{"$f":"#REF!","v":{"$error":"#REF!"}},{"$f":"IF(COUNTIF($A$1:A480,A480)=1,ROW(),\"\")","v":""},null,""]
[{"$f":"#REF!","v":{"$error":"#REF!"}},{"$f":"IF(COUNTIF($A$1:A481,A481)=1,ROW(),\"\")","v":""},null,""]
[{"$f":"#REF!","v":{"$error":"#REF!"}},{"$f":"IF(COUNTIF($A$1:A482,A482)=1,ROW(),\"\")","v":""},null,""]
[{"$f":"#REF!","v":{"$error":"#REF!"}},{"$f":"IF(COUNTIF($A$1:A483,A483)=1,ROW(),\"\")","v":""},null,""]
[{"$f":"#REF!","v":{"$error":"#REF!"}},{"$f":"IF(COUNTIF($A$1:A484,A484)=1,ROW(),\"\")","v":""},null,""]
[{"$f":"#REF!","v":{"$error":"#REF!"}},{"$f":"IF(COUNTIF($A$1:A485,A485)=1,ROW(),\"\")","v":""},null,""]
[{"$f":"#REF!","v":{"$error":"#REF!"}},{"$f":"IF(COUNTIF($A$1:A486,A486)=1,ROW(),\"\")","v":""},null,""]
[{"$f":"#REF!","v":{"$error":"#REF!"}},{"$f":"IF(COUNTIF($A$1:A487,A487)=1,ROW(),\"\")","v":""},null,""]
[{"$f":"#REF!","v":{"$error":"#REF!"}},{"$f":"IF(COUNTIF($A$1:A488,A488)=1,ROW(),\"\")","v":""}]
[{"$f":"#REF!","v":{"$error":"#REF!"}},{"$f":"IF(COUNTIF($A$1:A489,A489)=1,ROW(),\"\")","v":""}]
[{"$f":"#REF!","v":{"$error":"#REF!"}},{"$f":"IF(COUNTIF($A$1:A490,A490)=1,ROW(),\"\")","v":""}]
[{"$f":"#REF!","v":{"$error":"#REF!"}},{"$f":"IF(COUNTIF($A$1:A491,A491)=1,ROW(),\"\")","v":""}]
[{"$f":"#REF!","v":{"$error":"#REF!"}},{"$f":"IF(COUNTIF($A$1:A492,A492)=1,ROW(),\"\")","v":""}]
[{"$f":"#REF!","v":{"$error":"#REF!"}},{"$f":"IF(COUNTIF($A$1:A493,A493)=1,ROW(),\"\")","v":""}]
[{"$f":"#REF!","v":{"$error":"#REF!"}},{"$f":"IF(COUNTIF($A$1:A494,A494)=1,ROW(),\"\")","v":""}]
[{"$f":"#REF!","v":{"$error":"#REF!"}},{"$f":"IF(COUNTIF($A$1:A495,A495)=1,ROW(),\"\")","v":""}]
[{"$f":"#REF!","v":{"$error":"#REF!"}},{"$f":"IF(COUNTIF($A$1:A496,A496)=1,ROW(),\"\")","v":""}]
[{"$f":"#REF!","v":{"$error":"#REF!"}},{"$f":"IF(COUNTIF($A$1:A497,A497)=1,ROW(),\"\")","v":""}]
[{"$f":"#REF!","v":{"$error":"#REF!"}},{"$f":"IF(COUNTIF($A$1:A498,A498)=1,ROW(),\"\")","v":""}]
[{"$f":"#REF!","v":{"$error":"#REF!"}},{"$f":"IF(COUNTIF($A$1:A499,A499)=1,ROW(),\"\")","v":""}]
[{"$f":"#REF!","v":{"$error":"#REF!"}},{"$f":"IF(COUNTIF($A$1:A500,A500)=1,ROW(),\"\")","v":""}]
[{"$f":"#REF!","v":{"$error":"#REF!"}},{"$f":"IF(COUNTIF($A$1:A501,A501)=1,ROW(),\"\")","v":""}]
[{"$f":"#REF!","v":{"$error":"#REF!"}},{"$f":"IF(COUNTIF($A$1:A502,A502)=1,ROW(),\"\")","v":""}]
[{"$f":"#REF!","v":{"$error":"#REF!"}},{"$f":"IF(COUNTIF($A$1:A503,A503)=1,ROW(),\"\")","v":""}]
[{"$f":"#REF!","v":{"$error":"#REF!"}},{"$f":"IF(COUNTIF($A$1:A504,A504)=1,ROW(),\"\")","v":""}]
[{"$f":"#REF!","v":{"$error":"#REF!"}},{"$f":"IF(COUNTIF($A$1:A505,A505)=1,ROW(),\"\")","v":""}]
[{"$f":"#REF!","v":{"$error":"#REF!"}},{"$f":"IF(COUNTIF($A$1:A506,A506)=1,ROW(),\"\")","v":""}]
[{"$f":"#REF!","v":{"$error":"#REF!"}},{"$f":"IF(COUNTIF($A$1:A507,A507)=1,ROW(),\"\")","v":""}]
[{"$f":"#REF!","v":{"$error":"#REF!"}},{"$f":"IF(COUNTIF($A$1:A508,A508)=1,ROW(),\"\")","v":""}]
[{"$f":"#REF!","v":{"$error":"#REF!"}},{"$f":"IF(COUNTIF($A$1:A509,A509)=1,ROW(),\"\")","v":""}]
[{"$f":"#REF!","v":{"$error":"#REF!"}},{"$f":"IF(COUNTIF($A$1:A510,A510)=1,ROW(),\"\")","v":""}]
[{"$f":"#REF!","v":{"$error":"#REF!"}},{"$f":"IF(COUNTIF($A$1:A511,A511)=1,ROW(),\"\")","v":""}]
[{"$f":"#REF!","v":{"$error":"#REF!"}},{"$f":"IF(COUNTIF($A$1:A512,A512)=1,ROW(),\"\")","v":""}]
[{"$f":"#REF!","v":{"$error":"#REF!"}},{"$f":"IF(COUNTIF($A$1:A513,A513)=1,ROW(),\"\")","v":""}]
[{"$f":"#REF!","v":{"$error":"#REF!"}},{"$f":"IF(COUNTIF($A$1:A514,A514)=1,ROW(),\"\")","v":""}]
[{"$f":"#REF!","v":{"$error":"#REF!"}},{"$f":"IF(COUNTIF($A$1:A515,A515)=1,ROW(),\"\")","v":""}]
[{"$f":"#REF!","v":{"$error":"#REF!"}},{"$f":"IF(COUNTIF($A$1:A516,A516)=1,ROW(),\"\")","v":""}]
[{"$f":"#REF!","v":{"$error":"#REF!"}},{"$f":"IF(COUNTIF($A$1:A517,A517)=1,ROW(),\"\")","v":""}]
[{"$f":"#REF!","v":{"$error":"#REF!"}},{"$f":"IF(COUNTIF($A$1:A518,A518)=1,ROW(),\"\")","v":""}]
[{"$f":"#REF!","v":{"$error":"#REF!"}},{"$f":"IF(COUNTIF($A$1:A519,A519)=1,ROW(),\"\")","v":""}]
[{"$f":"#REF!","v":{"$error":"#REF!"}},{"$f":"IF(COUNTIF($A$1:A520,A520)=1,ROW(),\"\")","v":""}]
[{"$f":"#REF!","v":{"$error":"#REF!"}},{"$f":"IF(COUNTIF($A$1:A521,A521)=1,ROW(),\"\")","v":""}]
[{"$f":"#REF!","v":{"$error":"#REF!"}},{"$f":"IF(COUNTIF($A$1:A522,A522)=1,ROW(),\"\")","v":""}]
[{"$f":"#REF!","v":{"$error":"#REF!"}},{"$f":"IF(COUNTIF($A$1:A523,A523)=1,ROW(),\"\")","v":""}]
[{"$f":"#REF!","v":{"$error":"#REF!"}},{"$f":"IF(COUNTIF($A$1:A524,A524)=1,ROW(),\"\")","v":""}]
[{"$f":"#REF!","v":{"$error":"#REF!"}},{"$f":"IF(COUNTIF($A$1:A525,A525)=1,ROW(),\"\")","v":""}]
[{"$f":"#REF!","v":{"$error":"#REF!"}},{"$f":"IF(COUNTIF($A$1:A526,A526)=1,ROW(),\"\")","v":""}]
[{"$f":"#REF!","v":{"$error":"#REF!"}},{"$f":"IF(COUNTIF($A$1:A527,A527)=1,ROW(),\"\")","v":""}]
[{"$f":"#REF!","v":{"$error":"#REF!"}},{"$f":"IF(COUNTIF($A$1:A528,A528)=1,ROW(),\"\")","v":""}]
[{"$f":"#REF!","v":{"$error":"#REF!"}},{"$f":"IF(COUNTIF($A$1:A529,A529)=1,ROW(),\"\")","v":""}]
[{"$f":"#REF!","v":{"$error":"#REF!"}},{"$f":"IF(COUNTIF($A$1:A530,A530)=1,ROW(),\"\")","v":""}]
[{"$f":"#REF!","v":{"$error":"#REF!"}},{"$f":"IF(COUNTIF($A$1:A531,A531)=1,ROW(),\"\")","v":""}]
[{"$f":"#REF!","v":{"$error":"#REF!"}},{"$f":"IF(COUNTIF($A$1:A532,A532)=1,ROW(),\"\")","v":""}]
[{"$f":"#REF!","v":{"$error":"#REF!"}},{"$f":"IF(COUNTIF($A$1:A533,A533)=1,ROW(),\"\")","v":""}]
[{"$f":"#REF!","v":{"$error":"#REF!"}},{"$f":"IF(COUNTIF($A$1:A534,A534)=1,ROW(),\"\")","v":""}]
[{"$f":"#REF!","v":{"$error":"#REF!"}},{"$f":"IF(COUNTIF($A$1:A535,A535)=1,ROW(),\"\")","v":""}]
[{"$f":"#REF!","v":{"$error":"#REF!"}},{"$f":"IF(COUNTIF($A$1:A536,A536)=1,ROW(),\"\")","v":""}]
[{"$f":"#REF!","v":{"$error":"#REF!"}},{"$f":"IF(COUNTIF($A$1:A537,A537)=1,ROW(),\"\")","v":""}]
[{"$f":"#REF!","v":{"$error":"#REF!"}},{"$f":"IF(COUNTIF($A$1:A538,A538)=1,ROW(),\"\")","v":""}]
[{"$f":"#REF!","v":{"$error":"#REF!"}},{"$f":"IF(COUNTIF($A$1:A539,A539)=1,ROW(),\"\")","v":""}]
[{"$f":"#REF!","v":{"$error":"#REF!"}},{"$f":"IF(COUNTIF($A$1:A540,A540)=1,ROW(),\"\")","v":""}]
[{"$f":"#REF!","v":{"$error":"#REF!"}},{"$f":"IF(COUNTIF($A$1:A541,A541)=1,ROW(),\"\")","v":""}]
[{"$f":"#REF!","v":{"$error":"#REF!"}},{"$f":"IF(COUNTIF($A$1:A542,A542)=1,ROW(),\"\")","v":""}]
[{"$f":"#REF!","v":{"$error":"#REF!"}},{"$f":"IF(COUNTIF($A$1:A543,A543)=1,ROW(),\"\")","v":""}]
[{"$f":"#REF!","v":{"$error":"#REF!"}},{"$f":"IF(COUNTIF($A$1:A544,A544)=1,ROW(),\"\")","v":""}]
[{"$f":"#REF!","v":{"$error":"#REF!"}},{"$f":"IF(COUNTIF($A$1:A545,A545)=1,ROW(),\"\")","v":""}]
[{"$f":"#REF!","v":{"$error":"#REF!"}},{"$f":"IF(COUNTIF($A$1:A546,A546)=1,ROW(),\"\")","v":""}]
[{"$f":"#REF!","v":{"$error":"#REF!"}},{"$f":"IF(COUNTIF($A$1:A547,A547)=1,ROW(),\"\")","v":""}]
[{"$f":"#REF!","v":{"$error":"#REF!"}},{"$f":"IF(COUNTIF($A$1:A548,A548)=1,ROW(),\"\")","v":""}]
[{"$f":"#REF!","v":{"$error":"#REF!"}},{"$f":"IF(COUNTIF($A$1:A549,A549)=1,ROW(),\"\")","v":""}]
[{"$f":"#REF!","v":{"$error":"#REF!"}},{"$f":"IF(COUNTIF($A$1:A550,A550)=1,ROW(),\"\")","v":""}]
[{"$f":"#REF!","v":{"$error":"#REF!"}},{"$f":"IF(COUNTIF($A$1:A551,A551)=1,ROW(),\"\")","v":""}]
[{"$f":"#REF!","v":{"$error":"#REF!"}},{"$f":"IF(COUNTIF($A$1:A552,A552)=1,ROW(),\"\")","v":""}]
[{"$f":"#REF!","v":{"$error":"#REF!"}},{"$f":"IF(COUNTIF($A$1:A553,A553)=1,ROW(),\"\")","v":""}]
[{"$f":"#REF!","v":{"$error":"#REF!"}},{"$f":"IF(COUNTIF($A$1:A554,A554)=1,ROW(),\"\")","v":""}]
[{"$f":"#REF!","v":{"$error":"#REF!"}},{"$f":"IF(COUNTIF($A$1:A555,A555)=1,ROW(),\"\")","v":""}]
[{"$f":"#REF!","v":{"$error":"#REF!"}},{"$f":"IF(COUNTIF($A$1:A556,A556)=1,ROW(),\"\")","v":""}]
[{"$f":"#REF!","v":{"$error":"#REF!"}},{"$f":"IF(COUNTIF($A$1:A557,A557)=1,ROW(),\"\")","v":""}]
[{"$f":"#REF!","v":{"$error":"#REF!"}},{"$f":"IF(COUNTIF($A$1:A558,A558)=1,ROW(),\"\")","v":""}]
[{"$f":"#REF!","v":{"$error":"#REF!"}},{"$f":"IF(COUNTIF($A$1:A559,A559)=1,ROW(),\"\")","v":""}]
[{"$f":"#REF!","v":{"$error":"#REF!"}},{"$f":"IF(COUNTIF($A$1:A560,A560)=1,ROW(),\"\")","v":""}]
[{"$f":"#REF!","v":{"$error":"#REF!"}},{"$f":"IF(COUNTIF($A$1:A561,A561)=1,ROW(),\"\")","v":""}]
[{"$f":"#REF!","v":{"$error":"#REF!"}},{"$f":"IF(COUNTIF($A$1:A562,A562)=1,ROW(),\"\")","v":""}]
[{"$f":"#REF!","v":{"$error":"#REF!"}},{"$f":"IF(COUNTIF($A$1:A563,A563)=1,ROW(),\"\")","v":""}]
[{"$f":"#REF!","v":{"$error":"#REF!"}},{"$f":"IF(COUNTIF($A$1:A564,A564)=1,ROW(),\"\")","v":""}]
[{"$f":"#REF!","v":{"$error":"#REF!"}},{"$f":"IF(COUNTIF($A$1:A565,A565)=1,ROW(),\"\")","v":""}]
[{"$f":"#REF!","v":{"$error":"#REF!"}},{"$f":"IF(COUNTIF($A$1:A566,A566)=1,ROW(),\"\")","v":""}]
[{"$f":"#REF!","v":{"$error":"#REF!"}},{"$f":"IF(COUNTIF($A$1:A567,A567)=1,ROW(),\"\")","v":""}]
[{"$f":"#REF!","v":{"$error":"#REF!"}},{"$f":"IF(COUNTIF($A$1:A568,A568)=1,ROW(),\"\")","v":""}]
[{"$f":"#REF!","v":{"$error":"#REF!"}},{"$f":"IF(COUNTIF($A$1:A569,A569)=1,ROW(),\"\")","v":""}]
[{"$f":"#REF!","v":{"$error":"#REF!"}},{"$f":"IF(COUNTIF($A$1:A570,A570)=1,ROW(),\"\")","v":""}]
[{"$f":"#REF!","v":{"$error":"#REF!"}},{"$f":"IF(COUNTIF($A$1:A571,A571)=1,ROW(),\"\")","v":""}]
[{"$f":"#REF!","v":{"$error":"#REF!"}},{"$f":"IF(COUNTIF($A$1:A572,A572)=1,ROW(),\"\")","v":""}]
[{"$f":"#REF!","v":{"$error":"#REF!"}},{"$f":"IF(COUNTIF($A$1:A573,A573)=1,ROW(),\"\")","v":""}]
[{"$f":"#REF!","v":{"$error":"#REF!"}},{"$f":"IF(COUNTIF($A$1:A574,A574)=1,ROW(),\"\")","v":""}]
[{"$f":"#REF!","v":{"$error":"#REF!"}},{"$f":"IF(COUNTIF($A$1:A575,A575)=1,ROW(),\"\")","v":""}]
[{"$f":"#REF!","v":{"$error":"#REF!"}},{"$f":"IF(COUNTIF($A$1:A576,A576)=1,ROW(),\"\")","v":""}]
[{"$f":"#REF!","v":{"$error":"#REF!"}},{"$f":"IF(COUNTIF($A$1:A577,A577)=1,ROW(),\"\")","v":""}]
[{"$f":"#REF!","v":{"$error":"#REF!"}},{"$f":"IF(COUNTIF($A$1:A578,A578)=1,ROW(),\"\")","v":""}]
[{"$f":"#REF!","v":{"$error":"#REF!"}},{"$f":"IF(COUNTIF($A$1:A579,A579)=1,ROW(),\"\")","v":""}]
[{"$f":"#REF!","v":{"$error":"#REF!"}},{"$f":"IF(COUNTIF($A$1:A580,A580)=1,ROW(),\"\")","v":""}]
[{"$f":"#REF!","v":{"$error":"#REF!"}},{"$f":"IF(COUNTIF($A$1:A581,A581)=1,ROW(),\"\")","v":""}]
[{"$f":"#REF!","v":{"$error":"#REF!"}},{"$f":"IF(COUNTIF($A$1:A582,A582)=1,ROW(),\"\")","v":""}]
[{"$f":"#REF!","v":{"$error":"#REF!"}},{"$f":"IF(COUNTIF($A$1:A583,A583)=1,ROW(),\"\")","v":""}]
[{"$f":"#REF!","v":{"$error":"#REF!"}},{"$f":"IF(COUNTIF($A$1:A584,A584)=1,ROW(),\"\")","v":""}]
[{"$f":"#REF!","v":{"$error":"#REF!"}},{"$f":"IF(COUNTIF($A$1:A585,A585)=1,ROW(),\"\")","v":""}]
[{"$f":"#REF!","v":{"$error":"#REF!"}},{"$f":"IF(COUNTIF($A$1:A586,A586)=1,ROW(),\"\")","v":""}]
[{"$f":"#REF!","v":{"$error":"#REF!"}},{"$f":"IF(COUNTIF($A$1:A587,A587)=1,ROW(),\"\")","v":""}]
[{"$f":"#REF!","v":{"$error":"#REF!"}},{"$f":"IF(COUNTIF($A$1:A588,A588)=1,ROW(),\"\")","v":""}]
[{"$f":"#REF!","v":{"$error":"#REF!"}},{"$f":"IF(COUNTIF($A$1:A589,A589)=1,ROW(),\"\")","v":""}]
[{"$f":"#REF!","v":{"$error":"#REF!"}},{"$f":"IF(COUNTIF($A$1:A590,A590)=1,ROW(),\"\")","v":""}]
[{"$f":"#REF!","v":{"$error":"#REF!"}},{"$f":"IF(COUNTIF($A$1:A591,A591)=1,ROW(),\"\")","v":""}]
[{"$f":"#REF!","v":{"$error":"#REF!"}},{"$f":"IF(COUNTIF($A$1:A592,A592)=1,ROW(),\"\")","v":""}]
[{"$f":"#REF!","v":{"$error":"#REF!"}},{"$f":"IF(COUNTIF($A$1:A593,A593)=1,ROW(),\"\")","v":""}]
[{"$f":"#REF!","v":{"$error":"#REF!"}},{"$f":"IF(COUNTIF($A$1:A594,A594)=1,ROW(),\"\")","v":""}]
[{"$f":"#REF!","v":{"$error":"#REF!"}},{"$f":"IF(COUNTIF($A$1:A595,A595)=1,ROW(),\"\")","v":""}]
[{"$f":"#REF!","v":{"$error":"#REF!"}},{"$f":"IF(COUNTIF($A$1:A596,A596)=1,ROW(),\"\")","v":""}]
[{"$f":"#REF!","v":{"$error":"#REF!"}},{"$f":"IF(COUNTIF($A$1:A597,A597)=1,ROW(),\"\")","v":""}]
[{"$f":"#REF!","v":{"$error":"#REF!"}},{"$f":"IF(COUNTIF($A$1:A598,A598)=1,ROW(),\"\")","v":""}]
[{"$f":"#REF!","v":{"$error":"#REF!"}},{"$f":"IF(COUNTIF($A$1:A599,A599)=1,ROW(),\"\")","v":""}]
[{"$f":"#REF!","v":{"$error":"#REF!"}},{"$f":"IF(COUNTIF($A$1:A600,A600)=1,ROW(),\"\")","v":""}]
[{"$f":"#REF!","v":{"$error":"#REF!"}},{"$f":"IF(COUNTIF($A$1:A601,A601)=1,ROW(),\"\")","v":""}]
[{"$f":"#REF!","v":{"$error":"#REF!"}},{"$f":"IF(COUNTIF($A$1:A602,A602)=1,ROW(),\"\")","v":""}]
[{"$f":"#REF!","v":{"$error":"#REF!"}},{"$f":"IF(COUNTIF($A$1:A603,A603)=1,ROW(),\"\")","v":""}]
[{"$f":"#REF!","v":{"$error":"#REF!"}},{"$f":"IF(COUNTIF($A$1:A604,A604)=1,ROW(),\"\")","v":""}]
[{"$f":"#REF!","v":{"$error":"#REF!"}},{"$f":"IF(COUNTIF($A$1:A605,A605)=1,ROW(),\"\")","v":""}]
[{"$f":"#REF!","v":{"$error":"#REF!"}},{"$f":"IF(COUNTIF($A$1:A606,A606)=1,ROW(),\"\")","v":""}]
[{"$f":"#REF!","v":{"$error":"#REF!"}},{"$f":"IF(COUNTIF($A$1:A607,A607)=1,ROW(),\"\")","v":""}]
[{"$f":"#REF!","v":{"$error":"#REF!"}},{"$f":"IF(COUNTIF($A$1:A608,A608)=1,ROW(),\"\")","v":""}]
[{"$f":"#REF!","v":{"$error":"#REF!"}},{"$f":"IF(COUNTIF($A$1:A609,A609)=1,ROW(),\"\")","v":""}]
[{"$f":"#REF!","v":{"$error":"#REF!"}},{"$f":"IF(COUNTIF($A$1:A610,A610)=1,ROW(),\"\")","v":""}]
[{"$f":"#REF!","v":{"$error":"#REF!"}},{"$f":"IF(COUNTIF($A$1:A611,A611)=1,ROW(),\"\")","v":""}]
[{"$f":"#REF!","v":{"$error":"#REF!"}},{"$f":"IF(COUNTIF($A$1:A612,A612)=1,ROW(),\"\")","v":""}]
[{"$f":"#REF!","v":{"$error":"#REF!"}},{"$f":"IF(COUNTIF($A$1:A613,A613)=1,ROW(),\"\")","v":""}]
[{"$f":"#REF!","v":{"$error":"#REF!"}},{"$f":"IF(COUNTIF($A$1:A614,A614)=1,ROW(),\"\")","v":""}]
[{"$f":"#REF!","v":{"$error":"#REF!"}},{"$f":"IF(COUNTIF($A$1:A615,A615)=1,ROW(),\"\")","v":""}]
[{"$f":"#REF!","v":{"$error":"#REF!"}},{"$f":"IF(COUNTIF($A$1:A616,A616)=1,ROW(),\"\")","v":""}]
[{"$f":"#REF!","v":{"$error":"#REF!"}},{"$f":"IF(COUNTIF($A$1:A617,A617)=1,ROW(),\"\")","v":""}]
[{"$f":"#REF!","v":{"$error":"#REF!"}},{"$f":"IF(COUNTIF($A$1:A618,A618)=1,ROW(),\"\")","v":""}]
[{"$f":"#REF!","v":{"$error":"#REF!"}},{"$f":"IF(COUNTIF($A$1:A619,A619)=1,ROW(),\"\")","v":""}]
[{"$f":"#REF!","v":{"$error":"#REF!"}},{"$f":"IF(COUNTIF($A$1:A620,A620)=1,ROW(),\"\")","v":""}]
[{"$f":"#REF!","v":{"$error":"#REF!"}},{"$f":"IF(COUNTIF($A$1:A621,A621)=1,ROW(),\"\")","v":""}]
[{"$f":"#REF!","v":{"$error":"#REF!"}},{"$f":"IF(COUNTIF($A$1:A622,A622)=1,ROW(),\"\")","v":""}]
[{"$f":"#REF!","v":{"$error":"#REF!"}},{"$f":"IF(COUNTIF($A$1:A623,A623)=1,ROW(),\"\")","v":""}]
[{"$f":"#REF!","v":{"$error":"#REF!"}},{"$f":"IF(COUNTIF($A$1:A624,A624)=1,ROW(),\"\")","v":""}]
[{"$f":"#REF!","v":{"$error":"#REF!"}},{"$f":"IF(COUNTIF($A$1:A625,A625)=1,ROW(),\"\")","v":""}]
[{"$f":"#REF!","v":{"$error":"#REF!"}},{"$f":"IF(COUNTIF($A$1:A626,A626)=1,ROW(),\"\")","v":""}]
[{"$f":"#REF!","v":{"$error":"#REF!"}},{"$f":"IF(COUNTIF($A$1:A627,A627)=1,ROW(),\"\")","v":""}]
[{"$f":"#REF!","v":{"$error":"#REF!"}},{"$f":"IF(COUNTIF($A$1:A628,A628)=1,ROW(),\"\")","v":""}]
[{"$f":"#REF!","v":{"$error":"#REF!"}},{"$f":"IF(COUNTIF($A$1:A629,A629)=1,ROW(),\"\")","v":""}]
[{"$f":"#REF!","v":{"$error":"#REF!"}},{"$f":"IF(COUNTIF($A$1:A630,A630)=1,ROW(),\"\")","v":""}]
[{"$f":"#REF!","v":{"$error":"#REF!"}},{"$f":"IF(COUNTIF($A$1:A631,A631)=1,ROW(),\"\")","v":""}]
[{"$f":"#REF!","v":{"$error":"#REF!"}},{"$f":"IF(COUNTIF($A$1:A632,A632)=1,ROW(),\"\")","v":""}]
[{"$f":"#REF!","v":{"$error":"#REF!"}},{"$f":"IF(COUNTIF($A$1:A633,A633)=1,ROW(),\"\")","v":""}]
[{"$f":"#REF!","v":{"$error":"#REF!"}},{"$f":"IF(COUNTIF($A$1:A634,A634)=1,ROW(),\"\")","v":""}]
[{"$f":"#REF!","v":{"$error":"#REF!"}},{"$f":"IF(COUNTIF($A$1:A635,A635)=1,ROW(),\"\")","v":""}]
[{"$f":"#REF!","v":{"$error":"#REF!"}},{"$f":"IF(COUNTIF($A$1:A636,A636)=1,ROW(),\"\")","v":""}]
[{"$f":"#REF!","v":{"$error":"#REF!"}},{"$f":"IF(COUNTIF($A$1:A637,A637)=1,ROW(),\"\")","v":""}]
[{"$f":"#REF!","v":{"$error":"#REF!"}},{"$f":"IF(COUNTIF($A$1:A638,A638)=1,ROW(),\"\")","v":""}]
[{"$f":"#REF!","v":{"$error":"#REF!"}},{"$f":"IF(COUNTIF($A$1:A639,A639)=1,ROW(),\"\")","v":""}]
[{"$f":"#REF!","v":{"$error":"#REF!"}},{"$f":"IF(COUNTIF($A$1:A640,A640)=1,ROW(),\"\")","v":""}]
[{"$f":"#REF!","v":{"$error":"#REF!"}},{"$f":"IF(COUNTIF($A$1:A641,A641)=1,ROW(),\"\")","v":""}]
[{"$f":"#REF!","v":{"$error":"#REF!"}},{"$f":"IF(COUNTIF($A$1:A642,A642)=1,ROW(),\"\")","v":""}]
[{"$f":"#REF!","v":{"$error":"#REF!"}},{"$f":"IF(COUNTIF($A$1:A643,A643)=1,ROW(),\"\")","v":""}]
[{"$f":"#REF!","v":{"$error":"#REF!"}},{"$f":"IF(COUNTIF($A$1:A644,A644)=1,ROW(),\"\")","v":""}]
[{"$f":"#REF!","v":{"$error":"#REF!"}},{"$f":"IF(COUNTIF($A$1:A645,A645)=1,ROW(),\"\")","v":""}]
[{"$f":"#REF!","v":{"$error":"#REF!"}},{"$f":"IF(COUNTIF($A$1:A646,A646)=1,ROW(),\"\")","v":""}]
[{"$f":"#REF!","v":{"$error":"#REF!"}},{"$f":"IF(COUNTIF($A$1:A647,A647)=1,ROW(),\"\")","v":""}]
[{"$f":"#REF!","v":{"$error":"#REF!"}},{"$f":"IF(COUNTIF($A$1:A648,A648)=1,ROW(),\"\")","v":""}]
[{"$f":"#REF!","v":{"$error":"#REF!"}},{"$f":"IF(COUNTIF($A$1:A649,A649)=1,ROW(),\"\")","v":""}]
[{"$f":"#REF!","v":{"$error":"#REF!"}},{"$f":"IF(COUNTIF($A$1:A650,A650)=1,ROW(),\"\")","v":""}]
[{"$f":"#REF!","v":{"$error":"#REF!"}},{"$f":"IF(COUNTIF($A$1:A651,A651)=1,ROW(),\"\")","v":""}]
[{"$f":"#REF!","v":{"$error":"#REF!"}},{"$f":"IF(COUNTIF($A$1:A652,A652)=1,ROW(),\"\")","v":""}]
[{"$f":"#REF!","v":{"$error":"#REF!"}},{"$f":"IF(COUNTIF($A$1:A653,A653)=1,ROW(),\"\")","v":""}]
[{"$f":"#REF!","v":{"$error":"#REF!"}},{"$f":"IF(COUNTIF($A$1:A654,A654)=1,ROW(),\"\")","v":""}]
[{"$f":"#REF!","v":{"$error":"#REF!"}},{"$f":"IF(COUNTIF($A$1:A655,A655)=1,ROW(),\"\")","v":""}]
[{"$f":"#REF!","v":{"$error":"#REF!"}},{"$f":"IF(COUNTIF($A$1:A656,A656)=1,ROW(),\"\")","v":""}]
[{"$f":"#REF!","v":{"$error":"#REF!"}},{"$f":"IF(COUNTIF($A$1:A657,A657)=1,ROW(),\"\")","v":""}]
[{"$f":"#REF!","v":{"$error":"#REF!"}},{"$f":"IF(COUNTIF($A$1:A658,A658)=1,ROW(),\"\")","v":""}]
[{"$f":"#REF!","v":{"$error":"#REF!"}},{"$f":"IF(COUNTIF($A$1:A659,A659)=1,ROW(),\"\")","v":""}]
[{"$f":"#REF!","v":{"$error":"#REF!"}},{"$f":"IF(COUNTIF($A$1:A660,A660)=1,ROW(),\"\")","v":""}]
[{"$f":"#REF!","v":{"$error":"#REF!"}},{"$f":"IF(COUNTIF($A$1:A661,A661)=1,ROW(),\"\")","v":""}]
[{"$f":"#REF!","v":{"$error":"#REF!"}},{"$f":"IF(COUNTIF($A$1:A662,A662)=1,ROW(),\"\")","v":""}]
[{"$f":"#REF!","v":{"$error":"#REF!"}},{"$f":"IF(COUNTIF($A$1:A663,A663)=1,ROW(),\"\")","v":""}]
[{"$f":"#REF!","v":{"$error":"#REF!"}},{"$f":"IF(COUNTIF($A$1:A664,A664)=1,ROW(),\"\")","v":""}]
[{"$f":"#REF!","v":{"$error":"#REF!"}},{"$f":"IF(COUNTIF($A$1:A665,A665)=1,ROW(),\"\")","v":""}]
[{"$f":"#REF!","v":{"$error":"#REF!"}},{"$f":"IF(COUNTIF($A$1:A666,A666)=1,ROW(),\"\")","v":""}]
[{"$f":"#REF!","v":{"$error":"#REF!"}},{"$f":"IF(COUNTIF($A$1:A667,A667)=1,ROW(),\"\")","v":""}]
[{"$f":"#REF!","v":{"$error":"#REF!"}},{"$f":"IF(COUNTIF($A$1:A668,A668)=1,ROW(),\"\")","v":""}]
[{"$f":"#REF!","v":{"$error":"#REF!"}},{"$f":"IF(COUNTIF($A$1:A669,A669)=1,ROW(),\"\")","v":""}]
[{"$f":"#REF!","v":{"$error":"#REF!"}},{"$f":"IF(COUNTIF($A$1:A670,A670)=1,ROW(),\"\")","v":""}]
[{"$f":"#REF!","v":{"$error":"#REF!"}},{"$f":"IF(COUNTIF($A$1:A671,A671)=1,ROW(),\"\")","v":""}]
[{"$f":"#REF!","v":{"$error":"#REF!"}},{"$f":"IF(COUNTIF($A$1:A672,A672)=1,ROW(),\"\")","v":""}]
[{"$f":"#REF!","v":{"$error":"#REF!"}},{"$f":"IF(COUNTIF($A$1:A673,A673)=1,ROW(),\"\")","v":""}]
[{"$f":"#REF!","v":{"$error":"#REF!"}},{"$f":"IF(COUNTIF($A$1:A674,A674)=1,ROW(),\"\")","v":""}]
[{"$f":"#REF!","v":{"$error":"#REF!"}},{"$f":"IF(COUNTIF($A$1:A675,A675)=1,ROW(),\"\")","v":""}]
[{"$f":"#REF!","v":{"$error":"#REF!"}},{"$f":"IF(COUNTIF($A$1:A676,A676)=1,ROW(),\"\")","v":""}]
[{"$f":"#REF!","v":{"$error":"#REF!"}},{"$f":"IF(COUNTIF($A$1:A677,A677)=1,ROW(),\"\")","v":""}]
[{"$f":"#REF!","v":{"$error":"#REF!"}},{"$f":"IF(COUNTIF($A$1:A678,A678)=1,ROW(),\"\")","v":""}]
[{"$f":"#REF!","v":{"$error":"#REF!"}},{"$f":"IF(COUNTIF($A$1:A679,A679)=1,ROW(),\"\")","v":""}]
[{"$f":"#REF!","v":{"$error":"#REF!"}},{"$f":"IF(COUNTIF($A$1:A680,A680)=1,ROW(),\"\")","v":""}]
[{"$f":"#REF!","v":{"$error":"#REF!"}},{"$f":"IF(COUNTIF($A$1:A681,A681)=1,ROW(),\"\")","v":""}]
[{"$f":"#REF!","v":{"$error":"#REF!"}},{"$f":"IF(COUNTIF($A$1:A682,A682)=1,ROW(),\"\")","v":""}]
[{"$f":"#REF!","v":{"$error":"#REF!"}},{"$f":"IF(COUNTIF($A$1:A683,A683)=1,ROW(),\"\")","v":""}]
[{"$f":"#REF!","v":{"$error":"#REF!"}},{"$f":"IF(COUNTIF($A$1:A684,A684)=1,ROW(),\"\")","v":""}]
[{"$f":"#REF!","v":{"$error":"#REF!"}},{"$f":"IF(COUNTIF($A$1:A685,A685)=1,ROW(),\"\")","v":""}]
[{"$f":"#REF!","v":{"$error":"#REF!"}},{"$f":"IF(COUNTIF($A$1:A686,A686)=1,ROW(),\"\")","v":""}]
[{"$f":"#REF!","v":{"$error":"#REF!"}},{"$f":"IF(COUNTIF($A$1:A687,A687)=1,ROW(),\"\")","v":""}]
[{"$f":"#REF!","v":{"$error":"#REF!"}},{"$f":"IF(COUNTIF($A$1:A688,A688)=1,ROW(),\"\")","v":""}]
[{"$f":"#REF!","v":{"$error":"#REF!"}},{"$f":"IF(COUNTIF($A$1:A689,A689)=1,ROW(),\"\")","v":""}]
[{"$f":"#REF!","v":{"$error":"#REF!"}},{"$f":"IF(COUNTIF($A$1:A690,A690)=1,ROW(),\"\")","v":""}]
[{"$f":"#REF!","v":{"$error":"#REF!"}},{"$f":"IF(COUNTIF($A$1:A691,A691)=1,ROW(),\"\")","v":""}]
[{"$f":"#REF!","v":{"$error":"#REF!"}},{"$f":"IF(COUNTIF($A$1:A692,A692)=1,ROW(),\"\")","v":""}]
[{"$f":"#REF!","v":{"$error":"#REF!"}},{"$f":"IF(COUNTIF($A$1:A693,A693)=1,ROW(),\"\")","v":""}]
[{"$f":"#REF!","v":{"$error":"#REF!"}},{"$f":"IF(COUNTIF($A$1:A694,A694)=1,ROW(),\"\")","v":""}]
[{"$f":"#REF!","v":{"$error":"#REF!"}},{"$f":"IF(COUNTIF($A$1:A695,A695)=1,ROW(),\"\")","v":""}]
[{"$f":"#REF!","v":{"$error":"#REF!"}},{"$f":"IF(COUNTIF($A$1:A696,A696)=1,ROW(),\"\")","v":""}]
[{"$f":"#REF!","v":{"$error":"#REF!"}},{"$f":"IF(COUNTIF($A$1:A697,A697)=1,ROW(),\"\")","v":""}]
[{"$f":"#REF!","v":{"$error":"#REF!"}},{"$f":"IF(COUNTIF($A$1:A698,A698)=1,ROW(),\"\")","v":""}]
[{"$f":"#REF!","v":{"$error":"#REF!"}},{"$f":"IF(COUNTIF($A$1:A699,A699)=1,ROW(),\"\")","v":""}]
[{"$f":"#REF!","v":{"$error":"#REF!"}},{"$f":"IF(COUNTIF($A$1:A700,A700)=1,ROW(),\"\")","v":""}]
[{"$f":"#REF!","v":{"$error":"#REF!"}},{"$f":"IF(COUNTIF($A$1:A701,A701)=1,ROW(),\"\")","v":""}]
[{"$f":"#REF!","v":{"$error":"#REF!"}},{"$f":"IF(COUNTIF($A$1:A702,A702)=1,ROW(),\"\")","v":""}]
[{"$f":"#REF!","v":{"$error":"#REF!"}},{"$f":"IF(COUNTIF($A$1:A703,A703)=1,ROW(),\"\")","v":""}]
[{"$f":"#REF!","v":{"$error":"#REF!"}},{"$f":"IF(COUNTIF($A$1:A704,A704)=1,ROW(),\"\")","v":""}]
[{"$f":"#REF!","v":{"$error":"#REF!"}},{"$f":"IF(COUNTIF($A$1:A705,A705)=1,ROW(),\"\")","v":""}]
[{"$f":"#REF!","v":{"$error":"#REF!"}},{"$f":"IF(COUNTIF($A$1:A706,A706)=1,ROW(),\"\")","v":""}]
[{"$f":"#REF!","v":{"$error":"#REF!"}},{"$f":"IF(COUNTIF($A$1:A707,A707)=1,ROW(),\"\")","v":""}]
[{"$f":"#REF!","v":{"$error":"#REF!"}},{"$f":"IF(COUNTIF($A$1:A708,A708)=1,ROW(),\"\")","v":""}]
[{"$f":"#REF!","v":{"$error":"#REF!"}},{"$f":"IF(COUNTIF($A$1:A709,A709)=1,ROW(),\"\")","v":""}]
[{"$f":"#REF!","v":{"$error":"#REF!"}},{"$f":"IF(COUNTIF($A$1:A710,A710)=1,ROW(),\"\")","v":""}]
[{"$f":"#REF!","v":{"$error":"#REF!"}},{"$f":"IF(COUNTIF($A$1:A711,A711)=1,ROW(),\"\")","v":""}]
[{"$f":"#REF!","v":{"$error":"#REF!"}},{"$f":"IF(COUNTIF($A$1:A712,A712)=1,ROW(),\"\")","v":""}]
[{"$f":"#REF!","v":{"$error":"#REF!"}},{"$f":"IF(COUNTIF($A$1:A713,A713)=1,ROW(),\"\")","v":""}]
[{"$f":"#REF!","v":{"$error":"#REF!"}},{"$f":"IF(COUNTIF($A$1:A714,A714)=1,ROW(),\"\")","v":""}]
[{"$f":"#REF!","v":{"$error":"#REF!"}},{"$f":"IF(COUNTIF($A$1:A715,A715)=1,ROW(),\"\")","v":""}]
[{"$f":"#REF!","v":{"$error":"#REF!"}},{"$f":"IF(COUNTIF($A$1:A716,A716)=1,ROW(),\"\")","v":""}]
[{"$f":"#REF!","v":{"$error":"#REF!"}},{"$f":"IF(COUNTIF($A$1:A717,A717)=1,ROW(),\"\")","v":""}]
[{"$f":"#REF!","v":{"$error":"#REF!"}},{"$f":"IF(COUNTIF($A$1:A718,A718)=1,ROW(),\"\")","v":""}]
[{"$f":"#REF!","v":{"$error":"#REF!"}},{"$f":"IF(COUNTIF($A$1:A719,A719)=1,ROW(),\"\")","v":""}]
[{"$f":"#REF!","v":{"$error":"#REF!"}},{"$f":"IF(COUNTIF($A$1:A720,A720)=1,ROW(),\"\")","v":""}]
[{"$f":"#REF!","v":{"$error":"#REF!"}},{"$f":"IF(COUNTIF($A$1:A721,A721)=1,ROW(),\"\")","v":""}]
[{"$f":"#REF!","v":{"$error":"#REF!"}},{"$f":"IF(COUNTIF($A$1:A722,A722)=1,ROW(),\"\")","v":""}]
[{"$f":"#REF!","v":{"$error":"#REF!"}},{"$f":"IF(COUNTIF($A$1:A723,A723)=1,ROW(),\"\")","v":""}]
[{"$f":"#REF!","v":{"$error":"#REF!"}},{"$f":"IF(COUNTIF($A$1:A724,A724)=1,ROW(),\"\")","v":""}]
[{"$f":"#REF!","v":{"$error":"#REF!"}},{"$f":"IF(COUNTIF($A$1:A725,A725)=1,ROW(),\"\")","v":""}]
[{"$f":"#REF!","v":{"$error":"#REF!"}},{"$f":"IF(COUNTIF($A$1:A726,A726)=1,ROW(),\"\")","v":""}]
[{"$f":"#REF!","v":{"$error":"#REF!"}},{"$f":"IF(COUNTIF($A$1:A727,A727)=1,ROW(),\"\")","v":""}]
[{"$f":"#REF!","v":{"$error":"#REF!"}},{"$f":"IF(COUNTIF($A$1:A728,A728)=1,ROW(),\"\")","v":""}]
[{"$f":"#REF!","v":{"$error":"#REF!"}},{"$f":"IF(COUNTIF($A$1:A729,A729)=1,ROW(),\"\")","v":""}]
[{"$f":"#REF!","v":{"$error":"#REF!"}},{"$f":"IF(COUNTIF($A$1:A730,A730)=1,ROW(),\"\")","v":""}]
[{"$f":"#REF!","v":{"$error":"#REF!"}},{"$f":"IF(COUNTIF($A$1:A731,A731)=1,ROW(),\"\")","v":""}]
[{"$f":"#REF!","v":{"$error":"#REF!"}},{"$f":"IF(COUNTIF($A$1:A732,A732)=1,ROW(),\"\")","v":""}]
[{"$f":"#REF!","v":{"$error":"#REF!"}},{"$f":"IF(COUNTIF($A$1:A733,A733)=1,ROW(),\"\")","v":""}]
[{"$f":"#REF!","v":{"$error":"#REF!"}},{"$f":"IF(COUNTIF($A$1:A734,A734)=1,ROW(),\"\")","v":""}]
[{"$f":"#REF!","v":{"$error":"#REF!"}},{"$f":"IF(COUNTIF($A$1:A735,A735)=1,ROW(),\"\")","v":""}]
[{"$f":"#REF!","v":{"$error":"#REF!"}},{"$f":"IF(COUNTIF($A$1:A736,A736)=1,ROW(),\"\")","v":""}]
[{"$f":"#REF!","v":{"$error":"#REF!"}},{"$f":"IF(COUNTIF($A$1:A737,A737)=1,ROW(),\"\")","v":""}]
[{"$f":"#REF!","v":{"$error":"#REF!"}},{"$f":"IF(COUNTIF($A$1:A738,A738)=1,ROW(),\"\")","v":""}]
[{"$f":"#REF!","v":{"$error":"#REF!"}},{"$f":"IF(COUNTIF($A$1:A739,A739)=1,ROW(),\"\")","v":""}]
[{"$f":"#REF!","v":{"$error":"#REF!"}},{"$f":"IF(COUNTIF($A$1:A740,A740)=1,ROW(),\"\")","v":""}]
[{"$f":"#REF!","v":{"$error":"#REF!"}},{"$f":"IF(COUNTIF($A$1:A741,A741)=1,ROW(),\"\")","v":""}]
[{"$f":"#REF!","v":{"$error":"#REF!"}},{"$f":"IF(COUNTIF($A$1:A742,A742)=1,ROW(),\"\")","v":""}]
[{"$f":"#REF!","v":{"$error":"#REF!"}},{"$f":"IF(COUNTIF($A$1:A743,A743)=1,ROW(),\"\")","v":""}]
[{"$f":"#REF!","v":{"$error":"#REF!"}},{"$f":"IF(COUNTIF($A$1:A744,A744)=1,ROW(),\"\")","v":""}]
[{"$f":"#REF!","v":{"$error":"#REF!"}},{"$f":"IF(COUNTIF($A$1:A745,A745)=1,ROW(),\"\")","v":""}]
[{"$f":"#REF!","v":{"$error":"#REF!"}},{"$f":"IF(COUNTIF($A$1:A746,A746)=1,ROW(),\"\")","v":""}]
[{"$f":"#REF!","v":{"$error":"#REF!"}},{"$f":"IF(COUNTIF($A$1:A747,A747)=1,ROW(),\"\")","v":""}]
[{"$f":"#REF!","v":{"$error":"#REF!"}},{"$f":"IF(COUNTIF($A$1:A748,A748)=1,ROW(),\"\")","v":""}]
[{"$f":"#REF!","v":{"$error":"#REF!"}},{"$f":"IF(COUNTIF($A$1:A749,A749)=1,ROW(),\"\")","v":""}]
[{"$f":"#REF!","v":{"$error":"#REF!"}},{"$f":"IF(COUNTIF($A$1:A750,A750)=1,ROW(),\"\")","v":""}]
[{"$f":"#REF!","v":{"$error":"#REF!"}},{"$f":"IF(COUNTIF($A$1:A751,A751)=1,ROW(),\"\")","v":""}]
[{"$f":"#REF!","v":{"$error":"#REF!"}},{"$f":"IF(COUNTIF($A$1:A752,A752)=1,ROW(),\"\")","v":""}]
[{"$f":"#REF!","v":{"$error":"#REF!"}},{"$f":"IF(COUNTIF($A$1:A753,A753)=1,ROW(),\"\")","v":""}]
[{"$f":"#REF!","v":{"$error":"#REF!"}},{"$f":"IF(COUNTIF($A$1:A754,A754)=1,ROW(),\"\")","v":""}]
[{"$f":"#REF!","v":{"$error":"#REF!"}},{"$f":"IF(COUNTIF($A$1:A755,A755)=1,ROW(),\"\")","v":""}]
[{"$f":"#REF!","v":{"$error":"#REF!"}},{"$f":"IF(COUNTIF($A$1:A756,A756)=1,ROW(),\"\")","v":""}]
[{"$f":"#REF!","v":{"$error":"#REF!"}},{"$f":"IF(COUNTIF($A$1:A757,A757)=1,ROW(),\"\")","v":""}]
[{"$f":"#REF!","v":{"$error":"#REF!"}},{"$f":"IF(COUNTIF($A$1:A758,A758)=1,ROW(),\"\")","v":""}]
[{"$f":"#REF!","v":{"$error":"#REF!"}},{"$f":"IF(COUNTIF($A$1:A759,A759)=1,ROW(),\"\")","v":""}]
[{"$f":"#REF!","v":{"$error":"#REF!"}},{"$f":"IF(COUNTIF($A$1:A760,A760)=1,ROW(),\"\")","v":""}]
[{"$f":"#REF!","v":{"$error":"#REF!"}},{"$f":"IF(COUNTIF($A$1:A761,A761)=1,ROW(),\"\")","v":""}]
[{"$f":"#REF!","v":{"$error":"#REF!"}},{"$f":"IF(COUNTIF($A$1:A762,A762)=1,ROW(),\"\")","v":""}]
[{"$f":"#REF!","v":{"$error":"#REF!"}},{"$f":"IF(COUNTIF($A$1:A763,A763)=1,ROW(),\"\")","v":""}]
[{"$f":"#REF!","v":{"$error":"#REF!"}},{"$f":"IF(COUNTIF($A$1:A764,A764)=1,ROW(),\"\")","v":""}]
[{"$f":"#REF!","v":{"$error":"#REF!"}},{"$f":"IF(COUNTIF($A$1:A765,A765)=1,ROW(),\"\")","v":""}]
[{"$f":"#REF!","v":{"$error":"#REF!"}},{"$f":"IF(COUNTIF($A$1:A766,A766)=1,ROW(),\"\")","v":""}]
[{"$f":"#REF!","v":{"$error":"#REF!"}},{"$f":"IF(COUNTIF($A$1:A767,A767)=1,ROW(),\"\")","v":""}]
[{"$f":"#REF!","v":{"$error":"#REF!"}},{"$f":"IF(COUNTIF($A$1:A768,A768)=1,ROW(),\"\")","v":""}]
[{"$f":"#REF!","v":{"$error":"#REF!"}},{"$f":"IF(COUNTIF($A$1:A769,A769)=1,ROW(),\"\")","v":""}]
[{"$f":"#REF!","v":{"$error":"#REF!"}},{"$f":"IF(COUNTIF($A$1:A770,A770)=1,ROW(),\"\")","v":""}]
[{"$f":"#REF!","v":{"$error":"#REF!"}},{"$f":"IF(COUNTIF($A$1:A771,A771)=1,ROW(),\"\")","v":""}]
[{"$f":"#REF!","v":{"$error":"#REF!"}},{"$f":"IF(COUNTIF($A$1:A772,A772)=1,ROW(),\"\")","v":""}]
[{"$f":"#REF!","v":{"$error":"#REF!"}},{"$f":"IF(COUNTIF($A$1:A773,A773)=1,ROW(),\"\")","v":""}]
[{"$f":"#REF!","v":{"$error":"#REF!"}},{"$f":"IF(COUNTIF($A$1:A774,A774)=1,ROW(),\"\")","v":""}]
[{"$f":"#REF!","v":{"$error":"#REF!"}},{"$f":"IF(COUNTIF($A$1:A775,A775)=1,ROW(),\"\")","v":""}]
[{"$f":"#REF!","v":{"$error":"#REF!"}},{"$f":"IF(COUNTIF($A$1:A776,A776)=1,ROW(),\"\")","v":""}]
[{"$f":"#REF!","v":{"$error":"#REF!"}},{"$f":"IF(COUNTIF($A$1:A777,A777)=1,ROW(),\"\")","v":""}]
[{"$f":"#REF!","v":{"$error":"#REF!"}},{"$f":"IF(COUNTIF($A$1:A778,A778)=1,ROW(),\"\")","v":""}]
[{"$f":"#REF!","v":{"$error":"#REF!"}},{"$f":"IF(COUNTIF($A$1:A779,A779)=1,ROW(),\"\")","v":""}]
[{"$f":"#REF!","v":{"$error":"#REF!"}},{"$f":"IF(COUNTIF($A$1:A780,A780)=1,ROW(),\"\")","v":""}]
[{"$f":"#REF!","v":{"$error":"#REF!"}},{"$f":"IF(COUNTIF($A$1:A781,A781)=1,ROW(),\"\")","v":""}]
[{"$f":"#REF!","v":{"$error":"#REF!"}},{"$f":"IF(COUNTIF($A$1:A782,A782)=1,ROW(),\"\")","v":""}]
[{"$f":"#REF!","v":{"$error":"#REF!"}},{"$f":"IF(COUNTIF($A$1:A783,A783)=1,ROW(),\"\")","v":""}]
[{"$f":"#REF!","v":{"$error":"#REF!"}},{"$f":"IF(COUNTIF($A$1:A784,A784)=1,ROW(),\"\")","v":""}]
[{"$f":"#REF!","v":{"$error":"#REF!"}},{"$f":"IF(COUNTIF($A$1:A785,A785)=1,ROW(),\"\")","v":""}]
[{"$f":"#REF!","v":{"$error":"#REF!"}},{"$f":"IF(COUNTIF($A$1:A786,A786)=1,ROW(),\"\")","v":""}]
[{"$f":"#REF!","v":{"$error":"#REF!"}},{"$f":"IF(COUNTIF($A$1:A787,A787)=1,ROW(),\"\")","v":""}]
[{"$f":"#REF!","v":{"$error":"#REF!"}},{"$f":"IF(COUNTIF($A$1:A788,A788)=1,ROW(),\"\")","v":""}]
[{"$f":"#REF!","v":{"$error":"#REF!"}},{"$f":"IF(COUNTIF($A$1:A789,A789)=1,ROW(),\"\")","v":""}]
[{"$f":"#REF!","v":{"$error":"#REF!"}},{"$f":"IF(COUNTIF($A$1:A790,A790)=1,ROW(),\"\")","v":""}]
[{"$f":"#REF!","v":{"$error":"#REF!"}},{"$f":"IF(COUNTIF($A$1:A791,A791)=1,ROW(),\"\")","v":""}]
[{"$f":"#REF!","v":{"$error":"#REF!"}},{"$f":"IF(COUNTIF($A$1:A792,A792)=1,ROW(),\"\")","v":""}]
[{"$f":"#REF!","v":{"$error":"#REF!"}},{"$f":"IF(COUNTIF($A$1:A793,A793)=1,ROW(),\"\")","v":""}]
[{"$f":"#REF!","v":{"$error":"#REF!"}},{"$f":"IF(COUNTIF($A$1:A794,A794)=1,ROW(),\"\")","v":""}]
[{"$f":"#REF!","v":{"$error":"#REF!"}},{"$f":"IF(COUNTIF($A$1:A795,A795)=1,ROW(),\"\")","v":""}]
[{"$f":"#REF!","v":{"$error":"#REF!"}},{"$f":"IF(COUNTIF($A$1:A796,A796)=1,ROW(),\"\")","v":""}]
[{"$f":"#REF!","v":{"$error":"#REF!"}},{"$f":"IF(COUNTIF($A$1:A797,A797)=1,ROW(),\"\")","v":""}]
[{"$f":"#REF!","v":{"$error":"#REF!"}},{"$f":"IF(COUNTIF($A$1:A798,A798)=1,ROW(),\"\")","v":""}]
[{"$f":"#REF!","v":{"$error":"#REF!"}},{"$f":"IF(COUNTIF($A$1:A799,A799)=1,ROW(),\"\")","v":""}]
[{"$f":"#REF!","v":{"$error":"#REF!"}},{"$f":"IF(COUNTIF($A$1:A800,A800)=1,ROW(),\"\")","v":""}]
[{"$f":"#REF!","v":{"$error":"#REF!"}},{"$f":"IF(COUNTIF($A$1:A801,A801)=1,ROW(),\"\")","v":""}]
[{"$f":"#REF!","v":{"$error":"#REF!"}},{"$f":"IF(COUNTIF($A$1:A802,A802)=1,ROW(),\"\")","v":""}]
[{"$f":"#REF!","v":{"$error":"#REF!"}},{"$f":"IF(COUNTIF($A$1:A803,A803)=1,ROW(),\"\")","v":""}]
[{"$f":"#REF!","v":{"$error":"#REF!"}},{"$f":"IF(COUNTIF($A$1:A804,A804)=1,ROW(),\"\")","v":""}]
[{"$f":"#REF!","v":{"$error":"#REF!"}},{"$f":"IF(COUNTIF($A$1:A805,A805)=1,ROW(),\"\")","v":""}]
[{"$f":"#REF!","v":{"$error":"#REF!"}},{"$f":"IF(COUNTIF($A$1:A806,A806)=1,ROW(),\"\")","v":""}]
[{"$f":"#REF!","v":{"$error":"#REF!"}},{"$f":"IF(COUNTIF($A$1:A807,A807)=1,ROW(),\"\")","v":""}]
[{"$f":"#REF!","v":{"$error":"#REF!"}},{"$f":"IF(COUNTIF($A$1:A808,A808)=1,ROW(),\"\")","v":""}]
[{"$f":"#REF!","v":{"$error":"#REF!"}},{"$f":"IF(COUNTIF($A$1:A809,A809)=1,ROW(),\"\")","v":""}]
[{"$f":"#REF!","v":{"$error":"#REF!"}},{"$f":"IF(COUNTIF($A$1:A810,A810)=1,ROW(),\"\")","v":""}]
[{"$f":"#REF!","v":{"$error":"#REF!"}},{"$f":"IF(COUNTIF($A$1:A811,A811)=1,ROW(),\"\")","v":""}]
[{"$f":"#REF!","v":{"$error":"#REF!"}},{"$f":"IF(COUNTIF($A$1:A812,A812)=1,ROW(),\"\")","v":""}]
[{"$f":"#REF!","v":{"$error":"#REF!"}},{"$f":"IF(COUNTIF($A$1:A813,A813)=1,ROW(),\"\")","v":""}]
[{"$f":"#REF!","v":{"$error":"#REF!"}},{"$f":"IF(COUNTIF($A$1:A814,A814)=1,ROW(),\"\")","v":""}]
[{"$f":"#REF!","v":{"$error":"#REF!"}},{"$f":"IF(COUNTIF($A$1:A815,A815)=1,ROW(),\"\")","v":""}]
[{"$f":"#REF!","v":{"$error":"#REF!"}},{"$f":"IF(COUNTIF($A$1:A816,A816)=1,ROW(),\"\")","v":""}]
[{"$f":"#REF!","v":{"$error":"#REF!"}},{"$f":"IF(COUNTIF($A$1:A817,A817)=1,ROW(),\"\")","v":""}]
[{"$f":"#REF!","v":{"$error":"#REF!"}},{"$f":"IF(COUNTIF($A$1:A818,A818)=1,ROW(),\"\")","v":""}]
[{"$f":"#REF!","v":{"$error":"#REF!"}},{"$f":"IF(COUNTIF($A$1:A819,A819)=1,ROW(),\"\")","v":""}]
[{"$f":"#REF!","v":{"$error":"#REF!"}},{"$f":"IF(COUNTIF($A$1:A820,A820)=1,ROW(),\"\")","v":""}]
[{"$f":"#REF!","v":{"$error":"#REF!"}},{"$f":"IF(COUNTIF($A$1:A821,A821)=1,ROW(),\"\")","v":""}]
[{"$f":"#REF!","v":{"$error":"#REF!"}},{"$f":"IF(COUNTIF($A$1:A822,A822)=1,ROW(),\"\")","v":""}]
[{"$f":"#REF!","v":{"$error":"#REF!"}},{"$f":"IF(COUNTIF($A$1:A823,A823)=1,ROW(),\"\")","v":""}]
[{"$f":"#REF!","v":{"$error":"#REF!"}},{"$f":"IF(COUNTIF($A$1:A824,A824)=1,ROW(),\"\")","v":""}]
[{"$f":"#REF!","v":{"$error":"#REF!"}},{"$f":"IF(COUNTIF($A$1:A825,A825)=1,ROW(),\"\")","v":""}]
[{"$f":"#REF!","v":{"$error":"#REF!"}},{"$f":"IF(COUNTIF($A$1:A826,A826)=1,ROW(),\"\")","v":""}]
[{"$f":"#REF!","v":{"$error":"#REF!"}},{"$f":"IF(COUNTIF($A$1:A827,A827)=1,ROW(),\"\")","v":""}]
[{"$f":"#REF!","v":{"$error":"#REF!"}},{"$f":"IF(COUNTIF($A$1:A828,A828)=1,ROW(),\"\")","v":""}]
[{"$f":"#REF!","v":{"$error":"#REF!"}},{"$f":"IF(COUNTIF($A$1:A829,A829)=1,ROW(),\"\")","v":""}]
[{"$f":"#REF!","v":{"$error":"#REF!"}},{"$f":"IF(COUNTIF($A$1:A830,A830)=1,ROW(),\"\")","v":""}]
[{"$f":"#REF!","v":{"$error":"#REF!"}},{"$f":"IF(COUNTIF($A$1:A831,A831)=1,ROW(),\"\")","v":""}]
[{"$f":"#REF!","v":{"$error":"#REF!"}},{"$f":"IF(COUNTIF($A$1:A832,A832)=1,ROW(),\"\")","v":""}]
[{"$f":"#REF!","v":{"$error":"#REF!"}},{"$f":"IF(COUNTIF($A$1:A833,A833)=1,ROW(),\"\")","v":""}]
[{"$f":"#REF!","v":{"$error":"#REF!"}},{"$f":"IF(COUNTIF($A$1:A834,A834)=1,ROW(),\"\")","v":""}]
[{"$f":"#REF!","v":{"$error":"#REF!"}},{"$f":"IF(COUNTIF($A$1:A835,A835)=1,ROW(),\"\")","v":""}]
[{"$f":"#REF!","v":{"$error":"#REF!"}},{"$f":"IF(COUNTIF($A$1:A836,A836)=1,ROW(),\"\")","v":""}]
[{"$f":"#REF!","v":{"$error":"#REF!"}},{"$f":"IF(COUNTIF($A$1:A837,A837)=1,ROW(),\"\")","v":""}]
[{"$f":"#REF!","v":{"$error":"#REF!"}},{"$f":"IF(COUNTIF($A$1:A838,A838)=1,ROW(),\"\")","v":""}]
[{"$f":"#REF!","v":{"$error":"#REF!"}},{"$f":"IF(COUNTIF($A$1:A839,A839)=1,ROW(),\"\")","v":""}]
[{"$f":"#REF!","v":{"$error":"#REF!"}},{"$f":"IF(COUNTIF($A$1:A840,A840)=1,ROW(),\"\")","v":""}]
[{"$f":"#REF!","v":{"$error":"#REF!"}},{"$f":"IF(COUNTIF($A$1:A841,A841)=1,ROW(),\"\")","v":""}]
[{"$f":"#REF!","v":{"$error":"#REF!"}},{"$f":"IF(COUNTIF($A$1:A842,A842)=1,ROW(),\"\")","v":""}]
[{"$f":"#REF!","v":{"$error":"#REF!"}},{"$f":"IF(COUNTIF($A$1:A843,A843)=1,ROW(),\"\")","v":""}]
[{"$f":"#REF!","v":{"$error":"#REF!"}},{"$f":"IF(COUNTIF($A$1:A844,A844)=1,ROW(),\"\")","v":""}]
[{"$f":"#REF!","v":{"$error":"#REF!"}},{"$f":"IF(COUNTIF($A$1:A845,A845)=1,ROW(),\"\")","v":""}]
[{"$f":"#REF!","v":{"$error":"#REF!"}},{"$f":"IF(COUNTIF($A$1:A846,A846)=1,ROW(),\"\")","v":""}]
[{"$f":"#REF!","v":{"$error":"#REF!"}},{"$f":"IF(COUNTIF($A$1:A847,A847)=1,ROW(),\"\")","v":""}]
[{"$f":"#REF!","v":{"$error":"#REF!"}},{"$f":"IF(COUNTIF($A$1:A848,A848)=1,ROW(),\"\")","v":""}]
[{"$f":"#REF!","v":{"$error":"#REF!"}},{"$f":"IF(COUNTIF($A$1:A849,A849)=1,ROW(),\"\")","v":""}]
[{"$f":"#REF!","v":{"$error":"#REF!"}},{"$f":"IF(COUNTIF($A$1:A850,A850)=1,ROW(),\"\")","v":""}]
[{"$f":"#REF!","v":{"$error":"#REF!"}},{"$f":"IF(COUNTIF($A$1:A851,A851)=1,ROW(),\"\")","v":""}]
[{"$f":"#REF!","v":{"$error":"#REF!"}},{"$f":"IF(COUNTIF($A$1:A852,A852)=1,ROW(),\"\")","v":""}]
[{"$f":"#REF!","v":{"$error":"#REF!"}},{"$f":"IF(COUNTIF($A$1:A853,A853)=1,ROW(),\"\")","v":""}]
[{"$f":"#REF!","v":{"$error":"#REF!"}},{"$f":"IF(COUNTIF($A$1:A854,A854)=1,ROW(),\"\")","v":""}]
[{"$f":"#REF!","v":{"$error":"#REF!"}},{"$f":"IF(COUNTIF($A$1:A855,A855)=1,ROW(),\"\")","v":""}]
[{"$f":"#REF!","v":{"$error":"#REF!"}},{"$f":"IF(COUNTIF($A$1:A856,A856)=1,ROW(),\"\")","v":""}]
[{"$f":"#REF!","v":{"$error":"#REF!"}},{"$f":"IF(COUNTIF($A$1:A857,A857)=1,ROW(),\"\")","v":""}]
[{"$f":"#REF!","v":{"$error":"#REF!"}},{"$f":"IF(COUNTIF($A$1:A858,A858)=1,ROW(),\"\")","v":""}]
[{"$f":"#REF!","v":{"$error":"#REF!"}},{"$f":"IF(COUNTIF($A$1:A859,A859)=1,ROW(),\"\")","v":""}]
[{"$f":"#REF!","v":{"$error":"#REF!"}},{"$f":"IF(COUNTIF($A$1:A860,A860)=1,ROW(),\"\")","v":""}]
[{"$f":"#REF!","v":{"$error":"#REF!"}},{"$f":"IF(COUNTIF($A$1:A861,A861)=1,ROW(),\"\")","v":""}]
[{"$f":"#REF!","v":{"$error":"#REF!"}},{"$f":"IF(COUNTIF($A$1:A862,A862)=1,ROW(),\"\")","v":""}]
[{"$f":"#REF!","v":{"$error":"#REF!"}},{"$f":"IF(COUNTIF($A$1:A863,A863)=1,ROW(),\"\")","v":""}]
[{"$f":"#REF!","v":{"$error":"#REF!"}},{"$f":"IF(COUNTIF($A$1:A864,A864)=1,ROW(),\"\")","v":""}]
[{"$f":"#REF!","v":{"$error":"#REF!"}},{"$f":"IF(COUNTIF($A$1:A865,A865)=1,ROW(),\"\")","v":""}]
[{"$f":"#REF!","v":{"$error":"#REF!"}},{"$f":"IF(COUNTIF($A$1:A866,A866)=1,ROW(),\"\")","v":""}]
[{"$f":"#REF!","v":{"$error":"#REF!"}},{"$f":"IF(COUNTIF($A$1:A867,A867)=1,ROW(),\"\")","v":""}]
[{"$f":"#REF!","v":{"$error":"#REF!"}},{"$f":"IF(COUNTIF($A$1:A868,A868)=1,ROW(),\"\")","v":""}]
[{"$f":"#REF!","v":{"$error":"#REF!"}},{"$f":"IF(COUNTIF($A$1:A869,A869)=1,ROW(),\"\")","v":""}]
[{"$f":"#REF!","v":{"$error":"#REF!"}},{"$f":"IF(COUNTIF($A$1:A870,A870)=1,ROW(),\"\")","v":""}]
[{"$f":"#REF!","v":{"$error":"#REF!"}},{"$f":"IF(COUNTIF($A$1:A871,A871)=1,ROW(),\"\")","v":""}]
[{"$f":"#REF!","v":{"$error":"#REF!"}},{"$f":"IF(COUNTIF($A$1:A872,A872)=1,ROW(),\"\")","v":""}]
[{"$f":"#REF!","v":{"$error":"#REF!"}},{"$f":"IF(COUNTIF($A$1:A873,A873)=1,ROW(),\"\")","v":""}]
[{"$f":"#REF!","v":{"$error":"#REF!"}},{"$f":"IF(COUNTIF($A$1:A874,A874)=1,ROW(),\"\")","v":""}]
[{"$f":"#REF!","v":{"$error":"#REF!"}},{"$f":"IF(COUNTIF($A$1:A875,A875)=1,ROW(),\"\")","v":""}]
[{"$f":"#REF!","v":{"$error":"#REF!"}},{"$f":"IF(COUNTIF($A$1:A876,A876)=1,ROW(),\"\")","v":""}]
[{"$f":"#REF!","v":{"$error":"#REF!"}},{"$f":"IF(COUNTIF($A$1:A877,A877)=1,ROW(),\"\")","v":""}]
[{"$f":"#REF!","v":{"$error":"#REF!"}},{"$f":"IF(COUNTIF($A$1:A878,A878)=1,ROW(),\"\")","v":""}]
[{"$f":"#REF!","v":{"$error":"#REF!"}},{"$f":"IF(COUNTIF($A$1:A879,A879)=1,ROW(),\"\")","v":""}]
[{"$f":"#REF!","v":{"$error":"#REF!"}},{"$f":"IF(COUNTIF($A$1:A880,A880)=1,ROW(),\"\")","v":""}]
[{"$f":"#REF!","v":{"$error":"#REF!"}},{"$f":"IF(COUNTIF($A$1:A881,A881)=1,ROW(),\"\")","v":""}]
[{"$f":"#REF!","v":{"$error":"#REF!"}},{"$f":"IF(COUNTIF($A$1:A882,A882)=1,ROW(),\"\")","v":""}]
[{"$f":"#REF!","v":{"$error":"#REF!"}},{"$f":"IF(COUNTIF($A$1:A883,A883)=1,ROW(),\"\")","v":""}]
[{"$f":"#REF!","v":{"$error":"#REF!"}},{"$f":"IF(COUNTIF($A$1:A884,A884)=1,ROW(),\"\")","v":""}]
[{"$f":"#REF!","v":{"$error":"#REF!"}},{"$f":"IF(COUNTIF($A$1:A885,A885)=1,ROW(),\"\")","v":""}]
[{"$f":"#REF!","v":{"$error":"#REF!"}},{"$f":"IF(COUNTIF($A$1:A886,A886)=1,ROW(),\"\")","v":""}]
[{"$f":"#REF!","v":{"$error":"#REF!"}},{"$f":"IF(COUNTIF($A$1:A887,A887)=1,ROW(),\"\")","v":""}]
[{"$f":"#REF!","v":{"$error":"#REF!"}},{"$f":"IF(COUNTIF($A$1:A888,A888)=1,ROW(),\"\")","v":""}]
[{"$f":"#REF!","v":{"$error":"#REF!"}},{"$f":"IF(COUNTIF($A$1:A889,A889)=1,ROW(),\"\")","v":""}]
[{"$f":"#REF!","v":{"$error":"#REF!"}},{"$f":"IF(COUNTIF($A$1:A890,A890)=1,ROW(),\"\")","v":""}]
[{"$f":"#REF!","v":{"$error":"#REF!"}},{"$f":"IF(COUNTIF($A$1:A891,A891)=1,ROW(),\"\")","v":""}]
[{"$f":"#REF!","v":{"$error":"#REF!"}},{"$f":"IF(COUNTIF($A$1:A892,A892)=1,ROW(),\"\")","v":""}]
[{"$f":"#REF!","v":{"$error":"#REF!"}},{"$f":"IF(COUNTIF($A$1:A893,A893)=1,ROW(),\"\")","v":""}]
[{"$f":"#REF!","v":{"$error":"#REF!"}},{"$f":"IF(COUNTIF($A$1:A894,A894)=1,ROW(),\"\")","v":""}]
[{"$f":"#REF!","v":{"$error":"#REF!"}},{"$f":"IF(COUNTIF($A$1:A895,A895)=1,ROW(),\"\")","v":""}]
[{"$f":"#REF!","v":{"$error":"#REF!"}},{"$f":"IF(COUNTIF($A$1:A896,A896)=1,ROW(),\"\")","v":""}]
[{"$f":"#REF!","v":{"$error":"#REF!"}},{"$f":"IF(COUNTIF($A$1:A897,A897)=1,ROW(),\"\")","v":""}]
[{"$f":"#REF!","v":{"$error":"#REF!"}},{"$f":"IF(COUNTIF($A$1:A898,A898)=1,ROW(),\"\")","v":""}]
[{"$f":"#REF!","v":{"$error":"#REF!"}},{"$f":"IF(COUNTIF($A$1:A899,A899)=1,ROW(),\"\")","v":""}]
[{"$f":"#REF!","v":{"$error":"#REF!"}},{"$f":"IF(COUNTIF($A$1:A900,A900)=1,ROW(),\"\")","v":""}]
[{"$f":"#REF!","v":{"$error":"#REF!"}},{"$f":"IF(COUNTIF($A$1:A901,A901)=1,ROW(),\"\")","v":""}]
[{"$f":"#REF!","v":{"$error":"#REF!"}},{"$f":"IF(COUNTIF($A$1:A902,A902)=1,ROW(),\"\")","v":""}]
[{"$f":"#REF!","v":{"$error":"#REF!"}},{"$f":"IF(COUNTIF($A$1:A903,A903)=1,ROW(),\"\")","v":""}]
[{"$f":"#REF!","v":{"$error":"#REF!"}},{"$f":"IF(COUNTIF($A$1:A904,A904)=1,ROW(),\"\")","v":""}]
[{"$f":"#REF!","v":{"$error":"#REF!"}},{"$f":"IF(COUNTIF($A$1:A905,A905)=1,ROW(),\"\")","v":""}]
[{"$f":"#REF!","v":{"$error":"#REF!"}},{"$f":"IF(COUNTIF($A$1:A906,A906)=1,ROW(),\"\")","v":""}]
[{"$f":"#REF!","v":{"$error":"#REF!"}},{"$f":"IF(COUNTIF($A$1:A907,A907)=1,ROW(),\"\")","v":""}]
[{"$f":"#REF!","v":{"$error":"#REF!"}},{"$f":"IF(COUNTIF($A$1:A908,A908)=1,ROW(),\"\")","v":""}]
[{"$f":"#REF!","v":{"$error":"#REF!"}},{"$f":"IF(COUNTIF($A$1:A909,A909)=1,ROW(),\"\")","v":""}]
[{"$f":"#REF!","v":{"$error":"#REF!"}},{"$f":"IF(COUNTIF($A$1:A910,A910)=1,ROW(),\"\")","v":""}]
[{"$f":"#REF!","v":{"$error":"#REF!"}},{"$f":"IF(COUNTIF($A$1:A911,A911)=1,ROW(),\"\")","v":""}]
[{"$f":"#REF!","v":{"$error":"#REF!"}},{"$f":"IF(COUNTIF($A$1:A912,A912)=1,ROW(),\"\")","v":""}]
[{"$f":"#REF!","v":{"$error":"#REF!"}},{"$f":"IF(COUNTIF($A$1:A913,A913)=1,ROW(),\"\")","v":""}]
[{"$f":"#REF!","v":{"$error":"#REF!"}},{"$f":"IF(COUNTIF($A$1:A914,A914)=1,ROW(),\"\")","v":""}]
[{"$f":"#REF!","v":{"$error":"#REF!"}},{"$f":"IF(COUNTIF($A$1:A915,A915)=1,ROW(),\"\")","v":""}]
[{"$f":"#REF!","v":{"$error":"#REF!"}},{"$f":"IF(COUNTIF($A$1:A916,A916)=1,ROW(),\"\")","v":""}]
[{"$f":"#REF!","v":{"$error":"#REF!"}},{"$f":"IF(COUNTIF($A$1:A917,A917)=1,ROW(),\"\")","v":""}]
[{"$f":"#REF!","v":{"$error":"#REF!"}},{"$f":"IF(COUNTIF($A$1:A918,A918)=1,ROW(),\"\")","v":""}]
[{"$f":"#REF!","v":{"$error":"#REF!"}},{"$f":"IF(COUNTIF($A$1:A919,A919)=1,ROW(),\"\")","v":""}]
[{"$f":"#REF!","v":{"$error":"#REF!"}},{"$f":"IF(COUNTIF($A$1:A920,A920)=1,ROW(),\"\")","v":""}]
[{"$f":"#REF!","v":{"$error":"#REF!"}},{"$f":"IF(COUNTIF($A$1:A921,A921)=1,ROW(),\"\")","v":""}]
[{"$f":"#REF!","v":{"$error":"#REF!"}},{"$f":"IF(COUNTIF($A$1:A922,A922)=1,ROW(),\"\")","v":""}]
[{"$f":"#REF!","v":{"$error":"#REF!"}},{"$f":"IF(COUNTIF($A$1:A923,A923)=1,ROW(),\"\")","v":""}]
[{"$f":"#REF!","v":{"$error":"#REF!"}},{"$f":"IF(COUNTIF($A$1:A924,A924)=1,ROW(),\"\")","v":""}]
[{"$f":"#REF!","v":{"$error":"#REF!"}},{"$f":"IF(COUNTIF($A$1:A925,A925)=1,ROW(),\"\")","v":""}]
[{"$f":"#REF!","v":{"$error":"#REF!"}},{"$f":"IF(COUNTIF($A$1:A926,A926)=1,ROW(),\"\")","v":""}]
[{"$f":"#REF!","v":{"$error":"#REF!"}},{"$f":"IF(COUNTIF($A$1:A927,A927)=1,ROW(),\"\")","v":""}]
[{"$f":"#REF!","v":{"$error":"#REF!"}},{"$f":"IF(COUNTIF($A$1:A928,A928)=1,ROW(),\"\")","v":""}]
[{"$f":"#REF!","v":{"$error":"#REF!"}},{"$f":"IF(COUNTIF($A$1:A929,A929)=1,ROW(),\"\")","v":""}]
[{"$f":"#REF!","v":{"$error":"#REF!"}},{"$f":"IF(COUNTIF($A$1:A930,A930)=1,ROW(),\"\")","v":""}]
[{"$f":"#REF!","v":{"$error":"#REF!"}},{"$f":"IF(COUNTIF($A$1:A931,A931)=1,ROW(),\"\")","v":""}]
[{"$f":"#REF!","v":{"$error":"#REF!"}},{"$f":"IF(COUNTIF($A$1:A932,A932)=1,ROW(),\"\")","v":""}]
[{"$f":"#REF!","v":{"$error":"#REF!"}},{"$f":"IF(COUNTIF($A$1:A933,A933)=1,ROW(),\"\")","v":""}]
[{"$f":"#REF!","v":{"$error":"#REF!"}},{"$f":"IF(COUNTIF($A$1:A934,A934)=1,ROW(),\"\")","v":""}]
[{"$f":"#REF!","v":{"$error":"#REF!"}},{"$f":"IF(COUNTIF($A$1:A935,A935)=1,ROW(),\"\")","v":""}]
[{"$f":"#REF!","v":{"$error":"#REF!"}},{"$f":"IF(COUNTIF($A$1:A936,A936)=1,ROW(),\"\")","v":""}]
[{"$f":"#REF!","v":{"$error":"#REF!"}},{"$f":"IF(COUNTIF($A$1:A937,A937)=1,ROW(),\"\")","v":""}]
[{"$f":"#REF!","v":{"$error":"#REF!"}},{"$f":"IF(COUNTIF($A$1:A938,A938)=1,ROW(),\"\")","v":""}]
[{"$f":"#REF!","v":{"$error":"#REF!"}},{"$f":"IF(COUNTIF($A$1:A939,A939)=1,ROW(),\"\")","v":""}]
[{"$f":"#REF!","v":{"$error":"#REF!"}},{"$f":"IF(COUNTIF($A$1:A940,A940)=1,ROW(),\"\")","v":""}]
[{"$f":"#REF!","v":{"$error":"#REF!"}},{"$f":"IF(COUNTIF($A$1:A941,A941)=1,ROW(),\"\")","v":""}]
[{"$f":"#REF!","v":{"$error":"#REF!"}},{"$f":"IF(COUNTIF($A$1:A942,A942)=1,ROW(),\"\")","v":""}]
[{"$f":"#REF!","v":{"$error":"#REF!"}},{"$f":"IF(COUNTIF($A$1:A943,A943)=1,ROW(),\"\")","v":""}]
[{"$f":"#REF!","v":{"$error":"#REF!"}},{"$f":"IF(COUNTIF($A$1:A944,A944)=1,ROW(),\"\")","v":""}]
[{"$f":"#REF!","v":{"$error":"#REF!"}},{"$f":"IF(COUNTIF($A$1:A945,A945)=1,ROW(),\"\")","v":""}]
[{"$f":"#REF!","v":{"$error":"#REF!"}},{"$f":"IF(COUNTIF($A$1:A946,A946)=1,ROW(),\"\")","v":""}]
[{"$f":"#REF!","v":{"$error":"#REF!"}},{"$f":"IF(COUNTIF($A$1:A947,A947)=1,ROW(),\"\")","v":""}]
[{"$f":"#REF!","v":{"$error":"#REF!"}},{"$f":"IF(COUNTIF($A$1:A948,A948)=1,ROW(),\"\")","v":""}]
[{"$f":"#REF!","v":{"$error":"#REF!"}},{"$f":"IF(COUNTIF($A$1:A949,A949)=1,ROW(),\"\")","v":""}]
[{"$f":"#REF!","v":{"$error":"#REF!"}},{"$f":"IF(COUNTIF($A$1:A950,A950)=1,ROW(),\"\")","v":""}]
[{"$f":"#REF!","v":{"$error":"#REF!"}},{"$f":"IF(COUNTIF($A$1:A951,A951)=1,ROW(),\"\")","v":""}]
[{"$f":"#REF!","v":{"$error":"#REF!"}},{"$f":"IF(COUNTIF($A$1:A952,A952)=1,ROW(),\"\")","v":""}]
[{"$f":"#REF!","v":{"$error":"#REF!"}},{"$f":"IF(COUNTIF($A$1:A953,A953)=1,ROW(),\"\")","v":""}]
[{"$f":"#REF!","v":{"$error":"#REF!"}},{"$f":"IF(COUNTIF($A$1:A954,A954)=1,ROW(),\"\")","v":""}]
[{"$f":"#REF!","v":{"$error":"#REF!"}},{"$f":"IF(COUNTIF($A$1:A955,A955)=1,ROW(),\"\")","v":""}]
[{"$f":"#REF!","v":{"$error":"#REF!"}},{"$f":"IF(COUNTIF($A$1:A956,A956)=1,ROW(),\"\")","v":""}]
[{"$f":"#REF!","v":{"$error":"#REF!"}},{"$f":"IF(COUNTIF($A$1:A957,A957)=1,ROW(),\"\")","v":""}]
[{"$f":"#REF!","v":{"$error":"#REF!"}},{"$f":"IF(COUNTIF($A$1:A958,A958)=1,ROW(),\"\")","v":""}]
[{"$f":"#REF!","v":{"$error":"#REF!"}},{"$f":"IF(COUNTIF($A$1:A959,A959)=1,ROW(),\"\")","v":""}]
[{"$f":"#REF!","v":{"$error":"#REF!"}},{"$f":"IF(COUNTIF($A$1:A960,A960)=1,ROW(),\"\")","v":""}]
[{"$f":"#REF!","v":{"$error":"#REF!"}},{"$f":"IF(COUNTIF($A$1:A961,A961)=1,ROW(),\"\")","v":""}]
[{"$f":"#REF!","v":{"$error":"#REF!"}},{"$f":"IF(COUNTIF($A$1:A962,A962)=1,ROW(),\"\")","v":""}]
[{"$f":"#REF!","v":{"$error":"#REF!"}},{"$f":"IF(COUNTIF($A$1:A963,A963)=1,ROW(),\"\")","v":""}]
[{"$f":"#REF!","v":{"$error":"#REF!"}},{"$f":"IF(COUNTIF($A$1:A964,A964)=1,ROW(),\"\")","v":""}]
[{"$f":"#REF!","v":{"$error":"#REF!"}},{"$f":"IF(COUNTIF($A$1:A965,A965)=1,ROW(),\"\")","v":""}]
[{"$f":"#REF!","v":{"$error":"#REF!"}},{"$f":"IF(COUNTIF($A$1:A966,A966)=1,ROW(),\"\")","v":""}]
[{"$f":"#REF!","v":{"$error":"#REF!"}},{"$f":"IF(COUNTIF($A$1:A967,A967)=1,ROW(),\"\")","v":""}]
[{"$f":"#REF!","v":{"$error":"#REF!"}},{"$f":"IF(COUNTIF($A$1:A968,A968)=1,ROW(),\"\")","v":""}]
[{"$f":"#REF!","v":{"$error":"#REF!"}},{"$f":"IF(COUNTIF($A$1:A969,A969)=1,ROW(),\"\")","v":""}]
[{"$f":"#REF!","v":{"$error":"#REF!"}},{"$f":"IF(COUNTIF($A$1:A970,A970)=1,ROW(),\"\")","v":""}]
[{"$f":"#REF!","v":{"$error":"#REF!"}},{"$f":"IF(COUNTIF($A$1:A971,A971)=1,ROW(),\"\")","v":""}]
[{"$f":"#REF!","v":{"$error":"#REF!"}},{"$f":"IF(COUNTIF($A$1:A972,A972)=1,ROW(),\"\")","v":""}]
[{"$f":"#REF!","v":{"$error":"#REF!"}},{"$f":"IF(COUNTIF($A$1:A973,A973)=1,ROW(),\"\")","v":""}]
[{"$f":"#REF!","v":{"$error":"#REF!"}},{"$f":"IF(COUNTIF($A$1:A974,A974)=1,ROW(),\"\")","v":""}]
[{"$f":"#REF!","v":{"$error":"#REF!"}},{"$f":"IF(COUNTIF($A$1:A975,A975)=1,ROW(),\"\")","v":""}]
[{"$f":"#REF!","v":{"$error":"#REF!"}},{"$f":"IF(COUNTIF($A$1:A976,A976)=1,ROW(),\"\")","v":""}]
[{"$f":"#REF!","v":{"$error":"#REF!"}},{"$f":"IF(COUNTIF($A$1:A977,A977)=1,ROW(),\"\")","v":""}]
[{"$f":"#REF!","v":{"$error":"#REF!"}},{"$f":"IF(COUNTIF($A$1:A978,A978)=1,ROW(),\"\")","v":""}]
[{"$f":"#REF!","v":{"$error":"#REF!"}},{"$f":"IF(COUNTIF($A$1:A979,A979)=1,ROW(),\"\")","v":""}]
[{"$f":"#REF!","v":{"$error":"#REF!"}},{"$f":"IF(COUNTIF($A$1:A980,A980)=1,ROW(),\"\")","v":""}]
[{"$f":"#REF!","v":{"$error":"#REF!"}},{"$f":"IF(COUNTIF($A$1:A981,A981)=1,ROW(),\"\")","v":""}]
[{"$f":"#REF!","v":{"$error":"#REF!"}},{"$f":"IF(COUNTIF($A$1:A982,A982)=1,ROW(),\"\")","v":""}]
[{"$f":"#REF!","v":{"$error":"#REF!"}},{"$f":"IF(COUNTIF($A$1:A983,A983)=1,ROW(),\"\")","v":""}]
[{"$f":"#REF!","v":{"$error":"#REF!"}},{"$f":"IF(COUNTIF($A$1:A984,A984)=1,ROW(),\"\")","v":""}]
[{"$f":"#REF!","v":{"$error":"#REF!"}},{"$f":"IF(COUNTIF($A$1:A985,A985)=1,ROW(),\"\")","v":""}]
[{"$f":"#REF!","v":{"$error":"#REF!"}},{"$f":"IF(COUNTIF($A$1:A986,A986)=1,ROW(),\"\")","v":""}]
[{"$f":"#REF!","v":{"$error":"#REF!"}},{"$f":"IF(COUNTIF($A$1:A987,A987)=1,ROW(),\"\")","v":""}]
[{"$f":"#REF!","v":{"$error":"#REF!"}},{"$f":"IF(COUNTIF($A$1:A988,A988)=1,ROW(),\"\")","v":""}]
[{"$f":"#REF!","v":{"$error":"#REF!"}},{"$f":"IF(COUNTIF($A$1:A989,A989)=1,ROW(),\"\")","v":""}]
[{"$f":"#REF!","v":{"$error":"#REF!"}},{"$f":"IF(COUNTIF($A$1:A990,A990)=1,ROW(),\"\")","v":""}]
[{"$f":"#REF!","v":{"$error":"#REF!"}},{"$f":"IF(COUNTIF($A$1:A991,A991)=1,ROW(),\"\")","v":""}]
[{"$f":"#REF!","v":{"$error":"#REF!"}},{"$f":"IF(COUNTIF($A$1:A992,A992)=1,ROW(),\"\")","v":""}]
[{"$f":"#REF!","v":{"$error":"#REF!"}},{"$f":"IF(COUNTIF($A$1:A993,A993)=1,ROW(),\"\")","v":""}]
[{"$f":"#REF!","v":{"$error":"#REF!"}},{"$f":"IF(COUNTIF($A$1:A994,A994)=1,ROW(),\"\")","v":""}]
[{"$f":"#REF!","v":{"$error":"#REF!"}},{"$f":"IF(COUNTIF($A$1:A995,A995)=1,ROW(),\"\")","v":""}]
[{"$f":"#REF!","v":{"$error":"#REF!"}},{"$f":"IF(COUNTIF($A$1:A996,A996)=1,ROW(),\"\")","v":""}]
[{"$f":"#REF!","v":{"$error":"#REF!"}},{"$f":"IF(COUNTIF($A$1:A997,A997)=1,ROW(),\"\")","v":""}]
[{"$f":"#REF!","v":{"$error":"#REF!"}},{"$f":"IF(COUNTIF($A$1:A998,A998)=1,ROW(),\"\")","v":""}]
[{"$f":"#REF!","v":{"$error":"#REF!"}},{"$f":"IF(COUNTIF($A$1:A999,A999)=1,ROW(),\"\")","v":""}]
[{"$f":"#REF!","v":{"$error":"#REF!"}},{"$f":"IF(COUNTIF($A$1:A1000,A1000)=1,ROW(),\"\")","v":""}]

{"sheet":"Sheet3","index":4,"n_rows":498,"n_cols":16,"rows_kept":498,"hidden":true}
[{"$nulls":8},{"$f":"#REF!","v":{"$error":"#REF!"}}]
[null,"要求書連番","全番","品名","規格","数量","単位"]
[{"$f":"LEFT(B3,LEN(B3)-4)","v":{"$error":"#REF!"}},{"$f":"#REF!","v":{"$error":"#REF!"}},{"$f":"要求内訳データ!A3","v":1},{"$f":"要求内訳データ!B3","v":{"$error":"#REF!"}},{"$f":"要求内訳データ!C3","v":{"$error":"#REF!"}},{"$f":"要求内訳データ!D3","v":{"$error":"#REF!"}},{"$f":"要求内訳データ!E3","v":{"$error":"#REF!"}},null,{"$f":"#REF!&\"0001\"","v":{"$error":"#REF!"}},{"$f":"IF(K3=\"\",\"\",1)","v":""},{"$f":"IFERROR(VLOOKUP(I3,$B$3:$G$498,3,FALSE),\"\")","v":""},{"$f":"IF(AND(J3=\"\",NOT(K2=\"\")),\"以下余白\",IFERROR(VLOOKUP(I3,$B$3:$G$498,4,FALSE),\"\"))","v":""},{"$f":"IFERROR(VLOOKUP(I3,$B$3:$G$498,5,FALSE),\"\")","v":""},{"$f":"IFERROR(VLOOKUP(I3,$B$3:$G$498,6,FALSE),\"\")","v":""},{"$f":"IFERROR(VLOOKUP(I3,#REF!,10,FALSE),\"\")","v":""},{"$f":"IFERROR(VLOOKUP(I3,#REF!,11,FALSE),\"\")","v":""}]
[{"$error":"#REF!"},{"$f":"#REF!","v":{"$error":"#REF!"}},{"$f":"要求内訳データ!A4","v":{"$error":"#REF!"}},{"$f":"要求内訳データ!B4","v":{"$error":"#REF!"}},{"$f":"要求内訳データ!C4","v":{"$error":"#REF!"}},{"$f":"要求内訳データ!D4","v":{"$error":"#REF!"}},{"$f":"要求内訳データ!E4","v":{"$error":"#REF!"}},null,{"$f":"#REF!&\"0002\"","v":{"$error":"#REF!"}},{"$f":"IF(K4=\"\",\"\",J3+1)","v":""},"","","","",{"$f":"IFERROR(VLOOKUP(I4,#REF!,10,FALSE),\"\")","v":""},{"$f":"IFERROR(VLOOKUP(I4,#REF!,11,FALSE),\"\")","v":""}]
[{"$error":"#REF!"},{"$f":"#REF!","v":{"$error":"#REF!"}},{"$f":"要求内訳データ!A5","v":{"$error":"#REF!"}},{"$f":"要求内訳データ!B5","v":{"$error":"#REF!"}},{"$f":"要求内訳データ!C5","v":{"$error":"#REF!"}},{"$f":"要求内訳データ!D5","v":{"$error":"#REF!"}},{"$f":"要求内訳データ!E5","v":{"$error":"#REF!"}},null,{"$f":"#REF!&\"0003\"","v":{"$error":"#REF!"}},"","","","","",{"$f":"IFERROR(VLOOKUP(I5,#REF!,10,FALSE),\"\")","v":""},{"$f":"IFERROR(VLOOKUP(I5,#REF!,11,FALSE),\"\")","v":""}]
[{"$error":"#REF!"},{"$f":"#REF!","v":{"$error":"#REF!"}},{"$f":"要求内訳データ!A6","v":{"$error":"#REF!"}},{"$f":"要求内訳データ!B6","v":{"$error":"#REF!"}},{"$f":"要求内訳データ!C6","v":{"$error":"#REF!"}},{"$f":"要求内訳データ!D6","v":{"$error":"#REF!"}},{"$f":"要求内訳データ!E6","v":{"$error":"#REF!"}},null,{"$f":"#REF!&\"0004\"","v":{"$error":"#REF!"}},"","","","","",{"$f":"IFERROR(VLOOKUP(I6,#REF!,10,FALSE),\"\")","v":""},{"$f":"IFERROR(VLOOKUP(I6,#REF!,11,FALSE),\"\")","v":""}]
[{"$error":"#REF!"},{"$f":"#REF!","v":{"$error":"#REF!"}},{"$f":"要求内訳データ!A7","v":{"$error":"#REF!"}},{"$f":"要求内訳データ!B7","v":{"$error":"#REF!"}},{"$f":"要求内訳データ!C7","v":{"$error":"#REF!"}},{"$f":"要求内訳データ!D7","v":{"$error":"#REF!"}},{"$f":"要求内訳データ!E7","v":{"$error":"#REF!"}},null,{"$f":"#REF!&\"0005\"","v":{"$error":"#REF!"}},"","","","","",{"$f":"IFERROR(VLOOKUP(I7,#REF!,10,FALSE),\"\")","v":""},{"$f":"IFERROR(VLOOKUP(I7,#REF!,11,FALSE),\"\")","v":""}]
[{"$error":"#REF!"},{"$f":"#REF!","v":{"$error":"#REF!"}},{"$f":"要求内訳データ!A8","v":{"$error":"#REF!"}},{"$f":"要求内訳データ!B8","v":{"$error":"#REF!"}},{"$f":"要求内訳データ!C8","v":{"$error":"#REF!"}},{"$f":"要求内訳データ!D8","v":{"$error":"#REF!"}},{"$f":"要求内訳データ!E8","v":{"$error":"#REF!"}},null,{"$f":"#REF!&\"0006\"","v":{"$error":"#REF!"}},"","","","","",{"$f":"IFERROR(VLOOKUP(I8,#REF!,10,FALSE),\"\")","v":""},{"$f":"IFERROR(VLOOKUP(I8,#REF!,11,FALSE),\"\")","v":""}]
[{"$error":"#REF!"},{"$f":"#REF!","v":{"$error":"#REF!"}},{"$f":"要求内訳データ!A9","v":{"$error":"#REF!"}},{"$f":"要求内訳データ!B9","v":{"$error":"#REF!"}},{"$f":"要求内訳データ!C9","v":{"$error":"#REF!"}},{"$f":"要求内訳データ!D9","v":{"$error":"#REF!"}},{"$f":"要求内訳データ!E9","v":{"$error":"#REF!"}},null,{"$f":"#REF!&\"0007\"","v":{"$error":"#REF!"}},"","","","","",{"$f":"IFERROR(VLOOKUP(I9,#REF!,10,FALSE),\"\")","v":""},{"$f":"IFERROR(VLOOKUP(I9,#REF!,11,FALSE),\"\")","v":""}]
[{"$error":"#REF!"},{"$f":"#REF!","v":{"$error":"#REF!"}},{"$f":"要求内訳データ!A10","v":{"$error":"#REF!"}},{"$f":"要求内訳データ!B10","v":{"$error":"#REF!"}},{"$f":"要求内訳データ!C10","v":{"$error":"#REF!"}},{"$f":"要求内訳データ!D10","v":{"$error":"#REF!"}},{"$f":"要求内訳データ!E10","v":{"$error":"#REF!"}},null,{"$f":"#REF!&\"0008\"","v":{"$error":"#REF!"}},"","","","","",{"$f":"IFERROR(VLOOKUP(I10,#REF!,10,FALSE),\"\")","v":""},{"$f":"IFERROR(VLOOKUP(I10,#REF!,11,FALSE),\"\")","v":""}]
[{"$error":"#REF!"},{"$f":"#REF!","v":{"$error":"#REF!"}},{"$f":"要求内訳データ!A11","v":{"$error":"#REF!"}},{"$f":"要求内訳データ!B11","v":{"$error":"#REF!"}},{"$f":"要求内訳データ!C11","v":{"$error":"#REF!"}},{"$f":"要求内訳データ!D11","v":{"$error":"#REF!"}},{"$f":"要求内訳データ!E11","v":{"$error":"#REF!"}},null,{"$f":"#REF!&\"0009\"","v":{"$error":"#REF!"}},"","","","","",{"$f":"IFERROR(VLOOKUP(I11,#REF!,10,FALSE),\"\")","v":""},{"$f":"IFERROR(VLOOKUP(I11,#REF!,11,FALSE),\"\")","v":""}]
[{"$error":"#REF!"},{"$f":"#REF!","v":{"$error":"#REF!"}},{"$f":"要求内訳データ!A12","v":{"$error":"#REF!"}},{"$f":"要求内訳データ!B12","v":{"$error":"#REF!"}},{"$f":"要求内訳データ!C12","v":{"$error":"#REF!"}},{"$f":"要求内訳データ!D12","v":{"$error":"#REF!"}},{"$f":"要求内訳データ!E12","v":{"$error":"#REF!"}},null,{"$f":"#REF!&\"0010\"","v":{"$error":"#REF!"}},"","","","","",{"$f":"IFERROR(VLOOKUP(I12,#REF!,10,FALSE),\"\")","v":""},{"$f":"IFERROR(VLOOKUP(I12,#REF!,11,FALSE),\"\")","v":""}]
[{"$error":"#REF!"},{"$f":"#REF!","v":{"$error":"#REF!"}},{"$f":"要求内訳データ!A13","v":{"$error":"#REF!"}},{"$f":"要求内訳データ!B13","v":{"$error":"#REF!"}},{"$f":"要求内訳データ!C13","v":{"$error":"#REF!"}},{"$f":"要求内訳データ!D13","v":{"$error":"#REF!"}},{"$f":"要求内訳データ!E13","v":{"$error":"#REF!"}},null,{"$f":"#REF!&\"0011\"","v":{"$error":"#REF!"}},"","","","","",{"$f":"IFERROR(VLOOKUP(I13,#REF!,10,FALSE),\"\")","v":""},{"$f":"IFERROR(VLOOKUP(I13,#REF!,11,FALSE),\"\")","v":""}]
[{"$error":"#REF!"},{"$f":"#REF!","v":{"$error":"#REF!"}},{"$f":"要求内訳データ!A14","v":{"$error":"#REF!"}},{"$f":"要求内訳データ!B14","v":{"$error":"#REF!"}},{"$f":"要求内訳データ!C14","v":{"$error":"#REF!"}},{"$f":"要求内訳データ!D14","v":{"$error":"#REF!"}},{"$f":"要求内訳データ!E14","v":{"$error":"#REF!"}},null,{"$f":"#REF!&\"0012\"","v":{"$error":"#REF!"}},"","","","","",{"$f":"IFERROR(VLOOKUP(I14,#REF!,10,FALSE),\"\")","v":""},{"$f":"IFERROR(VLOOKUP(I14,#REF!,11,FALSE),\"\")","v":""}]
[{"$error":"#REF!"},{"$f":"#REF!","v":{"$error":"#REF!"}},{"$f":"要求内訳データ!A15","v":{"$error":"#REF!"}},{"$f":"要求内訳データ!B15","v":{"$error":"#REF!"}},{"$f":"要求内訳データ!C15","v":{"$error":"#REF!"}},{"$f":"要求内訳データ!D15","v":{"$error":"#REF!"}},{"$f":"要求内訳データ!E15","v":{"$error":"#REF!"}},null,{"$f":"#REF!&\"0013\"","v":{"$error":"#REF!"}},"","","","","",{"$f":"IFERROR(VLOOKUP(I15,#REF!,10,FALSE),\"\")","v":""},{"$f":"IFERROR(VLOOKUP(I15,#REF!,11,FALSE),\"\")","v":""}]
[{"$error":"#REF!"},{"$f":"#REF!","v":{"$error":"#REF!"}},{"$f":"要求内訳データ!A16","v":{"$error":"#REF!"}},{"$f":"要求内訳データ!B16","v":{"$error":"#REF!"}},{"$f":"要求内訳データ!C16","v":{"$error":"#REF!"}},{"$f":"要求内訳データ!D16","v":{"$error":"#REF!"}},{"$f":"要求内訳データ!E16","v":{"$error":"#REF!"}},null,{"$f":"#REF!&\"0014\"","v":{"$error":"#REF!"}},"","","","","",{"$f":"IFERROR(VLOOKUP(I16,#REF!,10,FALSE),\"\")","v":""},{"$f":"IFERROR(VLOOKUP(I16,#REF!,11,FALSE),\"\")","v":""}]
[{"$error":"#REF!"},{"$f":"#REF!","v":{"$error":"#REF!"}},{"$f":"要求内訳データ!A17","v":{"$error":"#REF!"}},{"$f":"要求内訳データ!B17","v":{"$error":"#REF!"}},{"$f":"要求内訳データ!C17","v":{"$error":"#REF!"}},{"$f":"要求内訳データ!D17","v":{"$error":"#REF!"}},{"$f":"要求内訳データ!E17","v":{"$error":"#REF!"}},null,{"$f":"#REF!&\"0015\"","v":{"$error":"#REF!"}},"","","","","",{"$f":"IFERROR(VLOOKUP(I17,#REF!,10,FALSE),\"\")","v":""},{"$f":"IFERROR(VLOOKUP(I17,#REF!,11,FALSE),\"\")","v":""}]
[{"$error":"#REF!"},{"$f":"#REF!","v":{"$error":"#REF!"}},{"$f":"要求内訳データ!A18","v":{"$error":"#REF!"}},{"$f":"要求内訳データ!B18","v":{"$error":"#REF!"}},{"$f":"要求内訳データ!C18","v":{"$error":"#REF!"}},{"$f":"要求内訳データ!D18","v":{"$error":"#REF!"}},{"$f":"要求内訳データ!E18","v":{"$error":"#REF!"}},null,{"$f":"#REF!&\"0016\"","v":{"$error":"#REF!"}},"","","","","",{"$f":"IFERROR(VLOOKUP(I18,#REF!,10,FALSE),\"\")","v":""},{"$f":"IFERROR(VLOOKUP(I18,#REF!,11,FALSE),\"\")","v":""}]
[{"$error":"#REF!"},{"$f":"#REF!","v":{"$error":"#REF!"}},{"$f":"要求内訳データ!A19","v":{"$error":"#REF!"}},{"$f":"要求内訳データ!B19","v":{"$error":"#REF!"}},{"$f":"要求内訳データ!C19","v":{"$error":"#REF!"}},{"$f":"要求内訳データ!D19","v":{"$error":"#REF!"}},{"$f":"要求内訳データ!E19","v":{"$error":"#REF!"}},null,{"$f":"#REF!&\"0017\"","v":{"$error":"#REF!"}},"","","","","",{"$f":"IFERROR(VLOOKUP(I19,#REF!,10,FALSE),\"\")","v":""},{"$f":"IFERROR(VLOOKUP(I19,#REF!,11,FALSE),\"\")","v":""}]
[{"$error":"#REF!"},{"$f":"#REF!","v":{"$error":"#REF!"}},{"$f":"要求内訳データ!A20","v":{"$error":"#REF!"}},{"$f":"要求内訳データ!B20","v":{"$error":"#REF!"}},{"$f":"要求内訳データ!C20","v":{"$error":"#REF!"}},{"$f":"要求内訳データ!D20","v":{"$error":"#REF!"}},{"$f":"要求内訳データ!E20","v":{"$error":"#REF!"}},null,{"$f":"#REF!&\"0018\"","v":{"$error":"#REF!"}},"","","","","",{"$f":"IFERROR(VLOOKUP(I20,#REF!,10,FALSE),\"\")","v":""},{"$f":"IFERROR(VLOOKUP(I20,#REF!,11,FALSE),\"\")","v":""}]
[{"$error":"#REF!"},{"$f":"#REF!","v":{"$error":"#REF!"}},{"$f":"要求内訳データ!A21","v":{"$error":"#REF!"}},{"$f":"要求内訳データ!B21","v":{"$error":"#REF!"}},{"$f":"要求内訳データ!C21","v":{"$error":"#REF!"}},{"$f":"要求内訳データ!D21","v":{"$error":"#REF!"}},{"$f":"要求内訳データ!E21","v":{"$error":"#REF!"}},null,{"$f":"#REF!&\"0019\"","v":{"$error":"#REF!"}},"","","","","",{"$f":"IFERROR(VLOOKUP(I21,#REF!,10,FALSE),\"\")","v":""},{"$f":"IFERROR(VLOOKUP(I21,#REF!,11,FALSE),\"\")","v":""}]
[{"$error":"#REF!"},{"$f":"#REF!","v":{"$error":"#REF!"}},{"$f":"要求内訳データ!A22","v":{"$error":"#REF!"}},{"$f":"要求内訳データ!B22","v":{"$error":"#REF!"}},{"$f":"要求内訳データ!C22","v":{"$error":"#REF!"}},{"$f":"要求内訳データ!D22","v":{"$error":"#REF!"}},{"$f":"要求内訳データ!E22","v":{"$error":"#REF!"}},null,{"$f":"#REF!&\"0020\"","v":{"$error":"#REF!"}},"","","","","",{"$f":"IFERROR(VLOOKUP(I22,#REF!,10,FALSE),\"\")","v":""},{"$f":"IFERROR(VLOOKUP(I22,#REF!,11,FALSE),\"\")","v":""}]
[{"$error":"#REF!"},{"$f":"#REF!","v":{"$error":"#REF!"}},{"$f":"要求内訳データ!A23","v":{"$error":"#REF!"}},{"$f":"要求内訳データ!B23","v":{"$error":"#REF!"}},{"$f":"要求内訳データ!C23","v":{"$error":"#REF!"}},{"$f":"要求内訳データ!D23","v":{"$error":"#REF!"}},{"$f":"要求内訳データ!E23","v":{"$error":"#REF!"}},null,{"$f":"#REF!&\"0021\"","v":{"$error":"#REF!"}},"","","","","",{"$f":"IFERROR(VLOOKUP(I23,#REF!,10,FALSE),\"\")","v":""},{"$f":"IFERROR(VLOOKUP(I23,#REF!,11,FALSE),\"\")","v":""}]
[{"$error":"#REF!"},{"$f":"#REF!","v":{"$error":"#REF!"}},{"$f":"要求内訳データ!A24","v":{"$error":"#REF!"}},{"$f":"要求内訳データ!B24","v":{"$error":"#REF!"}},{"$f":"要求内訳データ!C24","v":{"$error":"#REF!"}},{"$f":"要求内訳データ!D24","v":{"$error":"#REF!"}},{"$f":"要求内訳データ!E24","v":{"$error":"#REF!"}},null,{"$f":"#REF!&\"0022\"","v":{"$error":"#REF!"}},"","","","","",{"$f":"IFERROR(VLOOKUP(I24,#REF!,10,FALSE),\"\")","v":""},{"$f":"IFERROR(VLOOKUP(I24,#REF!,11,FALSE),\"\")","v":""}]
[{"$error":"#REF!"},{"$f":"#REF!","v":{"$error":"#REF!"}},{"$f":"要求内訳データ!A25","v":{"$error":"#REF!"}},{"$f":"要求内訳データ!B25","v":{"$error":"#REF!"}},{"$f":"要求内訳データ!C25","v":{"$error":"#REF!"}},{"$f":"要求内訳データ!D25","v":{"$error":"#REF!"}},{"$f":"要求内訳データ!E25","v":{"$error":"#REF!"}},null,{"$f":"#REF!&\"0023\"","v":{"$error":"#REF!"}},"","","","","",{"$f":"IFERROR(VLOOKUP(I25,#REF!,10,FALSE),\"\")","v":""},{"$f":"IFERROR(VLOOKUP(I25,#REF!,11,FALSE),\"\")","v":""}]
[{"$error":"#REF!"},{"$f":"#REF!","v":{"$error":"#REF!"}},{"$f":"要求内訳データ!A26","v":{"$error":"#REF!"}},{"$f":"要求内訳データ!B26","v":{"$error":"#REF!"}},{"$f":"要求内訳データ!C26","v":{"$error":"#REF!"}},{"$f":"要求内訳データ!D26","v":{"$error":"#REF!"}},{"$f":"要求内訳データ!E26","v":{"$error":"#REF!"}},null,{"$f":"#REF!&\"0024\"","v":{"$error":"#REF!"}},"","","","","",{"$f":"IFERROR(VLOOKUP(I26,#REF!,10,FALSE),\"\")","v":""},{"$f":"IFERROR(VLOOKUP(I26,#REF!,11,FALSE),\"\")","v":""}]
[{"$error":"#REF!"},{"$f":"#REF!","v":{"$error":"#REF!"}},{"$f":"要求内訳データ!A27","v":{"$error":"#REF!"}},{"$f":"要求内訳データ!B27","v":{"$error":"#REF!"}},{"$f":"要求内訳データ!C27","v":{"$error":"#REF!"}},{"$f":"要求内訳データ!D27","v":{"$error":"#REF!"}},{"$f":"要求内訳データ!E27","v":{"$error":"#REF!"}},null,{"$f":"#REF!&\"0025\"","v":{"$error":"#REF!"}},"","","","","",{"$f":"IFERROR(VLOOKUP(I27,#REF!,10,FALSE),\"\")","v":""},{"$f":"IFERROR(VLOOKUP(I27,#REF!,11,FALSE),\"\")","v":""}]
[{"$error":"#REF!"},{"$f":"#REF!","v":{"$error":"#REF!"}},{"$f":"要求内訳データ!A28","v":{"$error":"#REF!"}},{"$f":"要求内訳データ!B28","v":{"$error":"#REF!"}},{"$f":"要求内訳データ!C28","v":{"$error":"#REF!"}},{"$f":"要求内訳データ!D28","v":{"$error":"#REF!"}},{"$f":"要求内訳データ!E28","v":{"$error":"#REF!"}},null,{"$f":"#REF!&\"0026\"","v":{"$error":"#REF!"}},"","","","","",{"$f":"IFERROR(VLOOKUP(I28,#REF!,10,FALSE),\"\")","v":""},{"$f":"IFERROR(VLOOKUP(I28,#REF!,11,FALSE),\"\")","v":""}]
[{"$error":"#REF!"},{"$f":"#REF!","v":{"$error":"#REF!"}},{"$f":"要求内訳データ!A29","v":{"$error":"#REF!"}},{"$f":"要求内訳データ!B29","v":{"$error":"#REF!"}},{"$f":"要求内訳データ!C29","v":{"$error":"#REF!"}},{"$f":"要求内訳データ!D29","v":{"$error":"#REF!"}},{"$f":"要求内訳データ!E29","v":{"$error":"#REF!"}},null,{"$f":"#REF!&\"0027\"","v":{"$error":"#REF!"}},"","","","","",{"$f":"IFERROR(VLOOKUP(I29,#REF!,10,FALSE),\"\")","v":""},{"$f":"IFERROR(VLOOKUP(I29,#REF!,11,FALSE),\"\")","v":""}]
[{"$error":"#REF!"},{"$f":"#REF!","v":{"$error":"#REF!"}},{"$f":"要求内訳データ!A30","v":{"$error":"#REF!"}},{"$f":"要求内訳データ!B30","v":{"$error":"#REF!"}},{"$f":"要求内訳データ!C30","v":{"$error":"#REF!"}},{"$f":"要求内訳データ!D30","v":{"$error":"#REF!"}},{"$f":"要求内訳データ!E30","v":{"$error":"#REF!"}},null,{"$f":"#REF!&\"0028\"","v":{"$error":"#REF!"}},"","","","","",{"$f":"IFERROR(VLOOKUP(I30,#REF!,10,FALSE),\"\")","v":""},{"$f":"IFERROR(VLOOKUP(I30,#REF!,11,FALSE),\"\")","v":""}]
[{"$error":"#REF!"},{"$f":"#REF!","v":{"$error":"#REF!"}},{"$f":"要求内訳データ!A31","v":{"$error":"#REF!"}},{"$f":"要求内訳データ!B31","v":{"$error":"#REF!"}},{"$f":"要求内訳データ!C31","v":{"$error":"#REF!"}},{"$f":"要求内訳データ!D31","v":{"$error":"#REF!"}},{"$f":"要求内訳データ!E31","v":{"$error":"#REF!"}},null,{"$f":"#REF!&\"0029\"","v":{"$error":"#REF!"}},"","","","","",{"$f":"IFERROR(VLOOKUP(I31,#REF!,10,FALSE),\"\")","v":""},{"$f":"IFERROR(VLOOKUP(I31,#REF!,11,FALSE),\"\")","v":""}]
[{"$error":"#REF!"},{"$f":"#REF!","v":{"$error":"#REF!"}},{"$f":"要求内訳データ!A32","v":{"$error":"#REF!"}},{"$f":"要求内訳データ!B32","v":{"$error":"#REF!"}},{"$f":"要求内訳データ!C32","v":{"$error":"#REF!"}},{"$f":"要求内訳データ!D32","v":{"$error":"#REF!"}},{"$f":"要求内訳データ!E32","v":{"$error":"#REF!"}},null,{"$f":"#REF!&\"0030\"","v":{"$error":"#REF!"}},"","","","","",{"$f":"IFERROR(VLOOKUP(I32,#REF!,10,FALSE),\"\")","v":""},{"$f":"IFERROR(VLOOKUP(I32,#REF!,11,FALSE),\"\")","v":""}]
[{"$error":"#REF!"},{"$f":"#REF!","v":{"$error":"#REF!"}},{"$f":"要求内訳データ!A33","v":{"$error":"#REF!"}},{"$f":"要求内訳データ!B33","v":{"$error":"#REF!"}},{"$f":"要求内訳データ!C33","v":{"$error":"#REF!"}},{"$f":"要求内訳データ!D33","v":{"$error":"#REF!"}},{"$f":"要求内訳データ!E33","v":{"$error":"#REF!"}},null,{"$f":"#REF!&\"0031\"","v":{"$error":"#REF!"}},"","","","","",{"$f":"IFERROR(VLOOKUP(I33,#REF!,10,FALSE),\"\")","v":""},{"$f":"IFERROR(VLOOKUP(I33,#REF!,11,FALSE),\"\")","v":""}]
[{"$error":"#REF!"},{"$f":"#REF!","v":{"$error":"#REF!"}},{"$f":"要求内訳データ!A34","v":{"$error":"#REF!"}},{"$f":"要求内訳データ!B34","v":{"$error":"#REF!"}},{"$f":"要求内訳データ!C34","v":{"$error":"#REF!"}},{"$f":"要求内訳データ!D34","v":{"$error":"#REF!"}},{"$f":"要求内訳データ!E34","v":{"$error":"#REF!"}},null,{"$f":"#REF!&\"0032\"","v":{"$error":"#REF!"}},"","","","","",{"$f":"IFERROR(VLOOKUP(I34,#REF!,10,FALSE),\"\")","v":""},{"$f":"IFERROR(VLOOKUP(I34,#REF!,11,FALSE),\"\")","v":""}]
[{"$error":"#REF!"},{"$f":"#REF!","v":{"$error":"#REF!"}},{"$f":"要求内訳データ!A35","v":{"$error":"#REF!"}},{"$f":"要求内訳データ!B35","v":{"$error":"#REF!"}},{"$f":"要求内訳データ!C35","v":{"$error":"#REF!"}},{"$f":"要求内訳データ!D35","v":{"$error":"#REF!"}},{"$f":"要求内訳データ!E35","v":{"$error":"#REF!"}},null,{"$f":"#REF!&\"0033\"","v":{"$error":"#REF!"}},"","","","","",{"$f":"IFERROR(VLOOKUP(I35,#REF!,10,FALSE),\"\")","v":""},{"$f":"IFERROR(VLOOKUP(I35,#REF!,11,FALSE),\"\")","v":""}]
[{"$error":"#REF!"},{"$f":"#REF!","v":{"$error":"#REF!"}},{"$f":"要求内訳データ!A36","v":{"$error":"#REF!"}},{"$f":"要求内訳データ!B36","v":{"$error":"#REF!"}},{"$f":"要求内訳データ!C36","v":{"$error":"#REF!"}},{"$f":"要求内訳データ!D36","v":{"$error":"#REF!"}},{"$f":"要求内訳データ!E36","v":{"$error":"#REF!"}},null,{"$f":"#REF!&\"0034\"","v":{"$error":"#REF!"}},"","","","","",{"$f":"IFERROR(VLOOKUP(I36,#REF!,10,FALSE),\"\")","v":""},{"$f":"IFERROR(VLOOKUP(I36,#REF!,11,FALSE),\"\")","v":""}]
[{"$error":"#REF!"},{"$f":"#REF!","v":{"$error":"#REF!"}},{"$f":"要求内訳データ!A37","v":{"$error":"#REF!"}},{"$f":"要求内訳データ!B37","v":{"$error":"#REF!"}},{"$f":"要求内訳データ!C37","v":{"$error":"#REF!"}},{"$f":"要求内訳データ!D37","v":{"$error":"#REF!"}},{"$f":"要求内訳データ!E37","v":{"$error":"#REF!"}},null,{"$f":"#REF!&\"0035\"","v":{"$error":"#REF!"}},"","","","","",{"$f":"IFERROR(VLOOKUP(I37,#REF!,10,FALSE),\"\")","v":""},{"$f":"IFERROR(VLOOKUP(I37,#REF!,11,FALSE),\"\")","v":""}]
[{"$error":"#REF!"},{"$f":"#REF!","v":{"$error":"#REF!"}},{"$f":"要求内訳データ!A38","v":{"$error":"#REF!"}},{"$f":"要求内訳データ!B38","v":{"$error":"#REF!"}},{"$f":"要求内訳データ!C38","v":{"$error":"#REF!"}},{"$f":"要求内訳データ!D38","v":{"$error":"#REF!"}},{"$f":"要求内訳データ!E38","v":{"$error":"#REF!"}},null,{"$f":"#REF!&\"0036\"","v":{"$error":"#REF!"}},"","","","","",{"$f":"IFERROR(VLOOKUP(I38,#REF!,10,FALSE),\"\")","v":""},{"$f":"IFERROR(VLOOKUP(I38,#REF!,11,FALSE),\"\")","v":""}]
[{"$error":"#REF!"},{"$f":"#REF!","v":{"$error":"#REF!"}},{"$f":"要求内訳データ!A39","v":{"$error":"#REF!"}},{"$f":"要求内訳データ!B39","v":{"$error":"#REF!"}},{"$f":"要求内訳データ!C39","v":{"$error":"#REF!"}},{"$f":"要求内訳データ!D39","v":{"$error":"#REF!"}},{"$f":"要求内訳データ!E39","v":{"$error":"#REF!"}},null,{"$f":"#REF!&\"0037\"","v":{"$error":"#REF!"}},"","","","","",{"$f":"IFERROR(VLOOKUP(I39,#REF!,10,FALSE),\"\")","v":""},{"$f":"IFERROR(VLOOKUP(I39,#REF!,11,FALSE),\"\")","v":""}]
[{"$error":"#REF!"},{"$f":"#REF!","v":{"$error":"#REF!"}},{"$f":"要求内訳データ!A40","v":{"$error":"#REF!"}},{"$f":"要求内訳データ!B40","v":{"$error":"#REF!"}},{"$f":"要求内訳データ!C40","v":{"$error":"#REF!"}},{"$f":"要求内訳データ!D40","v":{"$error":"#REF!"}},{"$f":"要求内訳データ!E40","v":{"$error":"#REF!"}},null,{"$f":"#REF!&\"0038\"","v":{"$error":"#REF!"}},"","","","","",{"$f":"IFERROR(VLOOKUP(I40,#REF!,10,FALSE),\"\")","v":""},{"$f":"IFERROR(VLOOKUP(I40,#REF!,11,FALSE),\"\")","v":""}]
[{"$error":"#REF!"},{"$f":"#REF!","v":{"$error":"#REF!"}},{"$f":"要求内訳データ!A41","v":{"$error":"#REF!"}},{"$f":"要求内訳データ!B41","v":{"$error":"#REF!"}},{"$f":"要求内訳データ!C41","v":{"$error":"#REF!"}},{"$f":"要求内訳データ!D41","v":{"$error":"#REF!"}},{"$f":"要求内訳データ!E41","v":{"$error":"#REF!"}},null,{"$f":"#REF!&\"0039\"","v":{"$error":"#REF!"}},"","","","","",{"$f":"IFERROR(VLOOKUP(I41,#REF!,10,FALSE),\"\")","v":""},{"$f":"IFERROR(VLOOKUP(I41,#REF!,11,FALSE),\"\")","v":""}]
[{"$error":"#REF!"},{"$f":"#REF!","v":{"$error":"#REF!"}},{"$f":"要求内訳データ!A42","v":{"$error":"#REF!"}},{"$f":"要求内訳データ!B42","v":{"$error":"#REF!"}},{"$f":"要求内訳データ!C42","v":{"$error":"#REF!"}},{"$f":"要求内訳データ!D42","v":{"$error":"#REF!"}},{"$f":"要求内訳データ!E42","v":{"$error":"#REF!"}},null,{"$f":"#REF!&\"0040\"","v":{"$error":"#REF!"}},"","","","","",{"$f":"IFERROR(VLOOKUP(I42,#REF!,10,FALSE),\"\")","v":""},{"$f":"IFERROR(VLOOKUP(I42,#REF!,11,FALSE),\"\")","v":""}]
[{"$error":"#REF!"},{"$f":"#REF!","v":{"$error":"#REF!"}},{"$f":"要求内訳データ!A43","v":{"$error":"#REF!"}},{"$f":"要求内訳データ!B43","v":{"$error":"#REF!"}},{"$f":"要求内訳データ!C43","v":{"$error":"#REF!"}},{"$f":"要求内訳データ!D43","v":{"$error":"#REF!"}},{"$f":"要求内訳データ!E43","v":{"$error":"#REF!"}},null,{"$f":"#REF!&\"0041\"","v":{"$error":"#REF!"}},"","","","","",{"$f":"IFERROR(VLOOKUP(I43,#REF!,10,FALSE),\"\")","v":""},{"$f":"IFERROR(VLOOKUP(I43,#REF!,11,FALSE),\"\")","v":""}]
[{"$error":"#REF!"},{"$f":"#REF!","v":{"$error":"#REF!"}},{"$f":"要求内訳データ!A44","v":{"$error":"#REF!"}},{"$f":"要求内訳データ!B44","v":{"$error":"#REF!"}},{"$f":"要求内訳データ!C44","v":{"$error":"#REF!"}},{"$f":"要求内訳データ!D44","v":{"$error":"#REF!"}},{"$f":"要求内訳データ!E44","v":{"$error":"#REF!"}},null,{"$f":"#REF!&\"0042\"","v":{"$error":"#REF!"}},"","","","","",{"$f":"IFERROR(VLOOKUP(I44,#REF!,10,FALSE),\"\")","v":""},{"$f":"IFERROR(VLOOKUP(I44,#REF!,11,FALSE),\"\")","v":""}]
[{"$error":"#REF!"},{"$f":"#REF!","v":{"$error":"#REF!"}},{"$f":"要求内訳データ!A45","v":{"$error":"#REF!"}},{"$f":"要求内訳データ!B45","v":{"$error":"#REF!"}},{"$f":"要求内訳データ!C45","v":{"$error":"#REF!"}},{"$f":"要求内訳データ!D45","v":{"$error":"#REF!"}},{"$f":"要求内訳データ!E45","v":{"$error":"#REF!"}},null,{"$f":"#REF!&\"0043\"","v":{"$error":"#REF!"}},"","","","","",{"$f":"IFERROR(VLOOKUP(I45,#REF!,10,FALSE),\"\")","v":""},{"$f":"IFERROR(VLOOKUP(I45,#REF!,11,FALSE),\"\")","v":""}]
[{"$error":"#REF!"},{"$f":"#REF!","v":{"$error":"#REF!"}},{"$f":"要求内訳データ!A46","v":{"$error":"#REF!"}},{"$f":"要求内訳データ!B46","v":{"$error":"#REF!"}},{"$f":"要求内訳データ!C46","v":{"$error":"#REF!"}},{"$f":"要求内訳データ!D46","v":{"$error":"#REF!"}},{"$f":"要求内訳データ!E46","v":{"$error":"#REF!"}},null,{"$f":"#REF!&\"0044\"","v":{"$error":"#REF!"}},"","","","","",{"$f":"IFERROR(VLOOKUP(I46,#REF!,10,FALSE),\"\")","v":""},{"$f":"IFERROR(VLOOKUP(I46,#REF!,11,FALSE),\"\")","v":""}]
[{"$error":"#REF!"},{"$f":"#REF!","v":{"$error":"#REF!"}},{"$f":"要求内訳データ!A47","v":{"$error":"#REF!"}},{"$f":"要求内訳データ!B47","v":{"$error":"#REF!"}},{"$f":"要求内訳データ!C47","v":{"$error":"#REF!"}},{"$f":"要求内訳データ!D47","v":{"$error":"#REF!"}},{"$f":"要求内訳データ!E47","v":{"$error":"#REF!"}},null,{"$f":"#REF!&\"0045\"","v":{"$error":"#REF!"}},"","","","","",{"$f":"IFERROR(VLOOKUP(I47,#REF!,10,FALSE),\"\")","v":""},{"$f":"IFERROR(VLOOKUP(I47,#REF!,11,FALSE),\"\")","v":""}]
[{"$error":"#REF!"},{"$f":"#REF!","v":{"$error":"#REF!"}},{"$f":"要求内訳データ!A48","v":{"$error":"#REF!"}},{"$f":"要求内訳データ!B48","v":{"$error":"#REF!"}},{"$f":"要求内訳データ!C48","v":{"$error":"#REF!"}},{"$f":"要求内訳データ!D48","v":{"$error":"#REF!"}},{"$f":"要求内訳データ!E48","v":{"$error":"#REF!"}},null,{"$f":"#REF!&\"0046\"","v":{"$error":"#REF!"}},"","","","","",{"$f":"IFERROR(VLOOKUP(I48,#REF!,10,FALSE),\"\")","v":""},{"$f":"IFERROR(VLOOKUP(I48,#REF!,11,FALSE),\"\")","v":""}]
[{"$error":"#REF!"},{"$f":"#REF!","v":{"$error":"#REF!"}},{"$f":"要求内訳データ!A49","v":{"$error":"#REF!"}},{"$f":"要求内訳データ!B49","v":{"$error":"#REF!"}},{"$f":"要求内訳データ!C49","v":{"$error":"#REF!"}},{"$f":"要求内訳データ!D49","v":{"$error":"#REF!"}},{"$f":"要求内訳データ!E49","v":{"$error":"#REF!"}},null,{"$f":"#REF!&\"0047\"","v":{"$error":"#REF!"}},"","","","","",{"$f":"IFERROR(VLOOKUP(I49,#REF!,10,FALSE),\"\")","v":""},{"$f":"IFERROR(VLOOKUP(I49,#REF!,11,FALSE),\"\")","v":""}]
[{"$error":"#REF!"},{"$f":"#REF!","v":{"$error":"#REF!"}},{"$f":"要求内訳データ!A50","v":{"$error":"#REF!"}},{"$f":"要求内訳データ!B50","v":{"$error":"#REF!"}},{"$f":"要求内訳データ!C50","v":{"$error":"#REF!"}},{"$f":"要求内訳データ!D50","v":{"$error":"#REF!"}},{"$f":"要求内訳データ!E50","v":{"$error":"#REF!"}},null,{"$f":"#REF!&\"0048\"","v":{"$error":"#REF!"}},"","","","","",{"$f":"IFERROR(VLOOKUP(I50,#REF!,10,FALSE),\"\")","v":""},{"$f":"IFERROR(VLOOKUP(I50,#REF!,11,FALSE),\"\")","v":""}]
[{"$error":"#REF!"},{"$f":"#REF!","v":{"$error":"#REF!"}},{"$f":"要求内訳データ!A51","v":{"$error":"#REF!"}},{"$f":"要求内訳データ!B51","v":{"$error":"#REF!"}},{"$f":"要求内訳データ!C51","v":{"$error":"#REF!"}},{"$f":"要求内訳データ!D51","v":{"$error":"#REF!"}},{"$f":"要求内訳データ!E51","v":{"$error":"#REF!"}},null,{"$f":"#REF!&\"0049\"","v":{"$error":"#REF!"}},"","","","","",{"$f":"IFERROR(VLOOKUP(I51,#REF!,10,FALSE),\"\")","v":""},{"$f":"IFERROR(VLOOKUP(I51,#REF!,11,FALSE),\"\")","v":""}]
[{"$error":"#REF!"},{"$f":"#REF!","v":{"$error":"#REF!"}},{"$f":"要求内訳データ!A52","v":{"$error":"#REF!"}},{"$f":"要求内訳データ!B52","v":{"$error":"#REF!"}},{"$f":"要求内訳データ!C52","v":{"$error":"#REF!"}},{"$f":"要求内訳データ!D52","v":{"$error":"#REF!"}},{"$f":"要求内訳データ!E52","v":{"$error":"#REF!"}},null,{"$f":"#REF!&\"0050\"","v":{"$error":"#REF!"}},"","","","","",{"$f":"IFERROR(VLOOKUP(I52,#REF!,10,FALSE),\"\")","v":""},{"$f":"IFERROR(VLOOKUP(I52,#REF!,11,FALSE),\"\")","v":""}]
[{"$error":"#REF!"},{"$f":"#REF!","v":{"$error":"#REF!"}},{"$f":"要求内訳データ!A53","v":{"$error":"#REF!"}},{"$f":"要求内訳データ!B53","v":{"$error":"#REF!"}},{"$f":"要求内訳データ!C53","v":{"$error":"#REF!"}},{"$f":"要求内訳データ!D53","v":{"$error":"#REF!"}},{"$f":"要求内訳データ!E53","v":{"$error":"#REF!"}},null,{"$f":"#REF!&\"0051\"","v":{"$error":"#REF!"}},"","","","","",{"$f":"IFERROR(VLOOKUP(I53,#REF!,10,FALSE),\"\")","v":""},{"$f":"IFERROR(VLOOKUP(I53,#REF!,11,FALSE),\"\")","v":""}]
[{"$error":"#REF!"},{"$f":"#REF!","v":{"$error":"#REF!"}},{"$f":"要求内訳データ!A54","v":{"$error":"#REF!"}},{"$f":"要求内訳データ!B54","v":{"$error":"#REF!"}},{"$f":"要求内訳データ!C54","v":{"$error":"#REF!"}},{"$f":"要求内訳データ!D54","v":{"$error":"#REF!"}},{"$f":"要求内訳データ!E54","v":{"$error":"#REF!"}},null,{"$f":"#REF!&\"0052\"","v":{"$error":"#REF!"}},"","","","","",{"$f":"IFERROR(VLOOKUP(I54,#REF!,10,FALSE),\"\")","v":""},{"$f":"IFERROR(VLOOKUP(I54,#REF!,11,FALSE),\"\")","v":""}]
[{"$error":"#REF!"},{"$f":"#REF!","v":{"$error":"#REF!"}},{"$f":"要求内訳データ!A55","v":{"$error":"#REF!"}},{"$f":"要求内訳データ!B55","v":{"$error":"#REF!"}},{"$f":"要求内訳データ!C55","v":{"$error":"#REF!"}},{"$f":"要求内訳データ!D55","v":{"$error":"#REF!"}},{"$f":"要求内訳データ!E55","v":{"$error":"#REF!"}},null,{"$f":"#REF!&\"0053\"","v":{"$error":"#REF!"}},"","","","","",{"$f":"IFERROR(VLOOKUP(I55,#REF!,10,FALSE),\"\")","v":""},{"$f":"IFERROR(VLOOKUP(I55,#REF!,11,FALSE),\"\")","v":""}]
[{"$error":"#REF!"},{"$f":"#REF!","v":{"$error":"#REF!"}},{"$f":"要求内訳データ!A56","v":{"$error":"#REF!"}},{"$f":"要求内訳データ!B56","v":{"$error":"#REF!"}},{"$f":"要求内訳データ!C56","v":{"$error":"#REF!"}},{"$f":"要求内訳データ!D56","v":{"$error":"#REF!"}},{"$f":"要求内訳データ!E56","v":{"$error":"#REF!"}},null,{"$f":"#REF!&\"0054\"","v":{"$error":"#REF!"}},"","","","","",{"$f":"IFERROR(VLOOKUP(I56,#REF!,10,FALSE),\"\")","v":""},{"$f":"IFERROR(VLOOKUP(I56,#REF!,11,FALSE),\"\")","v":""}]
[{"$error":"#REF!"},{"$f":"#REF!","v":{"$error":"#REF!"}},{"$f":"要求内訳データ!A57","v":{"$error":"#REF!"}},{"$f":"要求内訳データ!B57","v":{"$error":"#REF!"}},{"$f":"要求内訳データ!C57","v":{"$error":"#REF!"}},{"$f":"要求内訳データ!D57","v":{"$error":"#REF!"}},{"$f":"要求内訳データ!E57","v":{"$error":"#REF!"}},null,{"$f":"#REF!&\"0055\"","v":{"$error":"#REF!"}},"","","","","",{"$f":"IFERROR(VLOOKUP(I57,#REF!,10,FALSE),\"\")","v":""},{"$f":"IFERROR(VLOOKUP(I57,#REF!,11,FALSE),\"\")","v":""}]
[{"$error":"#REF!"},{"$f":"#REF!","v":{"$error":"#REF!"}},{"$f":"要求内訳データ!A58","v":{"$error":"#REF!"}},{"$f":"要求内訳データ!B58","v":{"$error":"#REF!"}},{"$f":"要求内訳データ!C58","v":{"$error":"#REF!"}},{"$f":"要求内訳データ!D58","v":{"$error":"#REF!"}},{"$f":"要求内訳データ!E58","v":{"$error":"#REF!"}},null,{"$f":"#REF!&\"0056\"","v":{"$error":"#REF!"}},"","","","","",{"$f":"IFERROR(VLOOKUP(I58,#REF!,10,FALSE),\"\")","v":""},{"$f":"IFERROR(VLOOKUP(I58,#REF!,11,FALSE),\"\")","v":""}]
[{"$error":"#REF!"},{"$f":"#REF!","v":{"$error":"#REF!"}},{"$f":"要求内訳データ!A59","v":{"$error":"#REF!"}},{"$f":"要求内訳データ!B59","v":{"$error":"#REF!"}},{"$f":"要求内訳データ!C59","v":{"$error":"#REF!"}},{"$f":"要求内訳データ!D59","v":{"$error":"#REF!"}},{"$f":"要求内訳データ!E59","v":{"$error":"#REF!"}},null,{"$f":"#REF!&\"0057\"","v":{"$error":"#REF!"}},"","","","","",{"$f":"IFERROR(VLOOKUP(I59,#REF!,10,FALSE),\"\")","v":""},{"$f":"IFERROR(VLOOKUP(I59,#REF!,11,FALSE),\"\")","v":""}]
[{"$error":"#REF!"},{"$f":"#REF!","v":{"$error":"#REF!"}},{"$f":"要求内訳データ!A60","v":{"$error":"#REF!"}},{"$f":"要求内訳データ!B60","v":{"$error":"#REF!"}},{"$f":"要求内訳データ!C60","v":{"$error":"#REF!"}},{"$f":"要求内訳データ!D60","v":{"$error":"#REF!"}},{"$f":"要求内訳データ!E60","v":{"$error":"#REF!"}},null,{"$f":"#REF!&\"0058\"","v":{"$error":"#REF!"}},"","","","","",{"$f":"IFERROR(VLOOKUP(I60,#REF!,10,FALSE),\"\")","v":""},{"$f":"IFERROR(VLOOKUP(I60,#REF!,11,FALSE),\"\")","v":""}]
[{"$error":"#REF!"},{"$f":"#REF!","v":{"$error":"#REF!"}},{"$f":"要求内訳データ!A61","v":{"$error":"#REF!"}},{"$f":"要求内訳データ!B61","v":{"$error":"#REF!"}},{"$f":"要求内訳データ!C61","v":{"$error":"#REF!"}},{"$f":"要求内訳データ!D61","v":{"$error":"#REF!"}},{"$f":"要求内訳データ!E61","v":{"$error":"#REF!"}},null,{"$f":"#REF!&\"0059\"","v":{"$error":"#REF!"}},"","","","","",{"$f":"IFERROR(VLOOKUP(I61,#REF!,10,FALSE),\"\")","v":""},{"$f":"IFERROR(VLOOKUP(I61,#REF!,11,FALSE),\"\")","v":""}]
[{"$error":"#REF!"},{"$f":"#REF!","v":{"$error":"#REF!"}},{"$f":"要求内訳データ!A62","v":{"$error":"#REF!"}},{"$f":"要求内訳データ!B62","v":{"$error":"#REF!"}},{"$f":"要求内訳データ!C62","v":{"$error":"#REF!"}},{"$f":"要求内訳データ!D62","v":{"$error":"#REF!"}},{"$f":"要求内訳データ!E62","v":{"$error":"#REF!"}},null,{"$f":"#REF!&\"0060\"","v":{"$error":"#REF!"}},"","","","","",{"$f":"IFERROR(VLOOKUP(I62,#REF!,10,FALSE),\"\")","v":""},{"$f":"IFERROR(VLOOKUP(I62,#REF!,11,FALSE),\"\")","v":""}]
[{"$error":"#REF!"},{"$f":"#REF!","v":{"$error":"#REF!"}},{"$f":"要求内訳データ!A63","v":{"$error":"#REF!"}},{"$f":"要求内訳データ!B63","v":{"$error":"#REF!"}},{"$f":"要求内訳データ!C63","v":{"$error":"#REF!"}},{"$f":"要求内訳データ!D63","v":{"$error":"#REF!"}},{"$f":"要求内訳データ!E63","v":{"$error":"#REF!"}},null,{"$f":"#REF!&\"0061\"","v":{"$error":"#REF!"}},"","","","","",{"$f":"IFERROR(VLOOKUP(I63,#REF!,10,FALSE),\"\")","v":""},{"$f":"IFERROR(VLOOKUP(I63,#REF!,11,FALSE),\"\")","v":""}]
[{"$error":"#REF!"},{"$f":"#REF!","v":{"$error":"#REF!"}},{"$f":"要求内訳データ!A64","v":{"$error":"#REF!"}},{"$f":"要求内訳データ!B64","v":{"$error":"#REF!"}},{"$f":"要求内訳データ!C64","v":{"$error":"#REF!"}},{"$f":"要求内訳データ!D64","v":{"$error":"#REF!"}},{"$f":"要求内訳データ!E64","v":{"$error":"#REF!"}},null,{"$f":"#REF!&\"0062\"","v":{"$error":"#REF!"}},"","","","","",{"$f":"IFERROR(VLOOKUP(I64,#REF!,10,FALSE),\"\")","v":""},{"$f":"IFERROR(VLOOKUP(I64,#REF!,11,FALSE),\"\")","v":""}]
[{"$error":"#REF!"},{"$f":"#REF!","v":{"$error":"#REF!"}},{"$f":"要求内訳データ!A65","v":{"$error":"#REF!"}},{"$f":"要求内訳データ!B65","v":{"$error":"#REF!"}},{"$f":"要求内訳データ!C65","v":{"$error":"#REF!"}},{"$f":"要求内訳データ!D65","v":{"$error":"#REF!"}},{"$f":"要求内訳データ!E65","v":{"$error":"#REF!"}},null,{"$f":"#REF!&\"0063\"","v":{"$error":"#REF!"}},"","","","","",{"$f":"IFERROR(VLOOKUP(I65,#REF!,10,FALSE),\"\")","v":""},{"$f":"IFERROR(VLOOKUP(I65,#REF!,11,FALSE),\"\")","v":""}]
[{"$error":"#REF!"},{"$f":"#REF!","v":{"$error":"#REF!"}},{"$f":"要求内訳データ!A66","v":{"$error":"#REF!"}},{"$f":"要求内訳データ!B66","v":{"$error":"#REF!"}},{"$f":"要求内訳データ!C66","v":{"$error":"#REF!"}},{"$f":"要求内訳データ!D66","v":{"$error":"#REF!"}},{"$f":"要求内訳データ!E66","v":{"$error":"#REF!"}},null,{"$f":"#REF!&\"0064\"","v":{"$error":"#REF!"}},"","","","","",{"$f":"IFERROR(VLOOKUP(I66,#REF!,10,FALSE),\"\")","v":""},{"$f":"IFERROR(VLOOKUP(I66,#REF!,11,FALSE),\"\")","v":""}]
[{"$f":"LEFT(B67,LEN(B67)-4)","v":{"$error":"#REF!"}},{"$f":"#REF!","v":{"$error":"#REF!"}},{"$f":"要求内訳データ!A67","v":{"$error":"#REF!"}},{"$f":"要求内訳データ!B67","v":{"$error":"#REF!"}},{"$f":"要求内訳データ!C67","v":{"$error":"#REF!"}},{"$f":"要求内訳データ!D67","v":{"$error":"#REF!"}},{"$f":"要求内訳データ!E67","v":{"$error":"#REF!"}},null,{"$f":"#REF!&\"0065\"","v":{"$error":"#REF!"}},"",{"$f":"IFERROR(VLOOKUP(I67,$B$3:$G$498,3,FALSE),\"\")","v":""},{"$f":"IF(AND(J67=\"\",NOT(K66=\"\")),\"以下余白\",IFERROR(VLOOKUP(I67,$B$3:$G$498,4,FALSE),\"\"))","v":""},{"$f":"IFERROR(VLOOKUP(I67,$B$3:$G$498,5,FALSE),\"\")","v":""},{"$f":"IFERROR(VLOOKUP(I67,$B$3:$G$498,6,FALSE),\"\")","v":""},{"$f":"IFERROR(VLOOKUP(I67,#REF!,10,FALSE),\"\")","v":""},{"$f":"IFERROR(VLOOKUP(I67,#REF!,11,FALSE),\"\")","v":""}]
[{"$error":"#REF!"},{"$f":"#REF!","v":{"$error":"#REF!"}},{"$f":"要求内訳データ!A68","v":{"$error":"#REF!"}},{"$f":"要求内訳データ!B68","v":{"$error":"#REF!"}},{"$f":"要求内訳データ!C68","v":{"$error":"#REF!"}},{"$f":"要求内訳データ!D68","v":{"$error":"#REF!"}},{"$f":"要求内訳データ!E68","v":{"$error":"#REF!"}},null,{"$f":"#REF!&\"0066\"","v":{"$error":"#REF!"}},{"$f":"IF(K68=\"\",\"\",J67+1)","v":""},"","","","",{"$f":"IFERROR(VLOOKUP(I68,#REF!,10,FALSE),\"\")","v":""},{"$f":"IFERROR(VLOOKUP(I68,#REF!,11,FALSE),\"\")","v":""}]
[{"$error":"#REF!"},{"$f":"#REF!","v":{"$error":"#REF!"}},{"$f":"要求内訳データ!A69","v":{"$error":"#REF!"}},{"$f":"要求内訳データ!B69","v":{"$error":"#REF!"}},{"$f":"要求内訳データ!C69","v":{"$error":"#REF!"}},{"$f":"要求内訳データ!D69","v":{"$error":"#REF!"}},{"$f":"要求内訳データ!E69","v":{"$error":"#REF!"}},null,{"$f":"#REF!&\"0067\"","v":{"$error":"#REF!"}},"","","","","",{"$f":"IFERROR(VLOOKUP(I69,#REF!,10,FALSE),\"\")","v":""},{"$f":"IFERROR(VLOOKUP(I69,#REF!,11,FALSE),\"\")","v":""}]
[{"$error":"#REF!"},{"$f":"#REF!","v":{"$error":"#REF!"}},{"$f":"要求内訳データ!A70","v":{"$error":"#REF!"}},{"$f":"要求内訳データ!B70","v":{"$error":"#REF!"}},{"$f":"要求内訳データ!C70","v":{"$error":"#REF!"}},{"$f":"要求内訳データ!D70","v":{"$error":"#REF!"}},{"$f":"要求内訳データ!E70","v":{"$error":"#REF!"}},null,{"$f":"#REF!&\"0068\"","v":{"$error":"#REF!"}},"","","","","",{"$f":"IFERROR(VLOOKUP(I70,#REF!,10,FALSE),\"\")","v":""},{"$f":"IFERROR(VLOOKUP(I70,#REF!,11,FALSE),\"\")","v":""}]
[{"$error":"#REF!"},{"$f":"#REF!","v":{"$error":"#REF!"}},{"$f":"要求内訳データ!A71","v":{"$error":"#REF!"}},{"$f":"要求内訳データ!B71","v":{"$error":"#REF!"}},{"$f":"要求内訳データ!C71","v":{"$error":"#REF!"}},{"$f":"要求内訳データ!D71","v":{"$error":"#REF!"}},{"$f":"要求内訳データ!E71","v":{"$error":"#REF!"}},null,{"$f":"#REF!&\"0069\"","v":{"$error":"#REF!"}},"","","","","",{"$f":"IFERROR(VLOOKUP(I71,#REF!,10,FALSE),\"\")","v":""},{"$f":"IFERROR(VLOOKUP(I71,#REF!,11,FALSE),\"\")","v":""}]
[{"$error":"#REF!"},{"$f":"#REF!","v":{"$error":"#REF!"}},{"$f":"要求内訳データ!A72","v":{"$error":"#REF!"}},{"$f":"要求内訳データ!B72","v":{"$error":"#REF!"}},{"$f":"要求内訳データ!C72","v":{"$error":"#REF!"}},{"$f":"要求内訳データ!D72","v":{"$error":"#REF!"}},{"$f":"要求内訳データ!E72","v":{"$error":"#REF!"}},null,{"$f":"#REF!&\"0070\"","v":{"$error":"#REF!"}},"","","","","",{"$f":"IFERROR(VLOOKUP(I72,#REF!,10,FALSE),\"\")","v":""},{"$f":"IFERROR(VLOOKUP(I72,#REF!,11,FALSE),\"\")","v":""}]
[{"$error":"#REF!"},{"$f":"#REF!","v":{"$error":"#REF!"}},{"$f":"要求内訳データ!A73","v":{"$error":"#REF!"}},{"$f":"要求内訳データ!B73","v":{"$error":"#REF!"}},{"$f":"要求内訳データ!C73","v":{"$error":"#REF!"}},{"$f":"要求内訳データ!D73","v":{"$error":"#REF!"}},{"$f":"要求内訳データ!E73","v":{"$error":"#REF!"}},null,{"$f":"#REF!&\"0071\"","v":{"$error":"#REF!"}},"","","","","",{"$f":"IFERROR(VLOOKUP(I73,#REF!,10,FALSE),\"\")","v":""},{"$f":"IFERROR(VLOOKUP(I73,#REF!,11,FALSE),\"\")","v":""}]
[{"$error":"#REF!"},{"$f":"#REF!","v":{"$error":"#REF!"}},{"$f":"要求内訳データ!A74","v":{"$error":"#REF!"}},{"$f":"要求内訳データ!B74","v":{"$error":"#REF!"}},{"$f":"要求内訳データ!C74","v":{"$error":"#REF!"}},{"$f":"要求内訳データ!D74","v":{"$error":"#REF!"}},{"$f":"要求内訳データ!E74","v":{"$error":"#REF!"}},null,{"$f":"#REF!&\"0072\"","v":{"$error":"#REF!"}},"","","","","",{"$f":"IFERROR(VLOOKUP(I74,#REF!,10,FALSE),\"\")","v":""},{"$f":"IFERROR(VLOOKUP(I74,#REF!,11,FALSE),\"\")","v":""}]
[{"$error":"#REF!"},{"$f":"#REF!","v":{"$error":"#REF!"}},{"$f":"要求内訳データ!A75","v":{"$error":"#REF!"}},{"$f":"要求内訳データ!B75","v":{"$error":"#REF!"}},{"$f":"要求内訳データ!C75","v":{"$error":"#REF!"}},{"$f":"要求内訳データ!D75","v":{"$error":"#REF!"}},{"$f":"要求内訳データ!E75","v":{"$error":"#REF!"}},null,{"$f":"#REF!&\"0073\"","v":{"$error":"#REF!"}},"","","","","",{"$f":"IFERROR(VLOOKUP(I75,#REF!,10,FALSE),\"\")","v":""},{"$f":"IFERROR(VLOOKUP(I75,#REF!,11,FALSE),\"\")","v":""}]
[{"$error":"#REF!"},{"$f":"#REF!","v":{"$error":"#REF!"}},{"$f":"要求内訳データ!A76","v":{"$error":"#REF!"}},{"$f":"要求内訳データ!B76","v":{"$error":"#REF!"}},{"$f":"要求内訳データ!C76","v":{"$error":"#REF!"}},{"$f":"要求内訳データ!D76","v":{"$error":"#REF!"}},{"$f":"要求内訳データ!E76","v":{"$error":"#REF!"}},null,{"$f":"#REF!&\"0074\"","v":{"$error":"#REF!"}},"","","","","",{"$f":"IFERROR(VLOOKUP(I76,#REF!,10,FALSE),\"\")","v":""},{"$f":"IFERROR(VLOOKUP(I76,#REF!,11,FALSE),\"\")","v":""}]
[{"$error":"#REF!"},{"$f":"#REF!","v":{"$error":"#REF!"}},{"$f":"要求内訳データ!A77","v":{"$error":"#REF!"}},{"$f":"要求内訳データ!B77","v":{"$error":"#REF!"}},{"$f":"要求内訳データ!C77","v":{"$error":"#REF!"}},{"$f":"要求内訳データ!D77","v":{"$error":"#REF!"}},{"$f":"要求内訳データ!E77","v":{"$error":"#REF!"}},null,{"$f":"#REF!&\"0075\"","v":{"$error":"#REF!"}},"","","","","",{"$f":"IFERROR(VLOOKUP(I77,#REF!,10,FALSE),\"\")","v":""},{"$f":"IFERROR(VLOOKUP(I77,#REF!,11,FALSE),\"\")","v":""}]
[{"$error":"#REF!"},{"$f":"#REF!","v":{"$error":"#REF!"}},{"$f":"要求内訳データ!A78","v":{"$error":"#REF!"}},{"$f":"要求内訳データ!B78","v":{"$error":"#REF!"}},{"$f":"要求内訳データ!C78","v":{"$error":"#REF!"}},{"$f":"要求内訳データ!D78","v":{"$error":"#REF!"}},{"$f":"要求内訳データ!E78","v":{"$error":"#REF!"}},null,{"$f":"#REF!&\"0076\"","v":{"$error":"#REF!"}},"","","","","",{"$f":"IFERROR(VLOOKUP(I78,#REF!,10,FALSE),\"\")","v":""},{"$f":"IFERROR(VLOOKUP(I78,#REF!,11,FALSE),\"\")","v":""}]
[{"$error":"#REF!"},{"$f":"#REF!","v":{"$error":"#REF!"}},{"$f":"要求内訳データ!A79","v":{"$error":"#REF!"}},{"$f":"要求内訳データ!B79","v":{"$error":"#REF!"}},{"$f":"要求内訳データ!C79","v":{"$error":"#REF!"}},{"$f":"要求内訳データ!D79","v":{"$error":"#REF!"}},{"$f":"要求内訳データ!E79","v":{"$error":"#REF!"}},null,{"$f":"#REF!&\"0077\"","v":{"$error":"#REF!"}},"","","","","",{"$f":"IFERROR(VLOOKUP(I79,#REF!,10,FALSE),\"\")","v":""},{"$f":"IFERROR(VLOOKUP(I79,#REF!,11,FALSE),\"\")","v":""}]
[{"$error":"#REF!"},{"$f":"#REF!","v":{"$error":"#REF!"}},{"$f":"要求内訳データ!A80","v":{"$error":"#REF!"}},{"$f":"要求内訳データ!B80","v":{"$error":"#REF!"}},{"$f":"要求内訳データ!C80","v":{"$error":"#REF!"}},{"$f":"要求内訳データ!D80","v":{"$error":"#REF!"}},{"$f":"要求内訳データ!E80","v":{"$error":"#REF!"}},null,{"$f":"#REF!&\"0078\"","v":{"$error":"#REF!"}},"","","","","",{"$f":"IFERROR(VLOOKUP(I80,#REF!,10,FALSE),\"\")","v":""},{"$f":"IFERROR(VLOOKUP(I80,#REF!,11,FALSE),\"\")","v":""}]
[{"$error":"#REF!"},{"$f":"#REF!","v":{"$error":"#REF!"}},{"$f":"要求内訳データ!A81","v":{"$error":"#REF!"}},{"$f":"要求内訳データ!B81","v":{"$error":"#REF!"}},{"$f":"要求内訳データ!C81","v":{"$error":"#REF!"}},{"$f":"要求内訳データ!D81","v":{"$error":"#REF!"}},{"$f":"要求内訳データ!E81","v":{"$error":"#REF!"}},null,{"$f":"#REF!&\"0079\"","v":{"$error":"#REF!"}},"","","","","",{"$f":"IFERROR(VLOOKUP(I81,#REF!,10,FALSE),\"\")","v":""},{"$f":"IFERROR(VLOOKUP(I81,#REF!,11,FALSE),\"\")","v":""}]
[{"$error":"#REF!"},{"$f":"#REF!","v":{"$error":"#REF!"}},{"$f":"要求内訳データ!A82","v":{"$error":"#REF!"}},{"$f":"要求内訳データ!B82","v":{"$error":"#REF!"}},{"$f":"要求内訳データ!C82","v":{"$error":"#REF!"}},{"$f":"要求内訳データ!D82","v":{"$error":"#REF!"}},{"$f":"要求内訳データ!E82","v":{"$error":"#REF!"}},null,{"$f":"#REF!&\"0080\"","v":{"$error":"#REF!"}},"","","","","",{"$f":"IFERROR(VLOOKUP(I82,#REF!,10,FALSE),\"\")","v":""},{"$f":"IFERROR(VLOOKUP(I82,#REF!,11,FALSE),\"\")","v":""}]
[{"$error":"#REF!"},{"$f":"#REF!","v":{"$error":"#REF!"}},{"$f":"要求内訳データ!A83","v":{"$error":"#REF!"}},{"$f":"要求内訳データ!B83","v":{"$error":"#REF!"}},{"$f":"要求内訳データ!C83","v":{"$error":"#REF!"}},{"$f":"要求内訳データ!D83","v":{"$error":"#REF!"}},{"$f":"要求内訳データ!E83","v":{"$error":"#REF!"}},null,{"$f":"#REF!&\"0081\"","v":{"$error":"#REF!"}},"","","","","",{"$f":"IFERROR(VLOOKUP(I83,#REF!,10,FALSE),\"\")","v":""},{"$f":"IFERROR(VLOOKUP(I83,#REF!,11,FALSE),\"\")","v":""}]
[{"$error":"#REF!"},{"$f":"#REF!","v":{"$error":"#REF!"}},{"$f":"要求内訳データ!A84","v":{"$error":"#REF!"}},{"$f":"要求内訳データ!B84","v":{"$error":"#REF!"}},{"$f":"要求内訳データ!C84","v":{"$error":"#REF!"}},{"$f":"要求内訳データ!D84","v":{"$error":"#REF!"}},{"$f":"要求内訳データ!E84","v":{"$error":"#REF!"}},null,{"$f":"#REF!&\"0082\"","v":{"$error":"#REF!"}},"","","","","",{"$f":"IFERROR(VLOOKUP(I84,#REF!,10,FALSE),\"\")","v":""},{"$f":"IFERROR(VLOOKUP(I84,#REF!,11,FALSE),\"\")","v":""}]
[{"$error":"#REF!"},{"$f":"#REF!","v":{"$error":"#REF!"}},{"$f":"要求内訳データ!A85","v":{"$error":"#REF!"}},{"$f":"要求内訳データ!B85","v":{"$error":"#REF!"}},{"$f":"要求内訳データ!C85","v":{"$error":"#REF!"}},{"$f":"要求内訳データ!D85","v":{"$error":"#REF!"}},{"$f":"要求内訳データ!E85","v":{"$error":"#REF!"}},null,{"$f":"#REF!&\"0083\"","v":{"$error":"#REF!"}},"","","","","",{"$f":"IFERROR(VLOOKUP(I85,#REF!,10,FALSE),\"\")","v":""},{"$f":"IFERROR(VLOOKUP(I85,#REF!,11,FALSE),\"\")","v":""}]
[{"$error":"#REF!"},{"$f":"#REF!","v":{"$error":"#REF!"}},{"$f":"要求内訳データ!A86","v":{"$error":"#REF!"}},{"$f":"要求内訳データ!B86","v":{"$error":"#REF!"}},{"$f":"要求内訳データ!C86","v":{"$error":"#REF!"}},{"$f":"要求内訳データ!D86","v":{"$error":"#REF!"}},{"$f":"要求内訳データ!E86","v":{"$error":"#REF!"}},null,{"$f":"#REF!&\"0084\"","v":{"$error":"#REF!"}},"","","","","",{"$f":"IFERROR(VLOOKUP(I86,#REF!,10,FALSE),\"\")","v":""},{"$f":"IFERROR(VLOOKUP(I86,#REF!,11,FALSE),\"\")","v":""}]
[{"$error":"#REF!"},{"$f":"#REF!","v":{"$error":"#REF!"}},{"$f":"要求内訳データ!A87","v":{"$error":"#REF!"}},{"$f":"要求内訳データ!B87","v":{"$error":"#REF!"}},{"$f":"要求内訳データ!C87","v":{"$error":"#REF!"}},{"$f":"要求内訳データ!D87","v":{"$error":"#REF!"}},{"$f":"要求内訳データ!E87","v":{"$error":"#REF!"}},null,{"$f":"#REF!&\"0085\"","v":{"$error":"#REF!"}},"","","","","",{"$f":"IFERROR(VLOOKUP(I87,#REF!,10,FALSE),\"\")","v":""},{"$f":"IFERROR(VLOOKUP(I87,#REF!,11,FALSE),\"\")","v":""}]
[{"$error":"#REF!"},{"$f":"#REF!","v":{"$error":"#REF!"}},{"$f":"要求内訳データ!A88","v":{"$error":"#REF!"}},{"$f":"要求内訳データ!B88","v":{"$error":"#REF!"}},{"$f":"要求内訳データ!C88","v":{"$error":"#REF!"}},{"$f":"要求内訳データ!D88","v":{"$error":"#REF!"}},{"$f":"要求内訳データ!E88","v":{"$error":"#REF!"}},null,{"$f":"#REF!&\"0086\"","v":{"$error":"#REF!"}},"","","","","",{"$f":"IFERROR(VLOOKUP(I88,#REF!,10,FALSE),\"\")","v":""},{"$f":"IFERROR(VLOOKUP(I88,#REF!,11,FALSE),\"\")","v":""}]
[{"$error":"#REF!"},{"$f":"#REF!","v":{"$error":"#REF!"}},{"$f":"要求内訳データ!A89","v":{"$error":"#REF!"}},{"$f":"要求内訳データ!B89","v":{"$error":"#REF!"}},{"$f":"要求内訳データ!C89","v":{"$error":"#REF!"}},{"$f":"要求内訳データ!D89","v":{"$error":"#REF!"}},{"$f":"要求内訳データ!E89","v":{"$error":"#REF!"}},null,{"$f":"#REF!&\"0087\"","v":{"$error":"#REF!"}},"","","","","",{"$f":"IFERROR(VLOOKUP(I89,#REF!,10,FALSE),\"\")","v":""},{"$f":"IFERROR(VLOOKUP(I89,#REF!,11,FALSE),\"\")","v":""}]
[{"$error":"#REF!"},{"$f":"#REF!","v":{"$error":"#REF!"}},{"$f":"要求内訳データ!A90","v":{"$error":"#REF!"}},{"$f":"要求内訳データ!B90","v":{"$error":"#REF!"}},{"$f":"要求内訳データ!C90","v":{"$error":"#REF!"}},{"$f":"要求内訳データ!D90","v":{"$error":"#REF!"}},{"$f":"要求内訳データ!E90","v":{"$error":"#REF!"}},null,{"$f":"#REF!&\"0088\"","v":{"$error":"#REF!"}},"","","","","",{"$f":"IFERROR(VLOOKUP(I90,#REF!,10,FALSE),\"\")","v":""},{"$f":"IFERROR(VLOOKUP(I90,#REF!,11,FALSE),\"\")","v":""}]
[{"$error":"#REF!"},{"$f":"#REF!","v":{"$error":"#REF!"}},{"$f":"要求内訳データ!A91","v":{"$error":"#REF!"}},{"$f":"要求内訳データ!B91","v":{"$error":"#REF!"}},{"$f":"要求内訳データ!C91","v":{"$error":"#REF!"}},{"$f":"要求内訳データ!D91","v":{"$error":"#REF!"}},{"$f":"要求内訳データ!E91","v":{"$error":"#REF!"}},null,{"$f":"#REF!&\"0089\"","v":{"$error":"#REF!"}},"","","","","",{"$f":"IFERROR(VLOOKUP(I91,#REF!,10,FALSE),\"\")","v":""},{"$f":"IFERROR(VLOOKUP(I91,#REF!,11,FALSE),\"\")","v":""}]
[{"$error":"#REF!"},{"$f":"#REF!","v":{"$error":"#REF!"}},{"$f":"要求内訳データ!A92","v":{"$error":"#REF!"}},{"$f":"要求内訳データ!B92","v":{"$error":"#REF!"}},{"$f":"要求内訳データ!C92","v":{"$error":"#REF!"}},{"$f":"要求内訳データ!D92","v":{"$error":"#REF!"}},{"$f":"要求内訳データ!E92","v":{"$error":"#REF!"}},null,{"$f":"#REF!&\"0090\"","v":{"$error":"#REF!"}},"","","","","",{"$f":"IFERROR(VLOOKUP(I92,#REF!,10,FALSE),\"\")","v":""},{"$f":"IFERROR(VLOOKUP(I92,#REF!,11,FALSE),\"\")","v":""}]
[{"$error":"#REF!"},{"$f":"#REF!","v":{"$error":"#REF!"}},{"$f":"要求内訳データ!A93","v":{"$error":"#REF!"}},{"$f":"要求内訳データ!B93","v":{"$error":"#REF!"}},{"$f":"要求内訳データ!C93","v":{"$error":"#REF!"}},{"$f":"要求内訳データ!D93","v":{"$error":"#REF!"}},{"$f":"要求内訳データ!E93","v":{"$error":"#REF!"}},null,{"$f":"#REF!&\"0091\"","v":{"$error":"#REF!"}},"","","","","",{"$f":"IFERROR(VLOOKUP(I93,#REF!,10,FALSE),\"\")","v":""},{"$f":"IFERROR(VLOOKUP(I93,#REF!,11,FALSE),\"\")","v":""}]
[{"$error":"#REF!"},{"$f":"#REF!","v":{"$error":"#REF!"}},{"$f":"要求内訳データ!A94","v":{"$error":"#REF!"}},{"$f":"要求内訳データ!B94","v":{"$error":"#REF!"}},{"$f":"要求内訳データ!C94","v":{"$error":"#REF!"}},{"$f":"要求内訳データ!D94","v":{"$error":"#REF!"}},{"$f":"要求内訳データ!E94","v":{"$error":"#REF!"}},null,{"$f":"#REF!&\"0092\"","v":{"$error":"#REF!"}},"","","","","",{"$f":"IFERROR(VLOOKUP(I94,#REF!,10,FALSE),\"\")","v":""},{"$f":"IFERROR(VLOOKUP(I94,#REF!,11,FALSE),\"\")","v":""}]
[{"$error":"#REF!"},{"$f":"#REF!","v":{"$error":"#REF!"}},{"$f":"要求内訳データ!A95","v":{"$error":"#REF!"}},{"$f":"要求内訳データ!B95","v":{"$error":"#REF!"}},{"$f":"要求内訳データ!C95","v":{"$error":"#REF!"}},{"$f":"要求内訳データ!D95","v":{"$error":"#REF!"}},{"$f":"要求内訳データ!E95","v":{"$error":"#REF!"}},null,{"$f":"#REF!&\"0093\"","v":{"$error":"#REF!"}},"","","","","",{"$f":"IFERROR(VLOOKUP(I95,#REF!,10,FALSE),\"\")","v":""},{"$f":"IFERROR(VLOOKUP(I95,#REF!,11,FALSE),\"\")","v":""}]
[{"$error":"#REF!"},{"$f":"#REF!","v":{"$error":"#REF!"}},{"$f":"要求内訳データ!A96","v":{"$error":"#REF!"}},{"$f":"要求内訳データ!B96","v":{"$error":"#REF!"}},{"$f":"要求内訳データ!C96","v":{"$error":"#REF!"}},{"$f":"要求内訳データ!D96","v":{"$error":"#REF!"}},{"$f":"要求内訳データ!E96","v":{"$error":"#REF!"}},null,{"$f":"#REF!&\"0094\"","v":{"$error":"#REF!"}},"","","","","",{"$f":"IFERROR(VLOOKUP(I96,#REF!,10,FALSE),\"\")","v":""},{"$f":"IFERROR(VLOOKUP(I96,#REF!,11,FALSE),\"\")","v":""}]
[{"$error":"#REF!"},{"$f":"#REF!","v":{"$error":"#REF!"}},{"$f":"要求内訳データ!A97","v":{"$error":"#REF!"}},{"$f":"要求内訳データ!B97","v":{"$error":"#REF!"}},{"$f":"要求内訳データ!C97","v":{"$error":"#REF!"}},{"$f":"要求内訳データ!D97","v":{"$error":"#REF!"}},{"$f":"要求内訳データ!E97","v":{"$error":"#REF!"}},null,{"$f":"#REF!&\"0095\"","v":{"$error":"#REF!"}},"","","","","",{"$f":"IFERROR(VLOOKUP(I97,#REF!,10,FALSE),\"\")","v":""},{"$f":"IFERROR(VLOOKUP(I97,#REF!,11,FALSE),\"\")","v":""}]
[{"$error":"#REF!"},{"$f":"#REF!","v":{"$error":"#REF!"}},{"$f":"要求内訳データ!A98","v":{"$error":"#REF!"}},{"$f":"要求内訳データ!B98","v":{"$error":"#REF!"}},{"$f":"要求内訳データ!C98","v":{"$error":"#REF!"}},{"$f":"要求内訳データ!D98","v":{"$error":"#REF!"}},{"$f":"要求内訳データ!E98","v":{"$error":"#REF!"}},null,{"$f":"#REF!&\"0096\"","v":{"$error":"#REF!"}},"","","","","",{"$f":"IFERROR(VLOOKUP(I98,#REF!,10,FALSE),\"\")","v":""},{"$f":"IFERROR(VLOOKUP(I98,#REF!,11,FALSE),\"\")","v":""}]
[{"$error":"#REF!"},{"$f":"#REF!","v":{"$error":"#REF!"}},{"$f":"要求内訳データ!A99","v":{"$error":"#REF!"}},{"$f":"要求内訳データ!B99","v":{"$error":"#REF!"}},{"$f":"要求内訳データ!C99","v":{"$error":"#REF!"}},{"$f":"要求内訳データ!D99","v":{"$error":"#REF!"}},{"$f":"要求内訳データ!E99","v":{"$error":"#REF!"}},null,{"$f":"#REF!&\"0097\"","v":{"$error":"#REF!"}},"","","","","",{"$f":"IFERROR(VLOOKUP(I99,#REF!,10,FALSE),\"\")","v":""},{"$f":"IFERROR(VLOOKUP(I99,#REF!,11,FALSE),\"\")","v":""}]
[{"$error":"#REF!"},{"$f":"#REF!","v":{"$error":"#REF!"}},{"$f":"要求内訳データ!A100","v":{"$error":"#REF!"}},{"$f":"要求内訳データ!B100","v":{"$error":"#REF!"}},{"$f":"要求内訳データ!C100","v":{"$error":"#REF!"}},{"$f":"要求内訳データ!D100","v":{"$error":"#REF!"}},{"$f":"要求内訳データ!E100","v":{"$error":"#REF!"}},null,{"$f":"#REF!&\"0098\"","v":{"$error":"#REF!"}},"","","","","",{"$f":"IFERROR(VLOOKUP(I100,#REF!,10,FALSE),\"\")","v":""},{"$f":"IFERROR(VLOOKUP(I100,#REF!,11,FALSE),\"\")","v":""}]
[{"$error":"#REF!"},{"$f":"#REF!","v":{"$error":"#REF!"}},{"$f":"要求内訳データ!A101","v":{"$error":"#REF!"}},{"$f":"要求内訳データ!B101","v":{"$error":"#REF!"}},{"$f":"要求内訳データ!C101","v":{"$error":"#REF!"}},{"$f":"要求内訳データ!D101","v":{"$error":"#REF!"}},{"$f":"要求内訳データ!E101","v":{"$error":"#REF!"}},null,{"$f":"#REF!&\"0099\"","v":{"$error":"#REF!"}},"","","","","",{"$f":"IFERROR(VLOOKUP(I101,#REF!,10,FALSE),\"\")","v":""},{"$f":"IFERROR(VLOOKUP(I101,#REF!,11,FALSE),\"\")","v":""}]
[{"$error":"#REF!"},{"$f":"#REF!","v":{"$error":"#REF!"}},{"$f":"要求内訳データ!A102","v":{"$error":"#REF!"}},{"$f":"要求内訳データ!B102","v":{"$error":"#REF!"}},{"$f":"要求内訳データ!C102","v":{"$error":"#REF!"}},{"$f":"要求内訳データ!D102","v":{"$error":"#REF!"}},{"$f":"要求内訳データ!E102","v":{"$error":"#REF!"}},null,{"$f":"#REF!&\"0100\"","v":{"$error":"#REF!"}},"","","","","",{"$f":"IFERROR(VLOOKUP(I102,#REF!,10,FALSE),\"\")","v":""},{"$f":"IFERROR(VLOOKUP(I102,#REF!,11,FALSE),\"\")","v":""}]
[{"$error":"#REF!"},{"$f":"#REF!","v":{"$error":"#REF!"}},{"$f":"要求内訳データ!A103","v":{"$error":"#REF!"}},{"$f":"要求内訳データ!B103","v":{"$error":"#REF!"}},{"$f":"要求内訳データ!C103","v":{"$error":"#REF!"}},{"$f":"要求内訳データ!D103","v":{"$error":"#REF!"}},{"$f":"要求内訳データ!E103","v":{"$error":"#REF!"}},null,{"$f":"#REF!&\"0101\"","v":{"$error":"#REF!"}},"","","","","",{"$f":"IFERROR(VLOOKUP(I103,#REF!,10,FALSE),\"\")","v":""},{"$f":"IFERROR(VLOOKUP(I103,#REF!,11,FALSE),\"\")","v":""}]
[{"$error":"#REF!"},{"$f":"#REF!","v":{"$error":"#REF!"}},{"$f":"要求内訳データ!A104","v":{"$error":"#REF!"}},{"$f":"要求内訳データ!B104","v":{"$error":"#REF!"}},{"$f":"要求内訳データ!C104","v":{"$error":"#REF!"}},{"$f":"要求内訳データ!D104","v":{"$error":"#REF!"}},{"$f":"要求内訳データ!E104","v":{"$error":"#REF!"}},null,{"$f":"#REF!&\"0102\"","v":{"$error":"#REF!"}},"","","","","",{"$f":"IFERROR(VLOOKUP(I104,#REF!,10,FALSE),\"\")","v":""},{"$f":"IFERROR(VLOOKUP(I104,#REF!,11,FALSE),\"\")","v":""}]
[{"$error":"#REF!"},{"$f":"#REF!","v":{"$error":"#REF!"}},{"$f":"要求内訳データ!A105","v":{"$error":"#REF!"}},{"$f":"要求内訳データ!B105","v":{"$error":"#REF!"}},{"$f":"要求内訳データ!C105","v":{"$error":"#REF!"}},{"$f":"要求内訳データ!D105","v":{"$error":"#REF!"}},{"$f":"要求内訳データ!E105","v":{"$error":"#REF!"}},null,{"$f":"#REF!&\"0103\"","v":{"$error":"#REF!"}},"","","","","",{"$f":"IFERROR(VLOOKUP(I105,#REF!,10,FALSE),\"\")","v":""},{"$f":"IFERROR(VLOOKUP(I105,#REF!,11,FALSE),\"\")","v":""}]
[{"$error":"#REF!"},{"$f":"#REF!","v":{"$error":"#REF!"}},{"$f":"要求内訳データ!A106","v":{"$error":"#REF!"}},{"$f":"要求内訳データ!B106","v":{"$error":"#REF!"}},{"$f":"要求内訳データ!C106","v":{"$error":"#REF!"}},{"$f":"要求内訳データ!D106","v":{"$error":"#REF!"}},{"$f":"要求内訳データ!E106","v":{"$error":"#REF!"}},null,{"$f":"#REF!&\"0104\"","v":{"$error":"#REF!"}},"","","","","",{"$f":"IFERROR(VLOOKUP(I106,#REF!,10,FALSE),\"\")","v":""},{"$f":"IFERROR(VLOOKUP(I106,#REF!,11,FALSE),\"\")","v":""}]
[{"$error":"#REF!"},{"$f":"#REF!","v":{"$error":"#REF!"}},{"$f":"要求内訳データ!A107","v":{"$error":"#REF!"}},{"$f":"要求内訳データ!B107","v":{"$error":"#REF!"}},{"$f":"要求内訳データ!C107","v":{"$error":"#REF!"}},{"$f":"要求内訳データ!D107","v":{"$error":"#REF!"}},{"$f":"要求内訳データ!E107","v":{"$error":"#REF!"}},null,{"$f":"#REF!&\"0105\"","v":{"$error":"#REF!"}},"","","","","",{"$f":"IFERROR(VLOOKUP(I107,#REF!,10,FALSE),\"\")","v":""},{"$f":"IFERROR(VLOOKUP(I107,#REF!,11,FALSE),\"\")","v":""}]
[{"$error":"#REF!"},{"$f":"#REF!","v":{"$error":"#REF!"}},{"$f":"要求内訳データ!A108","v":{"$error":"#REF!"}},{"$f":"要求内訳データ!B108","v":{"$error":"#REF!"}},{"$f":"要求内訳データ!C108","v":{"$error":"#REF!"}},{"$f":"要求内訳データ!D108","v":{"$error":"#REF!"}},{"$f":"要求内訳データ!E108","v":{"$error":"#REF!"}},null,{"$f":"#REF!&\"0106\"","v":{"$error":"#REF!"}},"","","","","",{"$f":"IFERROR(VLOOKUP(I108,#REF!,10,FALSE),\"\")","v":""},{"$f":"IFERROR(VLOOKUP(I108,#REF!,11,FALSE),\"\")","v":""}]
[{"$error":"#REF!"},{"$f":"#REF!","v":{"$error":"#REF!"}},{"$f":"要求内訳データ!A109","v":{"$error":"#REF!"}},{"$f":"要求内訳データ!B109","v":{"$error":"#REF!"}},{"$f":"要求内訳データ!C109","v":{"$error":"#REF!"}},{"$f":"要求内訳データ!D109","v":{"$error":"#REF!"}},{"$f":"要求内訳データ!E109","v":{"$error":"#REF!"}},null,{"$f":"#REF!&\"0107\"","v":{"$error":"#REF!"}},"","","","","",{"$f":"IFERROR(VLOOKUP(I109,#REF!,10,FALSE),\"\")","v":""},{"$f":"IFERROR(VLOOKUP(I109,#REF!,11,FALSE),\"\")","v":""}]
[{"$error":"#REF!"},{"$f":"#REF!","v":{"$error":"#REF!"}},{"$f":"要求内訳データ!A110","v":{"$error":"#REF!"}},{"$f":"要求内訳データ!B110","v":{"$error":"#REF!"}},{"$f":"要求内訳データ!C110","v":{"$error":"#REF!"}},{"$f":"要求内訳データ!D110","v":{"$error":"#REF!"}},{"$f":"要求内訳データ!E110","v":{"$error":"#REF!"}},null,{"$f":"#REF!&\"0108\"","v":{"$error":"#REF!"}},"","","","","",{"$f":"IFERROR(VLOOKUP(I110,#REF!,10,FALSE),\"\")","v":""},{"$f":"IFERROR(VLOOKUP(I110,#REF!,11,FALSE),\"\")","v":""}]
[{"$error":"#REF!"},{"$f":"#REF!","v":{"$error":"#REF!"}},{"$f":"要求内訳データ!A111","v":{"$error":"#REF!"}},{"$f":"要求内訳データ!B111","v":{"$error":"#REF!"}},{"$f":"要求内訳データ!C111","v":{"$error":"#REF!"}},{"$f":"要求内訳データ!D111","v":{"$error":"#REF!"}},{"$f":"要求内訳データ!E111","v":{"$error":"#REF!"}},null,{"$f":"#REF!&\"0109\"","v":{"$error":"#REF!"}},"","","","","",{"$f":"IFERROR(VLOOKUP(I111,#REF!,10,FALSE),\"\")","v":""},{"$f":"IFERROR(VLOOKUP(I111,#REF!,11,FALSE),\"\")","v":""}]
[{"$error":"#REF!"},{"$f":"#REF!","v":{"$error":"#REF!"}},{"$f":"要求内訳データ!A112","v":{"$error":"#REF!"}},{"$f":"要求内訳データ!B112","v":{"$error":"#REF!"}},{"$f":"要求内訳データ!C112","v":{"$error":"#REF!"}},{"$f":"要求内訳データ!D112","v":{"$error":"#REF!"}},{"$f":"要求内訳データ!E112","v":{"$error":"#REF!"}},null,{"$f":"#REF!&\"0110\"","v":{"$error":"#REF!"}},"","","","","",{"$f":"IFERROR(VLOOKUP(I112,#REF!,10,FALSE),\"\")","v":""},{"$f":"IFERROR(VLOOKUP(I112,#REF!,11,FALSE),\"\")","v":""}]
[{"$error":"#REF!"},{"$f":"#REF!","v":{"$error":"#REF!"}},{"$f":"要求内訳データ!A113","v":{"$error":"#REF!"}},{"$f":"要求内訳データ!B113","v":{"$error":"#REF!"}},{"$f":"要求内訳データ!C113","v":{"$error":"#REF!"}},{"$f":"要求内訳データ!D113","v":{"$error":"#REF!"}},{"$f":"要求内訳データ!E113","v":{"$error":"#REF!"}},null,{"$f":"#REF!&\"0111\"","v":{"$error":"#REF!"}},"","","","","",{"$f":"IFERROR(VLOOKUP(I113,#REF!,10,FALSE),\"\")","v":""},{"$f":"IFERROR(VLOOKUP(I113,#REF!,11,FALSE),\"\")","v":""}]
[{"$error":"#REF!"},{"$f":"#REF!","v":{"$error":"#REF!"}},{"$f":"要求内訳データ!A114","v":{"$error":"#REF!"}},{"$f":"要求内訳データ!B114","v":{"$error":"#REF!"}},{"$f":"要求内訳データ!C114","v":{"$error":"#REF!"}},{"$f":"要求内訳データ!D114","v":{"$error":"#REF!"}},{"$f":"要求内訳データ!E114","v":{"$error":"#REF!"}},null,{"$f":"#REF!&\"0112\"","v":{"$error":"#REF!"}},"","","","","",{"$f":"IFERROR(VLOOKUP(I114,#REF!,10,FALSE),\"\")","v":""},{"$f":"IFERROR(VLOOKUP(I114,#REF!,11,FALSE),\"\")","v":""}]
[{"$error":"#REF!"},{"$f":"#REF!","v":{"$error":"#REF!"}},{"$f":"要求内訳データ!A115","v":{"$error":"#REF!"}},{"$f":"要求内訳データ!B115","v":{"$error":"#REF!"}},{"$f":"要求内訳データ!C115","v":{"$error":"#REF!"}},{"$f":"要求内訳データ!D115","v":{"$error":"#REF!"}},{"$f":"要求内訳データ!E115","v":{"$error":"#REF!"}},null,{"$f":"#REF!&\"0113\"","v":{"$error":"#REF!"}},"","","","","",{"$f":"IFERROR(VLOOKUP(I115,#REF!,10,FALSE),\"\")","v":""},{"$f":"IFERROR(VLOOKUP(I115,#REF!,11,FALSE),\"\")","v":""}]
[{"$error":"#REF!"},{"$f":"#REF!","v":{"$error":"#REF!"}},{"$f":"要求内訳データ!A116","v":{"$error":"#REF!"}},{"$f":"要求内訳データ!B116","v":{"$error":"#REF!"}},{"$f":"要求内訳データ!C116","v":{"$error":"#REF!"}},{"$f":"要求内訳データ!D116","v":{"$error":"#REF!"}},{"$f":"要求内訳データ!E116","v":{"$error":"#REF!"}},null,{"$f":"#REF!&\"0114\"","v":{"$error":"#REF!"}},"","","","","",{"$f":"IFERROR(VLOOKUP(I116,#REF!,10,FALSE),\"\")","v":""},{"$f":"IFERROR(VLOOKUP(I116,#REF!,11,FALSE),\"\")","v":""}]
[{"$error":"#REF!"},{"$f":"#REF!","v":{"$error":"#REF!"}},{"$f":"要求内訳データ!A117","v":{"$error":"#REF!"}},{"$f":"要求内訳データ!B117","v":{"$error":"#REF!"}},{"$f":"要求内訳データ!C117","v":{"$error":"#REF!"}},{"$f":"要求内訳データ!D117","v":{"$error":"#REF!"}},{"$f":"要求内訳データ!E117","v":{"$error":"#REF!"}},null,{"$f":"#REF!&\"0115\"","v":{"$error":"#REF!"}},"","","","","",{"$f":"IFERROR(VLOOKUP(I117,#REF!,10,FALSE),\"\")","v":""},{"$f":"IFERROR(VLOOKUP(I117,#REF!,11,FALSE),\"\")","v":""}]
[{"$error":"#REF!"},{"$f":"#REF!","v":{"$error":"#REF!"}},{"$f":"要求内訳データ!A118","v":{"$error":"#REF!"}},{"$f":"要求内訳データ!B118","v":{"$error":"#REF!"}},{"$f":"要求内訳データ!C118","v":{"$error":"#REF!"}},{"$f":"要求内訳データ!D118","v":{"$error":"#REF!"}},{"$f":"要求内訳データ!E118","v":{"$error":"#REF!"}},null,{"$f":"#REF!&\"0116\"","v":{"$error":"#REF!"}},"","","","","",{"$f":"IFERROR(VLOOKUP(I118,#REF!,10,FALSE),\"\")","v":""},{"$f":"IFERROR(VLOOKUP(I118,#REF!,11,FALSE),\"\")","v":""}]
[{"$error":"#REF!"},{"$f":"#REF!","v":{"$error":"#REF!"}},{"$f":"要求内訳データ!A119","v":{"$error":"#REF!"}},{"$f":"要求内訳データ!B119","v":{"$error":"#REF!"}},{"$f":"要求内訳データ!C119","v":{"$error":"#REF!"}},{"$f":"要求内訳データ!D119","v":{"$error":"#REF!"}},{"$f":"要求内訳データ!E119","v":{"$error":"#REF!"}},null,{"$f":"#REF!&\"0117\"","v":{"$error":"#REF!"}},"","","","","",{"$f":"IFERROR(VLOOKUP(I119,#REF!,10,FALSE),\"\")","v":""},{"$f":"IFERROR(VLOOKUP(I119,#REF!,11,FALSE),\"\")","v":""}]
[{"$error":"#REF!"},{"$f":"#REF!","v":{"$error":"#REF!"}},{"$f":"要求内訳データ!A120","v":{"$error":"#REF!"}},{"$f":"要求内訳データ!B120","v":{"$error":"#REF!"}},{"$f":"要求内訳データ!C120","v":{"$error":"#REF!"}},{"$f":"要求内訳データ!D120","v":{"$error":"#REF!"}},{"$f":"要求内訳データ!E120","v":{"$error":"#REF!"}},null,{"$f":"#REF!&\"0118\"","v":{"$error":"#REF!"}},"","","","","",{"$f":"IFERROR(VLOOKUP(I120,#REF!,10,FALSE),\"\")","v":""},{"$f":"IFERROR(VLOOKUP(I120,#REF!,11,FALSE),\"\")","v":""}]
[{"$error":"#REF!"},{"$f":"#REF!","v":{"$error":"#REF!"}},{"$f":"要求内訳データ!A121","v":{"$error":"#REF!"}},{"$f":"要求内訳データ!B121","v":{"$error":"#REF!"}},{"$f":"要求内訳データ!C121","v":{"$error":"#REF!"}},{"$f":"要求内訳データ!D121","v":{"$error":"#REF!"}},{"$f":"要求内訳データ!E121","v":{"$error":"#REF!"}},null,{"$f":"#REF!&\"0119\"","v":{"$error":"#REF!"}},"","","","","",{"$f":"IFERROR(VLOOKUP(I121,#REF!,10,FALSE),\"\")","v":""},{"$f":"IFERROR(VLOOKUP(I121,#REF!,11,FALSE),\"\")","v":""}]
[{"$error":"#REF!"},{"$f":"#REF!","v":{"$error":"#REF!"}},{"$f":"要求内訳データ!A122","v":{"$error":"#REF!"}},{"$f":"要求内訳データ!B122","v":{"$error":"#REF!"}},{"$f":"要求内訳データ!C122","v":{"$error":"#REF!"}},{"$f":"要求内訳データ!D122","v":{"$error":"#REF!"}},{"$f":"要求内訳データ!E122","v":{"$error":"#REF!"}},null,{"$f":"#REF!&\"0120\"","v":{"$error":"#REF!"}},"","","","","",{"$f":"IFERROR(VLOOKUP(I122,#REF!,10,FALSE),\"\")","v":""},{"$f":"IFERROR(VLOOKUP(I122,#REF!,11,FALSE),\"\")","v":""}]
[{"$error":"#REF!"},{"$f":"#REF!","v":{"$error":"#REF!"}},{"$f":"要求内訳データ!A123","v":{"$error":"#REF!"}},{"$f":"要求内訳データ!B123","v":{"$error":"#REF!"}},{"$f":"要求内訳データ!C123","v":{"$error":"#REF!"}},{"$f":"要求内訳データ!D123","v":{"$error":"#REF!"}},{"$f":"要求内訳データ!E123","v":{"$error":"#REF!"}},null,{"$f":"#REF!&\"0121\"","v":{"$error":"#REF!"}},"","","","","",{"$f":"IFERROR(VLOOKUP(I123,#REF!,10,FALSE),\"\")","v":""},{"$f":"IFERROR(VLOOKUP(I123,#REF!,11,FALSE),\"\")","v":""}]
[{"$error":"#REF!"},{"$f":"#REF!","v":{"$error":"#REF!"}},{"$f":"要求内訳データ!A124","v":{"$error":"#REF!"}},{"$f":"要求内訳データ!B124","v":{"$error":"#REF!"}},{"$f":"要求内訳データ!C124","v":{"$error":"#REF!"}},{"$f":"要求内訳データ!D124","v":{"$error":"#REF!"}},{"$f":"要求内訳データ!E124","v":{"$error":"#REF!"}},null,{"$f":"#REF!&\"0122\"","v":{"$error":"#REF!"}},"","","","","",{"$f":"IFERROR(VLOOKUP(I124,#REF!,10,FALSE),\"\")","v":""},{"$f":"IFERROR(VLOOKUP(I124,#REF!,11,FALSE),\"\")","v":""}]
[{"$error":"#REF!"},{"$f":"#REF!","v":{"$error":"#REF!"}},{"$f":"要求内訳データ!A125","v":{"$error":"#REF!"}},{"$f":"要求内訳データ!B125","v":{"$error":"#REF!"}},{"$f":"要求内訳データ!C125","v":{"$error":"#REF!"}},{"$f":"要求内訳データ!D125","v":{"$error":"#REF!"}},{"$f":"要求内訳データ!E125","v":{"$error":"#REF!"}},null,{"$f":"#REF!&\"0123\"","v":{"$error":"#REF!"}},"","","","","",{"$f":"IFERROR(VLOOKUP(I125,#REF!,10,FALSE),\"\")","v":""},{"$f":"IFERROR(VLOOKUP(I125,#REF!,11,FALSE),\"\")","v":""}]
[{"$error":"#REF!"},{"$f":"#REF!","v":{"$error":"#REF!"}},{"$f":"要求内訳データ!A126","v":{"$error":"#REF!"}},{"$f":"要求内訳データ!B126","v":{"$error":"#REF!"}},{"$f":"要求内訳データ!C126","v":{"$error":"#REF!"}},{"$f":"要求内訳データ!D126","v":{"$error":"#REF!"}},{"$f":"要求内訳データ!E126","v":{"$error":"#REF!"}},null,{"$f":"#REF!&\"0124\"","v":{"$error":"#REF!"}},"","","","","",{"$f":"IFERROR(VLOOKUP(I126,#REF!,10,FALSE),\"\")","v":""},{"$f":"IFERROR(VLOOKUP(I126,#REF!,11,FALSE),\"\")","v":""}]
[{"$error":"#REF!"},{"$f":"#REF!","v":{"$error":"#REF!"}},{"$f":"要求内訳データ!A127","v":{"$error":"#REF!"}},{"$f":"要求内訳データ!B127","v":{"$error":"#REF!"}},{"$f":"要求内訳データ!C127","v":{"$error":"#REF!"}},{"$f":"要求内訳データ!D127","v":{"$error":"#REF!"}},{"$f":"要求内訳データ!E127","v":{"$error":"#REF!"}},null,{"$f":"#REF!&\"0125\"","v":{"$error":"#REF!"}},"","","","","",{"$f":"IFERROR(VLOOKUP(I127,#REF!,10,FALSE),\"\")","v":""},{"$f":"IFERROR(VLOOKUP(I127,#REF!,11,FALSE),\"\")","v":""}]
[{"$error":"#REF!"},{"$f":"#REF!","v":{"$error":"#REF!"}},{"$f":"要求内訳データ!A128","v":{"$error":"#REF!"}},{"$f":"要求内訳データ!B128","v":{"$error":"#REF!"}},{"$f":"要求内訳データ!C128","v":{"$error":"#REF!"}},{"$f":"要求内訳データ!D128","v":{"$error":"#REF!"}},{"$f":"要求内訳データ!E128","v":{"$error":"#REF!"}},null,{"$f":"#REF!&\"0126\"","v":{"$error":"#REF!"}},"","","","","",{"$f":"IFERROR(VLOOKUP(I128,#REF!,10,FALSE),\"\")","v":""},{"$f":"IFERROR(VLOOKUP(I128,#REF!,11,FALSE),\"\")","v":""}]
[{"$error":"#REF!"},{"$f":"#REF!","v":{"$error":"#REF!"}},{"$f":"要求内訳データ!A129","v":{"$error":"#REF!"}},{"$f":"要求内訳データ!B129","v":{"$error":"#REF!"}},{"$f":"要求内訳データ!C129","v":{"$error":"#REF!"}},{"$f":"要求内訳データ!D129","v":{"$error":"#REF!"}},{"$f":"要求内訳データ!E129","v":{"$error":"#REF!"}},null,{"$f":"#REF!&\"0127\"","v":{"$error":"#REF!"}},"","","","","",{"$f":"IFERROR(VLOOKUP(I129,#REF!,10,FALSE),\"\")","v":""},{"$f":"IFERROR(VLOOKUP(I129,#REF!,11,FALSE),\"\")","v":""}]
[{"$error":"#REF!"},{"$f":"#REF!","v":{"$error":"#REF!"}},{"$f":"要求内訳データ!A130","v":{"$error":"#REF!"}},{"$f":"要求内訳データ!B130","v":{"$error":"#REF!"}},{"$f":"要求内訳データ!C130","v":{"$error":"#REF!"}},{"$f":"要求内訳データ!D130","v":{"$error":"#REF!"}},{"$f":"要求内訳データ!E130","v":{"$error":"#REF!"}},null,{"$f":"#REF!&\"0128\"","v":{"$error":"#REF!"}},"","","","","",{"$f":"IFERROR(VLOOKUP(I130,#REF!,10,FALSE),\"\")","v":""},{"$f":"IFERROR(VLOOKUP(I130,#REF!,11,FALSE),\"\")","v":""}]
[{"$f":"LEFT(B131,LEN(B131)-4)","v":{"$error":"#REF!"}},{"$f":"#REF!","v":{"$error":"#REF!"}},{"$f":"要求内訳データ!A131","v":{"$error":"#REF!"}},{"$f":"要求内訳データ!B131","v":{"$error":"#REF!"}},{"$f":"要求内訳データ!C131","v":{"$error":"#REF!"}},{"$f":"要求内訳データ!D131","v":{"$error":"#REF!"}},{"$f":"要求内訳データ!E131","v":{"$error":"#REF!"}},null,{"$f":"#REF!&\"0129\"","v":{"$error":"#REF!"}},"",{"$f":"IFERROR(VLOOKUP(I131,$B$3:$G$498,3,FALSE),\"\")","v":""},{"$f":"IF(AND(J131=\"\",NOT(K130=\"\")),\"以下余白\",IFERROR(VLOOKUP(I131,$B$3:$G$498,4,FALSE),\"\"))","v":""},{"$f":"IFERROR(VLOOKUP(I131,$B$3:$G$498,5,FALSE),\"\")","v":""},{"$f":"IFERROR(VLOOKUP(I131,$B$3:$G$498,6,FALSE),\"\")","v":""},{"$f":"IFERROR(VLOOKUP(I131,#REF!,10,FALSE),\"\")","v":""},{"$f":"IFERROR(VLOOKUP(I131,#REF!,11,FALSE),\"\")","v":""}]
[{"$error":"#REF!"},{"$f":"#REF!","v":{"$error":"#REF!"}},{"$f":"要求内訳データ!A132","v":{"$error":"#REF!"}},{"$f":"要求内訳データ!B132","v":{"$error":"#REF!"}},{"$f":"要求内訳データ!C132","v":{"$error":"#REF!"}},{"$f":"要求内訳データ!D132","v":{"$error":"#REF!"}},{"$f":"要求内訳データ!E132","v":{"$error":"#REF!"}},null,{"$f":"#REF!&\"0130\"","v":{"$error":"#REF!"}},{"$f":"IF(K132=\"\",\"\",J131+1)","v":""},"","","","",{"$f":"IFERROR(VLOOKUP(I132,#REF!,10,FALSE),\"\")","v":""},{"$f":"IFERROR(VLOOKUP(I132,#REF!,11,FALSE),\"\")","v":""}]
[{"$error":"#REF!"},{"$f":"#REF!","v":{"$error":"#REF!"}},{"$f":"要求内訳データ!A133","v":{"$error":"#REF!"}},{"$f":"要求内訳データ!B133","v":{"$error":"#REF!"}},{"$f":"要求内訳データ!C133","v":{"$error":"#REF!"}},{"$f":"要求内訳データ!D133","v":{"$error":"#REF!"}},{"$f":"要求内訳データ!E133","v":{"$error":"#REF!"}},null,{"$f":"#REF!&\"0131\"","v":{"$error":"#REF!"}},"","","","","",{"$f":"IFERROR(VLOOKUP(I133,#REF!,10,FALSE),\"\")","v":""},{"$f":"IFERROR(VLOOKUP(I133,#REF!,11,FALSE),\"\")","v":""}]
[{"$error":"#REF!"},{"$f":"#REF!","v":{"$error":"#REF!"}},{"$f":"要求内訳データ!A134","v":{"$error":"#REF!"}},{"$f":"要求内訳データ!B134","v":{"$error":"#REF!"}},{"$f":"要求内訳データ!C134","v":{"$error":"#REF!"}},{"$f":"要求内訳データ!D134","v":{"$error":"#REF!"}},{"$f":"要求内訳データ!E134","v":{"$error":"#REF!"}},null,{"$f":"#REF!&\"0132\"","v":{"$error":"#REF!"}},"","","","","",{"$f":"IFERROR(VLOOKUP(I134,#REF!,10,FALSE),\"\")","v":""},{"$f":"IFERROR(VLOOKUP(I134,#REF!,11,FALSE),\"\")","v":""}]
[{"$error":"#REF!"},{"$f":"#REF!","v":{"$error":"#REF!"}},{"$f":"要求内訳データ!A135","v":{"$error":"#REF!"}},{"$f":"要求内訳データ!B135","v":{"$error":"#REF!"}},{"$f":"要求内訳データ!C135","v":{"$error":"#REF!"}},{"$f":"要求内訳データ!D135","v":{"$error":"#REF!"}},{"$f":"要求内訳データ!E135","v":{"$error":"#REF!"}},null,{"$f":"#REF!&\"0133\"","v":{"$error":"#REF!"}},"","","","","",{"$f":"IFERROR(VLOOKUP(I135,#REF!,10,FALSE),\"\")","v":""},{"$f":"IFERROR(VLOOKUP(I135,#REF!,11,FALSE),\"\")","v":""}]
[{"$error":"#REF!"},{"$f":"#REF!","v":{"$error":"#REF!"}},{"$f":"要求内訳データ!A136","v":{"$error":"#REF!"}},{"$f":"要求内訳データ!B136","v":{"$error":"#REF!"}},{"$f":"要求内訳データ!C136","v":{"$error":"#REF!"}},{"$f":"要求内訳データ!D136","v":{"$error":"#REF!"}},{"$f":"要求内訳データ!E136","v":{"$error":"#REF!"}},null,{"$f":"#REF!&\"0134\"","v":{"$error":"#REF!"}},"","","","","",{"$f":"IFERROR(VLOOKUP(I136,#REF!,10,FALSE),\"\")","v":""},{"$f":"IFERROR(VLOOKUP(I136,#REF!,11,FALSE),\"\")","v":""}]
[{"$error":"#REF!"},{"$f":"#REF!","v":{"$error":"#REF!"}},{"$f":"要求内訳データ!A137","v":{"$error":"#REF!"}},{"$f":"要求内訳データ!B137","v":{"$error":"#REF!"}},{"$f":"要求内訳データ!C137","v":{"$error":"#REF!"}},{"$f":"要求内訳データ!D137","v":{"$error":"#REF!"}},{"$f":"要求内訳データ!E137","v":{"$error":"#REF!"}},null,{"$f":"#REF!&\"0135\"","v":{"$error":"#REF!"}},"","","","","",{"$f":"IFERROR(VLOOKUP(I137,#REF!,10,FALSE),\"\")","v":""},{"$f":"IFERROR(VLOOKUP(I137,#REF!,11,FALSE),\"\")","v":""}]
[{"$error":"#REF!"},{"$f":"#REF!","v":{"$error":"#REF!"}},{"$f":"要求内訳データ!A138","v":{"$error":"#REF!"}},{"$f":"要求内訳データ!B138","v":{"$error":"#REF!"}},{"$f":"要求内訳データ!C138","v":{"$error":"#REF!"}},{"$f":"要求内訳データ!D138","v":{"$error":"#REF!"}},{"$f":"要求内訳データ!E138","v":{"$error":"#REF!"}},null,{"$f":"#REF!&\"0136\"","v":{"$error":"#REF!"}},"","","","","",{"$f":"IFERROR(VLOOKUP(I138,#REF!,10,FALSE),\"\")","v":""},{"$f":"IFERROR(VLOOKUP(I138,#REF!,11,FALSE),\"\")","v":""}]
[{"$error":"#REF!"},{"$f":"#REF!","v":{"$error":"#REF!"}},{"$f":"要求内訳データ!A139","v":{"$error":"#REF!"}},{"$f":"要求内訳データ!B139","v":{"$error":"#REF!"}},{"$f":"要求内訳データ!C139","v":{"$error":"#REF!"}},{"$f":"要求内訳データ!D139","v":{"$error":"#REF!"}},{"$f":"要求内訳データ!E139","v":{"$error":"#REF!"}},null,{"$f":"#REF!&\"0137\"","v":{"$error":"#REF!"}},"","","","","",{"$f":"IFERROR(VLOOKUP(I139,#REF!,10,FALSE),\"\")","v":""},{"$f":"IFERROR(VLOOKUP(I139,#REF!,11,FALSE),\"\")","v":""}]
[{"$error":"#REF!"},{"$f":"#REF!","v":{"$error":"#REF!"}},{"$f":"要求内訳データ!A140","v":{"$error":"#REF!"}},{"$f":"要求内訳データ!B140","v":{"$error":"#REF!"}},{"$f":"要求内訳データ!C140","v":{"$error":"#REF!"}},{"$f":"要求内訳データ!D140","v":{"$error":"#REF!"}},{"$f":"要求内訳データ!E140","v":{"$error":"#REF!"}},null,{"$f":"#REF!&\"0138\"","v":{"$error":"#REF!"}},"","","","","",{"$f":"IFERROR(VLOOKUP(I140,#REF!,10,FALSE),\"\")","v":""},{"$f":"IFERROR(VLOOKUP(I140,#REF!,11,FALSE),\"\")","v":""}]
[{"$error":"#REF!"},{"$f":"#REF!","v":{"$error":"#REF!"}},{"$f":"要求内訳データ!A141","v":{"$error":"#REF!"}},{"$f":"要求内訳データ!B141","v":{"$error":"#REF!"}},{"$f":"要求内訳データ!C141","v":{"$error":"#REF!"}},{"$f":"要求内訳データ!D141","v":{"$error":"#REF!"}},{"$f":"要求内訳データ!E141","v":{"$error":"#REF!"}},null,{"$f":"#REF!&\"0139\"","v":{"$error":"#REF!"}},"","","","","",{"$f":"IFERROR(VLOOKUP(I141,#REF!,10,FALSE),\"\")","v":""},{"$f":"IFERROR(VLOOKUP(I141,#REF!,11,FALSE),\"\")","v":""}]
[{"$error":"#REF!"},{"$f":"#REF!","v":{"$error":"#REF!"}},{"$f":"要求内訳データ!A142","v":{"$error":"#REF!"}},{"$f":"要求内訳データ!B142","v":{"$error":"#REF!"}},{"$f":"要求内訳データ!C142","v":{"$error":"#REF!"}},{"$f":"要求内訳データ!D142","v":{"$error":"#REF!"}},{"$f":"要求内訳データ!E142","v":{"$error":"#REF!"}},null,{"$f":"#REF!&\"0140\"","v":{"$error":"#REF!"}},"","","","","",{"$f":"IFERROR(VLOOKUP(I142,#REF!,10,FALSE),\"\")","v":""},{"$f":"IFERROR(VLOOKUP(I142,#REF!,11,FALSE),\"\")","v":""}]
[{"$error":"#REF!"},{"$f":"#REF!","v":{"$error":"#REF!"}},{"$f":"要求内訳データ!A143","v":{"$error":"#REF!"}},{"$f":"要求内訳データ!B143","v":{"$error":"#REF!"}},{"$f":"要求内訳データ!C143","v":{"$error":"#REF!"}},{"$f":"要求内訳データ!D143","v":{"$error":"#REF!"}},{"$f":"要求内訳データ!E143","v":{"$error":"#REF!"}},null,{"$f":"#REF!&\"0141\"","v":{"$error":"#REF!"}},"","","","","",{"$f":"IFERROR(VLOOKUP(I143,#REF!,10,FALSE),\"\")","v":""},{"$f":"IFERROR(VLOOKUP(I143,#REF!,11,FALSE),\"\")","v":""}]
[{"$error":"#REF!"},{"$f":"#REF!","v":{"$error":"#REF!"}},{"$f":"要求内訳データ!A144","v":{"$error":"#REF!"}},{"$f":"要求内訳データ!B144","v":{"$error":"#REF!"}},{"$f":"要求内訳データ!C144","v":{"$error":"#REF!"}},{"$f":"要求内訳データ!D144","v":{"$error":"#REF!"}},{"$f":"要求内訳データ!E144","v":{"$error":"#REF!"}},null,{"$f":"#REF!&\"0142\"","v":{"$error":"#REF!"}},"","","","","",{"$f":"IFERROR(VLOOKUP(I144,#REF!,10,FALSE),\"\")","v":""},{"$f":"IFERROR(VLOOKUP(I144,#REF!,11,FALSE),\"\")","v":""}]
[{"$error":"#REF!"},{"$f":"#REF!","v":{"$error":"#REF!"}},{"$f":"要求内訳データ!A145","v":{"$error":"#REF!"}},{"$f":"要求内訳データ!B145","v":{"$error":"#REF!"}},{"$f":"要求内訳データ!C145","v":{"$error":"#REF!"}},{"$f":"要求内訳データ!D145","v":{"$error":"#REF!"}},{"$f":"要求内訳データ!E145","v":{"$error":"#REF!"}},null,{"$f":"#REF!&\"0143\"","v":{"$error":"#REF!"}},"","","","","",{"$f":"IFERROR(VLOOKUP(I145,#REF!,10,FALSE),\"\")","v":""},{"$f":"IFERROR(VLOOKUP(I145,#REF!,11,FALSE),\"\")","v":""}]
[{"$error":"#REF!"},{"$f":"#REF!","v":{"$error":"#REF!"}},{"$f":"要求内訳データ!A146","v":{"$error":"#REF!"}},{"$f":"要求内訳データ!B146","v":{"$error":"#REF!"}},{"$f":"要求内訳データ!C146","v":{"$error":"#REF!"}},{"$f":"要求内訳データ!D146","v":{"$error":"#REF!"}},{"$f":"要求内訳データ!E146","v":{"$error":"#REF!"}},null,{"$f":"#REF!&\"0144\"","v":{"$error":"#REF!"}},"","","","","",{"$f":"IFERROR(VLOOKUP(I146,#REF!,10,FALSE),\"\")","v":""},{"$f":"IFERROR(VLOOKUP(I146,#REF!,11,FALSE),\"\")","v":""}]
[{"$error":"#REF!"},{"$f":"#REF!","v":{"$error":"#REF!"}},{"$f":"要求内訳データ!A147","v":{"$error":"#REF!"}},{"$f":"要求内訳データ!B147","v":{"$error":"#REF!"}},{"$f":"要求内訳データ!C147","v":{"$error":"#REF!"}},{"$f":"要求内訳データ!D147","v":{"$error":"#REF!"}},{"$f":"要求内訳データ!E147","v":{"$error":"#REF!"}},null,{"$f":"#REF!&\"0145\"","v":{"$error":"#REF!"}},"","","","","",{"$f":"IFERROR(VLOOKUP(I147,#REF!,10,FALSE),\"\")","v":""},{"$f":"IFERROR(VLOOKUP(I147,#REF!,11,FALSE),\"\")","v":""}]
[{"$error":"#REF!"},{"$f":"#REF!","v":{"$error":"#REF!"}},{"$f":"要求内訳データ!A148","v":{"$error":"#REF!"}},{"$f":"要求内訳データ!B148","v":{"$error":"#REF!"}},{"$f":"要求内訳データ!C148","v":{"$error":"#REF!"}},{"$f":"要求内訳データ!D148","v":{"$error":"#REF!"}},{"$f":"要求内訳データ!E148","v":{"$error":"#REF!"}},null,{"$f":"#REF!&\"0146\"","v":{"$error":"#REF!"}},"","","","","",{"$f":"IFERROR(VLOOKUP(I148,#REF!,10,FALSE),\"\")","v":""},{"$f":"IFERROR(VLOOKUP(I148,#REF!,11,FALSE),\"\")","v":""}]
[{"$error":"#REF!"},{"$f":"#REF!","v":{"$error":"#REF!"}},{"$f":"要求内訳データ!A149","v":{"$error":"#REF!"}},{"$f":"要求内訳データ!B149","v":{"$error":"#REF!"}},{"$f":"要求内訳データ!C149","v":{"$error":"#REF!"}},{"$f":"要求内訳データ!D149","v":{"$error":"#REF!"}},{"$f":"要求内訳データ!E149","v":{"$error":"#REF!"}},null,{"$f":"#REF!&\"0147\"","v":{"$error":"#REF!"}},"","","","","",{"$f":"IFERROR(VLOOKUP(I149,#REF!,10,FALSE),\"\")","v":""},{"$f":"IFERROR(VLOOKUP(I149,#REF!,11,FALSE),\"\")","v":""}]
[{"$error":"#REF!"},{"$f":"#REF!","v":{"$error":"#REF!"}},{"$f":"要求内訳データ!A150","v":{"$error":"#REF!"}},{"$f":"要求内訳データ!B150","v":{"$error":"#REF!"}},{"$f":"要求内訳データ!C150","v":{"$error":"#REF!"}},{"$f":"要求内訳データ!D150","v":{"$error":"#REF!"}},{"$f":"要求内訳データ!E150","v":{"$error":"#REF!"}},null,{"$f":"#REF!&\"0148\"","v":{"$error":"#REF!"}},"","","","","",{"$f":"IFERROR(VLOOKUP(I150,#REF!,10,FALSE),\"\")","v":""},{"$f":"IFERROR(VLOOKUP(I150,#REF!,11,FALSE),\"\")","v":""}]
[{"$error":"#REF!"},{"$f":"#REF!","v":{"$error":"#REF!"}},{"$f":"要求内訳データ!A151","v":{"$error":"#REF!"}},{"$f":"要求内訳データ!B151","v":{"$error":"#REF!"}},{"$f":"要求内訳データ!C151","v":{"$error":"#REF!"}},{"$f":"要求内訳データ!D151","v":{"$error":"#REF!"}},{"$f":"要求内訳データ!E151","v":{"$error":"#REF!"}},null,{"$f":"#REF!&\"0149\"","v":{"$error":"#REF!"}},"","","","","",{"$f":"IFERROR(VLOOKUP(I151,#REF!,10,FALSE),\"\")","v":""},{"$f":"IFERROR(VLOOKUP(I151,#REF!,11,FALSE),\"\")","v":""}]
[{"$error":"#REF!"},{"$f":"#REF!","v":{"$error":"#REF!"}},{"$f":"要求内訳データ!A152","v":{"$error":"#REF!"}},{"$f":"要求内訳データ!B152","v":{"$error":"#REF!"}},{"$f":"要求内訳データ!C152","v":{"$error":"#REF!"}},{"$f":"要求内訳データ!D152","v":{"$error":"#REF!"}},{"$f":"要求内訳データ!E152","v":{"$error":"#REF!"}},null,{"$f":"#REF!&\"0150\"","v":{"$error":"#REF!"}},"","","","","",{"$f":"IFERROR(VLOOKUP(I152,#REF!,10,FALSE),\"\")","v":""},{"$f":"IFERROR(VLOOKUP(I152,#REF!,11,FALSE),\"\")","v":""}]
[{"$error":"#REF!"},{"$f":"#REF!","v":{"$error":"#REF!"}},{"$f":"要求内訳データ!A153","v":{"$error":"#REF!"}},{"$f":"要求内訳データ!B153","v":{"$error":"#REF!"}},{"$f":"要求内訳データ!C153","v":{"$error":"#REF!"}},{"$f":"要求内訳データ!D153","v":{"$error":"#REF!"}},{"$f":"要求内訳データ!E153","v":{"$error":"#REF!"}},null,{"$f":"#REF!&\"0151\"","v":{"$error":"#REF!"}},"","","","","",{"$f":"IFERROR(VLOOKUP(I153,#REF!,10,FALSE),\"\")","v":""},{"$f":"IFERROR(VLOOKUP(I153,#REF!,11,FALSE),\"\")","v":""}]
[{"$error":"#REF!"},{"$f":"#REF!","v":{"$error":"#REF!"}},{"$f":"要求内訳データ!A154","v":{"$error":"#REF!"}},{"$f":"要求内訳データ!B154","v":{"$error":"#REF!"}},{"$f":"要求内訳データ!C154","v":{"$error":"#REF!"}},{"$f":"要求内訳データ!D154","v":{"$error":"#REF!"}},{"$f":"要求内訳データ!E154","v":{"$error":"#REF!"}},null,{"$f":"#REF!&\"0152\"","v":{"$error":"#REF!"}},"","","","","",{"$f":"IFERROR(VLOOKUP(I154,#REF!,10,FALSE),\"\")","v":""},{"$f":"IFERROR(VLOOKUP(I154,#REF!,11,FALSE),\"\")","v":""}]
[{"$error":"#REF!"},{"$f":"#REF!","v":{"$error":"#REF!"}},{"$f":"要求内訳データ!A155","v":{"$error":"#REF!"}},{"$f":"要求内訳データ!B155","v":{"$error":"#REF!"}},{"$f":"要求内訳データ!C155","v":{"$error":"#REF!"}},{"$f":"要求内訳データ!D155","v":{"$error":"#REF!"}},{"$f":"要求内訳データ!E155","v":{"$error":"#REF!"}},null,{"$f":"#REF!&\"0153\"","v":{"$error":"#REF!"}},"","","","","",{"$f":"IFERROR(VLOOKUP(I155,#REF!,10,FALSE),\"\")","v":""},{"$f":"IFERROR(VLOOKUP(I155,#REF!,11,FALSE),\"\")","v":""}]
[{"$error":"#REF!"},{"$f":"#REF!","v":{"$error":"#REF!"}},{"$f":"要求内訳データ!A156","v":{"$error":"#REF!"}},{"$f":"要求内訳データ!B156","v":{"$error":"#REF!"}},{"$f":"要求内訳データ!C156","v":{"$error":"#REF!"}},{"$f":"要求内訳データ!D156","v":{"$error":"#REF!"}},{"$f":"要求内訳データ!E156","v":{"$error":"#REF!"}},null,{"$f":"#REF!&\"0154\"","v":{"$error":"#REF!"}},"","","","","",{"$f":"IFERROR(VLOOKUP(I156,#REF!,10,FALSE),\"\")","v":""},{"$f":"IFERROR(VLOOKUP(I156,#REF!,11,FALSE),\"\")","v":""}]
[{"$error":"#REF!"},{"$f":"#REF!","v":{"$error":"#REF!"}},{"$f":"要求内訳データ!A157","v":{"$error":"#REF!"}},{"$f":"要求内訳データ!B157","v":{"$error":"#REF!"}},{"$f":"要求内訳データ!C157","v":{"$error":"#REF!"}},{"$f":"要求内訳データ!D157","v":{"$error":"#REF!"}},{"$f":"要求内訳データ!E157","v":{"$error":"#REF!"}},null,{"$f":"#REF!&\"0155\"","v":{"$error":"#REF!"}},"","","","","",{"$f":"IFERROR(VLOOKUP(I157,#REF!,10,FALSE),\"\")","v":""},{"$f":"IFERROR(VLOOKUP(I157,#REF!,11,FALSE),\"\")","v":""}]
[{"$error":"#REF!"},{"$f":"#REF!","v":{"$error":"#REF!"}},{"$f":"要求内訳データ!A158","v":{"$error":"#REF!"}},{"$f":"要求内訳データ!B158","v":{"$error":"#REF!"}},{"$f":"要求内訳データ!C158","v":{"$error":"#REF!"}},{"$f":"要求内訳データ!D158","v":{"$error":"#REF!"}},{"$f":"要求内訳データ!E158","v":{"$error":"#REF!"}},null,{"$f":"#REF!&\"0156\"","v":{"$error":"#REF!"}},"","","","","",{"$f":"IFERROR(VLOOKUP(I158,#REF!,10,FALSE),\"\")","v":""},{"$f":"IFERROR(VLOOKUP(I158,#REF!,11,FALSE),\"\")","v":""}]
[{"$error":"#REF!"},{"$f":"#REF!","v":{"$error":"#REF!"}},{"$f":"要求内訳データ!A159","v":{"$error":"#REF!"}},{"$f":"要求内訳データ!B159","v":{"$error":"#REF!"}},{"$f":"要求内訳データ!C159","v":{"$error":"#REF!"}},{"$f":"要求内訳データ!D159","v":{"$error":"#REF!"}},{"$f":"要求内訳データ!E159","v":{"$error":"#REF!"}},null,{"$f":"#REF!&\"0157\"","v":{"$error":"#REF!"}},"","","","","",{"$f":"IFERROR(VLOOKUP(I159,#REF!,10,FALSE),\"\")","v":""},{"$f":"IFERROR(VLOOKUP(I159,#REF!,11,FALSE),\"\")","v":""}]
[{"$error":"#REF!"},{"$f":"#REF!","v":{"$error":"#REF!"}},{"$f":"要求内訳データ!A160","v":{"$error":"#REF!"}},{"$f":"要求内訳データ!B160","v":{"$error":"#REF!"}},{"$f":"要求内訳データ!C160","v":{"$error":"#REF!"}},{"$f":"要求内訳データ!D160","v":{"$error":"#REF!"}},{"$f":"要求内訳データ!E160","v":{"$error":"#REF!"}},null,{"$f":"#REF!&\"0158\"","v":{"$error":"#REF!"}},"","","","","",{"$f":"IFERROR(VLOOKUP(I160,#REF!,10,FALSE),\"\")","v":""},{"$f":"IFERROR(VLOOKUP(I160,#REF!,11,FALSE),\"\")","v":""}]
[{"$error":"#REF!"},{"$f":"#REF!","v":{"$error":"#REF!"}},{"$f":"要求内訳データ!A161","v":{"$error":"#REF!"}},{"$f":"要求内訳データ!B161","v":{"$error":"#REF!"}},{"$f":"要求内訳データ!C161","v":{"$error":"#REF!"}},{"$f":"要求内訳データ!D161","v":{"$error":"#REF!"}},{"$f":"要求内訳データ!E161","v":{"$error":"#REF!"}},null,{"$f":"#REF!&\"0159\"","v":{"$error":"#REF!"}},"","","","","",{"$f":"IFERROR(VLOOKUP(I161,#REF!,10,FALSE),\"\")","v":""},{"$f":"IFERROR(VLOOKUP(I161,#REF!,11,FALSE),\"\")","v":""}]
[{"$error":"#REF!"},{"$f":"#REF!","v":{"$error":"#REF!"}},{"$f":"要求内訳データ!A162","v":{"$error":"#REF!"}},{"$f":"要求内訳データ!B162","v":{"$error":"#REF!"}},{"$f":"要求内訳データ!C162","v":{"$error":"#REF!"}},{"$f":"要求内訳データ!D162","v":{"$error":"#REF!"}},{"$f":"要求内訳データ!E162","v":{"$error":"#REF!"}},null,{"$f":"#REF!&\"0160\"","v":{"$error":"#REF!"}},"","","","","",{"$f":"IFERROR(VLOOKUP(I162,#REF!,10,FALSE),\"\")","v":""},{"$f":"IFERROR(VLOOKUP(I162,#REF!,11,FALSE),\"\")","v":""}]
[{"$error":"#REF!"},{"$f":"#REF!","v":{"$error":"#REF!"}},{"$f":"要求内訳データ!A163","v":{"$error":"#REF!"}},{"$f":"要求内訳データ!B163","v":{"$error":"#REF!"}},{"$f":"要求内訳データ!C163","v":{"$error":"#REF!"}},{"$f":"要求内訳データ!D163","v":{"$error":"#REF!"}},{"$f":"要求内訳データ!E163","v":{"$error":"#REF!"}},null,{"$f":"#REF!&\"0161\"","v":{"$error":"#REF!"}},"","","","","",{"$f":"IFERROR(VLOOKUP(I163,#REF!,10,FALSE),\"\")","v":""},{"$f":"IFERROR(VLOOKUP(I163,#REF!,11,FALSE),\"\")","v":""}]
[{"$error":"#REF!"},{"$f":"#REF!","v":{"$error":"#REF!"}},{"$f":"要求内訳データ!A164","v":{"$error":"#REF!"}},{"$f":"要求内訳データ!B164","v":{"$error":"#REF!"}},{"$f":"要求内訳データ!C164","v":{"$error":"#REF!"}},{"$f":"要求内訳データ!D164","v":{"$error":"#REF!"}},{"$f":"要求内訳データ!E164","v":{"$error":"#REF!"}},null,{"$f":"#REF!&\"0162\"","v":{"$error":"#REF!"}},"","","","","",{"$f":"IFERROR(VLOOKUP(I164,#REF!,10,FALSE),\"\")","v":""},{"$f":"IFERROR(VLOOKUP(I164,#REF!,11,FALSE),\"\")","v":""}]
[{"$error":"#REF!"},{"$f":"#REF!","v":{"$error":"#REF!"}},{"$f":"要求内訳データ!A165","v":{"$error":"#REF!"}},{"$f":"要求内訳データ!B165","v":{"$error":"#REF!"}},{"$f":"要求内訳データ!C165","v":{"$error":"#REF!"}},{"$f":"要求内訳データ!D165","v":{"$error":"#REF!"}},{"$f":"要求内訳データ!E165","v":{"$error":"#REF!"}},null,{"$f":"#REF!&\"0163\"","v":{"$error":"#REF!"}},"","","","","",{"$f":"IFERROR(VLOOKUP(I165,#REF!,10,FALSE),\"\")","v":""},{"$f":"IFERROR(VLOOKUP(I165,#REF!,11,FALSE),\"\")","v":""}]
[{"$error":"#REF!"},{"$f":"#REF!","v":{"$error":"#REF!"}},{"$f":"要求内訳データ!A166","v":{"$error":"#REF!"}},{"$f":"要求内訳データ!B166","v":{"$error":"#REF!"}},{"$f":"要求内訳データ!C166","v":{"$error":"#REF!"}},{"$f":"要求内訳データ!D166","v":{"$error":"#REF!"}},{"$f":"要求内訳データ!E166","v":{"$error":"#REF!"}},null,{"$f":"#REF!&\"0164\"","v":{"$error":"#REF!"}},"","","","","",{"$f":"IFERROR(VLOOKUP(I166,#REF!,10,FALSE),\"\")","v":""},{"$f":"IFERROR(VLOOKUP(I166,#REF!,11,FALSE),\"\")","v":""}]
[{"$error":"#REF!"},{"$f":"#REF!","v":{"$error":"#REF!"}},{"$f":"要求内訳データ!A167","v":{"$error":"#REF!"}},{"$f":"要求内訳データ!B167","v":{"$error":"#REF!"}},{"$f":"要求内訳データ!C167","v":{"$error":"#REF!"}},{"$f":"要求内訳データ!D167","v":{"$error":"#REF!"}},{"$f":"要求内訳データ!E167","v":{"$error":"#REF!"}},null,{"$f":"#REF!&\"0165\"","v":{"$error":"#REF!"}},"","","","","",{"$f":"IFERROR(VLOOKUP(I167,#REF!,10,FALSE),\"\")","v":""},{"$f":"IFERROR(VLOOKUP(I167,#REF!,11,FALSE),\"\")","v":""}]
[{"$error":"#REF!"},{"$f":"#REF!","v":{"$error":"#REF!"}},{"$f":"要求内訳データ!A168","v":{"$error":"#REF!"}},{"$f":"要求内訳データ!B168","v":{"$error":"#REF!"}},{"$f":"要求内訳データ!C168","v":{"$error":"#REF!"}},{"$f":"要求内訳データ!D168","v":{"$error":"#REF!"}},{"$f":"要求内訳データ!E168","v":{"$error":"#REF!"}},null,{"$f":"#REF!&\"0166\"","v":{"$error":"#REF!"}},"","","","","",{"$f":"IFERROR(VLOOKUP(I168,#REF!,10,FALSE),\"\")","v":""},{"$f":"IFERROR(VLOOKUP(I168,#REF!,11,FALSE),\"\")","v":""}]
[{"$error":"#REF!"},{"$f":"#REF!","v":{"$error":"#REF!"}},{"$f":"要求内訳データ!A169","v":{"$error":"#REF!"}},{"$f":"要求内訳データ!B169","v":{"$error":"#REF!"}},{"$f":"要求内訳データ!C169","v":{"$error":"#REF!"}},{"$f":"要求内訳データ!D169","v":{"$error":"#REF!"}},{"$f":"要求内訳データ!E169","v":{"$error":"#REF!"}},null,{"$f":"#REF!&\"0167\"","v":{"$error":"#REF!"}},"","","","","",{"$f":"IFERROR(VLOOKUP(I169,#REF!,10,FALSE),\"\")","v":""},{"$f":"IFERROR(VLOOKUP(I169,#REF!,11,FALSE),\"\")","v":""}]
[{"$error":"#REF!"},{"$f":"#REF!","v":{"$error":"#REF!"}},{"$f":"要求内訳データ!A170","v":{"$error":"#REF!"}},{"$f":"要求内訳データ!B170","v":{"$error":"#REF!"}},{"$f":"要求内訳データ!C170","v":{"$error":"#REF!"}},{"$f":"要求内訳データ!D170","v":{"$error":"#REF!"}},{"$f":"要求内訳データ!E170","v":{"$error":"#REF!"}},null,{"$f":"#REF!&\"0168\"","v":{"$error":"#REF!"}},"","","","","",{"$f":"IFERROR(VLOOKUP(I170,#REF!,10,FALSE),\"\")","v":""},{"$f":"IFERROR(VLOOKUP(I170,#REF!,11,FALSE),\"\")","v":""}]
[{"$error":"#REF!"},{"$f":"#REF!","v":{"$error":"#REF!"}},{"$f":"要求内訳データ!A171","v":{"$error":"#REF!"}},{"$f":"要求内訳データ!B171","v":{"$error":"#REF!"}},{"$f":"要求内訳データ!C171","v":{"$error":"#REF!"}},{"$f":"要求内訳データ!D171","v":{"$error":"#REF!"}},{"$f":"要求内訳データ!E171","v":{"$error":"#REF!"}},null,{"$f":"#REF!&\"0169\"","v":{"$error":"#REF!"}},"","","","","",{"$f":"IFERROR(VLOOKUP(I171,#REF!,10,FALSE),\"\")","v":""},{"$f":"IFERROR(VLOOKUP(I171,#REF!,11,FALSE),\"\")","v":""}]
[{"$error":"#REF!"},{"$f":"#REF!","v":{"$error":"#REF!"}},{"$f":"要求内訳データ!A172","v":{"$error":"#REF!"}},{"$f":"要求内訳データ!B172","v":{"$error":"#REF!"}},{"$f":"要求内訳データ!C172","v":{"$error":"#REF!"}},{"$f":"要求内訳データ!D172","v":{"$error":"#REF!"}},{"$f":"要求内訳データ!E172","v":{"$error":"#REF!"}},null,{"$f":"#REF!&\"0170\"","v":{"$error":"#REF!"}},"","","","","",{"$f":"IFERROR(VLOOKUP(I172,#REF!,10,FALSE),\"\")","v":""},{"$f":"IFERROR(VLOOKUP(I172,#REF!,11,FALSE),\"\")","v":""}]
[{"$error":"#REF!"},{"$f":"#REF!","v":{"$error":"#REF!"}},{"$f":"要求内訳データ!A173","v":{"$error":"#REF!"}},{"$f":"要求内訳データ!B173","v":{"$error":"#REF!"}},{"$f":"要求内訳データ!C173","v":{"$error":"#REF!"}},{"$f":"要求内訳データ!D173","v":{"$error":"#REF!"}},{"$f":"要求内訳データ!E173","v":{"$error":"#REF!"}},null,{"$f":"#REF!&\"0171\"","v":{"$error":"#REF!"}},"","","","","",{"$f":"IFERROR(VLOOKUP(I173,#REF!,10,FALSE),\"\")","v":""},{"$f":"IFERROR(VLOOKUP(I173,#REF!,11,FALSE),\"\")","v":""}]
[{"$error":"#REF!"},{"$f":"#REF!","v":{"$error":"#REF!"}},{"$f":"要求内訳データ!A174","v":{"$error":"#REF!"}},{"$f":"要求内訳データ!B174","v":{"$error":"#REF!"}},{"$f":"要求内訳データ!C174","v":{"$error":"#REF!"}},{"$f":"要求内訳データ!D174","v":{"$error":"#REF!"}},{"$f":"要求内訳データ!E174","v":{"$error":"#REF!"}},null,{"$f":"#REF!&\"0172\"","v":{"$error":"#REF!"}},"","","","","",{"$f":"IFERROR(VLOOKUP(I174,#REF!,10,FALSE),\"\")","v":""},{"$f":"IFERROR(VLOOKUP(I174,#REF!,11,FALSE),\"\")","v":""}]
[{"$error":"#REF!"},{"$f":"#REF!","v":{"$error":"#REF!"}},{"$f":"要求内訳データ!A175","v":{"$error":"#REF!"}},{"$f":"要求内訳データ!B175","v":{"$error":"#REF!"}},{"$f":"要求内訳データ!C175","v":{"$error":"#REF!"}},{"$f":"要求内訳データ!D175","v":{"$error":"#REF!"}},{"$f":"要求内訳データ!E175","v":{"$error":"#REF!"}},null,{"$f":"#REF!&\"0173\"","v":{"$error":"#REF!"}},"","","","","",{"$f":"IFERROR(VLOOKUP(I175,#REF!,10,FALSE),\"\")","v":""},{"$f":"IFERROR(VLOOKUP(I175,#REF!,11,FALSE),\"\")","v":""}]
[{"$error":"#REF!"},{"$f":"#REF!","v":{"$error":"#REF!"}},{"$f":"要求内訳データ!A176","v":{"$error":"#REF!"}},{"$f":"要求内訳データ!B176","v":{"$error":"#REF!"}},{"$f":"要求内訳データ!C176","v":{"$error":"#REF!"}},{"$f":"要求内訳データ!D176","v":{"$error":"#REF!"}},{"$f":"要求内訳データ!E176","v":{"$error":"#REF!"}},null,{"$f":"#REF!&\"0174\"","v":{"$error":"#REF!"}},"","","","","",{"$f":"IFERROR(VLOOKUP(I176,#REF!,10,FALSE),\"\")","v":""},{"$f":"IFERROR(VLOOKUP(I176,#REF!,11,FALSE),\"\")","v":""}]
[{"$error":"#REF!"},{"$f":"#REF!","v":{"$error":"#REF!"}},{"$f":"要求内訳データ!A177","v":{"$error":"#REF!"}},{"$f":"要求内訳データ!B177","v":{"$error":"#REF!"}},{"$f":"要求内訳データ!C177","v":{"$error":"#REF!"}},{"$f":"要求内訳データ!D177","v":{"$error":"#REF!"}},{"$f":"要求内訳データ!E177","v":{"$error":"#REF!"}},null,{"$f":"#REF!&\"0175\"","v":{"$error":"#REF!"}},"","","","","",{"$f":"IFERROR(VLOOKUP(I177,#REF!,10,FALSE),\"\")","v":""},{"$f":"IFERROR(VLOOKUP(I177,#REF!,11,FALSE),\"\")","v":""}]
[{"$error":"#REF!"},{"$f":"#REF!","v":{"$error":"#REF!"}},{"$f":"要求内訳データ!A178","v":{"$error":"#REF!"}},{"$f":"要求内訳データ!B178","v":{"$error":"#REF!"}},{"$f":"要求内訳データ!C178","v":{"$error":"#REF!"}},{"$f":"要求内訳データ!D178","v":{"$error":"#REF!"}},{"$f":"要求内訳データ!E178","v":{"$error":"#REF!"}},null,{"$f":"#REF!&\"0176\"","v":{"$error":"#REF!"}},"","","","","",{"$f":"IFERROR(VLOOKUP(I178,#REF!,10,FALSE),\"\")","v":""},{"$f":"IFERROR(VLOOKUP(I178,#REF!,11,FALSE),\"\")","v":""}]
[{"$error":"#REF!"},{"$f":"#REF!","v":{"$error":"#REF!"}},{"$f":"要求内訳データ!A179","v":{"$error":"#REF!"}},{"$f":"要求内訳データ!B179","v":{"$error":"#REF!"}},{"$f":"要求内訳データ!C179","v":{"$error":"#REF!"}},{"$f":"要求内訳データ!D179","v":{"$error":"#REF!"}},{"$f":"要求内訳データ!E179","v":{"$error":"#REF!"}},null,{"$f":"#REF!&\"0177\"","v":{"$error":"#REF!"}},"","","","","",{"$f":"IFERROR(VLOOKUP(I179,#REF!,10,FALSE),\"\")","v":""},{"$f":"IFERROR(VLOOKUP(I179,#REF!,11,FALSE),\"\")","v":""}]
[{"$error":"#REF!"},{"$f":"#REF!","v":{"$error":"#REF!"}},{"$f":"要求内訳データ!A180","v":{"$error":"#REF!"}},{"$f":"要求内訳データ!B180","v":{"$error":"#REF!"}},{"$f":"要求内訳データ!C180","v":{"$error":"#REF!"}},{"$f":"要求内訳データ!D180","v":{"$error":"#REF!"}},{"$f":"要求内訳データ!E180","v":{"$error":"#REF!"}},null,{"$f":"#REF!&\"0178\"","v":{"$error":"#REF!"}},"","","","","",{"$f":"IFERROR(VLOOKUP(I180,#REF!,10,FALSE),\"\")","v":""},{"$f":"IFERROR(VLOOKUP(I180,#REF!,11,FALSE),\"\")","v":""}]
[{"$error":"#REF!"},{"$f":"#REF!","v":{"$error":"#REF!"}},{"$f":"要求内訳データ!A181","v":{"$error":"#REF!"}},{"$f":"要求内訳データ!B181","v":{"$error":"#REF!"}},{"$f":"要求内訳データ!C181","v":{"$error":"#REF!"}},{"$f":"要求内訳データ!D181","v":{"$error":"#REF!"}},{"$f":"要求内訳データ!E181","v":{"$error":"#REF!"}},null,{"$f":"#REF!&\"0179\"","v":{"$error":"#REF!"}},"","","","","",{"$f":"IFERROR(VLOOKUP(I181,#REF!,10,FALSE),\"\")","v":""},{"$f":"IFERROR(VLOOKUP(I181,#REF!,11,FALSE),\"\")","v":""}]
[{"$error":"#REF!"},{"$f":"#REF!","v":{"$error":"#REF!"}},{"$f":"要求内訳データ!A182","v":{"$error":"#REF!"}},{"$f":"要求内訳データ!B182","v":{"$error":"#REF!"}},{"$f":"要求内訳データ!C182","v":{"$error":"#REF!"}},{"$f":"要求内訳データ!D182","v":{"$error":"#REF!"}},{"$f":"要求内訳データ!E182","v":{"$error":"#REF!"}},null,{"$f":"#REF!&\"0180\"","v":{"$error":"#REF!"}},"","","","","",{"$f":"IFERROR(VLOOKUP(I182,#REF!,10,FALSE),\"\")","v":""},{"$f":"IFERROR(VLOOKUP(I182,#REF!,11,FALSE),\"\")","v":""}]
[{"$error":"#REF!"},{"$f":"#REF!","v":{"$error":"#REF!"}},{"$f":"要求内訳データ!A183","v":{"$error":"#REF!"}},{"$f":"要求内訳データ!B183","v":{"$error":"#REF!"}},{"$f":"要求内訳データ!C183","v":{"$error":"#REF!"}},{"$f":"要求内訳データ!D183","v":{"$error":"#REF!"}},{"$f":"要求内訳データ!E183","v":{"$error":"#REF!"}},null,{"$f":"#REF!&\"0181\"","v":{"$error":"#REF!"}},"","","","","",{"$f":"IFERROR(VLOOKUP(I183,#REF!,10,FALSE),\"\")","v":""},{"$f":"IFERROR(VLOOKUP(I183,#REF!,11,FALSE),\"\")","v":""}]
[{"$error":"#REF!"},{"$f":"#REF!","v":{"$error":"#REF!"}},{"$f":"要求内訳データ!A184","v":{"$error":"#REF!"}},{"$f":"要求内訳データ!B184","v":{"$error":"#REF!"}},{"$f":"要求内訳データ!C184","v":{"$error":"#REF!"}},{"$f":"要求内訳データ!D184","v":{"$error":"#REF!"}},{"$f":"要求内訳データ!E184","v":{"$error":"#REF!"}},null,{"$f":"#REF!&\"0182\"","v":{"$error":"#REF!"}},"","","","","",{"$f":"IFERROR(VLOOKUP(I184,#REF!,10,FALSE),\"\")","v":""},{"$f":"IFERROR(VLOOKUP(I184,#REF!,11,FALSE),\"\")","v":""}]
[{"$error":"#REF!"},{"$f":"#REF!","v":{"$error":"#REF!"}},{"$f":"要求内訳データ!A185","v":{"$error":"#REF!"}},{"$f":"要求内訳データ!B185","v":{"$error":"#REF!"}},{"$f":"要求内訳データ!C185","v":{"$error":"#REF!"}},{"$f":"要求内訳データ!D185","v":{"$error":"#REF!"}},{"$f":"要求内訳データ!E185","v":{"$error":"#REF!"}},null,{"$f":"#REF!&\"0183\"","v":{"$error":"#REF!"}},"","","","","",{"$f":"IFERROR(VLOOKUP(I185,#REF!,10,FALSE),\"\")","v":""},{"$f":"IFERROR(VLOOKUP(I185,#REF!,11,FALSE),\"\")","v":""}]
[{"$error":"#REF!"},{"$f":"#REF!","v":{"$error":"#REF!"}},{"$f":"要求内訳データ!A186","v":{"$error":"#REF!"}},{"$f":"要求内訳データ!B186","v":{"$error":"#REF!"}},{"$f":"要求内訳データ!C186","v":{"$error":"#REF!"}},{"$f":"要求内訳データ!D186","v":{"$error":"#REF!"}},{"$f":"要求内訳データ!E186","v":{"$error":"#REF!"}},null,{"$f":"#REF!&\"0184\"","v":{"$error":"#REF!"}},"","","","","",{"$f":"IFERROR(VLOOKUP(I186,#REF!,10,FALSE),\"\")","v":""},{"$f":"IFERROR(VLOOKUP(I186,#REF!,11,FALSE),\"\")","v":""}]
[{"$error":"#REF!"},{"$f":"#REF!","v":{"$error":"#REF!"}},{"$f":"要求内訳データ!A187","v":{"$error":"#REF!"}},{"$f":"要求内訳データ!B187","v":{"$error":"#REF!"}},{"$f":"要求内訳データ!C187","v":{"$error":"#REF!"}},{"$f":"要求内訳データ!D187","v":{"$error":"#REF!"}},{"$f":"要求内訳データ!E187","v":{"$error":"#REF!"}},null,{"$f":"#REF!&\"0185\"","v":{"$error":"#REF!"}},"","","","","",{"$f":"IFERROR(VLOOKUP(I187,#REF!,10,FALSE),\"\")","v":""},{"$f":"IFERROR(VLOOKUP(I187,#REF!,11,FALSE),\"\")","v":""}]
[{"$error":"#REF!"},{"$f":"#REF!","v":{"$error":"#REF!"}},{"$f":"要求内訳データ!A188","v":{"$error":"#REF!"}},{"$f":"要求内訳データ!B188","v":{"$error":"#REF!"}},{"$f":"要求内訳データ!C188","v":{"$error":"#REF!"}},{"$f":"要求内訳データ!D188","v":{"$error":"#REF!"}},{"$f":"要求内訳データ!E188","v":{"$error":"#REF!"}},null,{"$f":"#REF!&\"0186\"","v":{"$error":"#REF!"}},"","","","","",{"$f":"IFERROR(VLOOKUP(I188,#REF!,10,FALSE),\"\")","v":""},{"$f":"IFERROR(VLOOKUP(I188,#REF!,11,FALSE),\"\")","v":""}]
[{"$error":"#REF!"},{"$f":"#REF!","v":{"$error":"#REF!"}},{"$f":"要求内訳データ!A189","v":{"$error":"#REF!"}},{"$f":"要求内訳データ!B189","v":{"$error":"#REF!"}},{"$f":"要求内訳データ!C189","v":{"$error":"#REF!"}},{"$f":"要求内訳データ!D189","v":{"$error":"#REF!"}},{"$f":"要求内訳データ!E189","v":{"$error":"#REF!"}},null,{"$f":"#REF!&\"0187\"","v":{"$error":"#REF!"}},"","","","","",{"$f":"IFERROR(VLOOKUP(I189,#REF!,10,FALSE),\"\")","v":""},{"$f":"IFERROR(VLOOKUP(I189,#REF!,11,FALSE),\"\")","v":""}]
[{"$error":"#REF!"},{"$f":"#REF!","v":{"$error":"#REF!"}},{"$f":"要求内訳データ!A190","v":{"$error":"#REF!"}},{"$f":"要求内訳データ!B190","v":{"$error":"#REF!"}},{"$f":"要求内訳データ!C190","v":{"$error":"#REF!"}},{"$f":"要求内訳データ!D190","v":{"$error":"#REF!"}},{"$f":"要求内訳データ!E190","v":{"$error":"#REF!"}},null,{"$f":"#REF!&\"0188\"","v":{"$error":"#REF!"}},"","","","","",{"$f":"IFERROR(VLOOKUP(I190,#REF!,10,FALSE),\"\")","v":""},{"$f":"IFERROR(VLOOKUP(I190,#REF!,11,FALSE),\"\")","v":""}]
[{"$error":"#REF!"},{"$f":"#REF!","v":{"$error":"#REF!"}},{"$f":"要求内訳データ!A191","v":{"$error":"#REF!"}},{"$f":"要求内訳データ!B191","v":{"$error":"#REF!"}},{"$f":"要求内訳データ!C191","v":{"$error":"#REF!"}},{"$f":"要求内訳データ!D191","v":{"$error":"#REF!"}},{"$f":"要求内訳データ!E191","v":{"$error":"#REF!"}},null,{"$f":"#REF!&\"0189\"","v":{"$error":"#REF!"}},"","","","","",{"$f":"IFERROR(VLOOKUP(I191,#REF!,10,FALSE),\"\")","v":""},{"$f":"IFERROR(VLOOKUP(I191,#REF!,11,FALSE),\"\")","v":""}]
[{"$error":"#REF!"},{"$f":"#REF!","v":{"$error":"#REF!"}},{"$f":"要求内訳データ!A192","v":{"$error":"#REF!"}},{"$f":"要求内訳データ!B192","v":{"$error":"#REF!"}},{"$f":"要求内訳データ!C192","v":{"$error":"#REF!"}},{"$f":"要求内訳データ!D192","v":{"$error":"#REF!"}},{"$f":"要求内訳データ!E192","v":{"$error":"#REF!"}},null,{"$f":"#REF!&\"0190\"","v":{"$error":"#REF!"}},"","","","","",{"$f":"IFERROR(VLOOKUP(I192,#REF!,10,FALSE),\"\")","v":""},{"$f":"IFERROR(VLOOKUP(I192,#REF!,11,FALSE),\"\")","v":""}]
[{"$error":"#REF!"},{"$f":"#REF!","v":{"$error":"#REF!"}},{"$f":"要求内訳データ!A193","v":{"$error":"#REF!"}},{"$f":"要求内訳データ!B193","v":{"$error":"#REF!"}},{"$f":"要求内訳データ!C193","v":{"$error":"#REF!"}},{"$f":"要求内訳データ!D193","v":{"$error":"#REF!"}},{"$f":"要求内訳データ!E193","v":{"$error":"#REF!"}},null,{"$f":"#REF!&\"0191\"","v":{"$error":"#REF!"}},"","","","","",{"$f":"IFERROR(VLOOKUP(I193,#REF!,10,FALSE),\"\")","v":""},{"$f":"IFERROR(VLOOKUP(I193,#REF!,11,FALSE),\"\")","v":""}]
[{"$error":"#REF!"},{"$f":"#REF!","v":{"$error":"#REF!"}},{"$f":"要求内訳データ!A194","v":{"$error":"#REF!"}},{"$f":"要求内訳データ!B194","v":{"$error":"#REF!"}},{"$f":"要求内訳データ!C194","v":{"$error":"#REF!"}},{"$f":"要求内訳データ!D194","v":{"$error":"#REF!"}},{"$f":"要求内訳データ!E194","v":{"$error":"#REF!"}},null,{"$f":"#REF!&\"0192\"","v":{"$error":"#REF!"}},"","","","","",{"$f":"IFERROR(VLOOKUP(I194,#REF!,10,FALSE),\"\")","v":""},{"$f":"IFERROR(VLOOKUP(I194,#REF!,11,FALSE),\"\")","v":""}]
[{"$f":"LEFT(B195,LEN(B195)-4)","v":{"$error":"#REF!"}},{"$f":"#REF!","v":{"$error":"#REF!"}},{"$f":"要求内訳データ!A195","v":{"$error":"#REF!"}},{"$f":"要求内訳データ!B195","v":{"$error":"#REF!"}},{"$f":"要求内訳データ!C195","v":{"$error":"#REF!"}},{"$f":"要求内訳データ!D195","v":{"$error":"#REF!"}},{"$f":"要求内訳データ!E195","v":{"$error":"#REF!"}},null,{"$f":"#REF!&\"0193\"","v":{"$error":"#REF!"}},"",{"$f":"IFERROR(VLOOKUP(I195,$B$3:$G$498,3,FALSE),\"\")","v":""},{"$f":"IF(AND(J195=\"\",NOT(K194=\"\")),\"以下余白\",IFERROR(VLOOKUP(I195,$B$3:$G$498,4,FALSE),\"\"))","v":""},{"$f":"IFERROR(VLOOKUP(I195,$B$3:$G$498,5,FALSE),\"\")","v":""},{"$f":"IFERROR(VLOOKUP(I195,$B$3:$G$498,6,FALSE),\"\")","v":""},{"$f":"IFERROR(VLOOKUP(I195,#REF!,10,FALSE),\"\")","v":""},{"$f":"IFERROR(VLOOKUP(I195,#REF!,11,FALSE),\"\")","v":""}]
[{"$error":"#REF!"},{"$f":"#REF!","v":{"$error":"#REF!"}},{"$f":"要求内訳データ!A196","v":{"$error":"#REF!"}},{"$f":"要求内訳データ!B196","v":{"$error":"#REF!"}},{"$f":"要求内訳データ!C196","v":{"$error":"#REF!"}},{"$f":"要求内訳データ!D196","v":{"$error":"#REF!"}},{"$f":"要求内訳データ!E196","v":{"$error":"#REF!"}},null,{"$f":"#REF!&\"0194\"","v":{"$error":"#REF!"}},{"$f":"IF(K196=\"\",\"\",J195+1)","v":""},"","","","",{"$f":"IFERROR(VLOOKUP(I196,#REF!,10,FALSE),\"\")","v":""},{"$f":"IFERROR(VLOOKUP(I196,#REF!,11,FALSE),\"\")","v":""}]
[{"$error":"#REF!"},{"$f":"#REF!","v":{"$error":"#REF!"}},{"$f":"要求内訳データ!A197","v":{"$error":"#REF!"}},{"$f":"要求内訳データ!B197","v":{"$error":"#REF!"}},{"$f":"要求内訳データ!C197","v":{"$error":"#REF!"}},{"$f":"要求内訳データ!D197","v":{"$error":"#REF!"}},{"$f":"要求内訳データ!E197","v":{"$error":"#REF!"}},null,{"$f":"#REF!&\"0195\"","v":{"$error":"#REF!"}},"","","","","",{"$f":"IFERROR(VLOOKUP(I197,#REF!,10,FALSE),\"\")","v":""},{"$f":"IFERROR(VLOOKUP(I197,#REF!,11,FALSE),\"\")","v":""}]
[{"$error":"#REF!"},{"$f":"#REF!","v":{"$error":"#REF!"}},{"$f":"要求内訳データ!A198","v":{"$error":"#REF!"}},{"$f":"要求内訳データ!B198","v":{"$error":"#REF!"}},{"$f":"要求内訳データ!C198","v":{"$error":"#REF!"}},{"$f":"要求内訳データ!D198","v":{"$error":"#REF!"}},{"$f":"要求内訳データ!E198","v":{"$error":"#REF!"}},null,{"$f":"#REF!&\"0196\"","v":{"$error":"#REF!"}},"","","","","",{"$f":"IFERROR(VLOOKUP(I198,#REF!,10,FALSE),\"\")","v":""},{"$f":"IFERROR(VLOOKUP(I198,#REF!,11,FALSE),\"\")","v":""}]
[{"$error":"#REF!"},{"$f":"#REF!","v":{"$error":"#REF!"}},{"$f":"要求内訳データ!A199","v":{"$error":"#REF!"}},{"$f":"要求内訳データ!B199","v":{"$error":"#REF!"}},{"$f":"要求内訳データ!C199","v":{"$error":"#REF!"}},{"$f":"要求内訳データ!D199","v":{"$error":"#REF!"}},{"$f":"要求内訳データ!E199","v":{"$error":"#REF!"}},null,{"$f":"#REF!&\"0197\"","v":{"$error":"#REF!"}},"","","","","",{"$f":"IFERROR(VLOOKUP(I199,#REF!,10,FALSE),\"\")","v":""},{"$f":"IFERROR(VLOOKUP(I199,#REF!,11,FALSE),\"\")","v":""}]
[{"$error":"#REF!"},{"$f":"#REF!","v":{"$error":"#REF!"}},{"$f":"要求内訳データ!A200","v":{"$error":"#REF!"}},{"$f":"要求内訳データ!B200","v":{"$error":"#REF!"}},{"$f":"要求内訳データ!C200","v":{"$error":"#REF!"}},{"$f":"要求内訳データ!D200","v":{"$error":"#REF!"}},{"$f":"要求内訳データ!E200","v":{"$error":"#REF!"}},null,{"$f":"#REF!&\"0198\"","v":{"$error":"#REF!"}},"","","","","",{"$f":"IFERROR(VLOOKUP(I200,#REF!,10,FALSE),\"\")","v":""},{"$f":"IFERROR(VLOOKUP(I200,#REF!,11,FALSE),\"\")","v":""}]
[{"$error":"#REF!"},{"$f":"#REF!","v":{"$error":"#REF!"}},{"$f":"要求内訳データ!A201","v":{"$error":"#REF!"}},{"$f":"要求内訳データ!B201","v":{"$error":"#REF!"}},{"$f":"要求内訳データ!C201","v":{"$error":"#REF!"}},{"$f":"要求内訳データ!D201","v":{"$error":"#REF!"}},{"$f":"要求内訳データ!E201","v":{"$error":"#REF!"}},null,{"$f":"#REF!&\"0199\"","v":{"$error":"#REF!"}},"","","","","",{"$f":"IFERROR(VLOOKUP(I201,#REF!,10,FALSE),\"\")","v":""},{"$f":"IFERROR(VLOOKUP(I201,#REF!,11,FALSE),\"\")","v":""}]
[{"$error":"#REF!"},{"$f":"#REF!","v":{"$error":"#REF!"}},{"$f":"要求内訳データ!A202","v":{"$error":"#REF!"}},{"$f":"要求内訳データ!B202","v":{"$error":"#REF!"}},{"$f":"要求内訳データ!C202","v":{"$error":"#REF!"}},{"$f":"要求内訳データ!D202","v":{"$error":"#REF!"}},{"$f":"要求内訳データ!E202","v":{"$error":"#REF!"}},null,{"$f":"#REF!&\"0200\"","v":{"$error":"#REF!"}},"","","","","",{"$f":"IFERROR(VLOOKUP(I202,#REF!,10,FALSE),\"\")","v":""},{"$f":"IFERROR(VLOOKUP(I202,#REF!,11,FALSE),\"\")","v":""}]
[{"$error":"#REF!"},{"$f":"#REF!","v":{"$error":"#REF!"}},{"$f":"要求内訳データ!A203","v":{"$error":"#REF!"}},{"$f":"要求内訳データ!B203","v":{"$error":"#REF!"}},{"$f":"要求内訳データ!C203","v":{"$error":"#REF!"}},{"$f":"要求内訳データ!D203","v":{"$error":"#REF!"}},{"$f":"要求内訳データ!E203","v":{"$error":"#REF!"}},null,{"$f":"#REF!&\"0201\"","v":{"$error":"#REF!"}},"","","","","",{"$f":"IFERROR(VLOOKUP(I203,#REF!,10,FALSE),\"\")","v":""},{"$f":"IFERROR(VLOOKUP(I203,#REF!,11,FALSE),\"\")","v":""}]
[{"$error":"#REF!"},{"$f":"#REF!","v":{"$error":"#REF!"}},{"$f":"要求内訳データ!A204","v":{"$error":"#REF!"}},{"$f":"要求内訳データ!B204","v":{"$error":"#REF!"}},{"$f":"要求内訳データ!C204","v":{"$error":"#REF!"}},{"$f":"要求内訳データ!D204","v":{"$error":"#REF!"}},{"$f":"要求内訳データ!E204","v":{"$error":"#REF!"}},null,{"$f":"#REF!&\"0202\"","v":{"$error":"#REF!"}},"","","","","",{"$f":"IFERROR(VLOOKUP(I204,#REF!,10,FALSE),\"\")","v":""},{"$f":"IFERROR(VLOOKUP(I204,#REF!,11,FALSE),\"\")","v":""}]
[{"$error":"#REF!"},{"$f":"#REF!","v":{"$error":"#REF!"}},{"$f":"要求内訳データ!A205","v":{"$error":"#REF!"}},{"$f":"要求内訳データ!B205","v":{"$error":"#REF!"}},{"$f":"要求内訳データ!C205","v":{"$error":"#REF!"}},{"$f":"要求内訳データ!D205","v":{"$error":"#REF!"}},{"$f":"要求内訳データ!E205","v":{"$error":"#REF!"}},null,{"$f":"#REF!&\"0203\"","v":{"$error":"#REF!"}},"","","","","",{"$f":"IFERROR(VLOOKUP(I205,#REF!,10,FALSE),\"\")","v":""},{"$f":"IFERROR(VLOOKUP(I205,#REF!,11,FALSE),\"\")","v":""}]
[{"$error":"#REF!"},{"$f":"#REF!","v":{"$error":"#REF!"}},{"$f":"要求内訳データ!A206","v":{"$error":"#REF!"}},{"$f":"要求内訳データ!B206","v":{"$error":"#REF!"}},{"$f":"要求内訳データ!C206","v":{"$error":"#REF!"}},{"$f":"要求内訳データ!D206","v":{"$error":"#REF!"}},{"$f":"要求内訳データ!E206","v":{"$error":"#REF!"}},null,{"$f":"#REF!&\"0204\"","v":{"$error":"#REF!"}},"","","","","",{"$f":"IFERROR(VLOOKUP(I206,#REF!,10,FALSE),\"\")","v":""},{"$f":"IFERROR(VLOOKUP(I206,#REF!,11,FALSE),\"\")","v":""}]
[{"$error":"#REF!"},{"$f":"#REF!","v":{"$error":"#REF!"}},{"$f":"要求内訳データ!A207","v":{"$error":"#REF!"}},{"$f":"要求内訳データ!B207","v":{"$error":"#REF!"}},{"$f":"要求内訳データ!C207","v":{"$error":"#REF!"}},{"$f":"要求内訳データ!D207","v":{"$error":"#REF!"}},{"$f":"要求内訳データ!E207","v":{"$error":"#REF!"}},null,{"$f":"#REF!&\"0205\"","v":{"$error":"#REF!"}},"","","","","",{"$f":"IFERROR(VLOOKUP(I207,#REF!,10,FALSE),\"\")","v":""},{"$f":"IFERROR(VLOOKUP(I207,#REF!,11,FALSE),\"\")","v":""}]
[{"$error":"#REF!"},{"$f":"#REF!","v":{"$error":"#REF!"}},{"$f":"要求内訳データ!A208","v":{"$error":"#REF!"}},{"$f":"要求内訳データ!B208","v":{"$error":"#REF!"}},{"$f":"要求内訳データ!C208","v":{"$error":"#REF!"}},{"$f":"要求内訳データ!D208","v":{"$error":"#REF!"}},{"$f":"要求内訳データ!E208","v":{"$error":"#REF!"}},null,{"$f":"#REF!&\"0206\"","v":{"$error":"#REF!"}},"","","","","",{"$f":"IFERROR(VLOOKUP(I208,#REF!,10,FALSE),\"\")","v":""},{"$f":"IFERROR(VLOOKUP(I208,#REF!,11,FALSE),\"\")","v":""}]
[{"$error":"#REF!"},{"$f":"#REF!","v":{"$error":"#REF!"}},{"$f":"要求内訳データ!A209","v":{"$error":"#REF!"}},{"$f":"要求内訳データ!B209","v":{"$error":"#REF!"}},{"$f":"要求内訳データ!C209","v":{"$error":"#REF!"}},{"$f":"要求内訳データ!D209","v":{"$error":"#REF!"}},{"$f":"要求内訳データ!E209","v":{"$error":"#REF!"}},null,{"$f":"#REF!&\"0207\"","v":{"$error":"#REF!"}},"","","","","",{"$f":"IFERROR(VLOOKUP(I209,#REF!,10,FALSE),\"\")","v":""},{"$f":"IFERROR(VLOOKUP(I209,#REF!,11,FALSE),\"\")","v":""}]
[{"$error":"#REF!"},{"$f":"#REF!","v":{"$error":"#REF!"}},{"$f":"要求内訳データ!A210","v":{"$error":"#REF!"}},{"$f":"要求内訳データ!B210","v":{"$error":"#REF!"}},{"$f":"要求内訳データ!C210","v":{"$error":"#REF!"}},{"$f":"要求内訳データ!D210","v":{"$error":"#REF!"}},{"$f":"要求内訳データ!E210","v":{"$error":"#REF!"}},null,{"$f":"#REF!&\"0208\"","v":{"$error":"#REF!"}},"","","","","",{"$f":"IFERROR(VLOOKUP(I210,#REF!,10,FALSE),\"\")","v":""},{"$f":"IFERROR(VLOOKUP(I210,#REF!,11,FALSE),\"\")","v":""}]
[{"$error":"#REF!"},{"$f":"#REF!","v":{"$error":"#REF!"}},{"$f":"要求内訳データ!A211","v":{"$error":"#REF!"}},{"$f":"要求内訳データ!B211","v":{"$error":"#REF!"}},{"$f":"要求内訳データ!C211","v":{"$error":"#REF!"}},{"$f":"要求内訳データ!D211","v":{"$error":"#REF!"}},{"$f":"要求内訳データ!E211","v":{"$error":"#REF!"}},null,{"$f":"#REF!&\"0209\"","v":{"$error":"#REF!"}},"","","","","",{"$f":"IFERROR(VLOOKUP(I211,#REF!,10,FALSE),\"\")","v":""},{"$f":"IFERROR(VLOOKUP(I211,#REF!,11,FALSE),\"\")","v":""}]
[{"$error":"#REF!"},{"$f":"#REF!","v":{"$error":"#REF!"}},{"$f":"要求内訳データ!A212","v":{"$error":"#REF!"}},{"$f":"要求内訳データ!B212","v":{"$error":"#REF!"}},{"$f":"要求内訳データ!C212","v":{"$error":"#REF!"}},{"$f":"要求内訳データ!D212","v":{"$error":"#REF!"}},{"$f":"要求内訳データ!E212","v":{"$error":"#REF!"}},null,{"$f":"#REF!&\"0210\"","v":{"$error":"#REF!"}},"","","","","",{"$f":"IFERROR(VLOOKUP(I212,#REF!,10,FALSE),\"\")","v":""},{"$f":"IFERROR(VLOOKUP(I212,#REF!,11,FALSE),\"\")","v":""}]
[{"$error":"#REF!"},{"$f":"#REF!","v":{"$error":"#REF!"}},{"$f":"要求内訳データ!A213","v":{"$error":"#REF!"}},{"$f":"要求内訳データ!B213","v":{"$error":"#REF!"}},{"$f":"要求内訳データ!C213","v":{"$error":"#REF!"}},{"$f":"要求内訳データ!D213","v":{"$error":"#REF!"}},{"$f":"要求内訳データ!E213","v":{"$error":"#REF!"}},null,{"$f":"#REF!&\"0211\"","v":{"$error":"#REF!"}},"","","","","",{"$f":"IFERROR(VLOOKUP(I213,#REF!,10,FALSE),\"\")","v":""},{"$f":"IFERROR(VLOOKUP(I213,#REF!,11,FALSE),\"\")","v":""}]
[{"$error":"#REF!"},{"$f":"#REF!","v":{"$error":"#REF!"}},{"$f":"要求内訳データ!A214","v":{"$error":"#REF!"}},{"$f":"要求内訳データ!B214","v":{"$error":"#REF!"}},{"$f":"要求内訳データ!C214","v":{"$error":"#REF!"}},{"$f":"要求内訳データ!D214","v":{"$error":"#REF!"}},{"$f":"要求内訳データ!E214","v":{"$error":"#REF!"}},null,{"$f":"#REF!&\"0212\"","v":{"$error":"#REF!"}},"","","","","",{"$f":"IFERROR(VLOOKUP(I214,#REF!,10,FALSE),\"\")","v":""},{"$f":"IFERROR(VLOOKUP(I214,#REF!,11,FALSE),\"\")","v":""}]
[{"$error":"#REF!"},{"$f":"#REF!","v":{"$error":"#REF!"}},{"$f":"要求内訳データ!A215","v":{"$error":"#REF!"}},{"$f":"要求内訳データ!B215","v":{"$error":"#REF!"}},{"$f":"要求内訳データ!C215","v":{"$error":"#REF!"}},{"$f":"要求内訳データ!D215","v":{"$error":"#REF!"}},{"$f":"要求内訳データ!E215","v":{"$error":"#REF!"}},null,{"$f":"#REF!&\"0213\"","v":{"$error":"#REF!"}},"","","","","",{"$f":"IFERROR(VLOOKUP(I215,#REF!,10,FALSE),\"\")","v":""},{"$f":"IFERROR(VLOOKUP(I215,#REF!,11,FALSE),\"\")","v":""}]
[{"$error":"#REF!"},{"$f":"#REF!","v":{"$error":"#REF!"}},{"$f":"要求内訳データ!A216","v":{"$error":"#REF!"}},{"$f":"要求内訳データ!B216","v":{"$error":"#REF!"}},{"$f":"要求内訳データ!C216","v":{"$error":"#REF!"}},{"$f":"要求内訳データ!D216","v":{"$error":"#REF!"}},{"$f":"要求内訳データ!E216","v":{"$error":"#REF!"}},null,{"$f":"#REF!&\"0214\"","v":{"$error":"#REF!"}},"","","","","",{"$f":"IFERROR(VLOOKUP(I216,#REF!,10,FALSE),\"\")","v":""},{"$f":"IFERROR(VLOOKUP(I216,#REF!,11,FALSE),\"\")","v":""}]
[{"$error":"#REF!"},{"$f":"#REF!","v":{"$error":"#REF!"}},{"$f":"要求内訳データ!A217","v":{"$error":"#REF!"}},{"$f":"要求内訳データ!B217","v":{"$error":"#REF!"}},{"$f":"要求内訳データ!C217","v":{"$error":"#REF!"}},{"$f":"要求内訳データ!D217","v":{"$error":"#REF!"}},{"$f":"要求内訳データ!E217","v":{"$error":"#REF!"}},null,{"$f":"#REF!&\"0215\"","v":{"$error":"#REF!"}},"","","","","",{"$f":"IFERROR(VLOOKUP(I217,#REF!,10,FALSE),\"\")","v":""},{"$f":"IFERROR(VLOOKUP(I217,#REF!,11,FALSE),\"\")","v":""}]
[{"$error":"#REF!"},{"$f":"#REF!","v":{"$error":"#REF!"}},{"$f":"要求内訳データ!A218","v":{"$error":"#REF!"}},{"$f":"要求内訳データ!B218","v":{"$error":"#REF!"}},{"$f":"要求内訳データ!C218","v":{"$error":"#REF!"}},{"$f":"要求内訳データ!D218","v":{"$error":"#REF!"}},{"$f":"要求内訳データ!E218","v":{"$error":"#REF!"}},null,{"$f":"#REF!&\"0216\"","v":{"$error":"#REF!"}},"","","","","",{"$f":"IFERROR(VLOOKUP(I218,#REF!,10,FALSE),\"\")","v":""},{"$f":"IFERROR(VLOOKUP(I218,#REF!,11,FALSE),\"\")","v":""}]
[{"$error":"#REF!"},{"$f":"#REF!","v":{"$error":"#REF!"}},{"$f":"要求内訳データ!A219","v":{"$error":"#REF!"}},{"$f":"要求内訳データ!B219","v":{"$error":"#REF!"}},{"$f":"要求内訳データ!C219","v":{"$error":"#REF!"}},{"$f":"要求内訳データ!D219","v":{"$error":"#REF!"}},{"$f":"要求内訳データ!E219","v":{"$error":"#REF!"}},null,{"$f":"#REF!&\"0217\"","v":{"$error":"#REF!"}},"","","","","",{"$f":"IFERROR(VLOOKUP(I219,#REF!,10,FALSE),\"\")","v":""},{"$f":"IFERROR(VLOOKUP(I219,#REF!,11,FALSE),\"\")","v":""}]
[{"$error":"#REF!"},{"$f":"#REF!","v":{"$error":"#REF!"}},{"$f":"要求内訳データ!A220","v":{"$error":"#REF!"}},{"$f":"要求内訳データ!B220","v":{"$error":"#REF!"}},{"$f":"要求内訳データ!C220","v":{"$error":"#REF!"}},{"$f":"要求内訳データ!D220","v":{"$error":"#REF!"}},{"$f":"要求内訳データ!E220","v":{"$error":"#REF!"}},null,{"$f":"#REF!&\"0218\"","v":{"$error":"#REF!"}},"","","","","",{"$f":"IFERROR(VLOOKUP(I220,#REF!,10,FALSE),\"\")","v":""},{"$f":"IFERROR(VLOOKUP(I220,#REF!,11,FALSE),\"\")","v":""}]
[{"$error":"#REF!"},{"$f":"#REF!","v":{"$error":"#REF!"}},{"$f":"要求内訳データ!A221","v":{"$error":"#REF!"}},{"$f":"要求内訳データ!B221","v":{"$error":"#REF!"}},{"$f":"要求内訳データ!C221","v":{"$error":"#REF!"}},{"$f":"要求内訳データ!D221","v":{"$error":"#REF!"}},{"$f":"要求内訳データ!E221","v":{"$error":"#REF!"}},null,{"$f":"#REF!&\"0219\"","v":{"$error":"#REF!"}},"","","","","",{"$f":"IFERROR(VLOOKUP(I221,#REF!,10,FALSE),\"\")","v":""},{"$f":"IFERROR(VLOOKUP(I221,#REF!,11,FALSE),\"\")","v":""}]
[{"$error":"#REF!"},{"$f":"#REF!","v":{"$error":"#REF!"}},{"$f":"要求内訳データ!A222","v":{"$error":"#REF!"}},{"$f":"要求内訳データ!B222","v":{"$error":"#REF!"}},{"$f":"要求内訳データ!C222","v":{"$error":"#REF!"}},{"$f":"要求内訳データ!D222","v":{"$error":"#REF!"}},{"$f":"要求内訳データ!E222","v":{"$error":"#REF!"}},null,{"$f":"#REF!&\"0220\"","v":{"$error":"#REF!"}},"","","","","",{"$f":"IFERROR(VLOOKUP(I222,#REF!,10,FALSE),\"\")","v":""},{"$f":"IFERROR(VLOOKUP(I222,#REF!,11,FALSE),\"\")","v":""}]
[{"$error":"#REF!"},{"$f":"#REF!","v":{"$error":"#REF!"}},{"$f":"要求内訳データ!A223","v":{"$error":"#REF!"}},{"$f":"要求内訳データ!B223","v":{"$error":"#REF!"}},{"$f":"要求内訳データ!C223","v":{"$error":"#REF!"}},{"$f":"要求内訳データ!D223","v":{"$error":"#REF!"}},{"$f":"要求内訳データ!E223","v":{"$error":"#REF!"}},null,{"$f":"#REF!&\"0221\"","v":{"$error":"#REF!"}},"","","","","",{"$f":"IFERROR(VLOOKUP(I223,#REF!,10,FALSE),\"\")","v":""},{"$f":"IFERROR(VLOOKUP(I223,#REF!,11,FALSE),\"\")","v":""}]
[{"$error":"#REF!"},{"$f":"#REF!","v":{"$error":"#REF!"}},{"$f":"要求内訳データ!A224","v":{"$error":"#REF!"}},{"$f":"要求内訳データ!B224","v":{"$error":"#REF!"}},{"$f":"要求内訳データ!C224","v":{"$error":"#REF!"}},{"$f":"要求内訳データ!D224","v":{"$error":"#REF!"}},{"$f":"要求内訳データ!E224","v":{"$error":"#REF!"}},null,{"$f":"#REF!&\"0222\"","v":{"$error":"#REF!"}},"","","","","",{"$f":"IFERROR(VLOOKUP(I224,#REF!,10,FALSE),\"\")","v":""},{"$f":"IFERROR(VLOOKUP(I224,#REF!,11,FALSE),\"\")","v":""}]
[{"$error":"#REF!"},{"$f":"#REF!","v":{"$error":"#REF!"}},{"$f":"要求内訳データ!A225","v":{"$error":"#REF!"}},{"$f":"要求内訳データ!B225","v":{"$error":"#REF!"}},{"$f":"要求内訳データ!C225","v":{"$error":"#REF!"}},{"$f":"要求内訳データ!D225","v":{"$error":"#REF!"}},{"$f":"要求内訳データ!E225","v":{"$error":"#REF!"}},null,{"$f":"#REF!&\"0223\"","v":{"$error":"#REF!"}},"","","","","",{"$f":"IFERROR(VLOOKUP(I225,#REF!,10,FALSE),\"\")","v":""},{"$f":"IFERROR(VLOOKUP(I225,#REF!,11,FALSE),\"\")","v":""}]
[{"$error":"#REF!"},{"$f":"#REF!","v":{"$error":"#REF!"}},{"$f":"要求内訳データ!A226","v":{"$error":"#REF!"}},{"$f":"要求内訳データ!B226","v":{"$error":"#REF!"}},{"$f":"要求内訳データ!C226","v":{"$error":"#REF!"}},{"$f":"要求内訳データ!D226","v":{"$error":"#REF!"}},{"$f":"要求内訳データ!E226","v":{"$error":"#REF!"}},null,{"$f":"#REF!&\"0224\"","v":{"$error":"#REF!"}},"","","","","",{"$f":"IFERROR(VLOOKUP(I226,#REF!,10,FALSE),\"\")","v":""},{"$f":"IFERROR(VLOOKUP(I226,#REF!,11,FALSE),\"\")","v":""}]
[{"$error":"#REF!"},{"$f":"#REF!","v":{"$error":"#REF!"}},{"$f":"要求内訳データ!A227","v":{"$error":"#REF!"}},{"$f":"要求内訳データ!B227","v":{"$error":"#REF!"}},{"$f":"要求内訳データ!C227","v":{"$error":"#REF!"}},{"$f":"要求内訳データ!D227","v":{"$error":"#REF!"}},{"$f":"要求内訳データ!E227","v":{"$error":"#REF!"}},null,{"$f":"#REF!&\"0225\"","v":{"$error":"#REF!"}},"","","","","",{"$f":"IFERROR(VLOOKUP(I227,#REF!,10,FALSE),\"\")","v":""},{"$f":"IFERROR(VLOOKUP(I227,#REF!,11,FALSE),\"\")","v":""}]
[{"$error":"#REF!"},{"$f":"#REF!","v":{"$error":"#REF!"}},{"$f":"要求内訳データ!A228","v":{"$error":"#REF!"}},{"$f":"要求内訳データ!B228","v":{"$error":"#REF!"}},{"$f":"要求内訳データ!C228","v":{"$error":"#REF!"}},{"$f":"要求内訳データ!D228","v":{"$error":"#REF!"}},{"$f":"要求内訳データ!E228","v":{"$error":"#REF!"}},null,{"$f":"#REF!&\"0226\"","v":{"$error":"#REF!"}},"","","","","",{"$f":"IFERROR(VLOOKUP(I228,#REF!,10,FALSE),\"\")","v":""},{"$f":"IFERROR(VLOOKUP(I228,#REF!,11,FALSE),\"\")","v":""}]
[{"$error":"#REF!"},{"$f":"#REF!","v":{"$error":"#REF!"}},{"$f":"要求内訳データ!A229","v":{"$error":"#REF!"}},{"$f":"要求内訳データ!B229","v":{"$error":"#REF!"}},{"$f":"要求内訳データ!C229","v":{"$error":"#REF!"}},{"$f":"要求内訳データ!D229","v":{"$error":"#REF!"}},{"$f":"要求内訳データ!E229","v":{"$error":"#REF!"}},null,{"$f":"#REF!&\"0227\"","v":{"$error":"#REF!"}},"","","","","",{"$f":"IFERROR(VLOOKUP(I229,#REF!,10,FALSE),\"\")","v":""},{"$f":"IFERROR(VLOOKUP(I229,#REF!,11,FALSE),\"\")","v":""}]
[{"$error":"#REF!"},{"$f":"#REF!","v":{"$error":"#REF!"}},{"$f":"要求内訳データ!A230","v":{"$error":"#REF!"}},{"$f":"要求内訳データ!B230","v":{"$error":"#REF!"}},{"$f":"要求内訳データ!C230","v":{"$error":"#REF!"}},{"$f":"要求内訳データ!D230","v":{"$error":"#REF!"}},{"$f":"要求内訳データ!E230","v":{"$error":"#REF!"}},null,{"$f":"#REF!&\"0228\"","v":{"$error":"#REF!"}},"","","","","",{"$f":"IFERROR(VLOOKUP(I230,#REF!,10,FALSE),\"\")","v":""},{"$f":"IFERROR(VLOOKUP(I230,#REF!,11,FALSE),\"\")","v":""}]
[{"$error":"#REF!"},{"$f":"#REF!","v":{"$error":"#REF!"}},{"$f":"要求内訳データ!A231","v":{"$error":"#REF!"}},{"$f":"要求内訳データ!B231","v":{"$error":"#REF!"}},{"$f":"要求内訳データ!C231","v":{"$error":"#REF!"}},{"$f":"要求内訳データ!D231","v":{"$error":"#REF!"}},{"$f":"要求内訳データ!E231","v":{"$error":"#REF!"}},null,{"$f":"#REF!&\"0229\"","v":{"$error":"#REF!"}},"","","","","",{"$f":"IFERROR(VLOOKUP(I231,#REF!,10,FALSE),\"\")","v":""},{"$f":"IFERROR(VLOOKUP(I231,#REF!,11,FALSE),\"\")","v":""}]
[{"$error":"#REF!"},{"$f":"#REF!","v":{"$error":"#REF!"}},{"$f":"要求内訳データ!A232","v":{"$error":"#REF!"}},{"$f":"要求内訳データ!B232","v":{"$error":"#REF!"}},{"$f":"要求内訳データ!C232","v":{"$error":"#REF!"}},{"$f":"要求内訳データ!D232","v":{"$error":"#REF!"}},{"$f":"要求内訳データ!E232","v":{"$error":"#REF!"}},null,{"$f":"#REF!&\"0230\"","v":{"$error":"#REF!"}},"","","","","",{"$f":"IFERROR(VLOOKUP(I232,#REF!,10,FALSE),\"\")","v":""},{"$f":"IFERROR(VLOOKUP(I232,#REF!,11,FALSE),\"\")","v":""}]
[{"$error":"#REF!"},{"$f":"#REF!","v":{"$error":"#REF!"}},{"$f":"要求内訳データ!A233","v":{"$error":"#REF!"}},{"$f":"要求内訳データ!B233","v":{"$error":"#REF!"}},{"$f":"要求内訳データ!C233","v":{"$error":"#REF!"}},{"$f":"要求内訳データ!D233","v":{"$error":"#REF!"}},{"$f":"要求内訳データ!E233","v":{"$error":"#REF!"}},null,{"$f":"#REF!&\"0231\"","v":{"$error":"#REF!"}},"","","","","",{"$f":"IFERROR(VLOOKUP(I233,#REF!,10,FALSE),\"\")","v":""},{"$f":"IFERROR(VLOOKUP(I233,#REF!,11,FALSE),\"\")","v":""}]
[{"$error":"#REF!"},{"$f":"#REF!","v":{"$error":"#REF!"}},{"$f":"要求内訳データ!A234","v":{"$error":"#REF!"}},{"$f":"要求内訳データ!B234","v":{"$error":"#REF!"}},{"$f":"要求内訳データ!C234","v":{"$error":"#REF!"}},{"$f":"要求内訳データ!D234","v":{"$error":"#REF!"}},{"$f":"要求内訳データ!E234","v":{"$error":"#REF!"}},null,{"$f":"#REF!&\"0232\"","v":{"$error":"#REF!"}},"","","","","",{"$f":"IFERROR(VLOOKUP(I234,#REF!,10,FALSE),\"\")","v":""},{"$f":"IFERROR(VLOOKUP(I234,#REF!,11,FALSE),\"\")","v":""}]
[{"$error":"#REF!"},{"$f":"#REF!","v":{"$error":"#REF!"}},{"$f":"要求内訳データ!A235","v":{"$error":"#REF!"}},{"$f":"要求内訳データ!B235","v":{"$error":"#REF!"}},{"$f":"要求内訳データ!C235","v":{"$error":"#REF!"}},{"$f":"要求内訳データ!D235","v":{"$error":"#REF!"}},{"$f":"要求内訳データ!E235","v":{"$error":"#REF!"}},null,{"$f":"#REF!&\"0233\"","v":{"$error":"#REF!"}},"","","","","",{"$f":"IFERROR(VLOOKUP(I235,#REF!,10,FALSE),\"\")","v":""},{"$f":"IFERROR(VLOOKUP(I235,#REF!,11,FALSE),\"\")","v":""}]
[{"$error":"#REF!"},{"$f":"#REF!","v":{"$error":"#REF!"}},{"$f":"要求内訳データ!A236","v":{"$error":"#REF!"}},{"$f":"要求内訳データ!B236","v":{"$error":"#REF!"}},{"$f":"要求内訳データ!C236","v":{"$error":"#REF!"}},{"$f":"要求内訳データ!D236","v":{"$error":"#REF!"}},{"$f":"要求内訳データ!E236","v":{"$error":"#REF!"}},null,{"$f":"#REF!&\"0234\"","v":{"$error":"#REF!"}},"","","","","",{"$f":"IFERROR(VLOOKUP(I236,#REF!,10,FALSE),\"\")","v":""},{"$f":"IFERROR(VLOOKUP(I236,#REF!,11,FALSE),\"\")","v":""}]
[{"$error":"#REF!"},{"$f":"#REF!","v":{"$error":"#REF!"}},{"$f":"要求内訳データ!A237","v":{"$error":"#REF!"}},{"$f":"要求内訳データ!B237","v":{"$error":"#REF!"}},{"$f":"要求内訳データ!C237","v":{"$error":"#REF!"}},{"$f":"要求内訳データ!D237","v":{"$error":"#REF!"}},{"$f":"要求内訳データ!E237","v":{"$error":"#REF!"}},null,{"$f":"#REF!&\"0235\"","v":{"$error":"#REF!"}},"","","","","",{"$f":"IFERROR(VLOOKUP(I237,#REF!,10,FALSE),\"\")","v":""},{"$f":"IFERROR(VLOOKUP(I237,#REF!,11,FALSE),\"\")","v":""}]
[{"$error":"#REF!"},{"$f":"#REF!","v":{"$error":"#REF!"}},{"$f":"要求内訳データ!A238","v":{"$error":"#REF!"}},{"$f":"要求内訳データ!B238","v":{"$error":"#REF!"}},{"$f":"要求内訳データ!C238","v":{"$error":"#REF!"}},{"$f":"要求内訳データ!D238","v":{"$error":"#REF!"}},{"$f":"要求内訳データ!E238","v":{"$error":"#REF!"}},null,{"$f":"#REF!&\"0236\"","v":{"$error":"#REF!"}},"","","","","",{"$f":"IFERROR(VLOOKUP(I238,#REF!,10,FALSE),\"\")","v":""},{"$f":"IFERROR(VLOOKUP(I238,#REF!,11,FALSE),\"\")","v":""}]
[{"$error":"#REF!"},{"$f":"#REF!","v":{"$error":"#REF!"}},{"$f":"要求内訳データ!A239","v":{"$error":"#REF!"}},{"$f":"要求内訳データ!B239","v":{"$error":"#REF!"}},{"$f":"要求内訳データ!C239","v":{"$error":"#REF!"}},{"$f":"要求内訳データ!D239","v":{"$error":"#REF!"}},{"$f":"要求内訳データ!E239","v":{"$error":"#REF!"}},null,{"$f":"#REF!&\"0237\"","v":{"$error":"#REF!"}},"","","","","",{"$f":"IFERROR(VLOOKUP(I239,#REF!,10,FALSE),\"\")","v":""},{"$f":"IFERROR(VLOOKUP(I239,#REF!,11,FALSE),\"\")","v":""}]
[{"$error":"#REF!"},{"$f":"#REF!","v":{"$error":"#REF!"}},{"$f":"要求内訳データ!A240","v":{"$error":"#REF!"}},{"$f":"要求内訳データ!B240","v":{"$error":"#REF!"}},{"$f":"要求内訳データ!C240","v":{"$error":"#REF!"}},{"$f":"要求内訳データ!D240","v":{"$error":"#REF!"}},{"$f":"要求内訳データ!E240","v":{"$error":"#REF!"}},null,{"$f":"#REF!&\"0238\"","v":{"$error":"#REF!"}},"","","","","",{"$f":"IFERROR(VLOOKUP(I240,#REF!,10,FALSE),\"\")","v":""},{"$f":"IFERROR(VLOOKUP(I240,#REF!,11,FALSE),\"\")","v":""}]
[{"$error":"#REF!"},{"$f":"#REF!","v":{"$error":"#REF!"}},{"$f":"要求内訳データ!A241","v":{"$error":"#REF!"}},{"$f":"要求内訳データ!B241","v":{"$error":"#REF!"}},{"$f":"要求内訳データ!C241","v":{"$error":"#REF!"}},{"$f":"要求内訳データ!D241","v":{"$error":"#REF!"}},{"$f":"要求内訳データ!E241","v":{"$error":"#REF!"}},null,{"$f":"#REF!&\"0239\"","v":{"$error":"#REF!"}},"","","","","",{"$f":"IFERROR(VLOOKUP(I241,#REF!,10,FALSE),\"\")","v":""},{"$f":"IFERROR(VLOOKUP(I241,#REF!,11,FALSE),\"\")","v":""}]
[{"$error":"#REF!"},{"$f":"#REF!","v":{"$error":"#REF!"}},{"$f":"要求内訳データ!A242","v":{"$error":"#REF!"}},{"$f":"要求内訳データ!B242","v":{"$error":"#REF!"}},{"$f":"要求内訳データ!C242","v":{"$error":"#REF!"}},{"$f":"要求内訳データ!D242","v":{"$error":"#REF!"}},{"$f":"要求内訳データ!E242","v":{"$error":"#REF!"}},null,{"$f":"#REF!&\"0240\"","v":{"$error":"#REF!"}},"","","","","",{"$f":"IFERROR(VLOOKUP(I242,#REF!,10,FALSE),\"\")","v":""},{"$f":"IFERROR(VLOOKUP(I242,#REF!,11,FALSE),\"\")","v":""}]
[{"$error":"#REF!"},{"$f":"#REF!","v":{"$error":"#REF!"}},{"$f":"要求内訳データ!A243","v":{"$error":"#REF!"}},{"$f":"要求内訳データ!B243","v":{"$error":"#REF!"}},{"$f":"要求内訳データ!C243","v":{"$error":"#REF!"}},{"$f":"要求内訳データ!D243","v":{"$error":"#REF!"}},{"$f":"要求内訳データ!E243","v":{"$error":"#REF!"}},null,{"$f":"#REF!&\"0241\"","v":{"$error":"#REF!"}},"","","","","",{"$f":"IFERROR(VLOOKUP(I243,#REF!,10,FALSE),\"\")","v":""},{"$f":"IFERROR(VLOOKUP(I243,#REF!,11,FALSE),\"\")","v":""}]
[{"$error":"#REF!"},{"$f":"#REF!","v":{"$error":"#REF!"}},{"$f":"要求内訳データ!A244","v":{"$error":"#REF!"}},{"$f":"要求内訳データ!B244","v":{"$error":"#REF!"}},{"$f":"要求内訳データ!C244","v":{"$error":"#REF!"}},{"$f":"要求内訳データ!D244","v":{"$error":"#REF!"}},{"$f":"要求内訳データ!E244","v":{"$error":"#REF!"}},null,{"$f":"#REF!&\"0242\"","v":{"$error":"#REF!"}},"","","","","",{"$f":"IFERROR(VLOOKUP(I244,#REF!,10,FALSE),\"\")","v":""},{"$f":"IFERROR(VLOOKUP(I244,#REF!,11,FALSE),\"\")","v":""}]
[{"$error":"#REF!"},{"$f":"#REF!","v":{"$error":"#REF!"}},{"$f":"要求内訳データ!A245","v":{"$error":"#REF!"}},{"$f":"要求内訳データ!B245","v":{"$error":"#REF!"}},{"$f":"要求内訳データ!C245","v":{"$error":"#REF!"}},{"$f":"要求内訳データ!D245","v":{"$error":"#REF!"}},{"$f":"要求内訳データ!E245","v":{"$error":"#REF!"}},null,{"$f":"#REF!&\"0243\"","v":{"$error":"#REF!"}},"","","","","",{"$f":"IFERROR(VLOOKUP(I245,#REF!,10,FALSE),\"\")","v":""},{"$f":"IFERROR(VLOOKUP(I245,#REF!,11,FALSE),\"\")","v":""}]
[{"$error":"#REF!"},{"$f":"#REF!","v":{"$error":"#REF!"}},{"$f":"要求内訳データ!A246","v":{"$error":"#REF!"}},{"$f":"要求内訳データ!B246","v":{"$error":"#REF!"}},{"$f":"要求内訳データ!C246","v":{"$error":"#REF!"}},{"$f":"要求内訳データ!D246","v":{"$error":"#REF!"}},{"$f":"要求内訳データ!E246","v":{"$error":"#REF!"}},null,{"$f":"#REF!&\"0244\"","v":{"$error":"#REF!"}},"","","","","",{"$f":"IFERROR(VLOOKUP(I246,#REF!,10,FALSE),\"\")","v":""},{"$f":"IFERROR(VLOOKUP(I246,#REF!,11,FALSE),\"\")","v":""}]
[{"$error":"#REF!"},{"$f":"#REF!","v":{"$error":"#REF!"}},{"$f":"要求内訳データ!A247","v":{"$error":"#REF!"}},{"$f":"要求内訳データ!B247","v":{"$error":"#REF!"}},{"$f":"要求内訳データ!C247","v":{"$error":"#REF!"}},{"$f":"要求内訳データ!D247","v":{"$error":"#REF!"}},{"$f":"要求内訳データ!E247","v":{"$error":"#REF!"}},null,{"$f":"#REF!&\"0245\"","v":{"$error":"#REF!"}},"","","","","",{"$f":"IFERROR(VLOOKUP(I247,#REF!,10,FALSE),\"\")","v":""},{"$f":"IFERROR(VLOOKUP(I247,#REF!,11,FALSE),\"\")","v":""}]
[{"$error":"#REF!"},{"$f":"#REF!","v":{"$error":"#REF!"}},{"$f":"要求内訳データ!A248","v":{"$error":"#REF!"}},{"$f":"要求内訳データ!B248","v":{"$error":"#REF!"}},{"$f":"要求内訳データ!C248","v":{"$error":"#REF!"}},{"$f":"要求内訳データ!D248","v":{"$error":"#REF!"}},{"$f":"要求内訳データ!E248","v":{"$error":"#REF!"}},null,{"$f":"#REF!&\"0246\"","v":{"$error":"#REF!"}},"","","","","",{"$f":"IFERROR(VLOOKUP(I248,#REF!,10,FALSE),\"\")","v":""},{"$f":"IFERROR(VLOOKUP(I248,#REF!,11,FALSE),\"\")","v":""}]
[{"$error":"#REF!"},{"$f":"#REF!","v":{"$error":"#REF!"}},{"$f":"要求内訳データ!A249","v":{"$error":"#REF!"}},{"$f":"要求内訳データ!B249","v":{"$error":"#REF!"}},{"$f":"要求内訳データ!C249","v":{"$error":"#REF!"}},{"$f":"要求内訳データ!D249","v":{"$error":"#REF!"}},{"$f":"要求内訳データ!E249","v":{"$error":"#REF!"}},null,{"$f":"#REF!&\"0247\"","v":{"$error":"#REF!"}},"","","","","",{"$f":"IFERROR(VLOOKUP(I249,#REF!,10,FALSE),\"\")","v":""},{"$f":"IFERROR(VLOOKUP(I249,#REF!,11,FALSE),\"\")","v":""}]
[{"$error":"#REF!"},{"$f":"#REF!","v":{"$error":"#REF!"}},{"$f":"要求内訳データ!A250","v":{"$error":"#REF!"}},{"$f":"要求内訳データ!B250","v":{"$error":"#REF!"}},{"$f":"要求内訳データ!C250","v":{"$error":"#REF!"}},{"$f":"要求内訳データ!D250","v":{"$error":"#REF!"}},{"$f":"要求内訳データ!E250","v":{"$error":"#REF!"}},null,{"$f":"#REF!&\"0248\"","v":{"$error":"#REF!"}},"","","","","",{"$f":"IFERROR(VLOOKUP(I250,#REF!,10,FALSE),\"\")","v":""},{"$f":"IFERROR(VLOOKUP(I250,#REF!,11,FALSE),\"\")","v":""}]
[{"$error":"#REF!"},{"$f":"#REF!","v":{"$error":"#REF!"}},{"$f":"要求内訳データ!A251","v":{"$error":"#REF!"}},{"$f":"要求内訳データ!B251","v":{"$error":"#REF!"}},{"$f":"要求内訳データ!C251","v":{"$error":"#REF!"}},{"$f":"要求内訳データ!D251","v":{"$error":"#REF!"}},{"$f":"要求内訳データ!E251","v":{"$error":"#REF!"}},null,{"$f":"#REF!&\"0249\"","v":{"$error":"#REF!"}},"","","","","",{"$f":"IFERROR(VLOOKUP(I251,#REF!,10,FALSE),\"\")","v":""},{"$f":"IFERROR(VLOOKUP(I251,#REF!,11,FALSE),\"\")","v":""}]
[{"$error":"#REF!"},{"$f":"#REF!","v":{"$error":"#REF!"}},{"$f":"要求内訳データ!A252","v":{"$error":"#REF!"}},{"$f":"要求内訳データ!B252","v":{"$error":"#REF!"}},{"$f":"要求内訳データ!C252","v":{"$error":"#REF!"}},{"$f":"要求内訳データ!D252","v":{"$error":"#REF!"}},{"$f":"要求内訳データ!E252","v":{"$error":"#REF!"}},null,{"$f":"#REF!&\"0250\"","v":{"$error":"#REF!"}},"","","","","",{"$f":"IFERROR(VLOOKUP(I252,#REF!,10,FALSE),\"\")","v":""},{"$f":"IFERROR(VLOOKUP(I252,#REF!,11,FALSE),\"\")","v":""}]
[{"$error":"#REF!"},{"$f":"#REF!","v":{"$error":"#REF!"}},{"$f":"要求内訳データ!A253","v":{"$error":"#REF!"}},{"$f":"要求内訳データ!B253","v":{"$error":"#REF!"}},{"$f":"要求内訳データ!C253","v":{"$error":"#REF!"}},{"$f":"要求内訳データ!D253","v":{"$error":"#REF!"}},{"$f":"要求内訳データ!E253","v":{"$error":"#REF!"}},null,{"$f":"#REF!&\"0251\"","v":{"$error":"#REF!"}},"","","","","",{"$f":"IFERROR(VLOOKUP(I253,#REF!,10,FALSE),\"\")","v":""},{"$f":"IFERROR(VLOOKUP(I253,#REF!,11,FALSE),\"\")","v":""}]
[{"$error":"#REF!"},{"$f":"#REF!","v":{"$error":"#REF!"}},{"$f":"要求内訳データ!A254","v":{"$error":"#REF!"}},{"$f":"要求内訳データ!B254","v":{"$error":"#REF!"}},{"$f":"要求内訳データ!C254","v":{"$error":"#REF!"}},{"$f":"要求内訳データ!D254","v":{"$error":"#REF!"}},{"$f":"要求内訳データ!E254","v":{"$error":"#REF!"}},null,{"$f":"#REF!&\"0252\"","v":{"$error":"#REF!"}},"","","","","",{"$f":"IFERROR(VLOOKUP(I254,#REF!,10,FALSE),\"\")","v":""},{"$f":"IFERROR(VLOOKUP(I254,#REF!,11,FALSE),\"\")","v":""}]
[{"$error":"#REF!"},{"$f":"#REF!","v":{"$error":"#REF!"}},{"$f":"要求内訳データ!A255","v":{"$error":"#REF!"}},{"$f":"要求内訳データ!B255","v":{"$error":"#REF!"}},{"$f":"要求内訳データ!C255","v":{"$error":"#REF!"}},{"$f":"要求内訳データ!D255","v":{"$error":"#REF!"}},{"$f":"要求内訳データ!E255","v":{"$error":"#REF!"}},null,{"$f":"#REF!&\"0253\"","v":{"$error":"#REF!"}},"","","","","",{"$f":"IFERROR(VLOOKUP(I255,#REF!,10,FALSE),\"\")","v":""},{"$f":"IFERROR(VLOOKUP(I255,#REF!,11,FALSE),\"\")","v":""}]
[{"$error":"#REF!"},{"$f":"#REF!","v":{"$error":"#REF!"}},{"$f":"要求内訳データ!A256","v":{"$error":"#REF!"}},{"$f":"要求内訳データ!B256","v":{"$error":"#REF!"}},{"$f":"要求内訳データ!C256","v":{"$error":"#REF!"}},{"$f":"要求内訳データ!D256","v":{"$error":"#REF!"}},{"$f":"要求内訳データ!E256","v":{"$error":"#REF!"}},null,{"$f":"#REF!&\"0254\"","v":{"$error":"#REF!"}},"","","","","",{"$f":"IFERROR(VLOOKUP(I256,#REF!,10,FALSE),\"\")","v":""},{"$f":"IFERROR(VLOOKUP(I256,#REF!,11,FALSE),\"\")","v":""}]
[{"$error":"#REF!"},{"$f":"#REF!","v":{"$error":"#REF!"}},{"$f":"要求内訳データ!A257","v":{"$error":"#REF!"}},{"$f":"要求内訳データ!B257","v":{"$error":"#REF!"}},{"$f":"要求内訳データ!C257","v":{"$error":"#REF!"}},{"$f":"要求内訳データ!D257","v":{"$error":"#REF!"}},{"$f":"要求内訳データ!E257","v":{"$error":"#REF!"}},null,{"$f":"#REF!&\"0255\"","v":{"$error":"#REF!"}},"","","","","",{"$f":"IFERROR(VLOOKUP(I257,#REF!,10,FALSE),\"\")","v":""},{"$f":"IFERROR(VLOOKUP(I257,#REF!,11,FALSE),\"\")","v":""}]
[{"$error":"#REF!"},{"$f":"#REF!","v":{"$error":"#REF!"}},{"$f":"要求内訳データ!A258","v":{"$error":"#REF!"}},{"$f":"要求内訳データ!B258","v":{"$error":"#REF!"}},{"$f":"要求内訳データ!C258","v":{"$error":"#REF!"}},{"$f":"要求内訳データ!D258","v":{"$error":"#REF!"}},{"$f":"要求内訳データ!E258","v":{"$error":"#REF!"}},null,{"$f":"#REF!&\"0256\"","v":{"$error":"#REF!"}},"","","","","",{"$f":"IFERROR(VLOOKUP(I258,#REF!,10,FALSE),\"\")","v":""},{"$f":"IFERROR(VLOOKUP(I258,#REF!,11,FALSE),\"\")","v":""}]
[{"$f":"LEFT(B259,LEN(B259)-4)","v":{"$error":"#REF!"}},{"$f":"#REF!","v":{"$error":"#REF!"}},{"$f":"要求内訳データ!A259","v":{"$error":"#REF!"}},{"$f":"要求内訳データ!B259","v":{"$error":"#REF!"}},{"$f":"要求内訳データ!C259","v":{"$error":"#REF!"}},{"$f":"要求内訳データ!D259","v":{"$error":"#REF!"}},{"$f":"要求内訳データ!E259","v":{"$error":"#REF!"}},null,{"$f":"#REF!&\"0257\"","v":{"$error":"#REF!"}},"",{"$f":"IFERROR(VLOOKUP(I259,$B$3:$G$498,3,FALSE),\"\")","v":""},{"$f":"IF(AND(J259=\"\",NOT(K258=\"\")),\"以下余白\",IFERROR(VLOOKUP(I259,$B$3:$G$498,4,FALSE),\"\"))","v":""},{"$f":"IFERROR(VLOOKUP(I259,$B$3:$G$498,5,FALSE),\"\")","v":""},{"$f":"IFERROR(VLOOKUP(I259,$B$3:$G$498,6,FALSE),\"\")","v":""},{"$f":"IFERROR(VLOOKUP(I259,#REF!,10,FALSE),\"\")","v":""},{"$f":"IFERROR(VLOOKUP(I259,#REF!,11,FALSE),\"\")","v":""}]
[{"$error":"#REF!"},{"$f":"#REF!","v":{"$error":"#REF!"}},{"$f":"要求内訳データ!A260","v":{"$error":"#REF!"}},{"$f":"要求内訳データ!B260","v":{"$error":"#REF!"}},{"$f":"要求内訳データ!C260","v":{"$error":"#REF!"}},{"$f":"要求内訳データ!D260","v":{"$error":"#REF!"}},{"$f":"要求内訳データ!E260","v":{"$error":"#REF!"}},null,{"$f":"#REF!&\"0258\"","v":{"$error":"#REF!"}},{"$f":"IF(K260=\"\",\"\",J259+1)","v":""},"","","","",{"$f":"IFERROR(VLOOKUP(I260,#REF!,10,FALSE),\"\")","v":""},{"$f":"IFERROR(VLOOKUP(I260,#REF!,11,FALSE),\"\")","v":""}]
[{"$error":"#REF!"},{"$f":"#REF!","v":{"$error":"#REF!"}},{"$f":"要求内訳データ!A261","v":{"$error":"#REF!"}},{"$f":"要求内訳データ!B261","v":{"$error":"#REF!"}},{"$f":"要求内訳データ!C261","v":{"$error":"#REF!"}},{"$f":"要求内訳データ!D261","v":{"$error":"#REF!"}},{"$f":"要求内訳データ!E261","v":{"$error":"#REF!"}},null,{"$f":"#REF!&\"0259\"","v":{"$error":"#REF!"}},"","","","","",{"$f":"IFERROR(VLOOKUP(I261,#REF!,10,FALSE),\"\")","v":""},{"$f":"IFERROR(VLOOKUP(I261,#REF!,11,FALSE),\"\")","v":""}]
[{"$error":"#REF!"},{"$f":"#REF!","v":{"$error":"#REF!"}},{"$f":"要求内訳データ!A262","v":{"$error":"#REF!"}},{"$f":"要求内訳データ!B262","v":{"$error":"#REF!"}},{"$f":"要求内訳データ!C262","v":{"$error":"#REF!"}},{"$f":"要求内訳データ!D262","v":{"$error":"#REF!"}},{"$f":"要求内訳データ!E262","v":{"$error":"#REF!"}},null,{"$f":"#REF!&\"0260\"","v":{"$error":"#REF!"}},"","","","","",{"$f":"IFERROR(VLOOKUP(I262,#REF!,10,FALSE),\"\")","v":""},{"$f":"IFERROR(VLOOKUP(I262,#REF!,11,FALSE),\"\")","v":""}]
[{"$error":"#REF!"},{"$f":"#REF!","v":{"$error":"#REF!"}},{"$f":"要求内訳データ!A263","v":{"$error":"#REF!"}},{"$f":"要求内訳データ!B263","v":{"$error":"#REF!"}},{"$f":"要求内訳データ!C263","v":{"$error":"#REF!"}},{"$f":"要求内訳データ!D263","v":{"$error":"#REF!"}},{"$f":"要求内訳データ!E263","v":{"$error":"#REF!"}},null,{"$f":"#REF!&\"0261\"","v":{"$error":"#REF!"}},"","","","","",{"$f":"IFERROR(VLOOKUP(I263,#REF!,10,FALSE),\"\")","v":""},{"$f":"IFERROR(VLOOKUP(I263,#REF!,11,FALSE),\"\")","v":""}]
[{"$error":"#REF!"},{"$f":"#REF!","v":{"$error":"#REF!"}},{"$f":"要求内訳データ!A264","v":{"$error":"#REF!"}},{"$f":"要求内訳データ!B264","v":{"$error":"#REF!"}},{"$f":"要求内訳データ!C264","v":{"$error":"#REF!"}},{"$f":"要求内訳データ!D264","v":{"$error":"#REF!"}},{"$f":"要求内訳データ!E264","v":{"$error":"#REF!"}},null,{"$f":"#REF!&\"0262\"","v":{"$error":"#REF!"}},"","","","","",{"$f":"IFERROR(VLOOKUP(I264,#REF!,10,FALSE),\"\")","v":""},{"$f":"IFERROR(VLOOKUP(I264,#REF!,11,FALSE),\"\")","v":""}]
[{"$error":"#REF!"},{"$f":"#REF!","v":{"$error":"#REF!"}},{"$f":"要求内訳データ!A265","v":{"$error":"#REF!"}},{"$f":"要求内訳データ!B265","v":{"$error":"#REF!"}},{"$f":"要求内訳データ!C265","v":{"$error":"#REF!"}},{"$f":"要求内訳データ!D265","v":{"$error":"#REF!"}},{"$f":"要求内訳データ!E265","v":{"$error":"#REF!"}},null,{"$f":"#REF!&\"0263\"","v":{"$error":"#REF!"}},"","","","","",{"$f":"IFERROR(VLOOKUP(I265,#REF!,10,FALSE),\"\")","v":""},{"$f":"IFERROR(VLOOKUP(I265,#REF!,11,FALSE),\"\")","v":""}]
[{"$error":"#REF!"},{"$f":"#REF!","v":{"$error":"#REF!"}},{"$f":"要求内訳データ!A266","v":{"$error":"#REF!"}},{"$f":"要求内訳データ!B266","v":{"$error":"#REF!"}},{"$f":"要求内訳データ!C266","v":{"$error":"#REF!"}},{"$f":"要求内訳データ!D266","v":{"$error":"#REF!"}},{"$f":"要求内訳データ!E266","v":{"$error":"#REF!"}},null,{"$f":"#REF!&\"0264\"","v":{"$error":"#REF!"}},"","","","","",{"$f":"IFERROR(VLOOKUP(I266,#REF!,10,FALSE),\"\")","v":""},{"$f":"IFERROR(VLOOKUP(I266,#REF!,11,FALSE),\"\")","v":""}]
[{"$error":"#REF!"},{"$f":"#REF!","v":{"$error":"#REF!"}},{"$f":"要求内訳データ!A267","v":{"$error":"#REF!"}},{"$f":"要求内訳データ!B267","v":{"$error":"#REF!"}},{"$f":"要求内訳データ!C267","v":{"$error":"#REF!"}},{"$f":"要求内訳データ!D267","v":{"$error":"#REF!"}},{"$f":"要求内訳データ!E267","v":{"$error":"#REF!"}},null,{"$f":"#REF!&\"0265\"","v":{"$error":"#REF!"}},"","","","","",{"$f":"IFERROR(VLOOKUP(I267,#REF!,10,FALSE),\"\")","v":""},{"$f":"IFERROR(VLOOKUP(I267,#REF!,11,FALSE),\"\")","v":""}]
[{"$error":"#REF!"},{"$f":"#REF!","v":{"$error":"#REF!"}},{"$f":"要求内訳データ!A268","v":{"$error":"#REF!"}},{"$f":"要求内訳データ!B268","v":{"$error":"#REF!"}},{"$f":"要求内訳データ!C268","v":{"$error":"#REF!"}},{"$f":"要求内訳データ!D268","v":{"$error":"#REF!"}},{"$f":"要求内訳データ!E268","v":{"$error":"#REF!"}},null,{"$f":"#REF!&\"0266\"","v":{"$error":"#REF!"}},"","","","","",{"$f":"IFERROR(VLOOKUP(I268,#REF!,10,FALSE),\"\")","v":""},{"$f":"IFERROR(VLOOKUP(I268,#REF!,11,FALSE),\"\")","v":""}]
[{"$error":"#REF!"},{"$f":"#REF!","v":{"$error":"#REF!"}},{"$f":"要求内訳データ!A269","v":{"$error":"#REF!"}},{"$f":"要求内訳データ!B269","v":{"$error":"#REF!"}},{"$f":"要求内訳データ!C269","v":{"$error":"#REF!"}},{"$f":"要求内訳データ!D269","v":{"$error":"#REF!"}},{"$f":"要求内訳データ!E269","v":{"$error":"#REF!"}},null,{"$f":"#REF!&\"0267\"","v":{"$error":"#REF!"}},"","","","","",{"$f":"IFERROR(VLOOKUP(I269,#REF!,10,FALSE),\"\")","v":""},{"$f":"IFERROR(VLOOKUP(I269,#REF!,11,FALSE),\"\")","v":""}]
[{"$error":"#REF!"},{"$f":"#REF!","v":{"$error":"#REF!"}},{"$f":"要求内訳データ!A270","v":{"$error":"#REF!"}},{"$f":"要求内訳データ!B270","v":{"$error":"#REF!"}},{"$f":"要求内訳データ!C270","v":{"$error":"#REF!"}},{"$f":"要求内訳データ!D270","v":{"$error":"#REF!"}},{"$f":"要求内訳データ!E270","v":{"$error":"#REF!"}},null,{"$f":"#REF!&\"0268\"","v":{"$error":"#REF!"}},"","","","","",{"$f":"IFERROR(VLOOKUP(I270,#REF!,10,FALSE),\"\")","v":""},{"$f":"IFERROR(VLOOKUP(I270,#REF!,11,FALSE),\"\")","v":""}]
[{"$error":"#REF!"},{"$f":"#REF!","v":{"$error":"#REF!"}},{"$f":"要求内訳データ!A271","v":{"$error":"#REF!"}},{"$f":"要求内訳データ!B271","v":{"$error":"#REF!"}},{"$f":"要求内訳データ!C271","v":{"$error":"#REF!"}},{"$f":"要求内訳データ!D271","v":{"$error":"#REF!"}},{"$f":"要求内訳データ!E271","v":{"$error":"#REF!"}},null,{"$f":"#REF!&\"0269\"","v":{"$error":"#REF!"}},"","","","","",{"$f":"IFERROR(VLOOKUP(I271,#REF!,10,FALSE),\"\")","v":""},{"$f":"IFERROR(VLOOKUP(I271,#REF!,11,FALSE),\"\")","v":""}]
[{"$error":"#REF!"},{"$f":"#REF!","v":{"$error":"#REF!"}},{"$f":"要求内訳データ!A272","v":{"$error":"#REF!"}},{"$f":"要求内訳データ!B272","v":{"$error":"#REF!"}},{"$f":"要求内訳データ!C272","v":{"$error":"#REF!"}},{"$f":"要求内訳データ!D272","v":{"$error":"#REF!"}},{"$f":"要求内訳データ!E272","v":{"$error":"#REF!"}},null,{"$f":"#REF!&\"0270\"","v":{"$error":"#REF!"}},"","","","","",{"$f":"IFERROR(VLOOKUP(I272,#REF!,10,FALSE),\"\")","v":""},{"$f":"IFERROR(VLOOKUP(I272,#REF!,11,FALSE),\"\")","v":""}]
[{"$error":"#REF!"},{"$f":"#REF!","v":{"$error":"#REF!"}},{"$f":"要求内訳データ!A273","v":{"$error":"#REF!"}},{"$f":"要求内訳データ!B273","v":{"$error":"#REF!"}},{"$f":"要求内訳データ!C273","v":{"$error":"#REF!"}},{"$f":"要求内訳データ!D273","v":{"$error":"#REF!"}},{"$f":"要求内訳データ!E273","v":{"$error":"#REF!"}},null,{"$f":"#REF!&\"0271\"","v":{"$error":"#REF!"}},"","","","","",{"$f":"IFERROR(VLOOKUP(I273,#REF!,10,FALSE),\"\")","v":""},{"$f":"IFERROR(VLOOKUP(I273,#REF!,11,FALSE),\"\")","v":""}]
[{"$error":"#REF!"},{"$f":"#REF!","v":{"$error":"#REF!"}},{"$f":"要求内訳データ!A274","v":{"$error":"#REF!"}},{"$f":"要求内訳データ!B274","v":{"$error":"#REF!"}},{"$f":"要求内訳データ!C274","v":{"$error":"#REF!"}},{"$f":"要求内訳データ!D274","v":{"$error":"#REF!"}},{"$f":"要求内訳データ!E274","v":{"$error":"#REF!"}},null,{"$f":"#REF!&\"0272\"","v":{"$error":"#REF!"}},"","","","","",{"$f":"IFERROR(VLOOKUP(I274,#REF!,10,FALSE),\"\")","v":""},{"$f":"IFERROR(VLOOKUP(I274,#REF!,11,FALSE),\"\")","v":""}]
[{"$error":"#REF!"},{"$f":"#REF!","v":{"$error":"#REF!"}},{"$f":"要求内訳データ!A275","v":{"$error":"#REF!"}},{"$f":"要求内訳データ!B275","v":{"$error":"#REF!"}},{"$f":"要求内訳データ!C275","v":{"$error":"#REF!"}},{"$f":"要求内訳データ!D275","v":{"$error":"#REF!"}},{"$f":"要求内訳データ!E275","v":{"$error":"#REF!"}},null,{"$f":"#REF!&\"0273\"","v":{"$error":"#REF!"}},"","","","","",{"$f":"IFERROR(VLOOKUP(I275,#REF!,10,FALSE),\"\")","v":""},{"$f":"IFERROR(VLOOKUP(I275,#REF!,11,FALSE),\"\")","v":""}]
[{"$error":"#REF!"},{"$f":"#REF!","v":{"$error":"#REF!"}},{"$f":"要求内訳データ!A276","v":{"$error":"#REF!"}},{"$f":"要求内訳データ!B276","v":{"$error":"#REF!"}},{"$f":"要求内訳データ!C276","v":{"$error":"#REF!"}},{"$f":"要求内訳データ!D276","v":{"$error":"#REF!"}},{"$f":"要求内訳データ!E276","v":{"$error":"#REF!"}},null,{"$f":"#REF!&\"0274\"","v":{"$error":"#REF!"}},"","","","","",{"$f":"IFERROR(VLOOKUP(I276,#REF!,10,FALSE),\"\")","v":""},{"$f":"IFERROR(VLOOKUP(I276,#REF!,11,FALSE),\"\")","v":""}]
[{"$error":"#REF!"},{"$f":"#REF!","v":{"$error":"#REF!"}},{"$f":"要求内訳データ!A277","v":{"$error":"#REF!"}},{"$f":"要求内訳データ!B277","v":{"$error":"#REF!"}},{"$f":"要求内訳データ!C277","v":{"$error":"#REF!"}},{"$f":"要求内訳データ!D277","v":{"$error":"#REF!"}},{"$f":"要求内訳データ!E277","v":{"$error":"#REF!"}},null,{"$f":"#REF!&\"0275\"","v":{"$error":"#REF!"}},"","","","","",{"$f":"IFERROR(VLOOKUP(I277,#REF!,10,FALSE),\"\")","v":""},{"$f":"IFERROR(VLOOKUP(I277,#REF!,11,FALSE),\"\")","v":""}]
[{"$error":"#REF!"},{"$f":"#REF!","v":{"$error":"#REF!"}},{"$f":"要求内訳データ!A278","v":{"$error":"#REF!"}},{"$f":"要求内訳データ!B278","v":{"$error":"#REF!"}},{"$f":"要求内訳データ!C278","v":{"$error":"#REF!"}},{"$f":"要求内訳データ!D278","v":{"$error":"#REF!"}},{"$f":"要求内訳データ!E278","v":{"$error":"#REF!"}},null,{"$f":"#REF!&\"0276\"","v":{"$error":"#REF!"}},"","","","","",{"$f":"IFERROR(VLOOKUP(I278,#REF!,10,FALSE),\"\")","v":""},{"$f":"IFERROR(VLOOKUP(I278,#REF!,11,FALSE),\"\")","v":""}]
[{"$error":"#REF!"},{"$f":"#REF!","v":{"$error":"#REF!"}},{"$f":"要求内訳データ!A279","v":{"$error":"#REF!"}},{"$f":"要求内訳データ!B279","v":{"$error":"#REF!"}},{"$f":"要求内訳データ!C279","v":{"$error":"#REF!"}},{"$f":"要求内訳データ!D279","v":{"$error":"#REF!"}},{"$f":"要求内訳データ!E279","v":{"$error":"#REF!"}},null,{"$f":"#REF!&\"0277\"","v":{"$error":"#REF!"}},"","","","","",{"$f":"IFERROR(VLOOKUP(I279,#REF!,10,FALSE),\"\")","v":""},{"$f":"IFERROR(VLOOKUP(I279,#REF!,11,FALSE),\"\")","v":""}]
[{"$error":"#REF!"},{"$f":"#REF!","v":{"$error":"#REF!"}},{"$f":"要求内訳データ!A280","v":{"$error":"#REF!"}},{"$f":"要求内訳データ!B280","v":{"$error":"#REF!"}},{"$f":"要求内訳データ!C280","v":{"$error":"#REF!"}},{"$f":"要求内訳データ!D280","v":{"$error":"#REF!"}},{"$f":"要求内訳データ!E280","v":{"$error":"#REF!"}},null,{"$f":"#REF!&\"0278\"","v":{"$error":"#REF!"}},"","","","","",{"$f":"IFERROR(VLOOKUP(I280,#REF!,10,FALSE),\"\")","v":""},{"$f":"IFERROR(VLOOKUP(I280,#REF!,11,FALSE),\"\")","v":""}]
[{"$error":"#REF!"},{"$f":"#REF!","v":{"$error":"#REF!"}},{"$f":"要求内訳データ!A281","v":{"$error":"#REF!"}},{"$f":"要求内訳データ!B281","v":{"$error":"#REF!"}},{"$f":"要求内訳データ!C281","v":{"$error":"#REF!"}},{"$f":"要求内訳データ!D281","v":{"$error":"#REF!"}},{"$f":"要求内訳データ!E281","v":{"$error":"#REF!"}},null,{"$f":"#REF!&\"0279\"","v":{"$error":"#REF!"}},"","","","","",{"$f":"IFERROR(VLOOKUP(I281,#REF!,10,FALSE),\"\")","v":""},{"$f":"IFERROR(VLOOKUP(I281,#REF!,11,FALSE),\"\")","v":""}]
[{"$error":"#REF!"},{"$f":"#REF!","v":{"$error":"#REF!"}},{"$f":"要求内訳データ!A282","v":{"$error":"#REF!"}},{"$f":"要求内訳データ!B282","v":{"$error":"#REF!"}},{"$f":"要求内訳データ!C282","v":{"$error":"#REF!"}},{"$f":"要求内訳データ!D282","v":{"$error":"#REF!"}},{"$f":"要求内訳データ!E282","v":{"$error":"#REF!"}},null,{"$f":"#REF!&\"0280\"","v":{"$error":"#REF!"}},"","","","","",{"$f":"IFERROR(VLOOKUP(I282,#REF!,10,FALSE),\"\")","v":""},{"$f":"IFERROR(VLOOKUP(I282,#REF!,11,FALSE),\"\")","v":""}]
[{"$error":"#REF!"},{"$f":"#REF!","v":{"$error":"#REF!"}},{"$f":"要求内訳データ!A283","v":{"$error":"#REF!"}},{"$f":"要求内訳データ!B283","v":{"$error":"#REF!"}},{"$f":"要求内訳データ!C283","v":{"$error":"#REF!"}},{"$f":"要求内訳データ!D283","v":{"$error":"#REF!"}},{"$f":"要求内訳データ!E283","v":{"$error":"#REF!"}},null,{"$f":"#REF!&\"0281\"","v":{"$error":"#REF!"}},"","","","","",{"$f":"IFERROR(VLOOKUP(I283,#REF!,10,FALSE),\"\")","v":""},{"$f":"IFERROR(VLOOKUP(I283,#REF!,11,FALSE),\"\")","v":""}]
[{"$error":"#REF!"},{"$f":"#REF!","v":{"$error":"#REF!"}},{"$f":"要求内訳データ!A284","v":{"$error":"#REF!"}},{"$f":"要求内訳データ!B284","v":{"$error":"#REF!"}},{"$f":"要求内訳データ!C284","v":{"$error":"#REF!"}},{"$f":"要求内訳データ!D284","v":{"$error":"#REF!"}},{"$f":"要求内訳データ!E284","v":{"$error":"#REF!"}},null,{"$f":"#REF!&\"0282\"","v":{"$error":"#REF!"}},"","","","","",{"$f":"IFERROR(VLOOKUP(I284,#REF!,10,FALSE),\"\")","v":""},{"$f":"IFERROR(VLOOKUP(I284,#REF!,11,FALSE),\"\")","v":""}]
[{"$error":"#REF!"},{"$f":"#REF!","v":{"$error":"#REF!"}},{"$f":"要求内訳データ!A285","v":{"$error":"#REF!"}},{"$f":"要求内訳データ!B285","v":{"$error":"#REF!"}},{"$f":"要求内訳データ!C285","v":{"$error":"#REF!"}},{"$f":"要求内訳データ!D285","v":{"$error":"#REF!"}},{"$f":"要求内訳データ!E285","v":{"$error":"#REF!"}},null,{"$f":"#REF!&\"0283\"","v":{"$error":"#REF!"}},"","","","","",{"$f":"IFERROR(VLOOKUP(I285,#REF!,10,FALSE),\"\")","v":""},{"$f":"IFERROR(VLOOKUP(I285,#REF!,11,FALSE),\"\")","v":""}]
[{"$error":"#REF!"},{"$f":"#REF!","v":{"$error":"#REF!"}},{"$f":"要求内訳データ!A286","v":{"$error":"#REF!"}},{"$f":"要求内訳データ!B286","v":{"$error":"#REF!"}},{"$f":"要求内訳データ!C286","v":{"$error":"#REF!"}},{"$f":"要求内訳データ!D286","v":{"$error":"#REF!"}},{"$f":"要求内訳データ!E286","v":{"$error":"#REF!"}},null,{"$f":"#REF!&\"0284\"","v":{"$error":"#REF!"}},"","","","","",{"$f":"IFERROR(VLOOKUP(I286,#REF!,10,FALSE),\"\")","v":""},{"$f":"IFERROR(VLOOKUP(I286,#REF!,11,FALSE),\"\")","v":""}]
[{"$error":"#REF!"},{"$f":"#REF!","v":{"$error":"#REF!"}},{"$f":"要求内訳データ!A287","v":{"$error":"#REF!"}},{"$f":"要求内訳データ!B287","v":{"$error":"#REF!"}},{"$f":"要求内訳データ!C287","v":{"$error":"#REF!"}},{"$f":"要求内訳データ!D287","v":{"$error":"#REF!"}},{"$f":"要求内訳データ!E287","v":{"$error":"#REF!"}},null,{"$f":"#REF!&\"0285\"","v":{"$error":"#REF!"}},"","","","","",{"$f":"IFERROR(VLOOKUP(I287,#REF!,10,FALSE),\"\")","v":""},{"$f":"IFERROR(VLOOKUP(I287,#REF!,11,FALSE),\"\")","v":""}]
[{"$error":"#REF!"},{"$f":"#REF!","v":{"$error":"#REF!"}},{"$f":"要求内訳データ!A288","v":{"$error":"#REF!"}},{"$f":"要求内訳データ!B288","v":{"$error":"#REF!"}},{"$f":"要求内訳データ!C288","v":{"$error":"#REF!"}},{"$f":"要求内訳データ!D288","v":{"$error":"#REF!"}},{"$f":"要求内訳データ!E288","v":{"$error":"#REF!"}},null,{"$f":"#REF!&\"0286\"","v":{"$error":"#REF!"}},"","","","","",{"$f":"IFERROR(VLOOKUP(I288,#REF!,10,FALSE),\"\")","v":""},{"$f":"IFERROR(VLOOKUP(I288,#REF!,11,FALSE),\"\")","v":""}]
[{"$error":"#REF!"},{"$f":"#REF!","v":{"$error":"#REF!"}},{"$f":"要求内訳データ!A289","v":{"$error":"#REF!"}},{"$f":"要求内訳データ!B289","v":{"$error":"#REF!"}},{"$f":"要求内訳データ!C289","v":{"$error":"#REF!"}},{"$f":"要求内訳データ!D289","v":{"$error":"#REF!"}},{"$f":"要求内訳データ!E289","v":{"$error":"#REF!"}},null,{"$f":"#REF!&\"0287\"","v":{"$error":"#REF!"}},"","","","","",{"$f":"IFERROR(VLOOKUP(I289,#REF!,10,FALSE),\"\")","v":""},{"$f":"IFERROR(VLOOKUP(I289,#REF!,11,FALSE),\"\")","v":""}]
[{"$error":"#REF!"},{"$f":"#REF!","v":{"$error":"#REF!"}},{"$f":"要求内訳データ!A290","v":{"$error":"#REF!"}},{"$f":"要求内訳データ!B290","v":{"$error":"#REF!"}},{"$f":"要求内訳データ!C290","v":{"$error":"#REF!"}},{"$f":"要求内訳データ!D290","v":{"$error":"#REF!"}},{"$f":"要求内訳データ!E290","v":{"$error":"#REF!"}},null,{"$f":"#REF!&\"0288\"","v":{"$error":"#REF!"}},"","","","","",{"$f":"IFERROR(VLOOKUP(I290,#REF!,10,FALSE),\"\")","v":""},{"$f":"IFERROR(VLOOKUP(I290,#REF!,11,FALSE),\"\")","v":""}]
[{"$error":"#REF!"},{"$f":"#REF!","v":{"$error":"#REF!"}},{"$f":"要求内訳データ!A291","v":{"$error":"#REF!"}},{"$f":"要求内訳データ!B291","v":{"$error":"#REF!"}},{"$f":"要求内訳データ!C291","v":{"$error":"#REF!"}},{"$f":"要求内訳データ!D291","v":{"$error":"#REF!"}},{"$f":"要求内訳データ!E291","v":{"$error":"#REF!"}},null,{"$f":"#REF!&\"0289\"","v":{"$error":"#REF!"}},"","","","","",{"$f":"IFERROR(VLOOKUP(I291,#REF!,10,FALSE),\"\")","v":""},{"$f":"IFERROR(VLOOKUP(I291,#REF!,11,FALSE),\"\")","v":""}]
[{"$error":"#REF!"},{"$f":"#REF!","v":{"$error":"#REF!"}},{"$f":"要求内訳データ!A292","v":{"$error":"#REF!"}},{"$f":"要求内訳データ!B292","v":{"$error":"#REF!"}},{"$f":"要求内訳データ!C292","v":{"$error":"#REF!"}},{"$f":"要求内訳データ!D292","v":{"$error":"#REF!"}},{"$f":"要求内訳データ!E292","v":{"$error":"#REF!"}},null,{"$f":"#REF!&\"0290\"","v":{"$error":"#REF!"}},"","","","","",{"$f":"IFERROR(VLOOKUP(I292,#REF!,10,FALSE),\"\")","v":""},{"$f":"IFERROR(VLOOKUP(I292,#REF!,11,FALSE),\"\")","v":""}]
[{"$error":"#REF!"},{"$f":"#REF!","v":{"$error":"#REF!"}},{"$f":"要求内訳データ!A293","v":{"$error":"#REF!"}},{"$f":"要求内訳データ!B293","v":{"$error":"#REF!"}},{"$f":"要求内訳データ!C293","v":{"$error":"#REF!"}},{"$f":"要求内訳データ!D293","v":{"$error":"#REF!"}},{"$f":"要求内訳データ!E293","v":{"$error":"#REF!"}},null,{"$f":"#REF!&\"0291\"","v":{"$error":"#REF!"}},"","","","","",{"$f":"IFERROR(VLOOKUP(I293,#REF!,10,FALSE),\"\")","v":""},{"$f":"IFERROR(VLOOKUP(I293,#REF!,11,FALSE),\"\")","v":""}]
[{"$error":"#REF!"},{"$f":"#REF!","v":{"$error":"#REF!"}},{"$f":"要求内訳データ!A294","v":{"$error":"#REF!"}},{"$f":"要求内訳データ!B294","v":{"$error":"#REF!"}},{"$f":"要求内訳データ!C294","v":{"$error":"#REF!"}},{"$f":"要求内訳データ!D294","v":{"$error":"#REF!"}},{"$f":"要求内訳データ!E294","v":{"$error":"#REF!"}},null,{"$f":"#REF!&\"0292\"","v":{"$error":"#REF!"}},"","","","","",{"$f":"IFERROR(VLOOKUP(I294,#REF!,10,FALSE),\"\")","v":""},{"$f":"IFERROR(VLOOKUP(I294,#REF!,11,FALSE),\"\")","v":""}]
[{"$error":"#REF!"},{"$f":"#REF!","v":{"$error":"#REF!"}},{"$f":"要求内訳データ!A295","v":{"$error":"#REF!"}},{"$f":"要求内訳データ!B295","v":{"$error":"#REF!"}},{"$f":"要求内訳データ!C295","v":{"$error":"#REF!"}},{"$f":"要求内訳データ!D295","v":{"$error":"#REF!"}},{"$f":"要求内訳データ!E295","v":{"$error":"#REF!"}},null,{"$f":"#REF!&\"0293\"","v":{"$error":"#REF!"}},"","","","","",{"$f":"IFERROR(VLOOKUP(I295,#REF!,10,FALSE),\"\")","v":""},{"$f":"IFERROR(VLOOKUP(I295,#REF!,11,FALSE),\"\")","v":""}]
[{"$error":"#REF!"},{"$f":"#REF!","v":{"$error":"#REF!"}},{"$f":"要求内訳データ!A296","v":{"$error":"#REF!"}},{"$f":"要求内訳データ!B296","v":{"$error":"#REF!"}},{"$f":"要求内訳データ!C296","v":{"$error":"#REF!"}},{"$f":"要求内訳データ!D296","v":{"$error":"#REF!"}},{"$f":"要求内訳データ!E296","v":{"$error":"#REF!"}},null,{"$f":"#REF!&\"0294\"","v":{"$error":"#REF!"}},"","","","","",{"$f":"IFERROR(VLOOKUP(I296,#REF!,10,FALSE),\"\")","v":""},{"$f":"IFERROR(VLOOKUP(I296,#REF!,11,FALSE),\"\")","v":""}]
[{"$error":"#REF!"},{"$f":"#REF!","v":{"$error":"#REF!"}},{"$f":"要求内訳データ!A297","v":{"$error":"#REF!"}},{"$f":"要求内訳データ!B297","v":{"$error":"#REF!"}},{"$f":"要求内訳データ!C297","v":{"$error":"#REF!"}},{"$f":"要求内訳データ!D297","v":{"$error":"#REF!"}},{"$f":"要求内訳データ!E297","v":{"$error":"#REF!"}},null,{"$f":"#REF!&\"0295\"","v":{"$error":"#REF!"}},"","","","","",{"$f":"IFERROR(VLOOKUP(I297,#REF!,10,FALSE),\"\")","v":""},{"$f":"IFERROR(VLOOKUP(I297,#REF!,11,FALSE),\"\")","v":""}]
[{"$error":"#REF!"},{"$f":"#REF!","v":{"$error":"#REF!"}},{"$f":"要求内訳データ!A298","v":{"$error":"#REF!"}},{"$f":"要求内訳データ!B298","v":{"$error":"#REF!"}},{"$f":"要求内訳データ!C298","v":{"$error":"#REF!"}},{"$f":"要求内訳データ!D298","v":{"$error":"#REF!"}},{"$f":"要求内訳データ!E298","v":{"$error":"#REF!"}},null,{"$f":"#REF!&\"0296\"","v":{"$error":"#REF!"}},"","","","","",{"$f":"IFERROR(VLOOKUP(I298,#REF!,10,FALSE),\"\")","v":""},{"$f":"IFERROR(VLOOKUP(I298,#REF!,11,FALSE),\"\")","v":""}]
[{"$error":"#REF!"},{"$f":"#REF!","v":{"$error":"#REF!"}},{"$f":"要求内訳データ!A299","v":{"$error":"#REF!"}},{"$f":"要求内訳データ!B299","v":{"$error":"#REF!"}},{"$f":"要求内訳データ!C299","v":{"$error":"#REF!"}},{"$f":"要求内訳データ!D299","v":{"$error":"#REF!"}},{"$f":"要求内訳データ!E299","v":{"$error":"#REF!"}},null,{"$f":"#REF!&\"0297\"","v":{"$error":"#REF!"}},"","","","","",{"$f":"IFERROR(VLOOKUP(I299,#REF!,10,FALSE),\"\")","v":""},{"$f":"IFERROR(VLOOKUP(I299,#REF!,11,FALSE),\"\")","v":""}]
[{"$error":"#REF!"},{"$f":"#REF!","v":{"$error":"#REF!"}},{"$f":"要求内訳データ!A300","v":{"$error":"#REF!"}},{"$f":"要求内訳データ!B300","v":{"$error":"#REF!"}},{"$f":"要求内訳データ!C300","v":{"$error":"#REF!"}},{"$f":"要求内訳データ!D300","v":{"$error":"#REF!"}},{"$f":"要求内訳データ!E300","v":{"$error":"#REF!"}},null,{"$f":"#REF!&\"0298\"","v":{"$error":"#REF!"}},"","","","","",{"$f":"IFERROR(VLOOKUP(I300,#REF!,10,FALSE),\"\")","v":""},{"$f":"IFERROR(VLOOKUP(I300,#REF!,11,FALSE),\"\")","v":""}]
[{"$error":"#REF!"},{"$f":"#REF!","v":{"$error":"#REF!"}},{"$f":"要求内訳データ!A301","v":{"$error":"#REF!"}},{"$f":"要求内訳データ!B301","v":{"$error":"#REF!"}},{"$f":"要求内訳データ!C301","v":{"$error":"#REF!"}},{"$f":"要求内訳データ!D301","v":{"$error":"#REF!"}},{"$f":"要求内訳データ!E301","v":{"$error":"#REF!"}},null,{"$f":"#REF!&\"0299\"","v":{"$error":"#REF!"}},"","","","","",{"$f":"IFERROR(VLOOKUP(I301,#REF!,10,FALSE),\"\")","v":""},{"$f":"IFERROR(VLOOKUP(I301,#REF!,11,FALSE),\"\")","v":""}]
[{"$error":"#REF!"},{"$f":"#REF!","v":{"$error":"#REF!"}},{"$f":"要求内訳データ!A302","v":{"$error":"#REF!"}},{"$f":"要求内訳データ!B302","v":{"$error":"#REF!"}},{"$f":"要求内訳データ!C302","v":{"$error":"#REF!"}},{"$f":"要求内訳データ!D302","v":{"$error":"#REF!"}},{"$f":"要求内訳データ!E302","v":{"$error":"#REF!"}},null,{"$f":"#REF!&\"0300\"","v":{"$error":"#REF!"}},"","","","","",{"$f":"IFERROR(VLOOKUP(I302,#REF!,10,FALSE),\"\")","v":""},{"$f":"IFERROR(VLOOKUP(I302,#REF!,11,FALSE),\"\")","v":""}]
[{"$error":"#REF!"},{"$f":"#REF!","v":{"$error":"#REF!"}},{"$f":"要求内訳データ!A303","v":{"$error":"#REF!"}},{"$f":"要求内訳データ!B303","v":{"$error":"#REF!"}},{"$f":"要求内訳データ!C303","v":{"$error":"#REF!"}},{"$f":"要求内訳データ!D303","v":{"$error":"#REF!"}},{"$f":"要求内訳データ!E303","v":{"$error":"#REF!"}},null,{"$f":"#REF!&\"0301\"","v":{"$error":"#REF!"}},"","","","","",{"$f":"IFERROR(VLOOKUP(I303,#REF!,10,FALSE),\"\")","v":""},{"$f":"IFERROR(VLOOKUP(I303,#REF!,11,FALSE),\"\")","v":""}]
[{"$error":"#REF!"},{"$f":"#REF!","v":{"$error":"#REF!"}},{"$f":"要求内訳データ!A304","v":{"$error":"#REF!"}},{"$f":"要求内訳データ!B304","v":{"$error":"#REF!"}},{"$f":"要求内訳データ!C304","v":{"$error":"#REF!"}},{"$f":"要求内訳データ!D304","v":{"$error":"#REF!"}},{"$f":"要求内訳データ!E304","v":{"$error":"#REF!"}},null,{"$f":"#REF!&\"0302\"","v":{"$error":"#REF!"}},"","","","","",{"$f":"IFERROR(VLOOKUP(I304,#REF!,10,FALSE),\"\")","v":""},{"$f":"IFERROR(VLOOKUP(I304,#REF!,11,FALSE),\"\")","v":""}]
[{"$error":"#REF!"},{"$f":"#REF!","v":{"$error":"#REF!"}},{"$f":"要求内訳データ!A305","v":{"$error":"#REF!"}},{"$f":"要求内訳データ!B305","v":{"$error":"#REF!"}},{"$f":"要求内訳データ!C305","v":{"$error":"#REF!"}},{"$f":"要求内訳データ!D305","v":{"$error":"#REF!"}},{"$f":"要求内訳データ!E305","v":{"$error":"#REF!"}},null,{"$f":"#REF!&\"0303\"","v":{"$error":"#REF!"}},"","","","","",{"$f":"IFERROR(VLOOKUP(I305,#REF!,10,FALSE),\"\")","v":""},{"$f":"IFERROR(VLOOKUP(I305,#REF!,11,FALSE),\"\")","v":""}]
[{"$error":"#REF!"},{"$f":"#REF!","v":{"$error":"#REF!"}},{"$f":"要求内訳データ!A306","v":{"$error":"#REF!"}},{"$f":"要求内訳データ!B306","v":{"$error":"#REF!"}},{"$f":"要求内訳データ!C306","v":{"$error":"#REF!"}},{"$f":"要求内訳データ!D306","v":{"$error":"#REF!"}},{"$f":"要求内訳データ!E306","v":{"$error":"#REF!"}},null,{"$f":"#REF!&\"0304\"","v":{"$error":"#REF!"}},"","","","","",{"$f":"IFERROR(VLOOKUP(I306,#REF!,10,FALSE),\"\")","v":""},{"$f":"IFERROR(VLOOKUP(I306,#REF!,11,FALSE),\"\")","v":""}]
[{"$error":"#REF!"},{"$f":"#REF!","v":{"$error":"#REF!"}},{"$f":"要求内訳データ!A307","v":{"$error":"#REF!"}},{"$f":"要求内訳データ!B307","v":{"$error":"#REF!"}},{"$f":"要求内訳データ!C307","v":{"$error":"#REF!"}},{"$f":"要求内訳データ!D307","v":{"$error":"#REF!"}},{"$f":"要求内訳データ!E307","v":{"$error":"#REF!"}},null,{"$f":"#REF!&\"0305\"","v":{"$error":"#REF!"}},"","","","","",{"$f":"IFERROR(VLOOKUP(I307,#REF!,10,FALSE),\"\")","v":""},{"$f":"IFERROR(VLOOKUP(I307,#REF!,11,FALSE),\"\")","v":""}]
[{"$error":"#REF!"},{"$f":"#REF!","v":{"$error":"#REF!"}},{"$f":"要求内訳データ!A308","v":{"$error":"#REF!"}},{"$f":"要求内訳データ!B308","v":{"$error":"#REF!"}},{"$f":"要求内訳データ!C308","v":{"$error":"#REF!"}},{"$f":"要求内訳データ!D308","v":{"$error":"#REF!"}},{"$f":"要求内訳データ!E308","v":{"$error":"#REF!"}},null,{"$f":"#REF!&\"0306\"","v":{"$error":"#REF!"}},"","","","","",{"$f":"IFERROR(VLOOKUP(I308,#REF!,10,FALSE),\"\")","v":""},{"$f":"IFERROR(VLOOKUP(I308,#REF!,11,FALSE),\"\")","v":""}]
[{"$error":"#REF!"},{"$f":"#REF!","v":{"$error":"#REF!"}},{"$f":"要求内訳データ!A309","v":{"$error":"#REF!"}},{"$f":"要求内訳データ!B309","v":{"$error":"#REF!"}},{"$f":"要求内訳データ!C309","v":{"$error":"#REF!"}},{"$f":"要求内訳データ!D309","v":{"$error":"#REF!"}},{"$f":"要求内訳データ!E309","v":{"$error":"#REF!"}},null,{"$f":"#REF!&\"0307\"","v":{"$error":"#REF!"}},"","","","","",{"$f":"IFERROR(VLOOKUP(I309,#REF!,10,FALSE),\"\")","v":""},{"$f":"IFERROR(VLOOKUP(I309,#REF!,11,FALSE),\"\")","v":""}]
[{"$error":"#REF!"},{"$f":"#REF!","v":{"$error":"#REF!"}},{"$f":"要求内訳データ!A310","v":{"$error":"#REF!"}},{"$f":"要求内訳データ!B310","v":{"$error":"#REF!"}},{"$f":"要求内訳データ!C310","v":{"$error":"#REF!"}},{"$f":"要求内訳データ!D310","v":{"$error":"#REF!"}},{"$f":"要求内訳データ!E310","v":{"$error":"#REF!"}},null,{"$f":"#REF!&\"0308\"","v":{"$error":"#REF!"}},"","","","","",{"$f":"IFERROR(VLOOKUP(I310,#REF!,10,FALSE),\"\")","v":""},{"$f":"IFERROR(VLOOKUP(I310,#REF!,11,FALSE),\"\")","v":""}]
[{"$error":"#REF!"},{"$f":"#REF!","v":{"$error":"#REF!"}},{"$f":"要求内訳データ!A311","v":{"$error":"#REF!"}},{"$f":"要求内訳データ!B311","v":{"$error":"#REF!"}},{"$f":"要求内訳データ!C311","v":{"$error":"#REF!"}},{"$f":"要求内訳データ!D311","v":{"$error":"#REF!"}},{"$f":"要求内訳データ!E311","v":{"$error":"#REF!"}},null,{"$f":"#REF!&\"0309\"","v":{"$error":"#REF!"}},"","","","","",{"$f":"IFERROR(VLOOKUP(I311,#REF!,10,FALSE),\"\")","v":""},{"$f":"IFERROR(VLOOKUP(I311,#REF!,11,FALSE),\"\")","v":""}]
[{"$error":"#REF!"},{"$f":"#REF!","v":{"$error":"#REF!"}},{"$f":"要求内訳データ!A312","v":{"$error":"#REF!"}},{"$f":"要求内訳データ!B312","v":{"$error":"#REF!"}},{"$f":"要求内訳データ!C312","v":{"$error":"#REF!"}},{"$f":"要求内訳データ!D312","v":{"$error":"#REF!"}},{"$f":"要求内訳データ!E312","v":{"$error":"#REF!"}},null,{"$f":"#REF!&\"0310\"","v":{"$error":"#REF!"}},"","","","","",{"$f":"IFERROR(VLOOKUP(I312,#REF!,10,FALSE),\"\")","v":""},{"$f":"IFERROR(VLOOKUP(I312,#REF!,11,FALSE),\"\")","v":""}]
[{"$error":"#REF!"},{"$f":"#REF!","v":{"$error":"#REF!"}},{"$f":"要求内訳データ!A313","v":{"$error":"#REF!"}},{"$f":"要求内訳データ!B313","v":{"$error":"#REF!"}},{"$f":"要求内訳データ!C313","v":{"$error":"#REF!"}},{"$f":"要求内訳データ!D313","v":{"$error":"#REF!"}},{"$f":"要求内訳データ!E313","v":{"$error":"#REF!"}},null,{"$f":"#REF!&\"0311\"","v":{"$error":"#REF!"}},"","","","","",{"$f":"IFERROR(VLOOKUP(I313,#REF!,10,FALSE),\"\")","v":""},{"$f":"IFERROR(VLOOKUP(I313,#REF!,11,FALSE),\"\")","v":""}]
[{"$error":"#REF!"},{"$f":"#REF!","v":{"$error":"#REF!"}},{"$f":"要求内訳データ!A314","v":{"$error":"#REF!"}},{"$f":"要求内訳データ!B314","v":{"$error":"#REF!"}},{"$f":"要求内訳データ!C314","v":{"$error":"#REF!"}},{"$f":"要求内訳データ!D314","v":{"$error":"#REF!"}},{"$f":"要求内訳データ!E314","v":{"$error":"#REF!"}},null,{"$f":"#REF!&\"0312\"","v":{"$error":"#REF!"}},"","","","","",{"$f":"IFERROR(VLOOKUP(I314,#REF!,10,FALSE),\"\")","v":""},{"$f":"IFERROR(VLOOKUP(I314,#REF!,11,FALSE),\"\")","v":""}]
[{"$error":"#REF!"},{"$f":"#REF!","v":{"$error":"#REF!"}},{"$f":"要求内訳データ!A315","v":{"$error":"#REF!"}},{"$f":"要求内訳データ!B315","v":{"$error":"#REF!"}},{"$f":"要求内訳データ!C315","v":{"$error":"#REF!"}},{"$f":"要求内訳データ!D315","v":{"$error":"#REF!"}},{"$f":"要求内訳データ!E315","v":{"$error":"#REF!"}},null,{"$f":"#REF!&\"0313\"","v":{"$error":"#REF!"}},"","","","","",{"$f":"IFERROR(VLOOKUP(I315,#REF!,10,FALSE),\"\")","v":""},{"$f":"IFERROR(VLOOKUP(I315,#REF!,11,FALSE),\"\")","v":""}]
[{"$error":"#REF!"},{"$f":"#REF!","v":{"$error":"#REF!"}},{"$f":"要求内訳データ!A316","v":{"$error":"#REF!"}},{"$f":"要求内訳データ!B316","v":{"$error":"#REF!"}},{"$f":"要求内訳データ!C316","v":{"$error":"#REF!"}},{"$f":"要求内訳データ!D316","v":{"$error":"#REF!"}},{"$f":"要求内訳データ!E316","v":{"$error":"#REF!"}},null,{"$f":"#REF!&\"0314\"","v":{"$error":"#REF!"}},"","","","","",{"$f":"IFERROR(VLOOKUP(I316,#REF!,10,FALSE),\"\")","v":""},{"$f":"IFERROR(VLOOKUP(I316,#REF!,11,FALSE),\"\")","v":""}]
[{"$error":"#REF!"},{"$f":"#REF!","v":{"$error":"#REF!"}},{"$f":"要求内訳データ!A317","v":{"$error":"#REF!"}},{"$f":"要求内訳データ!B317","v":{"$error":"#REF!"}},{"$f":"要求内訳データ!C317","v":{"$error":"#REF!"}},{"$f":"要求内訳データ!D317","v":{"$error":"#REF!"}},{"$f":"要求内訳データ!E317","v":{"$error":"#REF!"}},null,{"$f":"#REF!&\"0315\"","v":{"$error":"#REF!"}},"","","","","",{"$f":"IFERROR(VLOOKUP(I317,#REF!,10,FALSE),\"\")","v":""},{"$f":"IFERROR(VLOOKUP(I317,#REF!,11,FALSE),\"\")","v":""}]
[{"$error":"#REF!"},{"$f":"#REF!","v":{"$error":"#REF!"}},{"$f":"要求内訳データ!A318","v":{"$error":"#REF!"}},{"$f":"要求内訳データ!B318","v":{"$error":"#REF!"}},{"$f":"要求内訳データ!C318","v":{"$error":"#REF!"}},{"$f":"要求内訳データ!D318","v":{"$error":"#REF!"}},{"$f":"要求内訳データ!E318","v":{"$error":"#REF!"}},null,{"$f":"#REF!&\"0316\"","v":{"$error":"#REF!"}},"","","","","",{"$f":"IFERROR(VLOOKUP(I318,#REF!,10,FALSE),\"\")","v":""},{"$f":"IFERROR(VLOOKUP(I318,#REF!,11,FALSE),\"\")","v":""}]
[{"$error":"#REF!"},{"$f":"#REF!","v":{"$error":"#REF!"}},{"$f":"要求内訳データ!A319","v":{"$error":"#REF!"}},{"$f":"要求内訳データ!B319","v":{"$error":"#REF!"}},{"$f":"要求内訳データ!C319","v":{"$error":"#REF!"}},{"$f":"要求内訳データ!D319","v":{"$error":"#REF!"}},{"$f":"要求内訳データ!E319","v":{"$error":"#REF!"}},null,{"$f":"#REF!&\"0317\"","v":{"$error":"#REF!"}},"","","","","",{"$f":"IFERROR(VLOOKUP(I319,#REF!,10,FALSE),\"\")","v":""},{"$f":"IFERROR(VLOOKUP(I319,#REF!,11,FALSE),\"\")","v":""}]
[{"$error":"#REF!"},{"$f":"#REF!","v":{"$error":"#REF!"}},{"$f":"要求内訳データ!A320","v":{"$error":"#REF!"}},{"$f":"要求内訳データ!B320","v":{"$error":"#REF!"}},{"$f":"要求内訳データ!C320","v":{"$error":"#REF!"}},{"$f":"要求内訳データ!D320","v":{"$error":"#REF!"}},{"$f":"要求内訳データ!E320","v":{"$error":"#REF!"}},null,{"$f":"#REF!&\"0318\"","v":{"$error":"#REF!"}},"","","","","",{"$f":"IFERROR(VLOOKUP(I320,#REF!,10,FALSE),\"\")","v":""},{"$f":"IFERROR(VLOOKUP(I320,#REF!,11,FALSE),\"\")","v":""}]
[{"$error":"#REF!"},{"$f":"#REF!","v":{"$error":"#REF!"}},{"$f":"要求内訳データ!A321","v":{"$error":"#REF!"}},{"$f":"要求内訳データ!B321","v":{"$error":"#REF!"}},{"$f":"要求内訳データ!C321","v":{"$error":"#REF!"}},{"$f":"要求内訳データ!D321","v":{"$error":"#REF!"}},{"$f":"要求内訳データ!E321","v":{"$error":"#REF!"}},null,{"$f":"#REF!&\"0319\"","v":{"$error":"#REF!"}},"","","","","",{"$f":"IFERROR(VLOOKUP(I321,#REF!,10,FALSE),\"\")","v":""},{"$f":"IFERROR(VLOOKUP(I321,#REF!,11,FALSE),\"\")","v":""}]
[{"$error":"#REF!"},{"$f":"#REF!","v":{"$error":"#REF!"}},{"$f":"要求内訳データ!A322","v":{"$error":"#REF!"}},{"$f":"要求内訳データ!B322","v":{"$error":"#REF!"}},{"$f":"要求内訳データ!C322","v":{"$error":"#REF!"}},{"$f":"要求内訳データ!D322","v":{"$error":"#REF!"}},{"$f":"要求内訳データ!E322","v":{"$error":"#REF!"}},null,{"$f":"#REF!&\"0320\"","v":{"$error":"#REF!"}},"","","","","",{"$f":"IFERROR(VLOOKUP(I322,#REF!,10,FALSE),\"\")","v":""},{"$f":"IFERROR(VLOOKUP(I322,#REF!,11,FALSE),\"\")","v":""}]
[{"$f":"LEFT(B323,LEN(B323)-4)","v":{"$error":"#REF!"}},{"$f":"#REF!","v":{"$error":"#REF!"}},{"$f":"要求内訳データ!A323","v":{"$error":"#REF!"}},{"$f":"要求内訳データ!B323","v":{"$error":"#REF!"}},{"$f":"要求内訳データ!C323","v":{"$error":"#REF!"}},{"$f":"要求内訳データ!D323","v":{"$error":"#REF!"}},{"$f":"要求内訳データ!E323","v":{"$error":"#REF!"}},null,{"$f":"#REF!&\"0321\"","v":{"$error":"#REF!"}},"",{"$f":"IFERROR(VLOOKUP(I323,$B$3:$G$498,3,FALSE),\"\")","v":""},{"$f":"IF(AND(J323=\"\",NOT(K322=\"\")),\"以下余白\",IFERROR(VLOOKUP(I323,$B$3:$G$498,4,FALSE),\"\"))","v":""},{"$f":"IFERROR(VLOOKUP(I323,$B$3:$G$498,5,FALSE),\"\")","v":""},{"$f":"IFERROR(VLOOKUP(I323,$B$3:$G$498,6,FALSE),\"\")","v":""},{"$f":"IFERROR(VLOOKUP(I323,#REF!,10,FALSE),\"\")","v":""},{"$f":"IFERROR(VLOOKUP(I323,#REF!,11,FALSE),\"\")","v":""}]
[{"$error":"#REF!"},{"$f":"#REF!","v":{"$error":"#REF!"}},{"$f":"要求内訳データ!A324","v":{"$error":"#REF!"}},{"$f":"要求内訳データ!B324","v":{"$error":"#REF!"}},{"$f":"要求内訳データ!C324","v":{"$error":"#REF!"}},{"$f":"要求内訳データ!D324","v":{"$error":"#REF!"}},{"$f":"要求内訳データ!E324","v":{"$error":"#REF!"}},null,{"$f":"#REF!&\"0322\"","v":{"$error":"#REF!"}},{"$f":"IF(K324=\"\",\"\",J323+1)","v":""},"","","","",{"$f":"IFERROR(VLOOKUP(I324,#REF!,10,FALSE),\"\")","v":""},{"$f":"IFERROR(VLOOKUP(I324,#REF!,11,FALSE),\"\")","v":""}]
[{"$error":"#REF!"},{"$f":"#REF!","v":{"$error":"#REF!"}},{"$f":"要求内訳データ!A325","v":{"$error":"#REF!"}},{"$f":"要求内訳データ!B325","v":{"$error":"#REF!"}},{"$f":"要求内訳データ!C325","v":{"$error":"#REF!"}},{"$f":"要求内訳データ!D325","v":{"$error":"#REF!"}},{"$f":"要求内訳データ!E325","v":{"$error":"#REF!"}},null,{"$f":"#REF!&\"0323\"","v":{"$error":"#REF!"}},"","","","","",{"$f":"IFERROR(VLOOKUP(I325,#REF!,10,FALSE),\"\")","v":""},{"$f":"IFERROR(VLOOKUP(I325,#REF!,11,FALSE),\"\")","v":""}]
[{"$error":"#REF!"},{"$f":"#REF!","v":{"$error":"#REF!"}},{"$f":"要求内訳データ!A326","v":{"$error":"#REF!"}},{"$f":"要求内訳データ!B326","v":{"$error":"#REF!"}},{"$f":"要求内訳データ!C326","v":{"$error":"#REF!"}},{"$f":"要求内訳データ!D326","v":{"$error":"#REF!"}},{"$f":"要求内訳データ!E326","v":{"$error":"#REF!"}},null,{"$f":"#REF!&\"0324\"","v":{"$error":"#REF!"}},"","","","","",{"$f":"IFERROR(VLOOKUP(I326,#REF!,10,FALSE),\"\")","v":""},{"$f":"IFERROR(VLOOKUP(I326,#REF!,11,FALSE),\"\")","v":""}]
[{"$error":"#REF!"},{"$f":"#REF!","v":{"$error":"#REF!"}},{"$f":"要求内訳データ!A327","v":{"$error":"#REF!"}},{"$f":"要求内訳データ!B327","v":{"$error":"#REF!"}},{"$f":"要求内訳データ!C327","v":{"$error":"#REF!"}},{"$f":"要求内訳データ!D327","v":{"$error":"#REF!"}},{"$f":"要求内訳データ!E327","v":{"$error":"#REF!"}},null,{"$f":"#REF!&\"0325\"","v":{"$error":"#REF!"}},"","","","","",{"$f":"IFERROR(VLOOKUP(I327,#REF!,10,FALSE),\"\")","v":""},{"$f":"IFERROR(VLOOKUP(I327,#REF!,11,FALSE),\"\")","v":""}]
[{"$error":"#REF!"},{"$f":"#REF!","v":{"$error":"#REF!"}},{"$f":"要求内訳データ!A328","v":{"$error":"#REF!"}},{"$f":"要求内訳データ!B328","v":{"$error":"#REF!"}},{"$f":"要求内訳データ!C328","v":{"$error":"#REF!"}},{"$f":"要求内訳データ!D328","v":{"$error":"#REF!"}},{"$f":"要求内訳データ!E328","v":{"$error":"#REF!"}},null,{"$f":"#REF!&\"0326\"","v":{"$error":"#REF!"}},"","","","","",{"$f":"IFERROR(VLOOKUP(I328,#REF!,10,FALSE),\"\")","v":""},{"$f":"IFERROR(VLOOKUP(I328,#REF!,11,FALSE),\"\")","v":""}]
[{"$error":"#REF!"},{"$f":"#REF!","v":{"$error":"#REF!"}},{"$f":"要求内訳データ!A329","v":{"$error":"#REF!"}},{"$f":"要求内訳データ!B329","v":{"$error":"#REF!"}},{"$f":"要求内訳データ!C329","v":{"$error":"#REF!"}},{"$f":"要求内訳データ!D329","v":{"$error":"#REF!"}},{"$f":"要求内訳データ!E329","v":{"$error":"#REF!"}},null,{"$f":"#REF!&\"0327\"","v":{"$error":"#REF!"}},"","","","","",{"$f":"IFERROR(VLOOKUP(I329,#REF!,10,FALSE),\"\")","v":""},{"$f":"IFERROR(VLOOKUP(I329,#REF!,11,FALSE),\"\")","v":""}]
[{"$error":"#REF!"},{"$f":"#REF!","v":{"$error":"#REF!"}},{"$f":"要求内訳データ!A330","v":{"$error":"#REF!"}},{"$f":"要求内訳データ!B330","v":{"$error":"#REF!"}},{"$f":"要求内訳データ!C330","v":{"$error":"#REF!"}},{"$f":"要求内訳データ!D330","v":{"$error":"#REF!"}},{"$f":"要求内訳データ!E330","v":{"$error":"#REF!"}},null,{"$f":"#REF!&\"0328\"","v":{"$error":"#REF!"}},"","","","","",{"$f":"IFERROR(VLOOKUP(I330,#REF!,10,FALSE),\"\")","v":""},{"$f":"IFERROR(VLOOKUP(I330,#REF!,11,FALSE),\"\")","v":""}]
[{"$error":"#REF!"},{"$f":"#REF!","v":{"$error":"#REF!"}},{"$f":"要求内訳データ!A331","v":{"$error":"#REF!"}},{"$f":"要求内訳データ!B331","v":{"$error":"#REF!"}},{"$f":"要求内訳データ!C331","v":{"$error":"#REF!"}},{"$f":"要求内訳データ!D331","v":{"$error":"#REF!"}},{"$f":"要求内訳データ!E331","v":{"$error":"#REF!"}},null,{"$f":"#REF!&\"0329\"","v":{"$error":"#REF!"}},"","","","","",{"$f":"IFERROR(VLOOKUP(I331,#REF!,10,FALSE),\"\")","v":""},{"$f":"IFERROR(VLOOKUP(I331,#REF!,11,FALSE),\"\")","v":""}]
[{"$error":"#REF!"},{"$f":"#REF!","v":{"$error":"#REF!"}},{"$f":"要求内訳データ!A332","v":{"$error":"#REF!"}},{"$f":"要求内訳データ!B332","v":{"$error":"#REF!"}},{"$f":"要求内訳データ!C332","v":{"$error":"#REF!"}},{"$f":"要求内訳データ!D332","v":{"$error":"#REF!"}},{"$f":"要求内訳データ!E332","v":{"$error":"#REF!"}},null,{"$f":"#REF!&\"0330\"","v":{"$error":"#REF!"}},"","","","","",{"$f":"IFERROR(VLOOKUP(I332,#REF!,10,FALSE),\"\")","v":""},{"$f":"IFERROR(VLOOKUP(I332,#REF!,11,FALSE),\"\")","v":""}]
[{"$error":"#REF!"},{"$f":"#REF!","v":{"$error":"#REF!"}},{"$f":"要求内訳データ!A333","v":{"$error":"#REF!"}},{"$f":"要求内訳データ!B333","v":{"$error":"#REF!"}},{"$f":"要求内訳データ!C333","v":{"$error":"#REF!"}},{"$f":"要求内訳データ!D333","v":{"$error":"#REF!"}},{"$f":"要求内訳データ!E333","v":{"$error":"#REF!"}},null,{"$f":"#REF!&\"0331\"","v":{"$error":"#REF!"}},"","","","","",{"$f":"IFERROR(VLOOKUP(I333,#REF!,10,FALSE),\"\")","v":""},{"$f":"IFERROR(VLOOKUP(I333,#REF!,11,FALSE),\"\")","v":""}]
[{"$error":"#REF!"},{"$f":"#REF!","v":{"$error":"#REF!"}},{"$f":"要求内訳データ!A334","v":{"$error":"#REF!"}},{"$f":"要求内訳データ!B334","v":{"$error":"#REF!"}},{"$f":"要求内訳データ!C334","v":{"$error":"#REF!"}},{"$f":"要求内訳データ!D334","v":{"$error":"#REF!"}},{"$f":"要求内訳データ!E334","v":{"$error":"#REF!"}},null,{"$f":"#REF!&\"0332\"","v":{"$error":"#REF!"}},"","","","","",{"$f":"IFERROR(VLOOKUP(I334,#REF!,10,FALSE),\"\")","v":""},{"$f":"IFERROR(VLOOKUP(I334,#REF!,11,FALSE),\"\")","v":""}]
[{"$error":"#REF!"},{"$f":"#REF!","v":{"$error":"#REF!"}},{"$f":"要求内訳データ!A335","v":{"$error":"#REF!"}},{"$f":"要求内訳データ!B335","v":{"$error":"#REF!"}},{"$f":"要求内訳データ!C335","v":{"$error":"#REF!"}},{"$f":"要求内訳データ!D335","v":{"$error":"#REF!"}},{"$f":"要求内訳データ!E335","v":{"$error":"#REF!"}},null,{"$f":"#REF!&\"0333\"","v":{"$error":"#REF!"}},"","","","","",{"$f":"IFERROR(VLOOKUP(I335,#REF!,10,FALSE),\"\")","v":""},{"$f":"IFERROR(VLOOKUP(I335,#REF!,11,FALSE),\"\")","v":""}]
[{"$error":"#REF!"},{"$f":"#REF!","v":{"$error":"#REF!"}},{"$f":"要求内訳データ!A336","v":{"$error":"#REF!"}},{"$f":"要求内訳データ!B336","v":{"$error":"#REF!"}},{"$f":"要求内訳データ!C336","v":{"$error":"#REF!"}},{"$f":"要求内訳データ!D336","v":{"$error":"#REF!"}},{"$f":"要求内訳データ!E336","v":{"$error":"#REF!"}},null,{"$f":"#REF!&\"0334\"","v":{"$error":"#REF!"}},"","","","","",{"$f":"IFERROR(VLOOKUP(I336,#REF!,10,FALSE),\"\")","v":""},{"$f":"IFERROR(VLOOKUP(I336,#REF!,11,FALSE),\"\")","v":""}]
[{"$error":"#REF!"},{"$f":"#REF!","v":{"$error":"#REF!"}},{"$f":"要求内訳データ!A337","v":{"$error":"#REF!"}},{"$f":"要求内訳データ!B337","v":{"$error":"#REF!"}},{"$f":"要求内訳データ!C337","v":{"$error":"#REF!"}},{"$f":"要求内訳データ!D337","v":{"$error":"#REF!"}},{"$f":"要求内訳データ!E337","v":{"$error":"#REF!"}},null,{"$f":"#REF!&\"0335\"","v":{"$error":"#REF!"}},"","","","","",{"$f":"IFERROR(VLOOKUP(I337,#REF!,10,FALSE),\"\")","v":""},{"$f":"IFERROR(VLOOKUP(I337,#REF!,11,FALSE),\"\")","v":""}]
[{"$error":"#REF!"},{"$f":"#REF!","v":{"$error":"#REF!"}},{"$f":"要求内訳データ!A338","v":{"$error":"#REF!"}},{"$f":"要求内訳データ!B338","v":{"$error":"#REF!"}},{"$f":"要求内訳データ!C338","v":{"$error":"#REF!"}},{"$f":"要求内訳データ!D338","v":{"$error":"#REF!"}},{"$f":"要求内訳データ!E338","v":{"$error":"#REF!"}},null,{"$f":"#REF!&\"0336\"","v":{"$error":"#REF!"}},"","","","","",{"$f":"IFERROR(VLOOKUP(I338,#REF!,10,FALSE),\"\")","v":""},{"$f":"IFERROR(VLOOKUP(I338,#REF!,11,FALSE),\"\")","v":""}]
[{"$error":"#REF!"},{"$f":"#REF!","v":{"$error":"#REF!"}},{"$f":"要求内訳データ!A339","v":{"$error":"#REF!"}},{"$f":"要求内訳データ!B339","v":{"$error":"#REF!"}},{"$f":"要求内訳データ!C339","v":{"$error":"#REF!"}},{"$f":"要求内訳データ!D339","v":{"$error":"#REF!"}},{"$f":"要求内訳データ!E339","v":{"$error":"#REF!"}},null,{"$f":"#REF!&\"0337\"","v":{"$error":"#REF!"}},"","","","","",{"$f":"IFERROR(VLOOKUP(I339,#REF!,10,FALSE),\"\")","v":""},{"$f":"IFERROR(VLOOKUP(I339,#REF!,11,FALSE),\"\")","v":""}]
[{"$error":"#REF!"},{"$f":"#REF!","v":{"$error":"#REF!"}},{"$f":"要求内訳データ!A340","v":{"$error":"#REF!"}},{"$f":"要求内訳データ!B340","v":{"$error":"#REF!"}},{"$f":"要求内訳データ!C340","v":{"$error":"#REF!"}},{"$f":"要求内訳データ!D340","v":{"$error":"#REF!"}},{"$f":"要求内訳データ!E340","v":{"$error":"#REF!"}},null,{"$f":"#REF!&\"0338\"","v":{"$error":"#REF!"}},"","","","","",{"$f":"IFERROR(VLOOKUP(I340,#REF!,10,FALSE),\"\")","v":""},{"$f":"IFERROR(VLOOKUP(I340,#REF!,11,FALSE),\"\")","v":""}]
[{"$error":"#REF!"},{"$f":"#REF!","v":{"$error":"#REF!"}},{"$f":"要求内訳データ!A341","v":{"$error":"#REF!"}},{"$f":"要求内訳データ!B341","v":{"$error":"#REF!"}},{"$f":"要求内訳データ!C341","v":{"$error":"#REF!"}},{"$f":"要求内訳データ!D341","v":{"$error":"#REF!"}},{"$f":"要求内訳データ!E341","v":{"$error":"#REF!"}},null,{"$f":"#REF!&\"0339\"","v":{"$error":"#REF!"}},"","","","","",{"$f":"IFERROR(VLOOKUP(I341,#REF!,10,FALSE),\"\")","v":""},{"$f":"IFERROR(VLOOKUP(I341,#REF!,11,FALSE),\"\")","v":""}]
[{"$error":"#REF!"},{"$f":"#REF!","v":{"$error":"#REF!"}},{"$f":"要求内訳データ!A342","v":{"$error":"#REF!"}},{"$f":"要求内訳データ!B342","v":{"$error":"#REF!"}},{"$f":"要求内訳データ!C342","v":{"$error":"#REF!"}},{"$f":"要求内訳データ!D342","v":{"$error":"#REF!"}},{"$f":"要求内訳データ!E342","v":{"$error":"#REF!"}},null,{"$f":"#REF!&\"0340\"","v":{"$error":"#REF!"}},"","","","","",{"$f":"IFERROR(VLOOKUP(I342,#REF!,10,FALSE),\"\")","v":""},{"$f":"IFERROR(VLOOKUP(I342,#REF!,11,FALSE),\"\")","v":""}]
[{"$error":"#REF!"},{"$f":"#REF!","v":{"$error":"#REF!"}},{"$f":"要求内訳データ!A343","v":{"$error":"#REF!"}},{"$f":"要求内訳データ!B343","v":{"$error":"#REF!"}},{"$f":"要求内訳データ!C343","v":{"$error":"#REF!"}},{"$f":"要求内訳データ!D343","v":{"$error":"#REF!"}},{"$f":"要求内訳データ!E343","v":{"$error":"#REF!"}},null,{"$f":"#REF!&\"0341\"","v":{"$error":"#REF!"}},"","","","","",{"$f":"IFERROR(VLOOKUP(I343,#REF!,10,FALSE),\"\")","v":""},{"$f":"IFERROR(VLOOKUP(I343,#REF!,11,FALSE),\"\")","v":""}]
[{"$error":"#REF!"},{"$f":"#REF!","v":{"$error":"#REF!"}},{"$f":"要求内訳データ!A344","v":{"$error":"#REF!"}},{"$f":"要求内訳データ!B344","v":{"$error":"#REF!"}},{"$f":"要求内訳データ!C344","v":{"$error":"#REF!"}},{"$f":"要求内訳データ!D344","v":{"$error":"#REF!"}},{"$f":"要求内訳データ!E344","v":{"$error":"#REF!"}},null,{"$f":"#REF!&\"0342\"","v":{"$error":"#REF!"}},"","","","","",{"$f":"IFERROR(VLOOKUP(I344,#REF!,10,FALSE),\"\")","v":""},{"$f":"IFERROR(VLOOKUP(I344,#REF!,11,FALSE),\"\")","v":""}]
[{"$error":"#REF!"},{"$f":"#REF!","v":{"$error":"#REF!"}},{"$f":"要求内訳データ!A345","v":{"$error":"#REF!"}},{"$f":"要求内訳データ!B345","v":{"$error":"#REF!"}},{"$f":"要求内訳データ!C345","v":{"$error":"#REF!"}},{"$f":"要求内訳データ!D345","v":{"$error":"#REF!"}},{"$f":"要求内訳データ!E345","v":{"$error":"#REF!"}},null,{"$f":"#REF!&\"0343\"","v":{"$error":"#REF!"}},"","","","","",{"$f":"IFERROR(VLOOKUP(I345,#REF!,10,FALSE),\"\")","v":""},{"$f":"IFERROR(VLOOKUP(I345,#REF!,11,FALSE),\"\")","v":""}]
[{"$error":"#REF!"},{"$f":"#REF!","v":{"$error":"#REF!"}},{"$f":"要求内訳データ!A346","v":{"$error":"#REF!"}},{"$f":"要求内訳データ!B346","v":{"$error":"#REF!"}},{"$f":"要求内訳データ!C346","v":{"$error":"#REF!"}},{"$f":"要求内訳データ!D346","v":{"$error":"#REF!"}},{"$f":"要求内訳データ!E346","v":{"$error":"#REF!"}},null,{"$f":"#REF!&\"0344\"","v":{"$error":"#REF!"}},"","","","","",{"$f":"IFERROR(VLOOKUP(I346,#REF!,10,FALSE),\"\")","v":""},{"$f":"IFERROR(VLOOKUP(I346,#REF!,11,FALSE),\"\")","v":""}]
[{"$error":"#REF!"},{"$f":"#REF!","v":{"$error":"#REF!"}},{"$f":"要求内訳データ!A347","v":{"$error":"#REF!"}},{"$f":"要求内訳データ!B347","v":{"$error":"#REF!"}},{"$f":"要求内訳データ!C347","v":{"$error":"#REF!"}},{"$f":"要求内訳データ!D347","v":{"$error":"#REF!"}},{"$f":"要求内訳データ!E347","v":{"$error":"#REF!"}},null,{"$f":"#REF!&\"0345\"","v":{"$error":"#REF!"}},"","","","","",{"$f":"IFERROR(VLOOKUP(I347,#REF!,10,FALSE),\"\")","v":""},{"$f":"IFERROR(VLOOKUP(I347,#REF!,11,FALSE),\"\")","v":""}]
[{"$error":"#REF!"},{"$f":"#REF!","v":{"$error":"#REF!"}},{"$f":"要求内訳データ!A348","v":{"$error":"#REF!"}},{"$f":"要求内訳データ!B348","v":{"$error":"#REF!"}},{"$f":"要求内訳データ!C348","v":{"$error":"#REF!"}},{"$f":"要求内訳データ!D348","v":{"$error":"#REF!"}},{"$f":"要求内訳データ!E348","v":{"$error":"#REF!"}},null,{"$f":"#REF!&\"0346\"","v":{"$error":"#REF!"}},"","","","","",{"$f":"IFERROR(VLOOKUP(I348,#REF!,10,FALSE),\"\")","v":""},{"$f":"IFERROR(VLOOKUP(I348,#REF!,11,FALSE),\"\")","v":""}]
[{"$error":"#REF!"},{"$f":"#REF!","v":{"$error":"#REF!"}},{"$f":"要求内訳データ!A349","v":{"$error":"#REF!"}},{"$f":"要求内訳データ!B349","v":{"$error":"#REF!"}},{"$f":"要求内訳データ!C349","v":{"$error":"#REF!"}},{"$f":"要求内訳データ!D349","v":{"$error":"#REF!"}},{"$f":"要求内訳データ!E349","v":{"$error":"#REF!"}},null,{"$f":"#REF!&\"0347\"","v":{"$error":"#REF!"}},"","","","","",{"$f":"IFERROR(VLOOKUP(I349,#REF!,10,FALSE),\"\")","v":""},{"$f":"IFERROR(VLOOKUP(I349,#REF!,11,FALSE),\"\")","v":""}]
[{"$error":"#REF!"},{"$f":"#REF!","v":{"$error":"#REF!"}},{"$f":"要求内訳データ!A350","v":{"$error":"#REF!"}},{"$f":"要求内訳データ!B350","v":{"$error":"#REF!"}},{"$f":"要求内訳データ!C350","v":{"$error":"#REF!"}},{"$f":"要求内訳データ!D350","v":{"$error":"#REF!"}},{"$f":"要求内訳データ!E350","v":{"$error":"#REF!"}},null,{"$f":"#REF!&\"0348\"","v":{"$error":"#REF!"}},"","","","","",{"$f":"IFERROR(VLOOKUP(I350,#REF!,10,FALSE),\"\")","v":""},{"$f":"IFERROR(VLOOKUP(I350,#REF!,11,FALSE),\"\")","v":""}]
[{"$error":"#REF!"},{"$f":"#REF!","v":{"$error":"#REF!"}},{"$f":"要求内訳データ!A351","v":{"$error":"#REF!"}},{"$f":"要求内訳データ!B351","v":{"$error":"#REF!"}},{"$f":"要求内訳データ!C351","v":{"$error":"#REF!"}},{"$f":"要求内訳データ!D351","v":{"$error":"#REF!"}},{"$f":"要求内訳データ!E351","v":{"$error":"#REF!"}},null,{"$f":"#REF!&\"0349\"","v":{"$error":"#REF!"}},"","","","","",{"$f":"IFERROR(VLOOKUP(I351,#REF!,10,FALSE),\"\")","v":""},{"$f":"IFERROR(VLOOKUP(I351,#REF!,11,FALSE),\"\")","v":""}]
[{"$error":"#REF!"},{"$f":"#REF!","v":{"$error":"#REF!"}},{"$f":"要求内訳データ!A352","v":{"$error":"#REF!"}},{"$f":"要求内訳データ!B352","v":{"$error":"#REF!"}},{"$f":"要求内訳データ!C352","v":{"$error":"#REF!"}},{"$f":"要求内訳データ!D352","v":{"$error":"#REF!"}},{"$f":"要求内訳データ!E352","v":{"$error":"#REF!"}},null,{"$f":"#REF!&\"0350\"","v":{"$error":"#REF!"}},"","","","","",{"$f":"IFERROR(VLOOKUP(I352,#REF!,10,FALSE),\"\")","v":""},{"$f":"IFERROR(VLOOKUP(I352,#REF!,11,FALSE),\"\")","v":""}]
[{"$error":"#REF!"},{"$f":"#REF!","v":{"$error":"#REF!"}},{"$f":"要求内訳データ!A353","v":{"$error":"#REF!"}},{"$f":"要求内訳データ!B353","v":{"$error":"#REF!"}},{"$f":"要求内訳データ!C353","v":{"$error":"#REF!"}},{"$f":"要求内訳データ!D353","v":{"$error":"#REF!"}},{"$f":"要求内訳データ!E353","v":{"$error":"#REF!"}},null,{"$f":"#REF!&\"0351\"","v":{"$error":"#REF!"}},"","","","","",{"$f":"IFERROR(VLOOKUP(I353,#REF!,10,FALSE),\"\")","v":""},{"$f":"IFERROR(VLOOKUP(I353,#REF!,11,FALSE),\"\")","v":""}]
[{"$error":"#REF!"},{"$f":"#REF!","v":{"$error":"#REF!"}},{"$f":"要求内訳データ!A354","v":{"$error":"#REF!"}},{"$f":"要求内訳データ!B354","v":{"$error":"#REF!"}},{"$f":"要求内訳データ!C354","v":{"$error":"#REF!"}},{"$f":"要求内訳データ!D354","v":{"$error":"#REF!"}},{"$f":"要求内訳データ!E354","v":{"$error":"#REF!"}},null,{"$f":"#REF!&\"0352\"","v":{"$error":"#REF!"}},"","","","","",{"$f":"IFERROR(VLOOKUP(I354,#REF!,10,FALSE),\"\")","v":""},{"$f":"IFERROR(VLOOKUP(I354,#REF!,11,FALSE),\"\")","v":""}]
[{"$error":"#REF!"},{"$f":"#REF!","v":{"$error":"#REF!"}},{"$f":"要求内訳データ!A355","v":{"$error":"#REF!"}},{"$f":"要求内訳データ!B355","v":{"$error":"#REF!"}},{"$f":"要求内訳データ!C355","v":{"$error":"#REF!"}},{"$f":"要求内訳データ!D355","v":{"$error":"#REF!"}},{"$f":"要求内訳データ!E355","v":{"$error":"#REF!"}},null,{"$f":"#REF!&\"0353\"","v":{"$error":"#REF!"}},"","","","","",{"$f":"IFERROR(VLOOKUP(I355,#REF!,10,FALSE),\"\")","v":""},{"$f":"IFERROR(VLOOKUP(I355,#REF!,11,FALSE),\"\")","v":""}]
[{"$error":"#REF!"},{"$f":"#REF!","v":{"$error":"#REF!"}},{"$f":"要求内訳データ!A356","v":{"$error":"#REF!"}},{"$f":"要求内訳データ!B356","v":{"$error":"#REF!"}},{"$f":"要求内訳データ!C356","v":{"$error":"#REF!"}},{"$f":"要求内訳データ!D356","v":{"$error":"#REF!"}},{"$f":"要求内訳データ!E356","v":{"$error":"#REF!"}},null,{"$f":"#REF!&\"0354\"","v":{"$error":"#REF!"}},"","","","","",{"$f":"IFERROR(VLOOKUP(I356,#REF!,10,FALSE),\"\")","v":""},{"$f":"IFERROR(VLOOKUP(I356,#REF!,11,FALSE),\"\")","v":""}]
[{"$error":"#REF!"},{"$f":"#REF!","v":{"$error":"#REF!"}},{"$f":"要求内訳データ!A357","v":{"$error":"#REF!"}},{"$f":"要求内訳データ!B357","v":{"$error":"#REF!"}},{"$f":"要求内訳データ!C357","v":{"$error":"#REF!"}},{"$f":"要求内訳データ!D357","v":{"$error":"#REF!"}},{"$f":"要求内訳データ!E357","v":{"$error":"#REF!"}},null,{"$f":"#REF!&\"0355\"","v":{"$error":"#REF!"}},"","","","","",{"$f":"IFERROR(VLOOKUP(I357,#REF!,10,FALSE),\"\")","v":""},{"$f":"IFERROR(VLOOKUP(I357,#REF!,11,FALSE),\"\")","v":""}]
[{"$error":"#REF!"},{"$f":"#REF!","v":{"$error":"#REF!"}},{"$f":"要求内訳データ!A358","v":{"$error":"#REF!"}},{"$f":"要求内訳データ!B358","v":{"$error":"#REF!"}},{"$f":"要求内訳データ!C358","v":{"$error":"#REF!"}},{"$f":"要求内訳データ!D358","v":{"$error":"#REF!"}},{"$f":"要求内訳データ!E358","v":{"$error":"#REF!"}},null,{"$f":"#REF!&\"0356\"","v":{"$error":"#REF!"}},"","","","","",{"$f":"IFERROR(VLOOKUP(I358,#REF!,10,FALSE),\"\")","v":""},{"$f":"IFERROR(VLOOKUP(I358,#REF!,11,FALSE),\"\")","v":""}]
[{"$error":"#REF!"},{"$f":"#REF!","v":{"$error":"#REF!"}},{"$f":"要求内訳データ!A359","v":{"$error":"#REF!"}},{"$f":"要求内訳データ!B359","v":{"$error":"#REF!"}},{"$f":"要求内訳データ!C359","v":{"$error":"#REF!"}},{"$f":"要求内訳データ!D359","v":{"$error":"#REF!"}},{"$f":"要求内訳データ!E359","v":{"$error":"#REF!"}},null,{"$f":"#REF!&\"0357\"","v":{"$error":"#REF!"}},"","","","","",{"$f":"IFERROR(VLOOKUP(I359,#REF!,10,FALSE),\"\")","v":""},{"$f":"IFERROR(VLOOKUP(I359,#REF!,11,FALSE),\"\")","v":""}]
[{"$error":"#REF!"},{"$f":"#REF!","v":{"$error":"#REF!"}},{"$f":"要求内訳データ!A360","v":{"$error":"#REF!"}},{"$f":"要求内訳データ!B360","v":{"$error":"#REF!"}},{"$f":"要求内訳データ!C360","v":{"$error":"#REF!"}},{"$f":"要求内訳データ!D360","v":{"$error":"#REF!"}},{"$f":"要求内訳データ!E360","v":{"$error":"#REF!"}},null,{"$f":"#REF!&\"0358\"","v":{"$error":"#REF!"}},"","","","","",{"$f":"IFERROR(VLOOKUP(I360,#REF!,10,FALSE),\"\")","v":""},{"$f":"IFERROR(VLOOKUP(I360,#REF!,11,FALSE),\"\")","v":""}]
[{"$error":"#REF!"},{"$f":"#REF!","v":{"$error":"#REF!"}},{"$f":"要求内訳データ!A361","v":{"$error":"#REF!"}},{"$f":"要求内訳データ!B361","v":{"$error":"#REF!"}},{"$f":"要求内訳データ!C361","v":{"$error":"#REF!"}},{"$f":"要求内訳データ!D361","v":{"$error":"#REF!"}},{"$f":"要求内訳データ!E361","v":{"$error":"#REF!"}},null,{"$f":"#REF!&\"0359\"","v":{"$error":"#REF!"}},"","","","","",{"$f":"IFERROR(VLOOKUP(I361,#REF!,10,FALSE),\"\")","v":""},{"$f":"IFERROR(VLOOKUP(I361,#REF!,11,FALSE),\"\")","v":""}]
[{"$error":"#REF!"},{"$f":"#REF!","v":{"$error":"#REF!"}},{"$f":"要求内訳データ!A362","v":{"$error":"#REF!"}},{"$f":"要求内訳データ!B362","v":{"$error":"#REF!"}},{"$f":"要求内訳データ!C362","v":{"$error":"#REF!"}},{"$f":"要求内訳データ!D362","v":{"$error":"#REF!"}},{"$f":"要求内訳データ!E362","v":{"$error":"#REF!"}},null,{"$f":"#REF!&\"0360\"","v":{"$error":"#REF!"}},"","","","","",{"$f":"IFERROR(VLOOKUP(I362,#REF!,10,FALSE),\"\")","v":""},{"$f":"IFERROR(VLOOKUP(I362,#REF!,11,FALSE),\"\")","v":""}]
[{"$error":"#REF!"},{"$f":"#REF!","v":{"$error":"#REF!"}},{"$f":"要求内訳データ!A363","v":{"$error":"#REF!"}},{"$f":"要求内訳データ!B363","v":{"$error":"#REF!"}},{"$f":"要求内訳データ!C363","v":{"$error":"#REF!"}},{"$f":"要求内訳データ!D363","v":{"$error":"#REF!"}},{"$f":"要求内訳データ!E363","v":{"$error":"#REF!"}},null,{"$f":"#REF!&\"0361\"","v":{"$error":"#REF!"}},"","","","","",{"$f":"IFERROR(VLOOKUP(I363,#REF!,10,FALSE),\"\")","v":""},{"$f":"IFERROR(VLOOKUP(I363,#REF!,11,FALSE),\"\")","v":""}]
[{"$error":"#REF!"},{"$f":"#REF!","v":{"$error":"#REF!"}},{"$f":"要求内訳データ!A364","v":{"$error":"#REF!"}},{"$f":"要求内訳データ!B364","v":{"$error":"#REF!"}},{"$f":"要求内訳データ!C364","v":{"$error":"#REF!"}},{"$f":"要求内訳データ!D364","v":{"$error":"#REF!"}},{"$f":"要求内訳データ!E364","v":{"$error":"#REF!"}},null,{"$f":"#REF!&\"0362\"","v":{"$error":"#REF!"}},"","","","","",{"$f":"IFERROR(VLOOKUP(I364,#REF!,10,FALSE),\"\")","v":""},{"$f":"IFERROR(VLOOKUP(I364,#REF!,11,FALSE),\"\")","v":""}]
[{"$error":"#REF!"},{"$f":"#REF!","v":{"$error":"#REF!"}},{"$f":"要求内訳データ!A365","v":{"$error":"#REF!"}},{"$f":"要求内訳データ!B365","v":{"$error":"#REF!"}},{"$f":"要求内訳データ!C365","v":{"$error":"#REF!"}},{"$f":"要求内訳データ!D365","v":{"$error":"#REF!"}},{"$f":"要求内訳データ!E365","v":{"$error":"#REF!"}},null,{"$f":"#REF!&\"0363\"","v":{"$error":"#REF!"}},"","","","","",{"$f":"IFERROR(VLOOKUP(I365,#REF!,10,FALSE),\"\")","v":""},{"$f":"IFERROR(VLOOKUP(I365,#REF!,11,FALSE),\"\")","v":""}]
[{"$error":"#REF!"},{"$f":"#REF!","v":{"$error":"#REF!"}},{"$f":"要求内訳データ!A366","v":{"$error":"#REF!"}},{"$f":"要求内訳データ!B366","v":{"$error":"#REF!"}},{"$f":"要求内訳データ!C366","v":{"$error":"#REF!"}},{"$f":"要求内訳データ!D366","v":{"$error":"#REF!"}},{"$f":"要求内訳データ!E366","v":{"$error":"#REF!"}},null,{"$f":"#REF!&\"0364\"","v":{"$error":"#REF!"}},"","","","","",{"$f":"IFERROR(VLOOKUP(I366,#REF!,10,FALSE),\"\")","v":""},{"$f":"IFERROR(VLOOKUP(I366,#REF!,11,FALSE),\"\")","v":""}]
[{"$error":"#REF!"},{"$f":"#REF!","v":{"$error":"#REF!"}},{"$f":"要求内訳データ!A367","v":{"$error":"#REF!"}},{"$f":"要求内訳データ!B367","v":{"$error":"#REF!"}},{"$f":"要求内訳データ!C367","v":{"$error":"#REF!"}},{"$f":"要求内訳データ!D367","v":{"$error":"#REF!"}},{"$f":"要求内訳データ!E367","v":{"$error":"#REF!"}},null,{"$f":"#REF!&\"0365\"","v":{"$error":"#REF!"}},"","","","","",{"$f":"IFERROR(VLOOKUP(I367,#REF!,10,FALSE),\"\")","v":""},{"$f":"IFERROR(VLOOKUP(I367,#REF!,11,FALSE),\"\")","v":""}]
[{"$error":"#REF!"},{"$f":"#REF!","v":{"$error":"#REF!"}},{"$f":"要求内訳データ!A368","v":{"$error":"#REF!"}},{"$f":"要求内訳データ!B368","v":{"$error":"#REF!"}},{"$f":"要求内訳データ!C368","v":{"$error":"#REF!"}},{"$f":"要求内訳データ!D368","v":{"$error":"#REF!"}},{"$f":"要求内訳データ!E368","v":{"$error":"#REF!"}},null,{"$f":"#REF!&\"0366\"","v":{"$error":"#REF!"}},"","","","","",{"$f":"IFERROR(VLOOKUP(I368,#REF!,10,FALSE),\"\")","v":""},{"$f":"IFERROR(VLOOKUP(I368,#REF!,11,FALSE),\"\")","v":""}]
[{"$error":"#REF!"},{"$f":"#REF!","v":{"$error":"#REF!"}},{"$f":"要求内訳データ!A369","v":{"$error":"#REF!"}},{"$f":"要求内訳データ!B369","v":{"$error":"#REF!"}},{"$f":"要求内訳データ!C369","v":{"$error":"#REF!"}},{"$f":"要求内訳データ!D369","v":{"$error":"#REF!"}},{"$f":"要求内訳データ!E369","v":{"$error":"#REF!"}},null,{"$f":"#REF!&\"0367\"","v":{"$error":"#REF!"}},"","","","","",{"$f":"IFERROR(VLOOKUP(I369,#REF!,10,FALSE),\"\")","v":""},{"$f":"IFERROR(VLOOKUP(I369,#REF!,11,FALSE),\"\")","v":""}]
[{"$error":"#REF!"},{"$f":"#REF!","v":{"$error":"#REF!"}},{"$f":"要求内訳データ!A370","v":{"$error":"#REF!"}},{"$f":"要求内訳データ!B370","v":{"$error":"#REF!"}},{"$f":"要求内訳データ!C370","v":{"$error":"#REF!"}},{"$f":"要求内訳データ!D370","v":{"$error":"#REF!"}},{"$f":"要求内訳データ!E370","v":{"$error":"#REF!"}},null,{"$f":"#REF!&\"0368\"","v":{"$error":"#REF!"}},"","","","","",{"$f":"IFERROR(VLOOKUP(I370,#REF!,10,FALSE),\"\")","v":""},{"$f":"IFERROR(VLOOKUP(I370,#REF!,11,FALSE),\"\")","v":""}]
[{"$error":"#REF!"},{"$f":"#REF!","v":{"$error":"#REF!"}},{"$f":"要求内訳データ!A371","v":{"$error":"#REF!"}},{"$f":"要求内訳データ!B371","v":{"$error":"#REF!"}},{"$f":"要求内訳データ!C371","v":{"$error":"#REF!"}},{"$f":"要求内訳データ!D371","v":{"$error":"#REF!"}},{"$f":"要求内訳データ!E371","v":{"$error":"#REF!"}},null,{"$f":"#REF!&\"0369\"","v":{"$error":"#REF!"}},"","","","","",{"$f":"IFERROR(VLOOKUP(I371,#REF!,10,FALSE),\"\")","v":""},{"$f":"IFERROR(VLOOKUP(I371,#REF!,11,FALSE),\"\")","v":""}]
[{"$error":"#REF!"},{"$f":"#REF!","v":{"$error":"#REF!"}},{"$f":"要求内訳データ!A372","v":{"$error":"#REF!"}},{"$f":"要求内訳データ!B372","v":{"$error":"#REF!"}},{"$f":"要求内訳データ!C372","v":{"$error":"#REF!"}},{"$f":"要求内訳データ!D372","v":{"$error":"#REF!"}},{"$f":"要求内訳データ!E372","v":{"$error":"#REF!"}},null,{"$f":"#REF!&\"0370\"","v":{"$error":"#REF!"}},"","","","","",{"$f":"IFERROR(VLOOKUP(I372,#REF!,10,FALSE),\"\")","v":""},{"$f":"IFERROR(VLOOKUP(I372,#REF!,11,FALSE),\"\")","v":""}]
[{"$error":"#REF!"},{"$f":"#REF!","v":{"$error":"#REF!"}},{"$f":"要求内訳データ!A373","v":{"$error":"#REF!"}},{"$f":"要求内訳データ!B373","v":{"$error":"#REF!"}},{"$f":"要求内訳データ!C373","v":{"$error":"#REF!"}},{"$f":"要求内訳データ!D373","v":{"$error":"#REF!"}},{"$f":"要求内訳データ!E373","v":{"$error":"#REF!"}},null,{"$f":"#REF!&\"0371\"","v":{"$error":"#REF!"}},"","","","","",{"$f":"IFERROR(VLOOKUP(I373,#REF!,10,FALSE),\"\")","v":""},{"$f":"IFERROR(VLOOKUP(I373,#REF!,11,FALSE),\"\")","v":""}]
[{"$error":"#REF!"},{"$f":"#REF!","v":{"$error":"#REF!"}},{"$f":"要求内訳データ!A374","v":{"$error":"#REF!"}},{"$f":"要求内訳データ!B374","v":{"$error":"#REF!"}},{"$f":"要求内訳データ!C374","v":{"$error":"#REF!"}},{"$f":"要求内訳データ!D374","v":{"$error":"#REF!"}},{"$f":"要求内訳データ!E374","v":{"$error":"#REF!"}},null,{"$f":"#REF!&\"0372\"","v":{"$error":"#REF!"}},"","","","","",{"$f":"IFERROR(VLOOKUP(I374,#REF!,10,FALSE),\"\")","v":""},{"$f":"IFERROR(VLOOKUP(I374,#REF!,11,FALSE),\"\")","v":""}]
[{"$error":"#REF!"},{"$f":"#REF!","v":{"$error":"#REF!"}},{"$f":"要求内訳データ!A375","v":{"$error":"#REF!"}},{"$f":"要求内訳データ!B375","v":{"$error":"#REF!"}},{"$f":"要求内訳データ!C375","v":{"$error":"#REF!"}},{"$f":"要求内訳データ!D375","v":{"$error":"#REF!"}},{"$f":"要求内訳データ!E375","v":{"$error":"#REF!"}},null,{"$f":"#REF!&\"0373\"","v":{"$error":"#REF!"}},"","","","","",{"$f":"IFERROR(VLOOKUP(I375,#REF!,10,FALSE),\"\")","v":""},{"$f":"IFERROR(VLOOKUP(I375,#REF!,11,FALSE),\"\")","v":""}]
[{"$error":"#REF!"},{"$f":"#REF!","v":{"$error":"#REF!"}},{"$f":"要求内訳データ!A376","v":{"$error":"#REF!"}},{"$f":"要求内訳データ!B376","v":{"$error":"#REF!"}},{"$f":"要求内訳データ!C376","v":{"$error":"#REF!"}},{"$f":"要求内訳データ!D376","v":{"$error":"#REF!"}},{"$f":"要求内訳データ!E376","v":{"$error":"#REF!"}},null,{"$f":"#REF!&\"0374\"","v":{"$error":"#REF!"}},"","","","","",{"$f":"IFERROR(VLOOKUP(I376,#REF!,10,FALSE),\"\")","v":""},{"$f":"IFERROR(VLOOKUP(I376,#REF!,11,FALSE),\"\")","v":""}]
[{"$error":"#REF!"},{"$f":"#REF!","v":{"$error":"#REF!"}},{"$f":"要求内訳データ!A377","v":{"$error":"#REF!"}},{"$f":"要求内訳データ!B377","v":{"$error":"#REF!"}},{"$f":"要求内訳データ!C377","v":{"$error":"#REF!"}},{"$f":"要求内訳データ!D377","v":{"$error":"#REF!"}},{"$f":"要求内訳データ!E377","v":{"$error":"#REF!"}},null,{"$f":"#REF!&\"0375\"","v":{"$error":"#REF!"}},"","","","","",{"$f":"IFERROR(VLOOKUP(I377,#REF!,10,FALSE),\"\")","v":""},{"$f":"IFERROR(VLOOKUP(I377,#REF!,11,FALSE),\"\")","v":""}]
[{"$error":"#REF!"},{"$f":"#REF!","v":{"$error":"#REF!"}},{"$f":"要求内訳データ!A378","v":{"$error":"#REF!"}},{"$f":"要求内訳データ!B378","v":{"$error":"#REF!"}},{"$f":"要求内訳データ!C378","v":{"$error":"#REF!"}},{"$f":"要求内訳データ!D378","v":{"$error":"#REF!"}},{"$f":"要求内訳データ!E378","v":{"$error":"#REF!"}},null,{"$f":"#REF!&\"0376\"","v":{"$error":"#REF!"}},"","","","","",{"$f":"IFERROR(VLOOKUP(I378,#REF!,10,FALSE),\"\")","v":""},{"$f":"IFERROR(VLOOKUP(I378,#REF!,11,FALSE),\"\")","v":""}]
[{"$error":"#REF!"},{"$f":"#REF!","v":{"$error":"#REF!"}},{"$f":"要求内訳データ!A379","v":{"$error":"#REF!"}},{"$f":"要求内訳データ!B379","v":{"$error":"#REF!"}},{"$f":"要求内訳データ!C379","v":{"$error":"#REF!"}},{"$f":"要求内訳データ!D379","v":{"$error":"#REF!"}},{"$f":"要求内訳データ!E379","v":{"$error":"#REF!"}},null,{"$f":"#REF!&\"0377\"","v":{"$error":"#REF!"}},"","","","","",{"$f":"IFERROR(VLOOKUP(I379,#REF!,10,FALSE),\"\")","v":""},{"$f":"IFERROR(VLOOKUP(I379,#REF!,11,FALSE),\"\")","v":""}]
[{"$error":"#REF!"},{"$f":"#REF!","v":{"$error":"#REF!"}},{"$f":"要求内訳データ!A380","v":{"$error":"#REF!"}},{"$f":"要求内訳データ!B380","v":{"$error":"#REF!"}},{"$f":"要求内訳データ!C380","v":{"$error":"#REF!"}},{"$f":"要求内訳データ!D380","v":{"$error":"#REF!"}},{"$f":"要求内訳データ!E380","v":{"$error":"#REF!"}},null,{"$f":"#REF!&\"0378\"","v":{"$error":"#REF!"}},"","","","","",{"$f":"IFERROR(VLOOKUP(I380,#REF!,10,FALSE),\"\")","v":""},{"$f":"IFERROR(VLOOKUP(I380,#REF!,11,FALSE),\"\")","v":""}]
[{"$error":"#REF!"},{"$f":"#REF!","v":{"$error":"#REF!"}},{"$f":"要求内訳データ!A381","v":{"$error":"#REF!"}},{"$f":"要求内訳データ!B381","v":{"$error":"#REF!"}},{"$f":"要求内訳データ!C381","v":{"$error":"#REF!"}},{"$f":"要求内訳データ!D381","v":{"$error":"#REF!"}},{"$f":"要求内訳データ!E381","v":{"$error":"#REF!"}},null,{"$f":"#REF!&\"0379\"","v":{"$error":"#REF!"}},"","","","","",{"$f":"IFERROR(VLOOKUP(I381,#REF!,10,FALSE),\"\")","v":""},{"$f":"IFERROR(VLOOKUP(I381,#REF!,11,FALSE),\"\")","v":""}]
[{"$error":"#REF!"},{"$f":"#REF!","v":{"$error":"#REF!"}},{"$f":"要求内訳データ!A382","v":{"$error":"#REF!"}},{"$f":"要求内訳データ!B382","v":{"$error":"#REF!"}},{"$f":"要求内訳データ!C382","v":{"$error":"#REF!"}},{"$f":"要求内訳データ!D382","v":{"$error":"#REF!"}},{"$f":"要求内訳データ!E382","v":{"$error":"#REF!"}},null,{"$f":"#REF!&\"0380\"","v":{"$error":"#REF!"}},"","","","","",{"$f":"IFERROR(VLOOKUP(I382,#REF!,10,FALSE),\"\")","v":""},{"$f":"IFERROR(VLOOKUP(I382,#REF!,11,FALSE),\"\")","v":""}]
[{"$error":"#REF!"},{"$f":"#REF!","v":{"$error":"#REF!"}},{"$f":"要求内訳データ!A383","v":{"$error":"#REF!"}},{"$f":"要求内訳データ!B383","v":{"$error":"#REF!"}},{"$f":"要求内訳データ!C383","v":{"$error":"#REF!"}},{"$f":"要求内訳データ!D383","v":{"$error":"#REF!"}},{"$f":"要求内訳データ!E383","v":{"$error":"#REF!"}},null,{"$f":"#REF!&\"0381\"","v":{"$error":"#REF!"}},"","","","","",{"$f":"IFERROR(VLOOKUP(I383,#REF!,10,FALSE),\"\")","v":""},{"$f":"IFERROR(VLOOKUP(I383,#REF!,11,FALSE),\"\")","v":""}]
[{"$error":"#REF!"},{"$f":"#REF!","v":{"$error":"#REF!"}},{"$f":"要求内訳データ!A384","v":{"$error":"#REF!"}},{"$f":"要求内訳データ!B384","v":{"$error":"#REF!"}},{"$f":"要求内訳データ!C384","v":{"$error":"#REF!"}},{"$f":"要求内訳データ!D384","v":{"$error":"#REF!"}},{"$f":"要求内訳データ!E384","v":{"$error":"#REF!"}},null,{"$f":"#REF!&\"0382\"","v":{"$error":"#REF!"}},"","","","","",{"$f":"IFERROR(VLOOKUP(I384,#REF!,10,FALSE),\"\")","v":""},{"$f":"IFERROR(VLOOKUP(I384,#REF!,11,FALSE),\"\")","v":""}]
[{"$error":"#REF!"},{"$f":"#REF!","v":{"$error":"#REF!"}},{"$f":"要求内訳データ!A385","v":{"$error":"#REF!"}},{"$f":"要求内訳データ!B385","v":{"$error":"#REF!"}},{"$f":"要求内訳データ!C385","v":{"$error":"#REF!"}},{"$f":"要求内訳データ!D385","v":{"$error":"#REF!"}},{"$f":"要求内訳データ!E385","v":{"$error":"#REF!"}},null,{"$f":"#REF!&\"0383\"","v":{"$error":"#REF!"}},"","","","","",{"$f":"IFERROR(VLOOKUP(I385,#REF!,10,FALSE),\"\")","v":""},{"$f":"IFERROR(VLOOKUP(I385,#REF!,11,FALSE),\"\")","v":""}]
[{"$error":"#REF!"},{"$f":"#REF!","v":{"$error":"#REF!"}},{"$f":"要求内訳データ!A386","v":{"$error":"#REF!"}},{"$f":"要求内訳データ!B386","v":{"$error":"#REF!"}},{"$f":"要求内訳データ!C386","v":{"$error":"#REF!"}},{"$f":"要求内訳データ!D386","v":{"$error":"#REF!"}},{"$f":"要求内訳データ!E386","v":{"$error":"#REF!"}},null,{"$f":"#REF!&\"0384\"","v":{"$error":"#REF!"}},"","","","","",{"$f":"IFERROR(VLOOKUP(I386,#REF!,10,FALSE),\"\")","v":""},{"$f":"IFERROR(VLOOKUP(I386,#REF!,11,FALSE),\"\")","v":""}]
[{"$f":"LEFT(B387,LEN(B387)-4)","v":{"$error":"#REF!"}},{"$f":"#REF!","v":{"$error":"#REF!"}},{"$f":"要求内訳データ!A387","v":{"$error":"#REF!"}},{"$f":"要求内訳データ!B387","v":{"$error":"#REF!"}},{"$f":"要求内訳データ!C387","v":{"$error":"#REF!"}},{"$f":"要求内訳データ!D387","v":{"$error":"#REF!"}},{"$f":"要求内訳データ!E387","v":{"$error":"#REF!"}},null,{"$f":"#REF!&\"0385\"","v":{"$error":"#REF!"}},"",{"$f":"IFERROR(VLOOKUP(I387,$B$3:$G$498,3,FALSE),\"\")","v":""},{"$f":"IF(AND(J387=\"\",NOT(K386=\"\")),\"以下余白\",IFERROR(VLOOKUP(I387,$B$3:$G$498,4,FALSE),\"\"))","v":""},{"$f":"IFERROR(VLOOKUP(I387,$B$3:$G$498,5,FALSE),\"\")","v":""},{"$f":"IFERROR(VLOOKUP(I387,$B$3:$G$498,6,FALSE),\"\")","v":""},{"$f":"IFERROR(VLOOKUP(I387,#REF!,10,FALSE),\"\")","v":""},{"$f":"IFERROR(VLOOKUP(I387,#REF!,11,FALSE),\"\")","v":""}]
[{"$error":"#REF!"},{"$f":"#REF!","v":{"$error":"#REF!"}},{"$f":"要求内訳データ!A388","v":{"$error":"#REF!"}},{"$f":"要求内訳データ!B388","v":{"$error":"#REF!"}},{"$f":"要求内訳データ!C388","v":{"$error":"#REF!"}},{"$f":"要求内訳データ!D388","v":{"$error":"#REF!"}},{"$f":"要求内訳データ!E388","v":{"$error":"#REF!"}},null,{"$f":"#REF!&\"0386\"","v":{"$error":"#REF!"}},{"$f":"IF(K388=\"\",\"\",J387+1)","v":""},"","","","",{"$f":"IFERROR(VLOOKUP(I388,#REF!,10,FALSE),\"\")","v":""},{"$f":"IFERROR(VLOOKUP(I388,#REF!,11,FALSE),\"\")","v":""}]
[{"$error":"#REF!"},{"$f":"#REF!","v":{"$error":"#REF!"}},{"$f":"要求内訳データ!A389","v":{"$error":"#REF!"}},{"$f":"要求内訳データ!B389","v":{"$error":"#REF!"}},{"$f":"要求内訳データ!C389","v":{"$error":"#REF!"}},{"$f":"要求内訳データ!D389","v":{"$error":"#REF!"}},{"$f":"要求内訳データ!E389","v":{"$error":"#REF!"}},null,{"$f":"#REF!&\"0387\"","v":{"$error":"#REF!"}},"","","","","",{"$f":"IFERROR(VLOOKUP(I389,#REF!,10,FALSE),\"\")","v":""},{"$f":"IFERROR(VLOOKUP(I389,#REF!,11,FALSE),\"\")","v":""}]
[{"$error":"#REF!"},{"$f":"#REF!","v":{"$error":"#REF!"}},{"$f":"要求内訳データ!A390","v":{"$error":"#REF!"}},{"$f":"要求内訳データ!B390","v":{"$error":"#REF!"}},{"$f":"要求内訳データ!C390","v":{"$error":"#REF!"}},{"$f":"要求内訳データ!D390","v":{"$error":"#REF!"}},{"$f":"要求内訳データ!E390","v":{"$error":"#REF!"}},null,{"$f":"#REF!&\"0388\"","v":{"$error":"#REF!"}},"","","","","",{"$f":"IFERROR(VLOOKUP(I390,#REF!,10,FALSE),\"\")","v":""},{"$f":"IFERROR(VLOOKUP(I390,#REF!,11,FALSE),\"\")","v":""}]
[{"$error":"#REF!"},{"$f":"#REF!","v":{"$error":"#REF!"}},{"$f":"要求内訳データ!A391","v":{"$error":"#REF!"}},{"$f":"要求内訳データ!B391","v":{"$error":"#REF!"}},{"$f":"要求内訳データ!C391","v":{"$error":"#REF!"}},{"$f":"要求内訳データ!D391","v":{"$error":"#REF!"}},{"$f":"要求内訳データ!E391","v":{"$error":"#REF!"}},null,{"$f":"#REF!&\"0389\"","v":{"$error":"#REF!"}},"","","","","",{"$f":"IFERROR(VLOOKUP(I391,#REF!,10,FALSE),\"\")","v":""},{"$f":"IFERROR(VLOOKUP(I391,#REF!,11,FALSE),\"\")","v":""}]
[{"$error":"#REF!"},{"$f":"#REF!","v":{"$error":"#REF!"}},{"$f":"要求内訳データ!A392","v":{"$error":"#REF!"}},{"$f":"要求内訳データ!B392","v":{"$error":"#REF!"}},{"$f":"要求内訳データ!C392","v":{"$error":"#REF!"}},{"$f":"要求内訳データ!D392","v":{"$error":"#REF!"}},{"$f":"要求内訳データ!E392","v":{"$error":"#REF!"}},null,{"$f":"#REF!&\"0390\"","v":{"$error":"#REF!"}},"","","","","",{"$f":"IFERROR(VLOOKUP(I392,#REF!,10,FALSE),\"\")","v":""},{"$f":"IFERROR(VLOOKUP(I392,#REF!,11,FALSE),\"\")","v":""}]
[{"$error":"#REF!"},{"$f":"#REF!","v":{"$error":"#REF!"}},{"$f":"要求内訳データ!A393","v":{"$error":"#REF!"}},{"$f":"要求内訳データ!B393","v":{"$error":"#REF!"}},{"$f":"要求内訳データ!C393","v":{"$error":"#REF!"}},{"$f":"要求内訳データ!D393","v":{"$error":"#REF!"}},{"$f":"要求内訳データ!E393","v":{"$error":"#REF!"}},null,{"$f":"#REF!&\"0391\"","v":{"$error":"#REF!"}},"","","","","",{"$f":"IFERROR(VLOOKUP(I393,#REF!,10,FALSE),\"\")","v":""},{"$f":"IFERROR(VLOOKUP(I393,#REF!,11,FALSE),\"\")","v":""}]
[{"$error":"#REF!"},{"$f":"#REF!","v":{"$error":"#REF!"}},{"$f":"要求内訳データ!A394","v":{"$error":"#REF!"}},{"$f":"要求内訳データ!B394","v":{"$error":"#REF!"}},{"$f":"要求内訳データ!C394","v":{"$error":"#REF!"}},{"$f":"要求内訳データ!D394","v":{"$error":"#REF!"}},{"$f":"要求内訳データ!E394","v":{"$error":"#REF!"}},null,{"$f":"#REF!&\"0392\"","v":{"$error":"#REF!"}},"","","","","",{"$f":"IFERROR(VLOOKUP(I394,#REF!,10,FALSE),\"\")","v":""},{"$f":"IFERROR(VLOOKUP(I394,#REF!,11,FALSE),\"\")","v":""}]
[{"$error":"#REF!"},{"$f":"#REF!","v":{"$error":"#REF!"}},{"$f":"要求内訳データ!A395","v":{"$error":"#REF!"}},{"$f":"要求内訳データ!B395","v":{"$error":"#REF!"}},{"$f":"要求内訳データ!C395","v":{"$error":"#REF!"}},{"$f":"要求内訳データ!D395","v":{"$error":"#REF!"}},{"$f":"要求内訳データ!E395","v":{"$error":"#REF!"}},null,{"$f":"#REF!&\"0393\"","v":{"$error":"#REF!"}},"","","","","",{"$f":"IFERROR(VLOOKUP(I395,#REF!,10,FALSE),\"\")","v":""},{"$f":"IFERROR(VLOOKUP(I395,#REF!,11,FALSE),\"\")","v":""}]
[{"$error":"#REF!"},{"$f":"#REF!","v":{"$error":"#REF!"}},{"$f":"要求内訳データ!A396","v":{"$error":"#REF!"}},{"$f":"要求内訳データ!B396","v":{"$error":"#REF!"}},{"$f":"要求内訳データ!C396","v":{"$error":"#REF!"}},{"$f":"要求内訳データ!D396","v":{"$error":"#REF!"}},{"$f":"要求内訳データ!E396","v":{"$error":"#REF!"}},null,{"$f":"#REF!&\"0394\"","v":{"$error":"#REF!"}},"","","","","",{"$f":"IFERROR(VLOOKUP(I396,#REF!,10,FALSE),\"\")","v":""},{"$f":"IFERROR(VLOOKUP(I396,#REF!,11,FALSE),\"\")","v":""}]
[{"$error":"#REF!"},{"$f":"#REF!","v":{"$error":"#REF!"}},{"$f":"要求内訳データ!A397","v":{"$error":"#REF!"}},{"$f":"要求内訳データ!B397","v":{"$error":"#REF!"}},{"$f":"要求内訳データ!C397","v":{"$error":"#REF!"}},{"$f":"要求内訳データ!D397","v":{"$error":"#REF!"}},{"$f":"要求内訳データ!E397","v":{"$error":"#REF!"}},null,{"$f":"#REF!&\"0395\"","v":{"$error":"#REF!"}},"","","","","",{"$f":"IFERROR(VLOOKUP(I397,#REF!,10,FALSE),\"\")","v":""},{"$f":"IFERROR(VLOOKUP(I397,#REF!,11,FALSE),\"\")","v":""}]
[{"$error":"#REF!"},{"$f":"#REF!","v":{"$error":"#REF!"}},{"$f":"要求内訳データ!A398","v":{"$error":"#REF!"}},{"$f":"要求内訳データ!B398","v":{"$error":"#REF!"}},{"$f":"要求内訳データ!C398","v":{"$error":"#REF!"}},{"$f":"要求内訳データ!D398","v":{"$error":"#REF!"}},{"$f":"要求内訳データ!E398","v":{"$error":"#REF!"}},null,{"$f":"#REF!&\"0396\"","v":{"$error":"#REF!"}},"","","","","",{"$f":"IFERROR(VLOOKUP(I398,#REF!,10,FALSE),\"\")","v":""},{"$f":"IFERROR(VLOOKUP(I398,#REF!,11,FALSE),\"\")","v":""}]
[{"$error":"#REF!"},{"$f":"#REF!","v":{"$error":"#REF!"}},{"$f":"要求内訳データ!A399","v":{"$error":"#REF!"}},{"$f":"要求内訳データ!B399","v":{"$error":"#REF!"}},{"$f":"要求内訳データ!C399","v":{"$error":"#REF!"}},{"$f":"要求内訳データ!D399","v":{"$error":"#REF!"}},{"$f":"要求内訳データ!E399","v":{"$error":"#REF!"}},null,{"$f":"#REF!&\"0397\"","v":{"$error":"#REF!"}},"","","","","",{"$f":"IFERROR(VLOOKUP(I399,#REF!,10,FALSE),\"\")","v":""},{"$f":"IFERROR(VLOOKUP(I399,#REF!,11,FALSE),\"\")","v":""}]
[{"$error":"#REF!"},{"$f":"#REF!","v":{"$error":"#REF!"}},{"$f":"要求内訳データ!A400","v":{"$error":"#REF!"}},{"$f":"要求内訳データ!B400","v":{"$error":"#REF!"}},{"$f":"要求内訳データ!C400","v":{"$error":"#REF!"}},{"$f":"要求内訳データ!D400","v":{"$error":"#REF!"}},{"$f":"要求内訳データ!E400","v":{"$error":"#REF!"}},null,{"$f":"#REF!&\"0398\"","v":{"$error":"#REF!"}},"","","","","",{"$f":"IFERROR(VLOOKUP(I400,#REF!,10,FALSE),\"\")","v":""},{"$f":"IFERROR(VLOOKUP(I400,#REF!,11,FALSE),\"\")","v":""}]
[{"$error":"#REF!"},{"$f":"#REF!","v":{"$error":"#REF!"}},{"$f":"要求内訳データ!A401","v":{"$error":"#REF!"}},{"$f":"要求内訳データ!B401","v":{"$error":"#REF!"}},{"$f":"要求内訳データ!C401","v":{"$error":"#REF!"}},{"$f":"要求内訳データ!D401","v":{"$error":"#REF!"}},{"$f":"要求内訳データ!E401","v":{"$error":"#REF!"}},null,{"$f":"#REF!&\"0399\"","v":{"$error":"#REF!"}},"","","","","",{"$f":"IFERROR(VLOOKUP(I401,#REF!,10,FALSE),\"\")","v":""},{"$f":"IFERROR(VLOOKUP(I401,#REF!,11,FALSE),\"\")","v":""}]
[{"$error":"#REF!"},{"$f":"#REF!","v":{"$error":"#REF!"}},{"$f":"要求内訳データ!A402","v":{"$error":"#REF!"}},{"$f":"要求内訳データ!B402","v":{"$error":"#REF!"}},{"$f":"要求内訳データ!C402","v":{"$error":"#REF!"}},{"$f":"要求内訳データ!D402","v":{"$error":"#REF!"}},{"$f":"要求内訳データ!E402","v":{"$error":"#REF!"}},null,{"$f":"#REF!&\"0400\"","v":{"$error":"#REF!"}},"","","","","",{"$f":"IFERROR(VLOOKUP(I402,#REF!,10,FALSE),\"\")","v":""},{"$f":"IFERROR(VLOOKUP(I402,#REF!,11,FALSE),\"\")","v":""}]
[{"$error":"#REF!"},{"$f":"#REF!","v":{"$error":"#REF!"}},{"$f":"要求内訳データ!A403","v":{"$error":"#REF!"}},{"$f":"要求内訳データ!B403","v":{"$error":"#REF!"}},{"$f":"要求内訳データ!C403","v":{"$error":"#REF!"}},{"$f":"要求内訳データ!D403","v":{"$error":"#REF!"}},{"$f":"要求内訳データ!E403","v":{"$error":"#REF!"}},null,{"$f":"#REF!&\"0401\"","v":{"$error":"#REF!"}},"","","","","",{"$f":"IFERROR(VLOOKUP(I403,#REF!,10,FALSE),\"\")","v":""},{"$f":"IFERROR(VLOOKUP(I403,#REF!,11,FALSE),\"\")","v":""}]
[{"$error":"#REF!"},{"$f":"#REF!","v":{"$error":"#REF!"}},{"$f":"要求内訳データ!A404","v":{"$error":"#REF!"}},{"$f":"要求内訳データ!B404","v":{"$error":"#REF!"}},{"$f":"要求内訳データ!C404","v":{"$error":"#REF!"}},{"$f":"要求内訳データ!D404","v":{"$error":"#REF!"}},{"$f":"要求内訳データ!E404","v":{"$error":"#REF!"}},null,{"$f":"#REF!&\"0402\"","v":{"$error":"#REF!"}},"","","","","",{"$f":"IFERROR(VLOOKUP(I404,#REF!,10,FALSE),\"\")","v":""},{"$f":"IFERROR(VLOOKUP(I404,#REF!,11,FALSE),\"\")","v":""}]
[{"$error":"#REF!"},{"$f":"#REF!","v":{"$error":"#REF!"}},{"$f":"要求内訳データ!A405","v":{"$error":"#REF!"}},{"$f":"要求内訳データ!B405","v":{"$error":"#REF!"}},{"$f":"要求内訳データ!C405","v":{"$error":"#REF!"}},{"$f":"要求内訳データ!D405","v":{"$error":"#REF!"}},{"$f":"要求内訳データ!E405","v":{"$error":"#REF!"}},null,{"$f":"#REF!&\"0403\"","v":{"$error":"#REF!"}},"","","","","",{"$f":"IFERROR(VLOOKUP(I405,#REF!,10,FALSE),\"\")","v":""},{"$f":"IFERROR(VLOOKUP(I405,#REF!,11,FALSE),\"\")","v":""}]
[{"$error":"#REF!"},{"$f":"#REF!","v":{"$error":"#REF!"}},{"$f":"要求内訳データ!A406","v":{"$error":"#REF!"}},{"$f":"要求内訳データ!B406","v":{"$error":"#REF!"}},{"$f":"要求内訳データ!C406","v":{"$error":"#REF!"}},{"$f":"要求内訳データ!D406","v":{"$error":"#REF!"}},{"$f":"要求内訳データ!E406","v":{"$error":"#REF!"}},null,{"$f":"#REF!&\"0404\"","v":{"$error":"#REF!"}},"","","","","",{"$f":"IFERROR(VLOOKUP(I406,#REF!,10,FALSE),\"\")","v":""},{"$f":"IFERROR(VLOOKUP(I406,#REF!,11,FALSE),\"\")","v":""}]
[{"$error":"#REF!"},{"$f":"#REF!","v":{"$error":"#REF!"}},{"$f":"要求内訳データ!A407","v":{"$error":"#REF!"}},{"$f":"要求内訳データ!B407","v":{"$error":"#REF!"}},{"$f":"要求内訳データ!C407","v":{"$error":"#REF!"}},{"$f":"要求内訳データ!D407","v":{"$error":"#REF!"}},{"$f":"要求内訳データ!E407","v":{"$error":"#REF!"}},null,{"$f":"#REF!&\"0405\"","v":{"$error":"#REF!"}},"","","","","",{"$f":"IFERROR(VLOOKUP(I407,#REF!,10,FALSE),\"\")","v":""},{"$f":"IFERROR(VLOOKUP(I407,#REF!,11,FALSE),\"\")","v":""}]
[{"$error":"#REF!"},{"$f":"#REF!","v":{"$error":"#REF!"}},{"$f":"要求内訳データ!A408","v":{"$error":"#REF!"}},{"$f":"要求内訳データ!B408","v":{"$error":"#REF!"}},{"$f":"要求内訳データ!C408","v":{"$error":"#REF!"}},{"$f":"要求内訳データ!D408","v":{"$error":"#REF!"}},{"$f":"要求内訳データ!E408","v":{"$error":"#REF!"}},null,{"$f":"#REF!&\"0406\"","v":{"$error":"#REF!"}},"","","","","",{"$f":"IFERROR(VLOOKUP(I408,#REF!,10,FALSE),\"\")","v":""},{"$f":"IFERROR(VLOOKUP(I408,#REF!,11,FALSE),\"\")","v":""}]
[{"$error":"#REF!"},{"$f":"#REF!","v":{"$error":"#REF!"}},{"$f":"要求内訳データ!A409","v":{"$error":"#REF!"}},{"$f":"要求内訳データ!B409","v":{"$error":"#REF!"}},{"$f":"要求内訳データ!C409","v":{"$error":"#REF!"}},{"$f":"要求内訳データ!D409","v":{"$error":"#REF!"}},{"$f":"要求内訳データ!E409","v":{"$error":"#REF!"}},null,{"$f":"#REF!&\"0407\"","v":{"$error":"#REF!"}},"","","","","",{"$f":"IFERROR(VLOOKUP(I409,#REF!,10,FALSE),\"\")","v":""},{"$f":"IFERROR(VLOOKUP(I409,#REF!,11,FALSE),\"\")","v":""}]
[{"$error":"#REF!"},{"$f":"#REF!","v":{"$error":"#REF!"}},{"$f":"要求内訳データ!A410","v":{"$error":"#REF!"}},{"$f":"要求内訳データ!B410","v":{"$error":"#REF!"}},{"$f":"要求内訳データ!C410","v":{"$error":"#REF!"}},{"$f":"要求内訳データ!D410","v":{"$error":"#REF!"}},{"$f":"要求内訳データ!E410","v":{"$error":"#REF!"}},null,{"$f":"#REF!&\"0408\"","v":{"$error":"#REF!"}},"","","","","",{"$f":"IFERROR(VLOOKUP(I410,#REF!,10,FALSE),\"\")","v":""},{"$f":"IFERROR(VLOOKUP(I410,#REF!,11,FALSE),\"\")","v":""}]
[{"$error":"#REF!"},{"$f":"#REF!","v":{"$error":"#REF!"}},{"$f":"要求内訳データ!A411","v":{"$error":"#REF!"}},{"$f":"要求内訳データ!B411","v":{"$error":"#REF!"}},{"$f":"要求内訳データ!C411","v":{"$error":"#REF!"}},{"$f":"要求内訳データ!D411","v":{"$error":"#REF!"}},{"$f":"要求内訳データ!E411","v":{"$error":"#REF!"}},null,{"$f":"#REF!&\"0409\"","v":{"$error":"#REF!"}},"","","","","",{"$f":"IFERROR(VLOOKUP(I411,#REF!,10,FALSE),\"\")","v":""},{"$f":"IFERROR(VLOOKUP(I411,#REF!,11,FALSE),\"\")","v":""}]
[{"$error":"#REF!"},{"$f":"#REF!","v":{"$error":"#REF!"}},{"$f":"要求内訳データ!A412","v":{"$error":"#REF!"}},{"$f":"要求内訳データ!B412","v":{"$error":"#REF!"}},{"$f":"要求内訳データ!C412","v":{"$error":"#REF!"}},{"$f":"要求内訳データ!D412","v":{"$error":"#REF!"}},{"$f":"要求内訳データ!E412","v":{"$error":"#REF!"}},null,{"$f":"#REF!&\"0410\"","v":{"$error":"#REF!"}},"","","","","",{"$f":"IFERROR(VLOOKUP(I412,#REF!,10,FALSE),\"\")","v":""},{"$f":"IFERROR(VLOOKUP(I412,#REF!,11,FALSE),\"\")","v":""}]
[{"$error":"#REF!"},{"$f":"#REF!","v":{"$error":"#REF!"}},{"$f":"要求内訳データ!A413","v":{"$error":"#REF!"}},{"$f":"要求内訳データ!B413","v":{"$error":"#REF!"}},{"$f":"要求内訳データ!C413","v":{"$error":"#REF!"}},{"$f":"要求内訳データ!D413","v":{"$error":"#REF!"}},{"$f":"要求内訳データ!E413","v":{"$error":"#REF!"}},null,{"$f":"#REF!&\"0411\"","v":{"$error":"#REF!"}},"","","","","",{"$f":"IFERROR(VLOOKUP(I413,#REF!,10,FALSE),\"\")","v":""},{"$f":"IFERROR(VLOOKUP(I413,#REF!,11,FALSE),\"\")","v":""}]
[{"$error":"#REF!"},{"$f":"#REF!","v":{"$error":"#REF!"}},{"$f":"要求内訳データ!A414","v":{"$error":"#REF!"}},{"$f":"要求内訳データ!B414","v":{"$error":"#REF!"}},{"$f":"要求内訳データ!C414","v":{"$error":"#REF!"}},{"$f":"要求内訳データ!D414","v":{"$error":"#REF!"}},{"$f":"要求内訳データ!E414","v":{"$error":"#REF!"}},null,{"$f":"#REF!&\"0412\"","v":{"$error":"#REF!"}},"","","","","",{"$f":"IFERROR(VLOOKUP(I414,#REF!,10,FALSE),\"\")","v":""},{"$f":"IFERROR(VLOOKUP(I414,#REF!,11,FALSE),\"\")","v":""}]
[{"$error":"#REF!"},{"$f":"#REF!","v":{"$error":"#REF!"}},{"$f":"要求内訳データ!A415","v":{"$error":"#REF!"}},{"$f":"要求内訳データ!B415","v":{"$error":"#REF!"}},{"$f":"要求内訳データ!C415","v":{"$error":"#REF!"}},{"$f":"要求内訳データ!D415","v":{"$error":"#REF!"}},{"$f":"要求内訳データ!E415","v":{"$error":"#REF!"}},null,{"$f":"#REF!&\"0413\"","v":{"$error":"#REF!"}},"","","","","",{"$f":"IFERROR(VLOOKUP(I415,#REF!,10,FALSE),\"\")","v":""},{"$f":"IFERROR(VLOOKUP(I415,#REF!,11,FALSE),\"\")","v":""}]
[{"$error":"#REF!"},{"$f":"#REF!","v":{"$error":"#REF!"}},{"$f":"要求内訳データ!A416","v":{"$error":"#REF!"}},{"$f":"要求内訳データ!B416","v":{"$error":"#REF!"}},{"$f":"要求内訳データ!C416","v":{"$error":"#REF!"}},{"$f":"要求内訳データ!D416","v":{"$error":"#REF!"}},{"$f":"要求内訳データ!E416","v":{"$error":"#REF!"}},null,{"$f":"#REF!&\"0414\"","v":{"$error":"#REF!"}},"","","","","",{"$f":"IFERROR(VLOOKUP(I416,#REF!,10,FALSE),\"\")","v":""},{"$f":"IFERROR(VLOOKUP(I416,#REF!,11,FALSE),\"\")","v":""}]
[{"$error":"#REF!"},{"$f":"#REF!","v":{"$error":"#REF!"}},{"$f":"要求内訳データ!A417","v":{"$error":"#REF!"}},{"$f":"要求内訳データ!B417","v":{"$error":"#REF!"}},{"$f":"要求内訳データ!C417","v":{"$error":"#REF!"}},{"$f":"要求内訳データ!D417","v":{"$error":"#REF!"}},{"$f":"要求内訳データ!E417","v":{"$error":"#REF!"}},null,{"$f":"#REF!&\"0415\"","v":{"$error":"#REF!"}},"","","","","",{"$f":"IFERROR(VLOOKUP(I417,#REF!,10,FALSE),\"\")","v":""},{"$f":"IFERROR(VLOOKUP(I417,#REF!,11,FALSE),\"\")","v":""}]
[{"$error":"#REF!"},{"$f":"#REF!","v":{"$error":"#REF!"}},{"$f":"要求内訳データ!A418","v":{"$error":"#REF!"}},{"$f":"要求内訳データ!B418","v":{"$error":"#REF!"}},{"$f":"要求内訳データ!C418","v":{"$error":"#REF!"}},{"$f":"要求内訳データ!D418","v":{"$error":"#REF!"}},{"$f":"要求内訳データ!E418","v":{"$error":"#REF!"}},null,{"$f":"#REF!&\"0416\"","v":{"$error":"#REF!"}},"","","","","",{"$f":"IFERROR(VLOOKUP(I418,#REF!,10,FALSE),\"\")","v":""},{"$f":"IFERROR(VLOOKUP(I418,#REF!,11,FALSE),\"\")","v":""}]
[{"$error":"#REF!"},{"$f":"#REF!","v":{"$error":"#REF!"}},{"$f":"要求内訳データ!A419","v":{"$error":"#REF!"}},{"$f":"要求内訳データ!B419","v":{"$error":"#REF!"}},{"$f":"要求内訳データ!C419","v":{"$error":"#REF!"}},{"$f":"要求内訳データ!D419","v":{"$error":"#REF!"}},{"$f":"要求内訳データ!E419","v":{"$error":"#REF!"}},null,{"$f":"#REF!&\"0417\"","v":{"$error":"#REF!"}},"","","","","",{"$f":"IFERROR(VLOOKUP(I419,#REF!,10,FALSE),\"\")","v":""},{"$f":"IFERROR(VLOOKUP(I419,#REF!,11,FALSE),\"\")","v":""}]
[{"$error":"#REF!"},{"$f":"#REF!","v":{"$error":"#REF!"}},{"$f":"要求内訳データ!A420","v":{"$error":"#REF!"}},{"$f":"要求内訳データ!B420","v":{"$error":"#REF!"}},{"$f":"要求内訳データ!C420","v":{"$error":"#REF!"}},{"$f":"要求内訳データ!D420","v":{"$error":"#REF!"}},{"$f":"要求内訳データ!E420","v":{"$error":"#REF!"}},null,{"$f":"#REF!&\"0418\"","v":{"$error":"#REF!"}},"","","","","",{"$f":"IFERROR(VLOOKUP(I420,#REF!,10,FALSE),\"\")","v":""},{"$f":"IFERROR(VLOOKUP(I420,#REF!,11,FALSE),\"\")","v":""}]
[{"$error":"#REF!"},{"$f":"#REF!","v":{"$error":"#REF!"}},{"$f":"要求内訳データ!A421","v":{"$error":"#REF!"}},{"$f":"要求内訳データ!B421","v":{"$error":"#REF!"}},{"$f":"要求内訳データ!C421","v":{"$error":"#REF!"}},{"$f":"要求内訳データ!D421","v":{"$error":"#REF!"}},{"$f":"要求内訳データ!E421","v":{"$error":"#REF!"}},null,{"$f":"#REF!&\"0419\"","v":{"$error":"#REF!"}},"","","","","",{"$f":"IFERROR(VLOOKUP(I421,#REF!,10,FALSE),\"\")","v":""},{"$f":"IFERROR(VLOOKUP(I421,#REF!,11,FALSE),\"\")","v":""}]
[{"$error":"#REF!"},{"$f":"#REF!","v":{"$error":"#REF!"}},{"$f":"要求内訳データ!A422","v":{"$error":"#REF!"}},{"$f":"要求内訳データ!B422","v":{"$error":"#REF!"}},{"$f":"要求内訳データ!C422","v":{"$error":"#REF!"}},{"$f":"要求内訳データ!D422","v":{"$error":"#REF!"}},{"$f":"要求内訳データ!E422","v":{"$error":"#REF!"}},null,{"$f":"#REF!&\"0420\"","v":{"$error":"#REF!"}},"","","","","",{"$f":"IFERROR(VLOOKUP(I422,#REF!,10,FALSE),\"\")","v":""},{"$f":"IFERROR(VLOOKUP(I422,#REF!,11,FALSE),\"\")","v":""}]
[{"$error":"#REF!"},{"$f":"#REF!","v":{"$error":"#REF!"}},{"$f":"要求内訳データ!A423","v":{"$error":"#REF!"}},{"$f":"要求内訳データ!B423","v":{"$error":"#REF!"}},{"$f":"要求内訳データ!C423","v":{"$error":"#REF!"}},{"$f":"要求内訳データ!D423","v":{"$error":"#REF!"}},{"$f":"要求内訳データ!E423","v":{"$error":"#REF!"}},null,{"$f":"#REF!&\"0421\"","v":{"$error":"#REF!"}},"","","","","",{"$f":"IFERROR(VLOOKUP(I423,#REF!,10,FALSE),\"\")","v":""},{"$f":"IFERROR(VLOOKUP(I423,#REF!,11,FALSE),\"\")","v":""}]
[{"$error":"#REF!"},{"$f":"#REF!","v":{"$error":"#REF!"}},{"$f":"要求内訳データ!A424","v":{"$error":"#REF!"}},{"$f":"要求内訳データ!B424","v":{"$error":"#REF!"}},{"$f":"要求内訳データ!C424","v":{"$error":"#REF!"}},{"$f":"要求内訳データ!D424","v":{"$error":"#REF!"}},{"$f":"要求内訳データ!E424","v":{"$error":"#REF!"}},null,{"$f":"#REF!&\"0422\"","v":{"$error":"#REF!"}},"","","","","",{"$f":"IFERROR(VLOOKUP(I424,#REF!,10,FALSE),\"\")","v":""},{"$f":"IFERROR(VLOOKUP(I424,#REF!,11,FALSE),\"\")","v":""}]
[{"$error":"#REF!"},{"$f":"#REF!","v":{"$error":"#REF!"}},{"$f":"要求内訳データ!A425","v":{"$error":"#REF!"}},{"$f":"要求内訳データ!B425","v":{"$error":"#REF!"}},{"$f":"要求内訳データ!C425","v":{"$error":"#REF!"}},{"$f":"要求内訳データ!D425","v":{"$error":"#REF!"}},{"$f":"要求内訳データ!E425","v":{"$error":"#REF!"}},null,{"$f":"#REF!&\"0423\"","v":{"$error":"#REF!"}},"","","","","",{"$f":"IFERROR(VLOOKUP(I425,#REF!,10,FALSE),\"\")","v":""},{"$f":"IFERROR(VLOOKUP(I425,#REF!,11,FALSE),\"\")","v":""}]
[{"$error":"#REF!"},{"$f":"#REF!","v":{"$error":"#REF!"}},{"$f":"要求内訳データ!A426","v":{"$error":"#REF!"}},{"$f":"要求内訳データ!B426","v":{"$error":"#REF!"}},{"$f":"要求内訳データ!C426","v":{"$error":"#REF!"}},{"$f":"要求内訳データ!D426","v":{"$error":"#REF!"}},{"$f":"要求内訳データ!E426","v":{"$error":"#REF!"}},null,{"$f":"#REF!&\"0424\"","v":{"$error":"#REF!"}},"","","","","",{"$f":"IFERROR(VLOOKUP(I426,#REF!,10,FALSE),\"\")","v":""},{"$f":"IFERROR(VLOOKUP(I426,#REF!,11,FALSE),\"\")","v":""}]
[{"$error":"#REF!"},{"$f":"#REF!","v":{"$error":"#REF!"}},{"$f":"要求内訳データ!A427","v":{"$error":"#REF!"}},{"$f":"要求内訳データ!B427","v":{"$error":"#REF!"}},{"$f":"要求内訳データ!C427","v":{"$error":"#REF!"}},{"$f":"要求内訳データ!D427","v":{"$error":"#REF!"}},{"$f":"要求内訳データ!E427","v":{"$error":"#REF!"}},null,{"$f":"#REF!&\"0425\"","v":{"$error":"#REF!"}},"","","","","",{"$f":"IFERROR(VLOOKUP(I427,#REF!,10,FALSE),\"\")","v":""},{"$f":"IFERROR(VLOOKUP(I427,#REF!,11,FALSE),\"\")","v":""}]
[{"$error":"#REF!"},{"$f":"#REF!","v":{"$error":"#REF!"}},{"$f":"要求内訳データ!A428","v":{"$error":"#REF!"}},{"$f":"要求内訳データ!B428","v":{"$error":"#REF!"}},{"$f":"要求内訳データ!C428","v":{"$error":"#REF!"}},{"$f":"要求内訳データ!D428","v":{"$error":"#REF!"}},{"$f":"要求内訳データ!E428","v":{"$error":"#REF!"}},null,{"$f":"#REF!&\"0426\"","v":{"$error":"#REF!"}},"","","","","",{"$f":"IFERROR(VLOOKUP(I428,#REF!,10,FALSE),\"\")","v":""},{"$f":"IFERROR(VLOOKUP(I428,#REF!,11,FALSE),\"\")","v":""}]
[{"$error":"#REF!"},{"$f":"#REF!","v":{"$error":"#REF!"}},{"$f":"要求内訳データ!A429","v":{"$error":"#REF!"}},{"$f":"要求内訳データ!B429","v":{"$error":"#REF!"}},{"$f":"要求内訳データ!C429","v":{"$error":"#REF!"}},{"$f":"要求内訳データ!D429","v":{"$error":"#REF!"}},{"$f":"要求内訳データ!E429","v":{"$error":"#REF!"}},null,{"$f":"#REF!&\"0427\"","v":{"$error":"#REF!"}},"","","","","",{"$f":"IFERROR(VLOOKUP(I429,#REF!,10,FALSE),\"\")","v":""},{"$f":"IFERROR(VLOOKUP(I429,#REF!,11,FALSE),\"\")","v":""}]
[{"$error":"#REF!"},{"$f":"#REF!","v":{"$error":"#REF!"}},{"$f":"要求内訳データ!A430","v":{"$error":"#REF!"}},{"$f":"要求内訳データ!B430","v":{"$error":"#REF!"}},{"$f":"要求内訳データ!C430","v":{"$error":"#REF!"}},{"$f":"要求内訳データ!D430","v":{"$error":"#REF!"}},{"$f":"要求内訳データ!E430","v":{"$error":"#REF!"}},null,{"$f":"#REF!&\"0428\"","v":{"$error":"#REF!"}},"","","","","",{"$f":"IFERROR(VLOOKUP(I430,#REF!,10,FALSE),\"\")","v":""},{"$f":"IFERROR(VLOOKUP(I430,#REF!,11,FALSE),\"\")","v":""}]
[{"$error":"#REF!"},{"$f":"#REF!","v":{"$error":"#REF!"}},{"$f":"要求内訳データ!A431","v":{"$error":"#REF!"}},{"$f":"要求内訳データ!B431","v":{"$error":"#REF!"}},{"$f":"要求内訳データ!C431","v":{"$error":"#REF!"}},{"$f":"要求内訳データ!D431","v":{"$error":"#REF!"}},{"$f":"要求内訳データ!E431","v":{"$error":"#REF!"}},null,{"$f":"#REF!&\"0429\"","v":{"$error":"#REF!"}},"","","","","",{"$f":"IFERROR(VLOOKUP(I431,#REF!,10,FALSE),\"\")","v":""},{"$f":"IFERROR(VLOOKUP(I431,#REF!,11,FALSE),\"\")","v":""}]
[{"$error":"#REF!"},{"$f":"#REF!","v":{"$error":"#REF!"}},{"$f":"要求内訳データ!A432","v":{"$error":"#REF!"}},{"$f":"要求内訳データ!B432","v":{"$error":"#REF!"}},{"$f":"要求内訳データ!C432","v":{"$error":"#REF!"}},{"$f":"要求内訳データ!D432","v":{"$error":"#REF!"}},{"$f":"要求内訳データ!E432","v":{"$error":"#REF!"}},null,{"$f":"#REF!&\"0430\"","v":{"$error":"#REF!"}},"","","","","",{"$f":"IFERROR(VLOOKUP(I432,#REF!,10,FALSE),\"\")","v":""},{"$f":"IFERROR(VLOOKUP(I432,#REF!,11,FALSE),\"\")","v":""}]
[{"$error":"#REF!"},{"$f":"#REF!","v":{"$error":"#REF!"}},{"$f":"要求内訳データ!A433","v":{"$error":"#REF!"}},{"$f":"要求内訳データ!B433","v":{"$error":"#REF!"}},{"$f":"要求内訳データ!C433","v":{"$error":"#REF!"}},{"$f":"要求内訳データ!D433","v":{"$error":"#REF!"}},{"$f":"要求内訳データ!E433","v":{"$error":"#REF!"}},null,{"$f":"#REF!&\"0431\"","v":{"$error":"#REF!"}},"","","","","",{"$f":"IFERROR(VLOOKUP(I433,#REF!,10,FALSE),\"\")","v":""},{"$f":"IFERROR(VLOOKUP(I433,#REF!,11,FALSE),\"\")","v":""}]
[{"$error":"#REF!"},{"$f":"#REF!","v":{"$error":"#REF!"}},{"$f":"要求内訳データ!A434","v":{"$error":"#REF!"}},{"$f":"要求内訳データ!B434","v":{"$error":"#REF!"}},{"$f":"要求内訳データ!C434","v":{"$error":"#REF!"}},{"$f":"要求内訳データ!D434","v":{"$error":"#REF!"}},{"$f":"要求内訳データ!E434","v":{"$error":"#REF!"}},null,{"$f":"#REF!&\"0432\"","v":{"$error":"#REF!"}},"","","","","",{"$f":"IFERROR(VLOOKUP(I434,#REF!,10,FALSE),\"\")","v":""},{"$f":"IFERROR(VLOOKUP(I434,#REF!,11,FALSE),\"\")","v":""}]
[{"$error":"#REF!"},{"$f":"#REF!","v":{"$error":"#REF!"}},{"$f":"要求内訳データ!A435","v":{"$error":"#REF!"}},{"$f":"要求内訳データ!B435","v":{"$error":"#REF!"}},{"$f":"要求内訳データ!C435","v":{"$error":"#REF!"}},{"$f":"要求内訳データ!D435","v":{"$error":"#REF!"}},{"$f":"要求内訳データ!E435","v":{"$error":"#REF!"}},null,{"$f":"#REF!&\"0433\"","v":{"$error":"#REF!"}},"","","","","",{"$f":"IFERROR(VLOOKUP(I435,#REF!,10,FALSE),\"\")","v":""},{"$f":"IFERROR(VLOOKUP(I435,#REF!,11,FALSE),\"\")","v":""}]
[{"$error":"#REF!"},{"$f":"#REF!","v":{"$error":"#REF!"}},{"$f":"要求内訳データ!A436","v":{"$error":"#REF!"}},{"$f":"要求内訳データ!B436","v":{"$error":"#REF!"}},{"$f":"要求内訳データ!C436","v":{"$error":"#REF!"}},{"$f":"要求内訳データ!D436","v":{"$error":"#REF!"}},{"$f":"要求内訳データ!E436","v":{"$error":"#REF!"}},null,{"$f":"#REF!&\"0434\"","v":{"$error":"#REF!"}},"","","","","",{"$f":"IFERROR(VLOOKUP(I436,#REF!,10,FALSE),\"\")","v":""},{"$f":"IFERROR(VLOOKUP(I436,#REF!,11,FALSE),\"\")","v":""}]
[{"$error":"#REF!"},{"$f":"#REF!","v":{"$error":"#REF!"}},{"$f":"要求内訳データ!A437","v":{"$error":"#REF!"}},{"$f":"要求内訳データ!B437","v":{"$error":"#REF!"}},{"$f":"要求内訳データ!C437","v":{"$error":"#REF!"}},{"$f":"要求内訳データ!D437","v":{"$error":"#REF!"}},{"$f":"要求内訳データ!E437","v":{"$error":"#REF!"}},null,{"$f":"#REF!&\"0435\"","v":{"$error":"#REF!"}},"","","","","",{"$f":"IFERROR(VLOOKUP(I437,#REF!,10,FALSE),\"\")","v":""},{"$f":"IFERROR(VLOOKUP(I437,#REF!,11,FALSE),\"\")","v":""}]
[{"$error":"#REF!"},{"$f":"#REF!","v":{"$error":"#REF!"}},{"$f":"要求内訳データ!A438","v":{"$error":"#REF!"}},{"$f":"要求内訳データ!B438","v":{"$error":"#REF!"}},{"$f":"要求内訳データ!C438","v":{"$error":"#REF!"}},{"$f":"要求内訳データ!D438","v":{"$error":"#REF!"}},{"$f":"要求内訳データ!E438","v":{"$error":"#REF!"}},null,{"$f":"#REF!&\"0436\"","v":{"$error":"#REF!"}},"","","","","",{"$f":"IFERROR(VLOOKUP(I438,#REF!,10,FALSE),\"\")","v":""},{"$f":"IFERROR(VLOOKUP(I438,#REF!,11,FALSE),\"\")","v":""}]
[{"$error":"#REF!"},{"$f":"#REF!","v":{"$error":"#REF!"}},{"$f":"要求内訳データ!A439","v":{"$error":"#REF!"}},{"$f":"要求内訳データ!B439","v":{"$error":"#REF!"}},{"$f":"要求内訳データ!C439","v":{"$error":"#REF!"}},{"$f":"要求内訳データ!D439","v":{"$error":"#REF!"}},{"$f":"要求内訳データ!E439","v":{"$error":"#REF!"}},null,{"$f":"#REF!&\"0437\"","v":{"$error":"#REF!"}},"","","","","",{"$f":"IFERROR(VLOOKUP(I439,#REF!,10,FALSE),\"\")","v":""},{"$f":"IFERROR(VLOOKUP(I439,#REF!,11,FALSE),\"\")","v":""}]
[{"$error":"#REF!"},{"$f":"#REF!","v":{"$error":"#REF!"}},{"$f":"要求内訳データ!A440","v":{"$error":"#REF!"}},{"$f":"要求内訳データ!B440","v":{"$error":"#REF!"}},{"$f":"要求内訳データ!C440","v":{"$error":"#REF!"}},{"$f":"要求内訳データ!D440","v":{"$error":"#REF!"}},{"$f":"要求内訳データ!E440","v":{"$error":"#REF!"}},null,{"$f":"#REF!&\"0438\"","v":{"$error":"#REF!"}},"","","","","",{"$f":"IFERROR(VLOOKUP(I440,#REF!,10,FALSE),\"\")","v":""},{"$f":"IFERROR(VLOOKUP(I440,#REF!,11,FALSE),\"\")","v":""}]
[{"$error":"#REF!"},{"$f":"#REF!","v":{"$error":"#REF!"}},{"$f":"要求内訳データ!A441","v":{"$error":"#REF!"}},{"$f":"要求内訳データ!B441","v":{"$error":"#REF!"}},{"$f":"要求内訳データ!C441","v":{"$error":"#REF!"}},{"$f":"要求内訳データ!D441","v":{"$error":"#REF!"}},{"$f":"要求内訳データ!E441","v":{"$error":"#REF!"}},null,{"$f":"#REF!&\"0439\"","v":{"$error":"#REF!"}},"","","","","",{"$f":"IFERROR(VLOOKUP(I441,#REF!,10,FALSE),\"\")","v":""},{"$f":"IFERROR(VLOOKUP(I441,#REF!,11,FALSE),\"\")","v":""}]
[{"$error":"#REF!"},{"$f":"#REF!","v":{"$error":"#REF!"}},{"$f":"要求内訳データ!A442","v":{"$error":"#REF!"}},{"$f":"要求内訳データ!B442","v":{"$error":"#REF!"}},{"$f":"要求内訳データ!C442","v":{"$error":"#REF!"}},{"$f":"要求内訳データ!D442","v":{"$error":"#REF!"}},{"$f":"要求内訳データ!E442","v":{"$error":"#REF!"}},null,{"$f":"#REF!&\"0440\"","v":{"$error":"#REF!"}},"","","","","",{"$f":"IFERROR(VLOOKUP(I442,#REF!,10,FALSE),\"\")","v":""},{"$f":"IFERROR(VLOOKUP(I442,#REF!,11,FALSE),\"\")","v":""}]
[{"$error":"#REF!"},{"$f":"#REF!","v":{"$error":"#REF!"}},{"$f":"要求内訳データ!A443","v":{"$error":"#REF!"}},{"$f":"要求内訳データ!B443","v":{"$error":"#REF!"}},{"$f":"要求内訳データ!C443","v":{"$error":"#REF!"}},{"$f":"要求内訳データ!D443","v":{"$error":"#REF!"}},{"$f":"要求内訳データ!E443","v":{"$error":"#REF!"}},null,{"$f":"#REF!&\"0441\"","v":{"$error":"#REF!"}},"","","","","",{"$f":"IFERROR(VLOOKUP(I443,#REF!,10,FALSE),\"\")","v":""},{"$f":"IFERROR(VLOOKUP(I443,#REF!,11,FALSE),\"\")","v":""}]
[{"$error":"#REF!"},{"$f":"#REF!","v":{"$error":"#REF!"}},{"$f":"要求内訳データ!A444","v":{"$error":"#REF!"}},{"$f":"要求内訳データ!B444","v":{"$error":"#REF!"}},{"$f":"要求内訳データ!C444","v":{"$error":"#REF!"}},{"$f":"要求内訳データ!D444","v":{"$error":"#REF!"}},{"$f":"要求内訳データ!E444","v":{"$error":"#REF!"}},null,{"$f":"#REF!&\"0442\"","v":{"$error":"#REF!"}},"","","","","",{"$f":"IFERROR(VLOOKUP(I444,#REF!,10,FALSE),\"\")","v":""},{"$f":"IFERROR(VLOOKUP(I444,#REF!,11,FALSE),\"\")","v":""}]
[{"$error":"#REF!"},{"$f":"#REF!","v":{"$error":"#REF!"}},{"$f":"要求内訳データ!A445","v":{"$error":"#REF!"}},{"$f":"要求内訳データ!B445","v":{"$error":"#REF!"}},{"$f":"要求内訳データ!C445","v":{"$error":"#REF!"}},{"$f":"要求内訳データ!D445","v":{"$error":"#REF!"}},{"$f":"要求内訳データ!E445","v":{"$error":"#REF!"}},null,{"$f":"#REF!&\"0443\"","v":{"$error":"#REF!"}},"","","","","",{"$f":"IFERROR(VLOOKUP(I445,#REF!,10,FALSE),\"\")","v":""},{"$f":"IFERROR(VLOOKUP(I445,#REF!,11,FALSE),\"\")","v":""}]
[{"$error":"#REF!"},{"$f":"#REF!","v":{"$error":"#REF!"}},{"$f":"要求内訳データ!A446","v":{"$error":"#REF!"}},{"$f":"要求内訳データ!B446","v":{"$error":"#REF!"}},{"$f":"要求内訳データ!C446","v":{"$error":"#REF!"}},{"$f":"要求内訳データ!D446","v":{"$error":"#REF!"}},{"$f":"要求内訳データ!E446","v":{"$error":"#REF!"}},null,{"$f":"#REF!&\"0444\"","v":{"$error":"#REF!"}},"","","","","",{"$f":"IFERROR(VLOOKUP(I446,#REF!,10,FALSE),\"\")","v":""},{"$f":"IFERROR(VLOOKUP(I446,#REF!,11,FALSE),\"\")","v":""}]
[{"$error":"#REF!"},{"$f":"#REF!","v":{"$error":"#REF!"}},{"$f":"要求内訳データ!A447","v":{"$error":"#REF!"}},{"$f":"要求内訳データ!B447","v":{"$error":"#REF!"}},{"$f":"要求内訳データ!C447","v":{"$error":"#REF!"}},{"$f":"要求内訳データ!D447","v":{"$error":"#REF!"}},{"$f":"要求内訳データ!E447","v":{"$error":"#REF!"}},null,{"$f":"#REF!&\"0445\"","v":{"$error":"#REF!"}},"","","","","",{"$f":"IFERROR(VLOOKUP(I447,#REF!,10,FALSE),\"\")","v":""},{"$f":"IFERROR(VLOOKUP(I447,#REF!,11,FALSE),\"\")","v":""}]
[{"$error":"#REF!"},{"$f":"#REF!","v":{"$error":"#REF!"}},{"$f":"要求内訳データ!A448","v":{"$error":"#REF!"}},{"$f":"要求内訳データ!B448","v":{"$error":"#REF!"}},{"$f":"要求内訳データ!C448","v":{"$error":"#REF!"}},{"$f":"要求内訳データ!D448","v":{"$error":"#REF!"}},{"$f":"要求内訳データ!E448","v":{"$error":"#REF!"}},null,{"$f":"#REF!&\"0446\"","v":{"$error":"#REF!"}},"","","","","",{"$f":"IFERROR(VLOOKUP(I448,#REF!,10,FALSE),\"\")","v":""},{"$f":"IFERROR(VLOOKUP(I448,#REF!,11,FALSE),\"\")","v":""}]
[{"$error":"#REF!"},{"$f":"#REF!","v":{"$error":"#REF!"}},{"$f":"要求内訳データ!A449","v":{"$error":"#REF!"}},{"$f":"要求内訳データ!B449","v":{"$error":"#REF!"}},{"$f":"要求内訳データ!C449","v":{"$error":"#REF!"}},{"$f":"要求内訳データ!D449","v":{"$error":"#REF!"}},{"$f":"要求内訳データ!E449","v":{"$error":"#REF!"}},null,{"$f":"#REF!&\"0447\"","v":{"$error":"#REF!"}},"","","","","",{"$f":"IFERROR(VLOOKUP(I449,#REF!,10,FALSE),\"\")","v":""},{"$f":"IFERROR(VLOOKUP(I449,#REF!,11,FALSE),\"\")","v":""}]
[{"$error":"#REF!"},{"$f":"#REF!","v":{"$error":"#REF!"}},{"$f":"要求内訳データ!A450","v":{"$error":"#REF!"}},{"$f":"要求内訳データ!B450","v":{"$error":"#REF!"}},{"$f":"要求内訳データ!C450","v":{"$error":"#REF!"}},{"$f":"要求内訳データ!D450","v":{"$error":"#REF!"}},{"$f":"要求内訳データ!E450","v":{"$error":"#REF!"}},null,{"$f":"#REF!&\"0448\"","v":{"$error":"#REF!"}},"","","","","",{"$f":"IFERROR(VLOOKUP(I450,#REF!,10,FALSE),\"\")","v":""},{"$f":"IFERROR(VLOOKUP(I450,#REF!,11,FALSE),\"\")","v":""}]
[{"$f":"LEFT(B451,LEN(B451)-4)","v":{"$error":"#REF!"}},{"$f":"#REF!","v":{"$error":"#REF!"}},{"$f":"要求内訳データ!A451","v":{"$error":"#REF!"}},{"$f":"要求内訳データ!B451","v":{"$error":"#REF!"}},{"$f":"要求内訳データ!C451","v":{"$error":"#REF!"}},{"$f":"要求内訳データ!D451","v":{"$error":"#REF!"}},{"$f":"要求内訳データ!E451","v":{"$error":"#REF!"}},null,{"$f":"#REF!&\"0449\"","v":{"$error":"#REF!"}},"",{"$f":"IFERROR(VLOOKUP(I451,$B$3:$G$498,3,FALSE),\"\")","v":""},{"$f":"IF(AND(J451=\"\",NOT(K450=\"\")),\"以下余白\",IFERROR(VLOOKUP(I451,$B$3:$G$498,4,FALSE),\"\"))","v":""},{"$f":"IFERROR(VLOOKUP(I451,$B$3:$G$498,5,FALSE),\"\")","v":""},{"$f":"IFERROR(VLOOKUP(I451,$B$3:$G$498,6,FALSE),\"\")","v":""},{"$f":"IFERROR(VLOOKUP(I451,#REF!,10,FALSE),\"\")","v":""},{"$f":"IFERROR(VLOOKUP(I451,#REF!,11,FALSE),\"\")","v":""}]
[{"$error":"#REF!"},{"$f":"#REF!","v":{"$error":"#REF!"}},{"$f":"要求内訳データ!A452","v":{"$error":"#REF!"}},{"$f":"要求内訳データ!B452","v":{"$error":"#REF!"}},{"$f":"要求内訳データ!C452","v":{"$error":"#REF!"}},{"$f":"要求内訳データ!D452","v":{"$error":"#REF!"}},{"$f":"要求内訳データ!E452","v":{"$error":"#REF!"}},null,{"$f":"#REF!&\"0450\"","v":{"$error":"#REF!"}},{"$f":"IF(K452=\"\",\"\",J451+1)","v":""},"","","","",{"$f":"IFERROR(VLOOKUP(I452,#REF!,10,FALSE),\"\")","v":""},{"$f":"IFERROR(VLOOKUP(I452,#REF!,11,FALSE),\"\")","v":""}]
[{"$error":"#REF!"},{"$f":"#REF!","v":{"$error":"#REF!"}},{"$f":"要求内訳データ!A453","v":{"$error":"#REF!"}},{"$f":"要求内訳データ!B453","v":{"$error":"#REF!"}},{"$f":"要求内訳データ!C453","v":{"$error":"#REF!"}},{"$f":"要求内訳データ!D453","v":{"$error":"#REF!"}},{"$f":"要求内訳データ!E453","v":{"$error":"#REF!"}},null,{"$f":"#REF!&\"0451\"","v":{"$error":"#REF!"}},"","","","","",{"$f":"IFERROR(VLOOKUP(I453,#REF!,10,FALSE),\"\")","v":""},{"$f":"IFERROR(VLOOKUP(I453,#REF!,11,FALSE),\"\")","v":""}]
[{"$error":"#REF!"},{"$f":"#REF!","v":{"$error":"#REF!"}},{"$f":"要求内訳データ!A454","v":{"$error":"#REF!"}},{"$f":"要求内訳データ!B454","v":{"$error":"#REF!"}},{"$f":"要求内訳データ!C454","v":{"$error":"#REF!"}},{"$f":"要求内訳データ!D454","v":{"$error":"#REF!"}},{"$f":"要求内訳データ!E454","v":{"$error":"#REF!"}},null,{"$f":"#REF!&\"0452\"","v":{"$error":"#REF!"}},"","","","","",{"$f":"IFERROR(VLOOKUP(I454,#REF!,10,FALSE),\"\")","v":""},{"$f":"IFERROR(VLOOKUP(I454,#REF!,11,FALSE),\"\")","v":""}]
[{"$error":"#REF!"},{"$f":"#REF!","v":{"$error":"#REF!"}},{"$f":"要求内訳データ!A455","v":{"$error":"#REF!"}},{"$f":"要求内訳データ!B455","v":{"$error":"#REF!"}},{"$f":"要求内訳データ!C455","v":{"$error":"#REF!"}},{"$f":"要求内訳データ!D455","v":{"$error":"#REF!"}},{"$f":"要求内訳データ!E455","v":{"$error":"#REF!"}},null,{"$f":"#REF!&\"0453\"","v":{"$error":"#REF!"}},"","","","","",{"$f":"IFERROR(VLOOKUP(I455,#REF!,10,FALSE),\"\")","v":""},{"$f":"IFERROR(VLOOKUP(I455,#REF!,11,FALSE),\"\")","v":""}]
[{"$error":"#REF!"},{"$f":"#REF!","v":{"$error":"#REF!"}},{"$f":"要求内訳データ!A456","v":{"$error":"#REF!"}},{"$f":"要求内訳データ!B456","v":{"$error":"#REF!"}},{"$f":"要求内訳データ!C456","v":{"$error":"#REF!"}},{"$f":"要求内訳データ!D456","v":{"$error":"#REF!"}},{"$f":"要求内訳データ!E456","v":{"$error":"#REF!"}},null,{"$f":"#REF!&\"0454\"","v":{"$error":"#REF!"}},"","","","","",{"$f":"IFERROR(VLOOKUP(I456,#REF!,10,FALSE),\"\")","v":""},{"$f":"IFERROR(VLOOKUP(I456,#REF!,11,FALSE),\"\")","v":""}]
[{"$error":"#REF!"},{"$f":"#REF!","v":{"$error":"#REF!"}},{"$f":"要求内訳データ!A457","v":{"$error":"#REF!"}},{"$f":"要求内訳データ!B457","v":{"$error":"#REF!"}},{"$f":"要求内訳データ!C457","v":{"$error":"#REF!"}},{"$f":"要求内訳データ!D457","v":{"$error":"#REF!"}},{"$f":"要求内訳データ!E457","v":{"$error":"#REF!"}},null,{"$f":"#REF!&\"0455\"","v":{"$error":"#REF!"}},"","","","","",{"$f":"IFERROR(VLOOKUP(I457,#REF!,10,FALSE),\"\")","v":""},{"$f":"IFERROR(VLOOKUP(I457,#REF!,11,FALSE),\"\")","v":""}]
[{"$error":"#REF!"},{"$f":"#REF!","v":{"$error":"#REF!"}},{"$f":"要求内訳データ!A458","v":{"$error":"#REF!"}},{"$f":"要求内訳データ!B458","v":{"$error":"#REF!"}},{"$f":"要求内訳データ!C458","v":{"$error":"#REF!"}},{"$f":"要求内訳データ!D458","v":{"$error":"#REF!"}},{"$f":"要求内訳データ!E458","v":{"$error":"#REF!"}},null,{"$f":"#REF!&\"0456\"","v":{"$error":"#REF!"}},"","","","","",{"$f":"IFERROR(VLOOKUP(I458,#REF!,10,FALSE),\"\")","v":""},{"$f":"IFERROR(VLOOKUP(I458,#REF!,11,FALSE),\"\")","v":""}]
[{"$error":"#REF!"},{"$f":"#REF!","v":{"$error":"#REF!"}},{"$f":"要求内訳データ!A459","v":{"$error":"#REF!"}},{"$f":"要求内訳データ!B459","v":{"$error":"#REF!"}},{"$f":"要求内訳データ!C459","v":{"$error":"#REF!"}},{"$f":"要求内訳データ!D459","v":{"$error":"#REF!"}},{"$f":"要求内訳データ!E459","v":{"$error":"#REF!"}},null,{"$f":"#REF!&\"0457\"","v":{"$error":"#REF!"}},"","","","","",{"$f":"IFERROR(VLOOKUP(I459,#REF!,10,FALSE),\"\")","v":""},{"$f":"IFERROR(VLOOKUP(I459,#REF!,11,FALSE),\"\")","v":""}]
[{"$error":"#REF!"},{"$f":"#REF!","v":{"$error":"#REF!"}},{"$f":"要求内訳データ!A460","v":{"$error":"#REF!"}},{"$f":"要求内訳データ!B460","v":{"$error":"#REF!"}},{"$f":"要求内訳データ!C460","v":{"$error":"#REF!"}},{"$f":"要求内訳データ!D460","v":{"$error":"#REF!"}},{"$f":"要求内訳データ!E460","v":{"$error":"#REF!"}},null,{"$f":"#REF!&\"0458\"","v":{"$error":"#REF!"}},"","","","","",{"$f":"IFERROR(VLOOKUP(I460,#REF!,10,FALSE),\"\")","v":""},{"$f":"IFERROR(VLOOKUP(I460,#REF!,11,FALSE),\"\")","v":""}]
[{"$error":"#REF!"},{"$f":"#REF!","v":{"$error":"#REF!"}},{"$f":"要求内訳データ!A461","v":{"$error":"#REF!"}},{"$f":"要求内訳データ!B461","v":{"$error":"#REF!"}},{"$f":"要求内訳データ!C461","v":{"$error":"#REF!"}},{"$f":"要求内訳データ!D461","v":{"$error":"#REF!"}},{"$f":"要求内訳データ!E461","v":{"$error":"#REF!"}},null,{"$f":"#REF!&\"0459\"","v":{"$error":"#REF!"}},"","","","","",{"$f":"IFERROR(VLOOKUP(I461,#REF!,10,FALSE),\"\")","v":""},{"$f":"IFERROR(VLOOKUP(I461,#REF!,11,FALSE),\"\")","v":""}]
[{"$error":"#REF!"},{"$f":"#REF!","v":{"$error":"#REF!"}},{"$f":"要求内訳データ!A462","v":{"$error":"#REF!"}},{"$f":"要求内訳データ!B462","v":{"$error":"#REF!"}},{"$f":"要求内訳データ!C462","v":{"$error":"#REF!"}},{"$f":"要求内訳データ!D462","v":{"$error":"#REF!"}},{"$f":"要求内訳データ!E462","v":{"$error":"#REF!"}},null,{"$f":"#REF!&\"0460\"","v":{"$error":"#REF!"}},"","","","","",{"$f":"IFERROR(VLOOKUP(I462,#REF!,10,FALSE),\"\")","v":""},{"$f":"IFERROR(VLOOKUP(I462,#REF!,11,FALSE),\"\")","v":""}]
[{"$error":"#REF!"},{"$f":"#REF!","v":{"$error":"#REF!"}},{"$f":"要求内訳データ!A463","v":{"$error":"#REF!"}},{"$f":"要求内訳データ!B463","v":{"$error":"#REF!"}},{"$f":"要求内訳データ!C463","v":{"$error":"#REF!"}},{"$f":"要求内訳データ!D463","v":{"$error":"#REF!"}},{"$f":"要求内訳データ!E463","v":{"$error":"#REF!"}},null,{"$f":"#REF!&\"0461\"","v":{"$error":"#REF!"}},"","","","","",{"$f":"IFERROR(VLOOKUP(I463,#REF!,10,FALSE),\"\")","v":""},{"$f":"IFERROR(VLOOKUP(I463,#REF!,11,FALSE),\"\")","v":""}]
[{"$error":"#REF!"},{"$f":"#REF!","v":{"$error":"#REF!"}},{"$f":"要求内訳データ!A464","v":{"$error":"#REF!"}},{"$f":"要求内訳データ!B464","v":{"$error":"#REF!"}},{"$f":"要求内訳データ!C464","v":{"$error":"#REF!"}},{"$f":"要求内訳データ!D464","v":{"$error":"#REF!"}},{"$f":"要求内訳データ!E464","v":{"$error":"#REF!"}},null,{"$f":"#REF!&\"0462\"","v":{"$error":"#REF!"}},"","","","","",{"$f":"IFERROR(VLOOKUP(I464,#REF!,10,FALSE),\"\")","v":""},{"$f":"IFERROR(VLOOKUP(I464,#REF!,11,FALSE),\"\")","v":""}]
[{"$error":"#REF!"},{"$f":"#REF!","v":{"$error":"#REF!"}},{"$f":"要求内訳データ!A465","v":{"$error":"#REF!"}},{"$f":"要求内訳データ!B465","v":{"$error":"#REF!"}},{"$f":"要求内訳データ!C465","v":{"$error":"#REF!"}},{"$f":"要求内訳データ!D465","v":{"$error":"#REF!"}},{"$f":"要求内訳データ!E465","v":{"$error":"#REF!"}},null,{"$f":"#REF!&\"0463\"","v":{"$error":"#REF!"}},"","","","","",{"$f":"IFERROR(VLOOKUP(I465,#REF!,10,FALSE),\"\")","v":""},{"$f":"IFERROR(VLOOKUP(I465,#REF!,11,FALSE),\"\")","v":""}]
[{"$error":"#REF!"},{"$f":"#REF!","v":{"$error":"#REF!"}},{"$f":"要求内訳データ!A466","v":{"$error":"#REF!"}},{"$f":"要求内訳データ!B466","v":{"$error":"#REF!"}},{"$f":"要求内訳データ!C466","v":{"$error":"#REF!"}},{"$f":"要求内訳データ!D466","v":{"$error":"#REF!"}},{"$f":"要求内訳データ!E466","v":{"$error":"#REF!"}},null,{"$f":"#REF!&\"0464\"","v":{"$error":"#REF!"}},"","","","","",{"$f":"IFERROR(VLOOKUP(I466,#REF!,10,FALSE),\"\")","v":""},{"$f":"IFERROR(VLOOKUP(I466,#REF!,11,FALSE),\"\")","v":""}]
[{"$error":"#REF!"},{"$f":"#REF!","v":{"$error":"#REF!"}},{"$f":"要求内訳データ!A467","v":{"$error":"#REF!"}},{"$f":"要求内訳データ!B467","v":{"$error":"#REF!"}},{"$f":"要求内訳データ!C467","v":{"$error":"#REF!"}},{"$f":"要求内訳データ!D467","v":{"$error":"#REF!"}},{"$f":"要求内訳データ!E467","v":{"$error":"#REF!"}},null,{"$f":"#REF!&\"0465\"","v":{"$error":"#REF!"}},"","","","","",{"$f":"IFERROR(VLOOKUP(I467,#REF!,10,FALSE),\"\")","v":""},{"$f":"IFERROR(VLOOKUP(I467,#REF!,11,FALSE),\"\")","v":""}]
[{"$error":"#REF!"},{"$f":"#REF!","v":{"$error":"#REF!"}},{"$f":"要求内訳データ!A468","v":{"$error":"#REF!"}},{"$f":"要求内訳データ!B468","v":{"$error":"#REF!"}},{"$f":"要求内訳データ!C468","v":{"$error":"#REF!"}},{"$f":"要求内訳データ!D468","v":{"$error":"#REF!"}},{"$f":"要求内訳データ!E468","v":{"$error":"#REF!"}},null,{"$f":"#REF!&\"0466\"","v":{"$error":"#REF!"}},"","","","","",{"$f":"IFERROR(VLOOKUP(I468,#REF!,10,FALSE),\"\")","v":""},{"$f":"IFERROR(VLOOKUP(I468,#REF!,11,FALSE),\"\")","v":""}]
[{"$error":"#REF!"},{"$f":"#REF!","v":{"$error":"#REF!"}},{"$f":"要求内訳データ!A469","v":{"$error":"#REF!"}},{"$f":"要求内訳データ!B469","v":{"$error":"#REF!"}},{"$f":"要求内訳データ!C469","v":{"$error":"#REF!"}},{"$f":"要求内訳データ!D469","v":{"$error":"#REF!"}},{"$f":"要求内訳データ!E469","v":{"$error":"#REF!"}},null,{"$f":"#REF!&\"0467\"","v":{"$error":"#REF!"}},"","","","","",{"$f":"IFERROR(VLOOKUP(I469,#REF!,10,FALSE),\"\")","v":""},{"$f":"IFERROR(VLOOKUP(I469,#REF!,11,FALSE),\"\")","v":""}]
[{"$error":"#REF!"},{"$f":"#REF!","v":{"$error":"#REF!"}},{"$f":"要求内訳データ!A470","v":{"$error":"#REF!"}},{"$f":"要求内訳データ!B470","v":{"$error":"#REF!"}},{"$f":"要求内訳データ!C470","v":{"$error":"#REF!"}},{"$f":"要求内訳データ!D470","v":{"$error":"#REF!"}},{"$f":"要求内訳データ!E470","v":{"$error":"#REF!"}},null,{"$f":"#REF!&\"0468\"","v":{"$error":"#REF!"}},"","","","","",{"$f":"IFERROR(VLOOKUP(I470,#REF!,10,FALSE),\"\")","v":""},{"$f":"IFERROR(VLOOKUP(I470,#REF!,11,FALSE),\"\")","v":""}]
[{"$error":"#REF!"},{"$f":"#REF!","v":{"$error":"#REF!"}},{"$f":"要求内訳データ!A471","v":{"$error":"#REF!"}},{"$f":"要求内訳データ!B471","v":{"$error":"#REF!"}},{"$f":"要求内訳データ!C471","v":{"$error":"#REF!"}},{"$f":"要求内訳データ!D471","v":{"$error":"#REF!"}},{"$f":"要求内訳データ!E471","v":{"$error":"#REF!"}},null,{"$f":"#REF!&\"0469\"","v":{"$error":"#REF!"}},"","","","","",{"$f":"IFERROR(VLOOKUP(I471,#REF!,10,FALSE),\"\")","v":""},{"$f":"IFERROR(VLOOKUP(I471,#REF!,11,FALSE),\"\")","v":""}]
[{"$error":"#REF!"},{"$f":"#REF!","v":{"$error":"#REF!"}},{"$f":"要求内訳データ!A472","v":{"$error":"#REF!"}},{"$f":"要求内訳データ!B472","v":{"$error":"#REF!"}},{"$f":"要求内訳データ!C472","v":{"$error":"#REF!"}},{"$f":"要求内訳データ!D472","v":{"$error":"#REF!"}},{"$f":"要求内訳データ!E472","v":{"$error":"#REF!"}},null,{"$f":"#REF!&\"0470\"","v":{"$error":"#REF!"}},"","","","","",{"$f":"IFERROR(VLOOKUP(I472,#REF!,10,FALSE),\"\")","v":""},{"$f":"IFERROR(VLOOKUP(I472,#REF!,11,FALSE),\"\")","v":""}]
[{"$error":"#REF!"},{"$f":"#REF!","v":{"$error":"#REF!"}},{"$f":"要求内訳データ!A473","v":{"$error":"#REF!"}},{"$f":"要求内訳データ!B473","v":{"$error":"#REF!"}},{"$f":"要求内訳データ!C473","v":{"$error":"#REF!"}},{"$f":"要求内訳データ!D473","v":{"$error":"#REF!"}},{"$f":"要求内訳データ!E473","v":{"$error":"#REF!"}},null,{"$f":"#REF!&\"0471\"","v":{"$error":"#REF!"}},"","","","","",{"$f":"IFERROR(VLOOKUP(I473,#REF!,10,FALSE),\"\")","v":""},{"$f":"IFERROR(VLOOKUP(I473,#REF!,11,FALSE),\"\")","v":""}]
[{"$error":"#REF!"},{"$f":"#REF!","v":{"$error":"#REF!"}},{"$f":"要求内訳データ!A474","v":{"$error":"#REF!"}},{"$f":"要求内訳データ!B474","v":{"$error":"#REF!"}},{"$f":"要求内訳データ!C474","v":{"$error":"#REF!"}},{"$f":"要求内訳データ!D474","v":{"$error":"#REF!"}},{"$f":"要求内訳データ!E474","v":{"$error":"#REF!"}},null,{"$f":"#REF!&\"0472\"","v":{"$error":"#REF!"}},"","","","","",{"$f":"IFERROR(VLOOKUP(I474,#REF!,10,FALSE),\"\")","v":""},{"$f":"IFERROR(VLOOKUP(I474,#REF!,11,FALSE),\"\")","v":""}]
[{"$error":"#REF!"},{"$f":"#REF!","v":{"$error":"#REF!"}},{"$f":"要求内訳データ!A475","v":{"$error":"#REF!"}},{"$f":"要求内訳データ!B475","v":{"$error":"#REF!"}},{"$f":"要求内訳データ!C475","v":{"$error":"#REF!"}},{"$f":"要求内訳データ!D475","v":{"$error":"#REF!"}},{"$f":"要求内訳データ!E475","v":{"$error":"#REF!"}},null,{"$f":"#REF!&\"0473\"","v":{"$error":"#REF!"}},"","","","","",{"$f":"IFERROR(VLOOKUP(I475,#REF!,10,FALSE),\"\")","v":""},{"$f":"IFERROR(VLOOKUP(I475,#REF!,11,FALSE),\"\")","v":""}]
[{"$error":"#REF!"},{"$f":"#REF!","v":{"$error":"#REF!"}},{"$f":"要求内訳データ!A476","v":{"$error":"#REF!"}},{"$f":"要求内訳データ!B476","v":{"$error":"#REF!"}},{"$f":"要求内訳データ!C476","v":{"$error":"#REF!"}},{"$f":"要求内訳データ!D476","v":{"$error":"#REF!"}},{"$f":"要求内訳データ!E476","v":{"$error":"#REF!"}},null,{"$f":"#REF!&\"0474\"","v":{"$error":"#REF!"}},"","","","","",{"$f":"IFERROR(VLOOKUP(I476,#REF!,10,FALSE),\"\")","v":""},{"$f":"IFERROR(VLOOKUP(I476,#REF!,11,FALSE),\"\")","v":""}]
[{"$error":"#REF!"},{"$f":"#REF!","v":{"$error":"#REF!"}},{"$f":"要求内訳データ!A477","v":{"$error":"#REF!"}},{"$f":"要求内訳データ!B477","v":{"$error":"#REF!"}},{"$f":"要求内訳データ!C477","v":{"$error":"#REF!"}},{"$f":"要求内訳データ!D477","v":{"$error":"#REF!"}},{"$f":"要求内訳データ!E477","v":{"$error":"#REF!"}},null,{"$f":"#REF!&\"0475\"","v":{"$error":"#REF!"}},"","","","","",{"$f":"IFERROR(VLOOKUP(I477,#REF!,10,FALSE),\"\")","v":""},{"$f":"IFERROR(VLOOKUP(I477,#REF!,11,FALSE),\"\")","v":""}]
[{"$error":"#REF!"},{"$f":"#REF!","v":{"$error":"#REF!"}},{"$f":"要求内訳データ!A478","v":{"$error":"#REF!"}},{"$f":"要求内訳データ!B478","v":{"$error":"#REF!"}},{"$f":"要求内訳データ!C478","v":{"$error":"#REF!"}},{"$f":"要求内訳データ!D478","v":{"$error":"#REF!"}},{"$f":"要求内訳データ!E478","v":{"$error":"#REF!"}},null,{"$f":"#REF!&\"0476\"","v":{"$error":"#REF!"}},"","","","","",{"$f":"IFERROR(VLOOKUP(I478,#REF!,10,FALSE),\"\")","v":""},{"$f":"IFERROR(VLOOKUP(I478,#REF!,11,FALSE),\"\")","v":""}]
[{"$error":"#REF!"},{"$f":"#REF!","v":{"$error":"#REF!"}},{"$f":"要求内訳データ!A479","v":{"$error":"#REF!"}},{"$f":"要求内訳データ!B479","v":{"$error":"#REF!"}},{"$f":"要求内訳データ!C479","v":{"$error":"#REF!"}},{"$f":"要求内訳データ!D479","v":{"$error":"#REF!"}},{"$f":"要求内訳データ!E479","v":{"$error":"#REF!"}},null,{"$f":"#REF!&\"0477\"","v":{"$error":"#REF!"}},"","","","","",{"$f":"IFERROR(VLOOKUP(I479,#REF!,10,FALSE),\"\")","v":""},{"$f":"IFERROR(VLOOKUP(I479,#REF!,11,FALSE),\"\")","v":""}]
[{"$error":"#REF!"},{"$f":"#REF!","v":{"$error":"#REF!"}},{"$f":"要求内訳データ!A480","v":{"$error":"#REF!"}},{"$f":"要求内訳データ!B480","v":{"$error":"#REF!"}},{"$f":"要求内訳データ!C480","v":{"$error":"#REF!"}},{"$f":"要求内訳データ!D480","v":{"$error":"#REF!"}},{"$f":"要求内訳データ!E480","v":{"$error":"#REF!"}},null,{"$f":"#REF!&\"0478\"","v":{"$error":"#REF!"}},"","","","","",{"$f":"IFERROR(VLOOKUP(I480,#REF!,10,FALSE),\"\")","v":""},{"$f":"IFERROR(VLOOKUP(I480,#REF!,11,FALSE),\"\")","v":""}]
[{"$error":"#REF!"},{"$f":"#REF!","v":{"$error":"#REF!"}},{"$f":"要求内訳データ!A481","v":{"$error":"#REF!"}},{"$f":"要求内訳データ!B481","v":{"$error":"#REF!"}},{"$f":"要求内訳データ!C481","v":{"$error":"#REF!"}},{"$f":"要求内訳データ!D481","v":{"$error":"#REF!"}},{"$f":"要求内訳データ!E481","v":{"$error":"#REF!"}},null,{"$f":"#REF!&\"0479\"","v":{"$error":"#REF!"}},"","","","","",{"$f":"IFERROR(VLOOKUP(I481,#REF!,10,FALSE),\"\")","v":""},{"$f":"IFERROR(VLOOKUP(I481,#REF!,11,FALSE),\"\")","v":""}]
[{"$error":"#REF!"},{"$f":"#REF!","v":{"$error":"#REF!"}},{"$f":"要求内訳データ!A482","v":{"$error":"#REF!"}},{"$f":"要求内訳データ!B482","v":{"$error":"#REF!"}},{"$f":"要求内訳データ!C482","v":{"$error":"#REF!"}},{"$f":"要求内訳データ!D482","v":{"$error":"#REF!"}},{"$f":"要求内訳データ!E482","v":{"$error":"#REF!"}},null,{"$f":"#REF!&\"0480\"","v":{"$error":"#REF!"}},"","","","","",{"$f":"IFERROR(VLOOKUP(I482,#REF!,10,FALSE),\"\")","v":""},{"$f":"IFERROR(VLOOKUP(I482,#REF!,11,FALSE),\"\")","v":""}]
[{"$error":"#REF!"},{"$f":"#REF!","v":{"$error":"#REF!"}},{"$f":"要求内訳データ!A483","v":{"$error":"#REF!"}},{"$f":"要求内訳データ!B483","v":{"$error":"#REF!"}},{"$f":"要求内訳データ!C483","v":{"$error":"#REF!"}},{"$f":"要求内訳データ!D483","v":{"$error":"#REF!"}},{"$f":"要求内訳データ!E483","v":{"$error":"#REF!"}},null,{"$f":"#REF!&\"0481\"","v":{"$error":"#REF!"}},"","","","","",{"$f":"IFERROR(VLOOKUP(I483,#REF!,10,FALSE),\"\")","v":""},{"$f":"IFERROR(VLOOKUP(I483,#REF!,11,FALSE),\"\")","v":""}]
[{"$error":"#REF!"},{"$f":"#REF!","v":{"$error":"#REF!"}},{"$f":"要求内訳データ!A484","v":{"$error":"#REF!"}},{"$f":"要求内訳データ!B484","v":{"$error":"#REF!"}},{"$f":"要求内訳データ!C484","v":{"$error":"#REF!"}},{"$f":"要求内訳データ!D484","v":{"$error":"#REF!"}},{"$f":"要求内訳データ!E484","v":{"$error":"#REF!"}},null,{"$f":"#REF!&\"0482\"","v":{"$error":"#REF!"}},"","","","","",{"$f":"IFERROR(VLOOKUP(I484,#REF!,10,FALSE),\"\")","v":""},{"$f":"IFERROR(VLOOKUP(I484,#REF!,11,FALSE),\"\")","v":""}]
[{"$error":"#REF!"},{"$f":"#REF!","v":{"$error":"#REF!"}},{"$f":"要求内訳データ!A485","v":{"$error":"#REF!"}},{"$f":"要求内訳データ!B485","v":{"$error":"#REF!"}},{"$f":"要求内訳データ!C485","v":{"$error":"#REF!"}},{"$f":"要求内訳データ!D485","v":{"$error":"#REF!"}},{"$f":"要求内訳データ!E485","v":{"$error":"#REF!"}},null,{"$f":"#REF!&\"0483\"","v":{"$error":"#REF!"}},"","","","","",{"$f":"IFERROR(VLOOKUP(I485,#REF!,10,FALSE),\"\")","v":""},{"$f":"IFERROR(VLOOKUP(I485,#REF!,11,FALSE),\"\")","v":""}]
[{"$error":"#REF!"},{"$f":"#REF!","v":{"$error":"#REF!"}},{"$f":"要求内訳データ!A486","v":{"$error":"#REF!"}},{"$f":"要求内訳データ!B486","v":{"$error":"#REF!"}},{"$f":"要求内訳データ!C486","v":{"$error":"#REF!"}},{"$f":"要求内訳データ!D486","v":{"$error":"#REF!"}},{"$f":"要求内訳データ!E486","v":{"$error":"#REF!"}},null,{"$f":"#REF!&\"0484\"","v":{"$error":"#REF!"}},"","","","","",{"$f":"IFERROR(VLOOKUP(I486,#REF!,10,FALSE),\"\")","v":""},{"$f":"IFERROR(VLOOKUP(I486,#REF!,11,FALSE),\"\")","v":""}]
[{"$error":"#REF!"},{"$f":"#REF!","v":{"$error":"#REF!"}},{"$f":"要求内訳データ!A487","v":{"$error":"#REF!"}},{"$f":"要求内訳データ!B487","v":{"$error":"#REF!"}},{"$f":"要求内訳データ!C487","v":{"$error":"#REF!"}},{"$f":"要求内訳データ!D487","v":{"$error":"#REF!"}},{"$f":"要求内訳データ!E487","v":{"$error":"#REF!"}},null,{"$f":"#REF!&\"0485\"","v":{"$error":"#REF!"}},"","","","","",{"$f":"IFERROR(VLOOKUP(I487,#REF!,10,FALSE),\"\")","v":""},{"$f":"IFERROR(VLOOKUP(I487,#REF!,11,FALSE),\"\")","v":""}]
[{"$error":"#REF!"},{"$f":"#REF!","v":{"$error":"#REF!"}},{"$f":"要求内訳データ!A488","v":{"$error":"#REF!"}},{"$f":"要求内訳データ!B488","v":{"$error":"#REF!"}},{"$f":"要求内訳データ!C488","v":{"$error":"#REF!"}},{"$f":"要求内訳データ!D488","v":{"$error":"#REF!"}},{"$f":"要求内訳データ!E488","v":{"$error":"#REF!"}},null,{"$f":"#REF!&\"0486\"","v":{"$error":"#REF!"}},"","","","","",{"$f":"IFERROR(VLOOKUP(I488,#REF!,10,FALSE),\"\")","v":""},{"$f":"IFERROR(VLOOKUP(I488,#REF!,11,FALSE),\"\")","v":""}]
[{"$error":"#REF!"},{"$f":"#REF!","v":{"$error":"#REF!"}},{"$f":"要求内訳データ!A489","v":{"$error":"#REF!"}},{"$f":"要求内訳データ!B489","v":{"$error":"#REF!"}},{"$f":"要求内訳データ!C489","v":{"$error":"#REF!"}},{"$f":"要求内訳データ!D489","v":{"$error":"#REF!"}},{"$f":"要求内訳データ!E489","v":{"$error":"#REF!"}},null,{"$f":"#REF!&\"0487\"","v":{"$error":"#REF!"}},"","","","","",{"$f":"IFERROR(VLOOKUP(I489,#REF!,10,FALSE),\"\")","v":""},{"$f":"IFERROR(VLOOKUP(I489,#REF!,11,FALSE),\"\")","v":""}]
[{"$error":"#REF!"},{"$f":"#REF!","v":{"$error":"#REF!"}},{"$f":"要求内訳データ!A490","v":{"$error":"#REF!"}},{"$f":"要求内訳データ!B490","v":{"$error":"#REF!"}},{"$f":"要求内訳データ!C490","v":{"$error":"#REF!"}},{"$f":"要求内訳データ!D490","v":{"$error":"#REF!"}},{"$f":"要求内訳データ!E490","v":{"$error":"#REF!"}},null,{"$f":"#REF!&\"0488\"","v":{"$error":"#REF!"}},"","","","","",{"$f":"IFERROR(VLOOKUP(I490,#REF!,10,FALSE),\"\")","v":""},{"$f":"IFERROR(VLOOKUP(I490,#REF!,11,FALSE),\"\")","v":""}]
[{"$error":"#REF!"},{"$f":"#REF!","v":{"$error":"#REF!"}},{"$f":"要求内訳データ!A491","v":{"$error":"#REF!"}},{"$f":"要求内訳データ!B491","v":{"$error":"#REF!"}},{"$f":"要求内訳データ!C491","v":{"$error":"#REF!"}},{"$f":"要求内訳データ!D491","v":{"$error":"#REF!"}},{"$f":"要求内訳データ!E491","v":{"$error":"#REF!"}},null,{"$f":"#REF!&\"0489\"","v":{"$error":"#REF!"}},"","","","","",{"$f":"IFERROR(VLOOKUP(I491,#REF!,10,FALSE),\"\")","v":""},{"$f":"IFERROR(VLOOKUP(I491,#REF!,11,FALSE),\"\")","v":""}]
[{"$error":"#REF!"},{"$f":"#REF!","v":{"$error":"#REF!"}},{"$f":"要求内訳データ!A492","v":{"$error":"#REF!"}},{"$f":"要求内訳データ!B492","v":{"$error":"#REF!"}},{"$f":"要求内訳データ!C492","v":{"$error":"#REF!"}},{"$f":"要求内訳データ!D492","v":{"$error":"#REF!"}},{"$f":"要求内訳データ!E492","v":{"$error":"#REF!"}},null,{"$f":"#REF!&\"0490\"","v":{"$error":"#REF!"}},"","","","","",{"$f":"IFERROR(VLOOKUP(I492,#REF!,10,FALSE),\"\")","v":""},{"$f":"IFERROR(VLOOKUP(I492,#REF!,11,FALSE),\"\")","v":""}]
[{"$error":"#REF!"},{"$f":"#REF!","v":{"$error":"#REF!"}},{"$f":"要求内訳データ!A493","v":{"$error":"#REF!"}},{"$f":"要求内訳データ!B493","v":{"$error":"#REF!"}},{"$f":"要求内訳データ!C493","v":{"$error":"#REF!"}},{"$f":"要求内訳データ!D493","v":{"$error":"#REF!"}},{"$f":"要求内訳データ!E493","v":{"$error":"#REF!"}},null,{"$f":"#REF!&\"0491\"","v":{"$error":"#REF!"}},"","","","","",{"$f":"IFERROR(VLOOKUP(I493,#REF!,10,FALSE),\"\")","v":""},{"$f":"IFERROR(VLOOKUP(I493,#REF!,11,FALSE),\"\")","v":""}]
[{"$error":"#REF!"},{"$f":"#REF!","v":{"$error":"#REF!"}},{"$f":"要求内訳データ!A494","v":{"$error":"#REF!"}},{"$f":"要求内訳データ!B494","v":{"$error":"#REF!"}},{"$f":"要求内訳データ!C494","v":{"$error":"#REF!"}},{"$f":"要求内訳データ!D494","v":{"$error":"#REF!"}},{"$f":"要求内訳データ!E494","v":{"$error":"#REF!"}},null,{"$f":"#REF!&\"0492\"","v":{"$error":"#REF!"}},"","","","","",{"$f":"IFERROR(VLOOKUP(I494,#REF!,10,FALSE),\"\")","v":""},{"$f":"IFERROR(VLOOKUP(I494,#REF!,11,FALSE),\"\")","v":""}]
[{"$error":"#REF!"},{"$f":"#REF!","v":{"$error":"#REF!"}},{"$f":"要求内訳データ!A495","v":{"$error":"#REF!"}},{"$f":"要求内訳データ!B495","v":{"$error":"#REF!"}},{"$f":"要求内訳データ!C495","v":{"$error":"#REF!"}},{"$f":"要求内訳データ!D495","v":{"$error":"#REF!"}},{"$f":"要求内訳データ!E495","v":{"$error":"#REF!"}},null,{"$f":"#REF!&\"0493\"","v":{"$error":"#REF!"}},"","","","","",{"$f":"IFERROR(VLOOKUP(I495,#REF!,10,FALSE),\"\")","v":""},{"$f":"IFERROR(VLOOKUP(I495,#REF!,11,FALSE),\"\")","v":""}]
[{"$error":"#REF!"},{"$f":"#REF!","v":{"$error":"#REF!"}},{"$f":"要求内訳データ!A496","v":{"$error":"#REF!"}},{"$f":"要求内訳データ!B496","v":{"$error":"#REF!"}},{"$f":"要求内訳データ!C496","v":{"$error":"#REF!"}},{"$f":"要求内訳データ!D496","v":{"$error":"#REF!"}},{"$f":"要求内訳データ!E496","v":{"$error":"#REF!"}},null,{"$f":"#REF!&\"0494\"","v":{"$error":"#REF!"}},"","","","","",{"$f":"IFERROR(VLOOKUP(I496,#REF!,10,FALSE),\"\")","v":""},{"$f":"IFERROR(VLOOKUP(I496,#REF!,11,FALSE),\"\")","v":""}]
[{"$error":"#REF!"},{"$f":"#REF!","v":{"$error":"#REF!"}},{"$f":"要求内訳データ!A497","v":{"$error":"#REF!"}},{"$f":"要求内訳データ!B497","v":{"$error":"#REF!"}},{"$f":"要求内訳データ!C497","v":{"$error":"#REF!"}},{"$f":"要求内訳データ!D497","v":{"$error":"#REF!"}},{"$f":"要求内訳データ!E497","v":{"$error":"#REF!"}},null,{"$f":"#REF!&\"0495\"","v":{"$error":"#REF!"}},"","","","","",{"$f":"IFERROR(VLOOKUP(I497,#REF!,10,FALSE),\"\")","v":""},{"$f":"IFERROR(VLOOKUP(I497,#REF!,11,FALSE),\"\")","v":""}]
[{"$error":"#REF!"},{"$f":"#REF!","v":{"$error":"#REF!"}},{"$f":"要求内訳データ!A498","v":{"$error":"#REF!"}},{"$f":"要求内訳データ!B498","v":{"$error":"#REF!"}},{"$f":"要求内訳データ!C498","v":{"$error":"#REF!"}},{"$f":"要求内訳データ!D498","v":{"$error":"#REF!"}},{"$f":"要求内訳データ!E498","v":{"$error":"#REF!"}},null,{"$f":"#REF!&\"0496\"","v":{"$error":"#REF!"}},"","","","","",{"$f":"IFERROR(VLOOKUP(I498,#REF!,10,FALSE),\"\")","v":""},{"$f":"IFERROR(VLOOKUP(I498,#REF!,11,FALSE),\"\")","v":""}]

{"sheet":"役務完了調書","index":5,"n_rows":40,"n_cols":5,"rows_kept":40,"hidden":true,"merged":[[0,0,0,4],[39,2,39,4]]}
["役務完了調書"]
[{"$nulls":4},"2020-03-30"]
[]
["契　約",null,"分任契約担当官",null,"第３高射特科群"]
[null,null,"陸上自衛隊飯塚駐屯地","検査官"]
["担当官",null,"第３６６会計隊飯塚派遣隊長　殿",null,"２曹　池本　薫"]
[]
[]
[]
["役務の名称",null,"宿舎使用料（奄美）"]
[]
[]
[]
[]
["数量",null,"１名"]
[]
[]
[]
[]
["役務期間",null,"令和２年３月１４日～令和２年３月１６日"]
[]
[]
[]
[null,null,"鹿児島県奄美市名瀬入船町９番２号"]
["役務相手方"]
[null,null,"有限会社　奄美ビジネス"]
[]
[]
[]
["検査の日時",null,"令和２年３月３０日"]
[]
[]
[]
["検査判定",null,"合　格"]
[]
[]
["検査内容",null,"品　質"]
[]
[]
["検査所見",null,"良好"]