Workbook
Name AAA: #REF!
Name AAA: #REF!
Name AAA: #REF!
Name AAAAA: #REF!
Name AAAAA: #REF!
Name AAAAA: #REF!
Name KKK: #REF!
Name KKK: #REF!
Name KKK: #REF!
Name uuu: #REF!
Name あ１: #REF!
Name あ１: #REF!
Name あ１: #REF!
Name じゃ: #REF!
Name じゃ: #REF!
Name じゃ: #REF!
Name にち: #REF!
Name 一位代価統計: [1]一位代価!$S$1:$U$65536
Name 基礎数値: [1]基礎数値!$A$1:$F$65536
Name 月: #REF!
Name 月: #REF!
Name 月: #REF!
Name 公告内訳: #REF!
Name 公告内訳: #REF!
Name 公告内訳: #REF!
Name 四半期: #REF!
Name 四半期: #REF!
Name 四半期: #REF!
Name 施_庁_備: #REF!
Name 施_庁_備: #REF!
Name 施_庁_備: #REF!
Name 時期: #REF!
Name 時期: #REF!
Name 時期: #REF!
Name 送付書22.4.15: #REF!
Name 送付書22.4.15: #REF!
Name 送付書22.4.15: #REF!
Name 導訓２５: [2]リスト表!$F$3:$F$33
Name 日: #REF!
Name 日: #REF!
Name 日: #REF!
Name 年度: #REF!
Name 年度: #REF!
Name 年度: #REF!
Name 物品区分: #REF!
Name 物品区分: #REF!
Name 物品区分: #REF!
Name 木: #REF!
Name 目: #REF!
Name 目: #REF!
Name 目: #REF!
Name 目の細分: #REF!
Name 目の細分: #REF!
Name 目の細分: #REF!

Sheet 見積書
A1: 見 積 書
A3: 件名リスト一連番号 | C3: ＯＣ１４１
A5: 見積金額￥
D6: （消費税及び地方税を含まない。）
A8: 品 名 | B8: 規 格 | D8: 単位 | E8: 数量 | F8: 単 価 | H8: 金 額
A9: 収納ケース | B9: ＲＢ０４０１ 同等品可 | D9: EA | E9: 1
B10: 以 下 余 白
A17: 合 計
A18: 納入（履行） | B18: 陸上自衛隊久里浜駐屯地 | E18: 納 期 | G18: 46356
A19: 場所 | E19: （履行期限）
A20: 契約保証金 | B20: （免除） | E20: 入札（見積）書有効期間 | G20: =A27 -> 46323
A22: 上記に関して「入札及び契約心得」、「オープンカウンター方式実施要項」及び
A23: 「標準契約書等」の契約条項等を承諾のうえ入札見積いたします。
A24: また、当社（私（個人の場合）、当団体（団体の場合)）は「入札及び契約心得」
A25: に示された暴力団排除に関する誓約事項について誓約いたします。
A27: 46323
A29: 契約担当官
A30: 陸上自衛隊システム通信・サイバー学校
A31: 会計課長 西野 崇 殿
D33: 住 所
D34: 会 社 名
D35: 代表者名
D36: 担当者名
D37: 電話番号

Sheet 下見積依頼
A1: 46316
A4: 見積依頼をお願いした業者各位に対して、下記｢下見積書｣の提出をお願いしております。
A5: これは予定価格（の一部）の資料となるものです。
A6: 不利益となるような取扱いは致しませんので、御協力よろしくお願い致します。
A8: １ 名 称 ： | C8: 収納ケース
A9: ２ 提 出 期 日 ： | C9: 8.10.28（水）1300まで | E9: （メールまたはＦＡＸ可）
A10: ３ 記入要領等 : | C10: ① 店頭販売価格（税抜き価格）をご記入ください。
C11: ② 単位及び記入箇所に注意してください。
C12: ③ 記入しない欄には、斜線を引くようにして下さい。
C13: ④ 所定の位置に記名（押印）のうえ提出（メールかＦＡＸ）して下さい。
A14: ４ お問合せ先またはＦＡＸ送付先 ： 陸上自衛隊システム通信・サイバー学校会計課契約班 〔担当 小野〕
A15: ０４６－８４１－３３００ 内線２１９
A16: ０４６－８４１－３３００ 内線３６８（ＦＡＸ）
A17: （切り取らないで下さい。）
A18: 下 見 積 書
A19: 陸上自衛隊 | C19: 令和 年 月 日
A20: システム通信・サイバー学校
A21: 契約担当官 殿
A23: 以下のとおり下見積します。
A24: 品 名 | C24: 規 格 | F24: 単位 | G24: 数量 | H24: 単価 | I24: 金 額 | J24: 備 考
B25: =見積書!A9 -> 収納ケース | C25: =見積書!B9 -> ＲＢ０４０１ 同等品可 | F25: =見積書!D9 -> EA | G25: =見積書!E9 -> 1
B26: =見積書!A10 -> 0 | C26: =見積書!B10 -> 以 下 余 白 | F26: =見積書!D10 -> 0 | G26: =見積書!E10 -> 0
B27: =見積書!A11 -> 0 | C27: =見積書!B11 -> 0 | F27: =見積書!D11 -> 0 | G27: =見積書!E11 -> 0
B28: =見積書!A12 -> 0 | C28: =見積書!B12 -> 0 | F28: =見積書!D12 -> 0 | G28: =見積書!E12 -> 0
B29: =見積書!A13 -> 0 | C29: =見積書!B13 -> 0 | F29: =見積書!D13 -> 0 | G29: =見積書!E13 -> 0
B30: =見積書!A14 -> 0 | C30: =見積書!B14 -> 0 | F30: =見積書!D14 -> 0 | G30: =見積書!E14 -> 0
B31: =見積書!A15 -> 0 | C31: =見積書!B15 -> 0 | F31: =見積書!D15 -> 0 | G31: =見積書!E15 -> 0
B32: =見積書!A16 -> 0 | C32: =見積書!B16 -> 0 | F32: =見積書!D16 -> 0 | G32: =見積書!E16 -> 0
A33: 合 計

Sheet 内訳 (3)
A1: 内 訳 書
A3: 一連番号 | B3: 品 名 | C3: 規 格 | D3: 単位 | E3: 数量 | F3: 単価 | G3: 金額 | H3: カタログ等名
A4: 1
A5: 2
A6: 3
A7: 4
A8: 5
A9: 6
A10: 7
A11: 8
A12: 9
A13: 10
A14: 11
A15: 12
... A28: 25
B29: 合 計 | G29: =SUM(G4:G28) -> 0
A30: 内 訳 書
A32: 一連番号 | B32: 品 名 | C32: 規 格 | D32: 単位 | E32: 数量 | F32: 単価 | G32: 金額 | H32: カタログ等名
A33: 26
A34: 27
A35: 28
A36: 29
A37: 30
A38: 31
A39: 32
A40: 33
A41: 34
A42: 35
A43: 36
A44: 37
... A57: 50
B58: 小 計
A59: 内 訳 書
A61: 一連番号 | B61: 品 名 | C61: 規 格 | D61: 単位 | E61: 数量 | F61: 単価 | G61: 金額 | H61: カタログ等名
A62: 51 | H62: JOINTEX
A63: 52 | H63: JOINTEX
A64: 53 | H64: JOINTEX
A65: 54 | H65: JOINTEX
A66: 55 | H66: JOINTEX
A67: 56 | H67: JOINTEX
...
