Workbook
Name _ｃ: #REF!
Name _ｃ: #REF!
Name ａ: #REF!
Name ａ: #REF!
Name ｂ: #REF!
Name ｂ: #REF!
Name ｄ: #REF!
Name ｄ: #REF!
Name ｅ: #REF!
Name ｅ: #REF!
Name ｆ: #REF!
Name ｆ: #REF!
Name PRINT_AREA_MI: #REF!
Name PRINT_AREA_MI: #REF!
Name yo: #REF!
Name yo: #REF!
Name ぴろ: #REF!
Name ぴろ: #REF!
Name ページ１: #REF!
Name ページ１: #REF!
Name ページ１０: #REF!
Name ページ１０: #REF!
Name ページ１１: #REF!
Name ページ１１: #REF!
Name ページ１２: #REF!
Name ページ１２: #REF!
Name ページ１３: #REF!
Name ページ１３: #REF!
Name ページ１４: #REF!
Name ページ１４: #REF!
Name ページ１５: #REF!
Name ページ１５: #REF!
Name ページ２: #REF!
Name ページ２: #REF!
Name ページ３: #REF!
Name ページ３: #REF!
Name ページ４: #REF!
Name ページ４: #REF!
Name ページ５: #REF!
Name ページ５: #REF!
Name ページ６: #REF!
Name ページ６: #REF!
Name ページ７: #REF!
Name ページ７: #REF!
Name ページ８: #REF!
Name ページ８: #REF!
Name ページ９: #REF!
Name ページ９: #REF!
Name 一位代価: #REF!
Name 一位代価: #REF!
Name 一位代価統計: #REF!
Name 一位代価統計: [2]一位代価!$S$1:$U$65536
Name 科目: [3]ﾃﾞｰﾀ!$K$3:$K$318
Name 科目表: [3]ﾃﾞｰﾀ!$K$3:$L$318
Name 会社名: [3]ﾃﾞｰﾀ!$B$3:$B$318
Name 各付区分: [3]ﾃﾞｰﾀ!$N$8:$N$12
Name 基礎数値: #REF!
Name 基礎数値: [2]基礎数値!$A$1:$F$65536
Name 機械経費: #REF!
Name 機械経費: #REF!

Sheet 000000

Sheet 000001

Sheet 入札・見積
M1: 別紙様式第１２
A3: 入 札 書
A4: 見 積 書
B7: 金額 ￥ | E7: (税抜)
A9: 品 名 | D9: 規 格 | F9: 単位 | G9: 数量 | I9: 単 価 | L9: 金額 | M9: 備考
A10: ８０号庁舎ＬＥＤ化改修工事 | D10: 仕様書のとおり | F10: 式 | G10: 1 | L10: =G10*I10 -> 0
D11: 以下余白 | L11: =G11*I11 -> 0
A19: 0 | D19: 0 | F19: 0 | G19: 0 | M19: =I19*G19 -> 0
A20: 0 | D20: 0 | F20: 0 | G20: 0 | M20: =I20*G20 -> 0
A21: 0 | D21: 0 | F21: 0 | G21: 0 | M21: =I21*G21 -> 0
A22: 0 | D22: 0 | F22: 0 | G22: 0 | M22: =I22*G22 -> 0
A23: 0 | D23: 0 | F23: 0 | G23: 0 | M23: =I23*G23 -> 0
A24: 0 | D24: 0 | F24: 0 | G24: 0 | M24: =I24*G24 -> 0
A25: 0 | D25: 0 | F25: 0 | G25: 0 | M25: =I25*G25 -> 0
D26: 0 | I26: =IF(M11>0,"合 計","") | M26: =IF(M11>0,SUM(M10:M25),"")
A27: 納 入 場 所 | D27: =価格調査!B11 -> 陸上自衛隊小平駐屯地 | H27: 納期 | J27: 9.3.31
A28: 入札（契約）保証金 | D28: 免 除 | F28: 入札（見積）書有効期間
A30: 上記の公告又は通知に対して、「入札及び契約心得」及び「標準契約書等」の契約条
A31: 項等を承諾のうえ入札見積いたします。
A32: また、当社（私（個人の場合）、当団体（団体の場合））は、「入札及び契約心得」
A33: に示された暴力団排除に関する誓約事項について誓約いたします。
C36: 令和 年 月 日
A39: 契約担当官
A40: 陸上自衛隊小平学校
A41: 会計課長 大原 一裕 殿
D43: 住 所
D44: 会 社 名
D45: 代表者名
D46: 担当者名
D47: 連 絡 先

Sheet 価格調査
A1: 価 格 調 査 書
H2: 令和 年 月 日
B4: 契約担当官 陸上自衛隊小平学校 会計課長 大原 一裕 | D4: 殿
A6: 下記のとおり御見積り致します。
F7: 住 所
A8: ￥ | E8: （税抜） | F8: 会 社 名
F9: 代 表 者
B10: 上記金額直接工事費のみ | F10: 担当者名
A11: 履行場所： | B11: 陸上自衛隊小平駐屯地 | F11: 連 絡 先
A12: 履行期限： | B12: =入札・見積!J27 -> 9.3.31
A14: 品 名 | C14: 規 格 | E14: 数量 | F14: 単位 | G14: 単価 (税抜) | I14: 金 額 (税 抜) | J14: 備考
B15: =入札・見積!A10 -> ８０号庁舎ＬＥＤ化改修工事
A16: １ | B16: 直接工事費 | C16: 部分見積内訳書 のとおり | E16: 1 | F16: 式
A17: ２ | B17: 産業廃棄物処理 | E17: 1 | F17: 式
B36: 合 計
A42: 46342 | C42: の12時までにＦＡＸ（042-321-0664 直通）又はメールにて提出願います。
E43: Mail: | F43: fin-ksh@inet.gsdf.mod.go.jp

Sheet 価格調査内訳書
A1: 部分見積内訳書（直接工事費のみ）
A2: 件名： | B2: =入札・見積!A10 -> ８０号庁舎ＬＥＤ化改修工事
A3: 項 目 | C3: 規 格 | E3: 数 量 | F3: 単 位 | G3: 単 価 （税抜き） | H3: 金 額 （税抜き） | I3: 備 考
A4: １ | B4: 建築工事 | H4: =H5 -> 0
A5: （１） | B5: 仮設・雑工事 | H5: =SUM(H6:H8) -> 0
A6: ア | B6: 養生 | C6: 内部改修 | E6: 4.02 | F6: ㎡ | H6: =E6*G6 -> 0
A7: イ | B7: 内部仕上げ足場 | C7: ローリングタワー 5段 | E7: 1 | F7: 台
A8: ウ | B8: 整理清掃後片付け | C8: 内部改修 | E8: 4.02 | F8: ㎡ | H8: =E8*G8 -> 0
A9: ２ | B9: 電気設備工事 | H9: =SUM(H10,H15) -> 0
A10: （１） | B10: 撤去工事 | H10: =SUM(H11:H14) -> 0
A11: ア | B11: 照明器具撤去 | C11: JB13W×1（埋込天井灯・非常用） | E11: 192 | F11: 台 | H11: =E11*G11 -> 0
A12: イ | B12: 照明器具撤去 | C12: JB30W×1（埋込天井灯・非常用） | E12: 6 | F12: 台 | H12: =E12*G12 -> 0
A13: ウ | B13: 照明器具撤去 | C13: JB30W×1（埋込天井灯・非常用） | E13: 1 | F13: 台 | H13: =E13*G13 -> 0
A14: エ | B14: 照明器具撤去 | C14: J13W×1（直付天井灯・非常用） | E14: 2 | F14: 台 | H14: =E14*G14 -> 0
A15: （２） | B15: 電気設備工事 | H15: =SUM(H16:H19) -> 0
A16: ア | B16: 照明器具新設 | C16: 東芝 LEDEM-13221M（非常用） | E16: 192 | F16: 台 | H16: =E16*G16 -> 0
A17: イ | B17: 照明器具新設 | C17: 東芝 LEDEM-30221M（非常用） | E17: 6 | F17: 台 | H17: =E17*G17 -> 0
A18: ウ | B18: 照明器具新設 | C18: 東芝 LEDEM-30224M（非常用） | E18: 1 | F18: 台 | H18: =E18*G18 -> 0
A19: エ | B19: 照明器具新設 | C19: 三菱 EL-CB20111B（非常用） | E19: 2 | F19: 台 | H19: =E19*G19 -> 0
A20: ３ | B20: その他 | H20: =SUM(H21:H22) -> 0
B21: 産業廃棄物処分 | C21: 照明器具カバー、蛍光管 | E21: 1 | F21: 式 | H21: =E21*G21 -> 0
H22: =E22*G22 -> 0
B24: 合 計 | H24: =SUM(H4,H9,H21) -> 0
A25: １ | B25: 内訳書は部分見積（直接工事費及び産業廃棄物処理のみ）です（共通仮設費、管理費等を除く）。
A26: ２ | B26: 公表価格ではなく実勢価格とします。
A27: ３ | B27: 消費税抜きの金額を記載してください。

Sheet 材料価格調査
A1: 材料価格調査書（材料のみ）
A2: 件名： | B2: =入札・見積!A10 -> ８０号庁舎ＬＥＤ化改修工事
A3: 項 目 | C3: 規 格 | E3: 数 量 | F3: 単 位 | G3: 金 額 （税抜き） | H3: 参考例（メーカー等） | I3: 備 考
A4: １ | B4: 電気設備工事
B5: 照明器具新設
A6: （１） | B6: ＬＥＤ照明 | C6: 東芝 LEDEM-13221M（非常用） | F6: 台
A7: （２） | B7: ＬＥＤ照明 | C7: 東芝 LEDEM-30221M（非常用） | F7: 台
A8: （３） | B8: ＬＥＤ照明 | C8: 東芝 LEDEM-30224M（非常用） | F8: 台
A9: （４） | B9: ＬＥＤ照明 | C9: 三菱 EL-CB20111B（非常用） | F9: 台
A31: １ | B31: 工事に使用する材料費のみの価格調査（実勢価格）です。
A32: ２ | B32: 数量・金額については、使用単位ではなく購入単位等で記載ください。
A33: ３ | B33: メーカーについては、指定するものでなく、参考として記載したものです。
B34: （設置する器具については、同等品確認が必要）
A35: ４ | B35: 消費税抜きの金額を記載してください。
