Workbook
Name _ｃ: #REF!
Name _ｃ: #REF!
Name _ｃ: #REF!
Name ａ: #REF!
Name ａ: #REF!
Name aaaa: #REF!
Name ｂ: #REF!
Name ｂ: #REF!
Name B1print_titles: #REF!
Name B1print_titles: #REF!
Name ＢＡ６Ａ: #REF!
Name ＢＡ６Ａ: #REF!
Name ｄ: #REF!
Name ｄ: #REF!
Name ddd: #REF!
Name ｅ: #REF!
Name ｅ: #REF!
Name ｆ: #REF!
Name ｆ: #REF!
Name PEINT_TITLES: #REF!
Name PEINT_TITLES: #REF!
Name pprint_titles: #REF!
Name pprint_titles: #REF!
Name PRINT_AREA_MI: #REF!
Name PRINT_AREA_MI: #REF!
Name Print_Titlese: #REF!
Name Print_Titlese: #REF!
Name Print_Titlese: #REF!
Name ｑ: #REF!
Name ｑ: #REF!
Name yo: #REF!
Name yo: #REF!
Name かがみ: #REF!
Name スクラップ: #REF!
Name ﾀﾝ: #REF!
Name ﾀﾝ: #REF!
Name ﾀﾝｶ: #REF!
Name ﾀﾝｹｲ: #REF!
Name ページ１: #REF!
Name ページ１: #REF!
Name ページ１０: #REF!
Name ページ１０: #REF!
Name ページ１１: #REF!
Name ページ１１: #REF!
Name ページ１２: #REF!
Name ページ１２: #REF!
Name ページ１３: #REF!
Name ページ１３: #REF!
Name ページ１４: #REF!
Name ページ１４: #REF!
Name ページ１５: #REF!
Name ページ１５: #REF!
Name ページ２: #REF!
Name ページ２: #REF!
Name ページ３: #REF!
Name ページ３: #REF!
Name ページ４: #REF!
Name ページ４: #REF!
Name ページ５: #REF!
Name ページ５: #REF!

Sheet 見積書
A1: 入 札 書
A2: 見 積 書
A4: 金額￥ | B4: （税抜）
A6: 品 名 | B6: 規 格 | C6: 単 位 | D6: 数 量 | E6: 単 価 | H6: 金 額
A7: １４号建物防犯・入退室管理設備修理 | B7: 仕様書のとおり | C7: ST | D7: 1
C8: ―以下 | D8: 余白―
A13: 納 入 場 所 | B13: 陸上自衛隊座間駐屯地 | D13: 納 期 | F13: 契約日～ 令和９年３月３１日
A14: 入札（契約）保証金 | B14: 免 除 | C14: 入札（見積）書有効期間
A16: 上記の公告又は通知に対して「入札及び契約心得」及び「標準契約書等」 の契約条項等を承諾の上、入札見積いたします。 また、当社（私（個人の場合）、当団体（団体の場合））は「入札及び契約心得」に示された暴力団排除に関する誓約事項について誓約いたします。
A18: 46338
A20: 分任契約担当官
A21: 陸上自衛隊座間駐屯地
A22: 第４４１会計隊長 佐野 任治 殿
C24: 住 所
C25: 会 社 名
C26: 代表者名
C27: 担当者名
C28: 連 絡 先
B80: 計

Sheet 市価調査書
A1: 市 価 調 査 書
G2: 年 月 日
B3: 分任契約担当官陸上自衛隊座間駐屯地
B4: 第441会計隊長 佐野 任治 | C4: 殿 | D4: 住 所
D5: 社 名
B6: =G11 -> 0 | D6: 代表者名
D7: 担当者名
B8: 下記により下見積致します。 | D8: 連絡先
A10: № | B10: 品 名 | C10: 規 格 | D10: 単 位 | E10: 数 量 | F10: 単 価 | G10: 金 額 | H10: 備 考
A11: 1 | B11: １４号建物防犯・入退室管理設備修理 | C11: 仕様書のとおり | D11: 式 | E11: 1 | G11: =SUM(G12:G14) -> 0 | H11: ①＝②+③+④
A12: -1 | B12: 部品費（ＵＳＰバッテリー） | C12: 84517470-001 | D12: 台 | E12: 1 | H12: ②
A13: -2 | B13: 交換作業費 | D13: 式 | E13: 1 | H13: ③
A14: -3 | B14: 諸経費 | D14: 式 | E14: 1 | H14: ④
A29: 令和８年１１月１１日（水）１２時００分までに送信いただけますよう、ご協力お願いします。

Sheet 積算 
D1: 直だき吸収冷温水機点検保守積算価格内訳書
Q2: 1」
A4: 工 事 項 目 | C4: メーカー・規格等 | F4: 数量 | G4: 点検 | H4: 歩掛け | L4: 労務単価 | P4: 金 額 | Q4: 備 考 | S4: 歩掛け
G5: 周期 | H5: 保全技師Ⅱ | I5: 保全技師補 | J5: 保全技術員 | K5: 保全技術員補 | L5: 保全技師Ⅱ | M5: 保全技師補 | N5: 保全技術員 | O5: 保全技術員補 | S5: 保全技師Ⅱ | T5: 保全技師補 | U5: 保全技術員 | V5: 保全技術員補
A6: 1 | B6: 直だき吸収冷温水機 (J-13) | C6: 川重冷熱工業㈱ ∑TZG-100LP5C | E6: イン | F6: 1 | G6: 2
B7: インヒビターの点検調整 | F7: 1
B8: ストレナー点検整備槽内・Y形 | F8: 2
B9: 操作盤マイコン盤内の データ確認及び調整 | F9: 2
B10: 中央監視装置・自動制御 動作確認点検 | F10: 1
A11: 2 | B11: 冷却塔 (J-13) | C11: 空研工業㈱ SKB-92GR | E11: イン | F11: 1 | G11: 1
E12: オフ | F12: 1 | G12: 1
A13: 3 | B13: 直だき吸収冷温水機 (J-14・１号機) | C13: 川重冷熱工業㈱ ∑TUC-100DN5C | E13: イン | F13: 1 | G13: 2
B14: インヒビターの点検調整 | F14: 1
B15: ストレナー点検整備槽内・Y形 | F15: 2
B16: 操作盤マイコン盤内の データ確認及び調整 | F16: 2
B17: 中央監視装置・自動制御 動作確認点検 | F17: 1
A18: 4 | B18: 直だき吸収冷温水機 (J-14・２号機) | C18: 川重冷熱工業㈱ ∑TUC-100DN5C | E18: イン | F18: 1 | G18: 2
B19: インヒビターの点検調整 | F19: 1
B20: ストレナー点検整備槽内・Y形 | F20: 2
B21: 操作盤マイコン盤内の データ確認及び調整 | F21: 2
B22: 中央監視装置・自動制御 動作確認点検 | F22: 1
A23: 5 | B23: 冷却塔 (J-14) | C23: 空研工業㈱ SKB-102GR | E23: イン | F23: 2 | G23: 1
E24: オフ | F24: 2 | G24: 1
A25: 6 | B25: 直だき吸収冷温水機 （J-11) | C25: 矢崎エナジーシステム㈱ ＣＨ－ＫＧ６０Ｕ３３ | E25: イン | F25: 1 | G25: 2
B26: インヒビターの点検調整 | F26: 1
B27: ストレナー点検整備槽内・Y形 | F27: 2
B28: 操作盤マイコン盤内の データ確認及び調整 | F28: 2
B29: 中央監視装置・自動制御 動作確認点検 | F29: 1
A30: 7 | B30: 冷却塔 （J-11) | C30: エバラ冷熱システム ＳＤＷ－Ｕ６０ＡＳＤ | E30: イン | F30: 1 | G30: 1
E31: オフ | F31: 1 | G31: 1
A32: 8 | B32: 交換部品(J-11)
B33: ZインヒビターDセット (水素抑制剤：080198010B) | F33: 2
B34: 点火ロッド (テクノ矢崎製：7NXEC3001440) | F34: 2
B35: 点火ロッド電線 (テクノ矢崎製：7NXEE3001440) | F35: 2
B36: フレームロッド (テクノ矢崎製：7NXXE3013300) | F36: 2
B37: フレームロッド電線 (テクノ矢崎製：08KB3002050) | F37: 2
B38: フレームロッドアース電線 (テクノ矢崎製：7NXEE3001350) | F38: 2
B39: 点火トランス (テクノ矢崎製：7NXEE300143A) | F39: 2
B40: 冷却ファン (CB用：7ROZ142560A) | F40: 2
A41: 9 | B41: 交換部品交換作業費(J-11)
...

Sheet 積算②
A1: 名称 | D1: 摘要 | E1: 数量 | G1: 金額 | I1: 備考
A2: 1 | B2: ='積算 '!B6 -> 直だき吸収冷温水機 (J-13)
B3: ='積算 '!B7 -> インヒビターの点検調整 | E3: ='積算 '!F7 -> 1 | G3: ='積算 '!P7 -> 0
B4: ='積算 '!B8 -> ストレナー点検整備槽内・Y形 | E4: ='積算 '!F8 -> 2 | G4: ='積算 '!P8 -> 0
B5: ='積算 '!B9 -> 操作盤マイコン盤内の データ確認及び調整 | E5: ='積算 '!F9 -> 2 | G5: ='積算 '!P9 -> 0
B6: ='積算 '!B10 -> 中央監視装置・自動制御 動作確認点検 | E6: ='積算 '!F10 -> 1 | G6: ='積算 '!P10 -> 0
B7: 計 | G7: =SUM(G3:H6) -> 0
A8: 2 | B8: ='積算 '!B13 -> 直だき吸収冷温水機 (J-14・１号機) | X8: ='積算 '!#REF! -> #REF!
B9: ='積算 '!B14 -> インヒビターの点検調整 | E9: ='積算 '!F14 -> 1 | G9: ='積算 '!P14 -> 0
B10: ='積算 '!B15 -> ストレナー点検整備槽内・Y形 | E10: ='積算 '!F15 -> 2 | G10: ='積算 '!P15 -> 0
B11: ='積算 '!B16 -> 操作盤マイコン盤内の データ確認及び調整 | E11: ='積算 '!F16 -> 2 | G11: ='積算 '!P16 -> 0
B12: ='積算 '!B17 -> 中央監視装置・自動制御 動作確認点検 | E12: ='積算 '!F17 -> 1 | G12: ='積算 '!P17 -> 0
B13: 計 | G13: =SUM(G9:H12) -> 0
A14: 3 | B14: ='積算 '!B18 -> 直だき吸収冷温水機 (J-14・２号機) | X14: ='積算 '!#REF! -> #REF!
B15: ='積算 '!B19 -> インヒビターの点検調整 | E15: ='積算 '!F19 -> 1 | G15: ='積算 '!P19 -> 0
B16: ='積算 '!B20 -> ストレナー点検整備槽内・Y形 | E16: ='積算 '!F20 -> 2 | G16: ='積算 '!P20 -> 0
B17: ='積算 '!B21 -> 操作盤マイコン盤内の データ確認及び調整 | E17: ='積算 '!F21 -> 2 | G17: ='積算 '!P21 -> 0
B18: ='積算 '!B22 -> 中央監視装置・自動制御 動作確認点検 | E18: ='積算 '!F22 -> 1 | G18: ='積算 '!P22 -> 0
B19: 計 | G19: =SUM(G15:H18) -> 0
A20: 4 | B20: ='積算 '!B25 -> 直だき吸収冷温水機 （J-11) | X20: ='積算 '!B24 -> 0
B21: ='積算 '!B26 -> インヒビターの点検調整 | E21: ='積算 '!F26 -> 1 | G21: ='積算 '!P26 -> 0
B22: ='積算 '!B27 -> ストレナー点検整備槽内・Y形 | E22: ='積算 '!F27 -> 2 | G22: ='積算 '!P27 -> 0
B23: ='積算 '!B28 -> 操作盤マイコン盤内の データ確認及び調整 | E23: ='積算 '!F28 -> 2 | G23: ='積算 '!P28 -> 0
B24: ='積算 '!B29 -> 中央監視装置・自動制御 動作確認点検 | E24: ='積算 '!F29 -> 1 | G24: ='積算 '!P29 -> 0
B25: 計 | G25: =SUM(G21:H24) -> 0
A26: 5 | B26: ='積算 '!B32 -> 交換部品(J-11)
B27: ='積算 '!B33 -> ZインヒビターDセット (水素抑制剤：080198010B) | E27: ='積算 '!F33 -> 2 | G27: ='積算 '!P33 -> 0
B28: ='積算 '!B34 -> 点火ロッド (テクノ矢崎製：7NXEC3001440) | E28: ='積算 '!F34 -> 2 | G28: ='積算 '!P34 -> 0
B29: ='積算 '!B35 -> 点火ロッド電線 (テクノ矢崎製：7NXEE3001440) | E29: ='積算 '!F35 -> 2 | G29: ='積算 '!P35 -> 0
B30: ='積算 '!B36 -> フレームロッド (テクノ矢崎製：7NXXE3013300) | E30: ='積算 '!F36 -> 2 | G30: ='積算 '!P36 -> 0
B31: ='積算 '!B37 -> フレームロッド電線 (テクノ矢崎製：08KB3002050) | E31: ='積算 '!F37 -> 2 | G31: ='積算 '!P37 -> 0
B32: ='積算 '!B38 -> フレームロッドアース電線 (テクノ矢崎製：7NXEE3001350) | E32: ='積算 '!F38 -> 2 | G32: ='積算 '!P38 -> 0
A33: 5 | B33: ='積算 '!B39 -> 点火トランス (テクノ矢崎製：7NXEE300143A) | E33: ='積算 '!F39 -> 2 | G33: ='積算 '!P39 -> 0
B34: ='積算 '!B40 -> 冷却ファン (CB用：7ROZ142560A) | E34: ='積算 '!F40 -> 2 | G34: ='積算 '!P40 -> 0
B35: 計 | G35: =SUM(G27:H34) -> 0
A36: 6 | B36: ='積算 '!B41 -> 交換部品交換作業費(J-11)
B37: ='積算 '!B42 -> 水素抑制剤投入作業費 | E37: ='積算 '!F42 -> 1 | G37: ='積算 '!P42 -> 0
B38: ='積算 '!B43 -> 交換部品交換作業費 | E38: ='積算 '!F43 -> 1 | G38: ='積算 '!P43 -> 0
B39: ='積算 '!B44 -> 消耗品・工具損料 | E39: ='積算 '!F44 -> 1 | G39: ='積算 '!P44 -> 0
B40: ='積算 '!B45 -> 運搬交通費 | E40: ='積算 '!F45 -> 1 | G40: ='積算 '!P45 -> 0
...

Sheet 工事別内訳書
A1: 内訳書
A2: 空調機借上げ | M2: 借上げ日数
A3: 名 称 | C3: 規格 | D3: 数量 | E3: 単位 | F3: 単価 | G3: 金額 | H3: 備考 | M3: ４月 | N3: 16
B4: ファンコイルバルブ | C4: ２０Ａ | D4: 182 | E4: 個 | M4: ５月 | N4: 31
B5: ファンコイルバルブ | C5: ２０Ａ 流量調整用 | D5: 91 | E5: 個 | M5: ６月 | N5: 30
B6: フレキシブル | C6: ２０Ａ | D6: 182 | E6: 個 | M6: ７月 | N6: 14
B7: ファンコイル交換 | D7: 91 | E7: 式
B8: 配管工事 | D8: 91 | E8: 式
B9: 保温工事 | C9: ＡＬＧＣ | D9: 91 | E9: 式
B10: 仮設養生費 | D10: 1 | E10: 式
B11: 仮設足場費 | D11: 1 | E11: 式
B12: 産業廃棄物処分費 | D12: 1 | E12: 式
B13: 雑材消耗品 | D13: 1 | E13: 式
B14: 交通運搬費 | D14: 1 | E14: 式
B15: 現場管理費 | D15: 1 | E15: 式
B16: 諸経費 | D16: 1 | E16: 式
A26: 合 計 | M26: 計 | N26: =SUM(N3:N25) -> 91

Sheet Sheet1  (3)
A1: 入 札 書
A2: 見 積 書
A4: 金額￥ | B4: （税抜）
A6: 品 名 | B6: 規 格 | C6: 単位 | E6: 数 量 | G6: 単 価 | J6: 金 額
A7: 軟水カートリッジ交換 | B7: 仕様書のとおり | C7: ST | E7: 1 | M7: 0
C8: ー以下 | E8: 余白ー
A13: 納 入 場 所 | B13: 陸上自衛隊座間駐屯地 | F13: 納期 | H13: 令和７年１２月１９日～ 令和８年３月３１日
A14: 入札（契約）保証金 | B14: 免 除 | D14: 入札（見積）書有効期間
A16: 上記の公告又は通知に対して「入札及び契約心得」及び「標準契約書等」 の契約条項等を承諾の上、入札見積いたします。 また、当社（私（個人の場合）、当団体（団体の場合））は「入札及び契約心得」に示された暴力団排除に関する誓約事項について誓約いたします。
A18: 46010
A20: 分任契約担当官
A21: 陸上自衛隊座間駐屯地
A22: 第４４１会計隊長 平岡 風河 殿
C24: 住 所
C25: 会 社 名
C26: 代表者名
C27: 担当者名
C28: 連 絡 先

Sheet 下見積 (4)
C1: 市 価 調 査 書 | G1: 年 月 日
B3: 分任契約担当官陸上自衛隊座間駐屯地
B4: 第441会計隊長 平岡 風河 | C4: 殿 | D4: 住 所 | L4: 相模原市中央区相模原4-1-16 | M4: 相模原市中央区相模原4-1-2
D5: 社 名 | L5: 東横INNJR横浜線相模原駅前 | M5: ホテルクラウンヒルズ相模原
B6: ￥ | D6: 代表者名 | L6: 支配人 貴田 香織 | M6: 支配人 藪内 一剛
D7: 担当者名 | L7: 鈴木柚香 | M7: 0
B8: 下記により下見積致します。 | D8: 連絡先 | L8: 042-862-1045 | M8: 042-769-1100
A10: № | B10: 品名 | C10: 規格 | D10: 単位 | E10: 数量 | F10: 単 価 | G10: 金 額 | H10: 備考 | I10: その他 | J10: 発注から納品までの期間 | L10: =SUM(L11:L72) -> 55750
A11: 1 | B11: 軟水カートリッジ交換 | C11: 仕様書のとおり | D11: ST | E11: 1 | H11: #REF! | I11: 228 | L11: 11180
H15: #REF! | I15: 290 | L15: 33390
H16: #REF! | I16: #REF! | L16: 11180
B18: 合 計 | H18: #REF! | I18: 514
H19: #REF! | I19: 521
H20: #REF! | I20: 527
C21: あて先 契約班 金杉 | H21: #REF! | I21: 718
B22: #REF! | C22: #REF! | D22: #REF! | E22: #REF! | H22: #REF! | I22: 787
B23: #REF! | C23: #REF! | D23: #REF! | E23: #REF! | H23: #REF! | I23: 396
B24: #REF! | C24: #REF! | D24: #REF! | E24: #REF! | H24: #REF! | I24: 396
B25: #REF! | C25: #REF! | D25: #REF! | E25: #REF! | H25: #REF! | I25: 396
A27: 76 | B27: #REF! | C27: #REF! | D27: #REF! | E27: #REF! | H27: #REF! | I27: 298
A28: 77 | B28: #REF! | C28: #REF! | D28: #REF! | E28: #REF! | H28: #REF! | I28: 708
A29: 78 | B29: #REF! | C29: #REF! | D29: #REF! | E29: #REF! | H29: #REF! | I29: 706
A30: 79 | B30: #REF! | C30: #REF! | D30: #REF! | E30: #REF! | H30: #REF! | I30: 738
A31: 80 | B31: #REF! | C31: #REF! | D31: #REF! | E31: #REF! | H31: #REF! | I31: 738
A32: 81 | B32: #REF! | C32: #REF! | D32: #REF! | E32: #REF! | H32: #REF! | I32: 738
A33: 82 | B33: #REF! | C33: #REF! | D33: #REF! | E33: #REF! | H33: #REF! | I33: 248
A34: 83 | B34: #REF! | C34: #REF! | D34: #REF! | E34: #REF! | H34: #REF! | I34: 248
A35: 87 | B35: #REF! | C35: #REF! | D35: #REF! | E35: #REF! | H35: #REF! | I35: 248
A36: 88 | B36: #REF! | C36: #REF! | D36: #REF! | E36: #REF! | H36: #REF! | I36: 248
A37: 89 | B37: #REF! | C37: #REF! | D37: #REF! | E37: #REF! | H37: #REF! | I37: 248
A38: 90 | B38: #REF! | C38: #REF! | D38: #REF! | E38: #REF! | H38: #REF! | I38: 248
... A48: 100 | B48: #REF! | C48: #REF! | D48: #REF! | E48: #REF! | H48: #REF! | I48: 250
B49: 小 計
A50: 101 | B50: #REF! | C50: #REF! | D50: #REF! | E50: #REF! | H50: #REF! | I50: 250
A51: 102 | B51: #REF! | C51: #REF! | D51: #REF! | E51: #REF! | H51: #REF! | I51: 250
A52: 103 | B52: #REF! | C52: #REF! | D52: #REF! | E52: #REF! | H52: #REF! | I52: 250
A53: 104 | B53: #REF! | C53: #REF! | D53: #REF! | E53: #REF! | H53: #REF! | I53: 250
A54: 105 | B54: #REF! | C54: #REF! | D54: #REF! | E54: #REF! | H54: #REF! | I54: 250
A55: 106 | B55: #REF! | C55: #REF! | D55: #REF! | E55: #REF! | H55: #REF! | I55: 250
A56: 107 | B56: #REF! | C56: #REF! | D56: #REF! | E56: #REF! | H56: #REF! | I56: 250
...

Sheet 下見積 (2)
C1: 市 価 調 査 書 | G1: 年 月 日
B3: 分任契約担当官陸上自衛隊座間駐屯地 | D3: 住 所
B4: 第441会計隊長 平岡 風河 | C4: 殿 | D4: 社 名
D5: 代表者名
D6: 担当者
D7: 連絡先 | M7: 0
B8: ￥
B10: 下記により下見積致します。
A12: № | B12: 品名 | C12: 規格 | D12: 単位 | E12: 数量 | F12: 単 価 | G12: 金 額 | H12: 備考 | I12: その他 | J12: 備考
A13: 1 | H13: #REF! | I13: 228
J20: ①
J21: ②
J22: ③
J23: ④
J24: ⑤
J25: ⑥
B27: 合 計 | I27: 726
C29: あて先 契約班 金杉 | I29: 718
I30: 787
I31: 396
I32: 396
I33: 396
A35: 76 | I35: 298
A36: 77 | I36: 708
A37: 78 | I37: 706
A38: 79 | I38: 738
A39: 80 | I39: 738
A40: 81 | I40: 738
A41: 82 | I41: 248
A42: 83 | I42: 248
A43: 84 | I43: 248
A44: 85 | I44: 248
A45: 86 | I45: 248
A46: 87 | I46: 248
... A59: 100 | I59: 250
B60: 小 計
A61: 101 | I61: 250
A62: 102 | I62: 250
A63: 103 | I63: 250
A64: 104 | I64: 250
...
