Workbook
Name _1_: #REF!
Name _1_1: #REF!
Name _ｃ: #REF!
Name 〃: #REF!
Name ａ: #REF!
Name ｂ: #REF!
Name ＣＲＣ: #REF!
Name ｄ: #REF!
Name ｅ: #REF!
Name ｆ: #REF!
Name OLE_LINK1: '別紙第1～6(13)'!$BP$1
Name OLE_LINK2: '別紙第1～6(13)'!$BP$3
Name PA: #REF!
Name PRINT_AREA_MI: #REF!
Name Print_Titles_MI: #REF!
Name ssss: #REF!
Name yo: #REF!
Name あ: #REF!
Name カタログ: #REF!
Name カタログ名: #REF!
Name グリーズスプレー: #REF!
Name ゴム手袋: #REF!
Name シャッター用潤滑油: #REF!
Name ページ: #REF!
Name ページ１: #REF!
Name ページ１０: #REF!
Name ページ１１: #REF!
Name ページ１２: #REF!
Name ページ１３: #REF!
Name ページ１４: #REF!
Name ページ１５: #REF!
Name ページ２: #REF!
Name ページ３: #REF!
Name ページ３０: #REF!
Name ページ４: #REF!
Name ページ５: #REF!
Name ページ６: #REF!
Name ページ７: #REF!
Name ページ８: #REF!
Name ページ９: #REF!
Name 一位: #REF!
Name 一位代価: #REF!
Name 一位代価①: #REF!
Name 一位代価計: #REF!
Name 一位代価統計①: #REF!
Name 一位代価統計３: #REF!
Name 一位代価統計４: #REF!
Name 科目: #REF!
Name 科目１: #REF!
Name 科目表: #REF!
Name 会社名: #REF!
Name 各付区分: #REF!
Name 管理区分: #REF!
Name 基礎数: #REF!
Name 基礎数値①: #REF!
Name 基礎数値３: #REF!
Name 基礎数値４: #REF!
Name 機械経費: #REF!
Name 業者コード: #REF!
Name 業者一覧: #REF!

Sheet 入札説明書
A1: 入 札 説 明 書
A4: =CONCATENATE(" ",[1]基礎入力シート!B14,"の",[1]基礎入力シート!B16,"に係わる入札公告(",[1]基礎入力シート!C25,")に基づく入札等については、") -> 第３３４会計隊の３１号建物給水ポンプ他修繕工事に係わる入札公告(建築一式)に基づく入札等については、
A5: 関係法令に定めるもののほか、この入札説明書によるものとする。
A7: １ 入札公告日 ： | B7: =[1]行程別日付入力シート!S6 -> 46280
A9: ２ 契約担当官等
A10: ア 契約担当官： | B10: =CONCATENATE([1]基礎入力シート!B11," ",[1]基礎入力シート!F11," ",[1]基礎入力シート!B12," ",[1]基礎入力シート!G12) -> 分任契約担当官 陸上自衛隊宇都宮駐屯地 第３３４会計隊長 今野 誠
A11: イ 住 所： | B11: =CONCATENATE([1]公告_以上!A112," ",[1]公告_以上!A113) -> 〒321-0145 栃木県宇都宮市茂原1-5-45
A13: ３ 工事概要 | B13: =[1]基礎入力シート!B19 -> 用途(管)
B14: =[1]基礎入力シート!B20 -> 0
A15: (1) 工事名 ： | B15: =[1]基礎入力シート!B16 -> ３１号建物給水ポンプ他修繕工事
A17: (2) 工事場所 ： | B17: =[1]基礎入力シート!B17 -> 陸上自衛隊宇都宮駐屯地
A19: (3) 工事内容及び工事範囲 ：別冊図面及び仕様書のとおり。
L20: いいえ
A21: (4) 工期 ： | B21: =[1]行程別日付入力シート!S4 -> 46465 | L21: ア 本工事は、工事費内訳明細書の提出を義務付ける工事である。
L22: イ 本工事は、数量公開の対象工事であり、設計数量を参考数量として公開することとしており、手続きの詳細は、
A23: (5) 使用する主要な資機材 ：別冊図面及び仕様書のとおり。 | L23: 別添「数量公開の説明書」を参照するものとする。
B24: =[1]基礎入力シート!B18 -> 0
A25: (6) その他 | L25: はい
A26: =IF([1]基礎入力シート!B39="はい",L26,L21) -> ア 本工事は、工事費内訳明細書の提出を義務付ける工事である。 | L26: 本工事は、発注者が競争参加希望者に見積の提出を求め、ヒアリングを通じて見積の妥当性を確認し、妥当性が
A27: =IF([1]基礎入力シート!B39="はい",L27,L22) -> イ 本工事は、数量公開の対象工事であり、設計数量を参考数量として公開することとしており、手続きの詳細は、 | L27: 確認できた見積を積算格に反映させるものである。
A28: =IF([1]基礎入力シート!B39="はい",L28,L23) -> 別添「数量公開の説明書」を参照するものとする。 | L28: =CONCATENATE(" 見積の提出期限までに",[1]基礎入力シート!C25,"工事、",[1]基礎入力シート!C25,"工事に対する直接工事費(当該工事に必要な仮設日を含む。)") -> 見積の提出期限までに建築一式工事、建築一式工事に対する直接工事費(当該工事に必要な仮設日を含む。)
A29: =IF([1]基礎入力シート!B39="はい",L29,"") | L29: について記載した見積（以下「見積」という。）を提出するものとする。
A30: (7) 各種提出期限等
A31: 細部は各項を参照されたい。
A32: Ｎｏ | B32: 区 分 | D32: 開始日 | F32: 終了(〆切)日 | H32: 提出(通知)方法 | J32: 記載項目
A33: 1 | B33: 入札公告日 | D33: =[1]行程別日付入力シート!S6 -> 46280 | J33: １
A34: 2 | B34: 工 期 | D34: =[1]行程別日付入力シート!S32 -> 46311 | F34: =[1]行程別日付入力シート!S4 -> 46465 | J34: １(4)
A35: 3 | B35: 入札説明書交付 | D35: =[1]行程別日付入力シート!S9 -> 46281 | F35: =[1]行程別日付入力シート!S10 -> 46295
A36: 4 | B36: 参加申請書提出 | D36: =[1]行程別日付入力シート!S9 -> 46281 | F36: =[1]行程別日付入力シート!S13 -> 46295 | H36: 持参、郵送又はメール | J36: ７(1)
A37: 5 | B37: ヒアリング | D37: =[1]行程別日付入力シート!S16 -> 0 | F37: =[1]行程別日付入力シート!S17 -> 0
A38: 6 | B38: 参加資格結果通知 | D38: =[1]行程別日付入力シート!S13 -> 46295 | F38: =[1]行程別日付入力シート!S20 -> 46301 | H38: 郵送又はメール | J38: ７(5)
A39: 7 | B39: 不適格の説明要求 | D39: =[1]行程別日付入力シート!S20+1 -> 46302 | F39: =[1]行程別日付入力シート!S23 -> 46304 | H39: 書面（持参） | J39: ８(1)
A40: 8 | B40: 説明要求の回答 | D40: =[1]行程別日付入力シート!S23+1 -> 46305 | F40: =[1]行程別日付入力シート!S26 -> 46309 | H40: 書面（持参） | J40: ８(2)
A41: 9 | B41: 入札書提出期限 | D41: =[1]行程別日付入力シート!S20 -> 46301 | F41: =[1]行程別日付入力シート!S29 -> 46310 | H41: 持参又は郵送 | J41: 10
A42: 10 | B42: 開 札 | D42: =[1]行程別日付入力シート!S32 -> 46311 | J42: 13
A43: 11 | B43: 再度入札 | D43: =[1]行程別日付入力シート!S35 -> 46316 | H43: 持参又は郵送 | J43: 13(5)
A44: 12 | B44: 質問書受付 | D44: =[1]行程別日付入力シート!S38 -> 46282 | F44: =[1]行程別日付入力シート!S39 -> 46302 | H44: 持参、郵送又はメール | J44: ９(1)
A45: 13 | B45: 質問書の回答 | D45: =[1]行程別日付入力シート!S42 -> 46307 | F45: =[1]行程別日付入力シート!S43 -> 46310 | H45: 持参、郵送又はメール | J45: ９(2)
A46: 14 | B46: 再審査 | D46: =[1]行程別日付入力シート!S47 -> 46316 | F46: =[1]行程別日付入力シート!S47 -> 46316 | H46: 書面（持参） | J46: 23
A54: =IF([1]基礎入力シート!B39="はい",L54,"")
...

Sheet 別紙第1～6(13)
K1: 別紙第1 | W1: 別紙第1 | BI1: 別紙第4
Y3: 工 程 表
A7: 一 般 競 争 参 加 資 格 確 認 申 請 書 (例) | M7: 一 般 競 争 参 加 資 格 確 認 申 請 書 | AT7: 工事名： | AY7: =P63 -> 0
AT9: 会社名：
A10: =[1]基礎入力シート!B11 -> 分任契約担当官 | M10: =A10 -> 分任契約担当官
A11: 陸上自衛隊宇都宮駐屯地 | M11: =A11 -> 陸上自衛隊宇都宮駐屯地
A12: =CONCATENATE([1]基礎入力シート!B12," ",[1]基礎入力シート!G12," ","殿") -> 第３３４会計隊長 今野 誠 殿 | H12: 住 所 | M12: =A12 -> 第３３４会計隊長 今野 誠 殿 | Y12: 項目 | AA12: 単位 | AC12: 数量 | AE12: 4月 | AH12: 5月 | AK12: 6月 | AN12: 7月 | AQ12: 8月 | AT12: 9月 | AW12: 10月 | AZ12: 11月 | BC12: 12月 | BF12: 1月 | BI12: 2月 | BL12: 3月
H13: 商号又は名称
H14: 代表者氏名 印
A15: =[1]行程別日付入力シート!S6 -> 46280 | M15: =[1]行程別日付入力シート!S6 -> 46280 | AE15: 10 20 | AH15: 10 20 | AK15: 10 20 | AN15: 10 20 | AQ15: 10 20 | AT15: 10 20 | AW15: 10 20 | AZ15: 10 20 | BC15: 10 20 | BF15: 10 20 | BI15: 10 20 | BL15: 10 20
A16: =CONCATENATE("付で入札公告のありました",[1]基礎入力シート!$B$16,"に係る競争参加資格について確認されたく、下記の書類を添えて申請します。") -> 付で入札公告のありました３１号建物給水ポンプ他修繕工事に係る競争参加資格について確認されたく、下記の書類を添えて申請します。 | M16: =CONCATENATE("付で入札公告のありました",[1]基礎入力シート!$B$16,"に係る競争参加資格について確認されたく、下記の書類を添えて申請します。") -> 付で入札公告のありました３１号建物給水ポンプ他修繕工事に係る競争参加資格について確認されたく、下記の書類を添えて申請します。
A19: なお、予算決算及び会計令（昭和２２年勅令第１６５号）第７０条の規定に該当する者 | M19: なお、予算決算及び会計令（昭和２２年勅令第１６５号）第７０条の規定に該当する者
A20: でないこと及び添付書類の内容について事実と相違と相違ないことを誓約します。 | M20: でないこと及び添付書類の内容について事実と相違と相違ないことを誓約します。
A26: 記 | M26: 記
A28: １ 入札説明書７(3)アに定める同種の工事の施工実績を記載した書面 | M28: １ 入札説明書７(3)アに定める同種の工事の施工実績を記載した書面
A30: ２ 入札説明書７(3)イに定める配置予定の技術者の資格等を記載した書面 | M30: ２ 入札説明書７(3)イに定める配置予定の技術者の資格等を記載した書面
A32: ３ 入札説明書７(3)エに定める契約書の写し | M32: ３ 入札説明書７(3)エに定める契約書の写し
A33: （契約書の写しの提出を求める場合のみ） | M33: （契約書の写しの提出を求める場合のみ）
A35: ４ 入札説明書７(3)ウに定める工程表を記載した書面 | M35: ４ 入札説明書７(3)ウに定める工程表を記載した書面
A36: （工程表の提出を求める場合のみ） | M36: （工程表の提出を求める場合のみ）
A38: ５ 入札説明書４(14)に定める誓約書 | M38: ５ 入札説明書４(14)に定める誓約書
Z39: ■工程管理に対する技術的所見
J40: 以上 | V40: 以上
A42: 注１） 返信用封筒として、表に申請者の住所・氏名を記載し、簡易書留料金分を加えた所定の料金 | M42: 注１） 返信用封筒として、表に申請者の住所・氏名を記載し、簡易書留料金分を加えた所定の料金
A43: の切手を貼った長３号封筒を申請書と併せて提出して下さい。 | M43: の切手を貼った長３号封筒を申請書と併せて提出して下さい。
A45: 注２） ４項は提出者のみ記載して下さい。 | M45: 注２） ４項は提出者のみ記載して下さい。
K55: 別紙第2 | W55: 別紙第2 | BJ55: 別紙第５
A56: 同種の工事の施工実績 (例) | M56: 同種の工事の施工実績
BE57: 令和 年 月 日
Y60: 誓約書
G61: 会社名 | S61: 会社名
B63: 工事名 | N63: 工事名
A64: 工 | M64: 工 | Y64: =A10 -> 分任契約担当官
B65: 発注機関名 | N65: 発注機関名 | Y65: =A11 -> 陸上自衛隊宇都宮駐屯地
A66: 事 | M66: 事 | Y66: =A12 -> 第３３４会計隊長 今野 誠 殿
B67: 工事場所 | D67: （都道府県名、市町村名を記入する。） | N67: 工事場所
A68: 名 | M68: 名 | AT68: 住 所
B69: 契約金額 | D69: 百万円単位 | N69: 契約金額 | AT69: 商号又は名称
A70: 称 | M70: 称 | AT70: 代表者氏名 印
B71: 工期 | D71: 年 月～ 年 月 | N71: 工期
...

Sheet 別紙第7
F1: 別紙第７
F2: （用紙A４版）
B3: 業務従事者一覧
B5: 監理（主任・管理）技術者 | D5: 氏名
D6: 所属
D7: 役職
D8: 学歴 | E8: （中学校以降を記載）
D9: 職歴
D10: 業務経験 | E10: （特に海外での業務経験、情報保全に関する業務経験があれば積極的に記載）
D11: 研修実績その他の経歴 | E11: （特に海外業務に関する研修、情報保全に関する研修があれば積極的に記載）
D12: 専門的知識その他の知見 | E12: （特に海外業務に関する専門的知識、情報保全に関する専門的知識があれば積極的に記載）
D13: 資格 | E13: （特に海外業務に関する資格、情報保全に関する資格があれば積極的に記載）
D14: 母語及び外国語能力
D15: 国籍その他文化的背景
D16: 業績等 | E16: （特に海外業務に関する業績、情報保全に関する業績があれば積極的に記載）
B17: 現場代理人 | D17: 氏名
D18: 所属
D19: 役職
D20: 学歴
D21: 職歴
D22: 業務経験
D23: 研修実績その他の経歴
D24: 専門的知識その他の知見
D25: 資格
D26: 母語及び外国語能力
D27: 国籍その他文化的背景
D28: 業績等
B29: 担当技術者 | D29: 氏名
D30: 所属
D31: 役職
D32: 学歴
D33: 職歴
D34: 業務経験
D35: 研修実績その他の経歴
D36: 専門的知識その他の知見
D37: 資格
D38: 母語及び外国語能力
D39: 国籍その他文化的背景
D40: 業績等
A42: 注： | B42: 1 | C42: 不要な行は削除すること。
...

Sheet 別紙第8
F1: 別紙第８
F2: （用紙A４版）
B3: 取扱い制限情報に関する社内規則
B5: 項目 | E5: 内容
B6: 取扱い制限情報に関する社内規則 | E6: □ 社内規則がある
E7: □ 社内規則に類する資料がある
E8: □ 社内規則及びそれに類する資料がない
A10: 注： | B10: 1 | C10: いずれかの「□」に「■」を付す。
B11: 2 | C11: 社内規則若しくはそれに類する資料がある場合は、その写しを提出する。
B12: 3 | C12: 社内規則及びそれに類する資料がない場合は、別に定める申出書を提出する。

Sheet 別紙第9
K1: 別紙第９
I3: 令和 年 月 日
A7: 申 出 書
A10: ='別紙第1～6(13)'!A10 -> 分任契約担当官
A11: ='別紙第1～6(13)'!A11 -> 陸上自衛隊宇都宮駐屯地
A12: ='別紙第1～6(13)'!A12 -> 第３３４会計隊長 今野 誠 殿
G14: 住 所
G15: 商号又は名称
G16: 代表者氏名 印
A20: 弊社は、顧客との契約に基づき取扱いを制限された情報については、代表権を有する者、役員（持分会社にあっては社員を含む。）、管理職員等であっても、当該契約に基づきその取扱いを認められた者以外の者はこれに接しないこと、また、職務上の下級者等に対してその提供を要求しないことを申し出ます。
A26: 代表者 （記名・押印）
A27: 役 員 （記名・押印）
A33: ※履歴事項全部証明書に記載のある役員全ての記名押印を行うこと。
A34: ※履歴事項全部証明書の写しを提出すること。
A35: ※上に記載した代表者及び役員から、この申出内容に関する真正性を確保できる資料を提出すること。

Sheet 別紙第10
F1: 別紙第１０
F2: （用紙A４版）
B3: 指導・監督・業務支援・助言・監査等を行う者一覧
B5: 親会社 | D5: 会社名
D6: 代表者名
D7: 本社所在地
B8: 地域統括会社 | D8: 会社名
D9: 代表者名
D10: 本社所在地
B11: ブランド・ライセンサー | D11: 会社名
D12: 代表者名
D13: 本社所在地
B14: フランチャイザー | D14: 会社名
D15: 代表者名
D16: 本社所在地
B17: コンサルタント | D17: 会社名
D18: 代表者名
D19: 本社所在地
B20: □ 親会社等が存在しない
A22: 注： | B22: 1 | C22: 不要な行は削除すること。
B23: 2 | C23: 親会社にさらに親会社が存在する場合は、全ての親会社について記載すること。
B24: 3 | C24: 内容を証明する資料を提出すること。HP等出来合いの資料で可。

Sheet 別紙第11
F1: 別紙第１１
F2: （用紙A４版）
B3: 取扱い制限情報が親会社等への報告等対象でないことがわかる資料
B5: 項目 | E5: 内容
B6: 取扱い制限情報に関する資料 | E6: □ 報告、共有又はその他情報提供の対象とならないことが明記された資料がある
E7: □ 上記に類する資料がある
E8: □ 資料がない
A10: 注： | B10: 1 | C10: いずれかの「□」に「■」を付す。
B11: 2 | C11: 資料がある場合は、その写しを提出する。
B12: 3 | C12: 資料がない場合は、別に定める申出書を提出する。

Sheet 別紙第12
K1: 別紙第12
I3: 令和 年 月 日
A7: 申 出 書
A10: ='別紙第1～6(13)'!A10 -> 分任契約担当官
A11: ='別紙第1～6(13)'!A11 -> 陸上自衛隊宇都宮駐屯地
A12: ='別紙第1～6(13)'!A12 -> 第３３４会計隊長 今野 誠 殿
G14: 住 所
G15: 商号又は名称
G16: 代表者氏名 印
A20: 弊社は、顧客との契約に基づき取扱いを制限された情報については、親会社、地域統括会社、ブランド・ライセンサー、フランチャイザー、コンサルタント等の指導、監督、業務支援、助言、監査等を行う者であっても、当該契約に基づき、報告、共有又はその他情報提供の対象とならないことを申し出ます。
A26: 親会社 （商号又は名称・代表者氏名・代表者印）
A27: 地域統括会社 （商号又は名称・代表者氏名・代表者印）
A28: ブランド・ライセンサー （商号又は名称・代表者氏名・代表者印）
A29: フランチャイザー （商号又は名称・代表者氏名・代表者印）
A30: コンサルタント （商号又は名称・代表者氏名・代表者印）
A33: ※別紙様式第１０の一覧表に示した者全ての名称等を記載すること
A34: ※上に記載した親会社、地域統括会社、ブランド・ライセンサー、フランチャイザー及びコンサルタントから、この申出内容に関する真正性を確保できる資料を提出すること。

Sheet ※申請書作成要領
A2: 標準競争参加資格確認申請書作成要領 | U2: (2) 返信用封筒として、表に申請者の住所・氏名を記載し、簡易書留料金分を加えた
U3: 所定の料金（○○○円）の切手を貼付した長３号封筒を申請書と併せて提出して下
A4: 工事名： | B4: =[1]基礎入力シート!B16 -> ３１号建物給水ポンプ他修繕工事 | U4: さい。
A6: 上記工事に係る一般競争入札に参加を希望する者は、この作成要領に基づき「一般競争参加資格確認申請書」
A7: 「同種の工事の施工実績」「配置予定の技術者」を作成の上、各１部提出して下さい。また、「同種の施工実績」が
A8: 防衛省発注機関（旧防衛施設局及び旧防衛施設支局を含む。）の発注した工事以外の者又は平成１３年１２月２５日
A9: 以前に完成した者については、「工程管理に対する技術的所見」を作成の上、１部提出して下さい。
A10: なお、これらの資料は、競争参加資格を確認するための基礎資料として提出していただくものです。
A12: 記
A14: １ 一般競争参加資格確認申請書
A15: 住所、商号又は名称及び代表者名等を記載するとともに、代表者印等を必ず押印の上申請して下さい。
A17: ２ 同種の工事の施工実績
A18: 貴社が元請（共同企業体による施工は、出資比率が２０％以上とする。）として施工実績のある同種の工事について
A19: 記載して下さい。
A21: (1) 同種の工事とは次の事項を全て満足するものをいいます。
A22: ・ | B22: =[1]公告_以上!B21 -> 用途(管)
A23: ・ | B23: =[1]公告_以上!B22 -> 0
A25: =CONCATENATE(※申請書作成要領!V25,[1]基礎入力シート!J39,V26) -> (2) 記載する工事は、平成23年度以降に完成した工事の中から、代表的なものを１件記載して下さい。 | V25: (2) 記載する工事は、平成
A26: なお、同種工事との判断が難しい場合は３件程度まで記載されても可とします。 | V26: 年度以降に完成した工事の中から、代表的なものを１件記載して下さい。
A28: (3) 記載する工事が、平成１３年１２月２５日以降に完成した防衛省発注機関（旧防衛施設局及び旧防衛施設支局
A29: の発注した工事の場合は、防衛施設庁において実施する建設工事の請負業者の施工成績評定要領について
A30: を含む。）（施本建第220号（CCP）。13．12．19）に基づく施工成績評定通知書（以下「施工成績評定通知書」という）
A31: 並びに工事成績。評定要領について（施本建第134号（CCP）。19．７．30）、工事成績評定要領について（経施第
A32: 4404号。21．３．31）、工事成績評定要領について（防整技第15542号。27．10．1）又は工事成績評定要領について
A33: （防整技第7160号。28．３．31）に基づく工事成績評定通知書「（以下「評定通知書」という。）の写しを添付して下さい。
A34: なお、紛失等により評定通知書の写しを添付することができない場合は、書面（様式自由）により評定通知書の
A35: 写しの交付を申し出て下さい。
A37: (4) 「工事場所」は、都道府県名、市町村名を記載して下さい。
A39: (5) 「契約金額」は、百万円単位で記載して下さい。
A41: (6) 「工期」は、契約書に基づき記載して下さい。
A43: (7) 「受注形態等」は、単体若しくは共同企業体の別を記載し、共同企業体の場合は、当該企業体の名称と出資比率
... A121: (1) 提出場所
B122: =[1]公告_以上!A112 -> 〒321-0145
B123: =[1]公告_以上!A113 -> 栃木県宇都宮市茂原1-5-45
B124: =[1]公告_以上!A114 -> 陸上自衛隊宇都宮駐屯地 第334会計隊
B125: =[1]公告_以上!A115 -> 担当 成田
B126: =[1]公告_以上!A116 -> TEL 028-653-1551(内線351)
B127: =[1]公告_以上!A118 -> Mail 334fin-ea@inet.gsdf.mod.go.jp
A129: (2) 提出方法
A130: 持参、郵送（書留郵便に限る。）又は託送（書留郵便と同等のものに限る。）若しくは電子メールにて
...
