Workbook
Name あ: #REF!
Name い: #REF!
Name 一位代価: #REF!
Name 一位代価: #REF!
Name 一位代価統計: #REF!
Name 一位代価統計: [5]一位代価!$S$1:$U$65536
Name 科目: #REF!
Name 基礎数値: 数量算出!$A:$F
Name 基礎数値: [5]基礎数値!$A$1:$F$65536
Name 業者名: #REF!
Name 契約書: #REF!
Name 契約方式: #REF!
Name 公告: #REF!
Name 算定基礎: #REF!
Name 条項: #REF!
Name 説明会: #REF!
Name 入札: #REF!
Name 納地: #REF!
Name 冷媒管: [6]配管拾い!$C$11:$C$20
Name 労務単価表: #REF!
Name 労務単価表: #REF!

Sheet 数量算出
B2: ＮＯ | C2: 項 目 | D2: 規格・寸法 | E2: 単位 | F2: 数 量 | G2: 計 算 式
B3: 1 | C3: 土木工事
B4: =+[7]×積算書!B4 -> (1) | C4: =+[7]×積算書!C4 -> 掘削 | D4: =+[7]×積算書!D4 -> 路盤掘削 | E4: ㎥ | F4: 480 | G4: 178.8*0.05+(613.6+910.1+908.4)*0.1+(613.6+908.4)*0.15=480.45㎥ | I4: 2 | J4: 2
B5: =+[7]×積算書!B5 -> (2) | C5: =+[7]×積算書!C5 -> 舗装版切断 | D5: =+[7]×積算書!D5 -> t=50 | E5: =+[7]×積算書!E5 -> ｍ | F5: 148 | G5: 7.0+2.6+13.3+24.0+7.0+6.5+6.5+10.0+54.0+16.6=147.5m
B6: =+[7]×積算書!B6 -> (3) | C6: =+[7]×積算書!C6 -> 舗装版破砕積込 | D6: =+[7]×積算書!D6 -> 小規模 | E6: ㎡ | F6: 3034 | G6: 1394.3+910.1+908.4-178.8=3034.0㎥
B7: =+[7]×積算書!B7 -> (4) | C7: =+[7]×積算書!C7 -> 不陸整正 | D7: =+[7]×積算書!D7 -> 補足材料無し | E7: =+[7]×積算書!E7 -> ㎡ | F7: 3213 | G7: 1394.3+910.1+908.4=3212.8㎥
B8: =+[7]×積算書!B8 -> (5) | C8: =+[7]×積算書!C8 -> 下層路盤（車道・路肩部） | D8: =+[7]×積算書!D8 -> RC-40 t=150 | E8: =+[7]×積算書!E8 -> ㎡ | F8: 1522 | G8: 613.6+908.4=1522.0㎥
B9: =+[7]×積算書!B9 -> (6) | C9: =+[7]×積算書!C9 -> 上層路盤（車道・路肩部） | D9: =+[7]×積算書!D9 -> RM-40 t=100 | E9: =+[7]×積算書!E9 -> ㎡ | F9: 2432 | G9: 613.6+910.1+908.4=2432.1㎥ | I9: 1.5 | J9: 1.5
B10: =+[7]×積算書!B10 -> (7) | C10: =+[7]×積算書!C10 -> 表層（車道・路肩部） | D10: =+[7]×積算書!D10 -> 再生密粒ｱｽｺﾝ(13) t=50 | E10: =+[7]×積算書!E10 -> ㎡ | F10: =F7 -> 3213 | G10: 上記1.(4)「不陸整正」と同じ | I10: 2 | J10: 1.5
B11: =+[7]×積算書!B11 -> (8) | C11: =+[7]×積算書!C11 -> 区画線工 | D11: =+[7]×積算書!D11 -> 融解式白 幅15cm | E11: =+[7]×積算書!E11 -> ｍ | F11: 294 | G11: 92.0+91.3+92.0+2.8+15.7=293.8m
B12: =+[7]×積算書!B12 -> (9) | C12: =+[7]×積算書!C12 -> 区画線工 | D12: =+[7]×積算書!D12 -> 融解式白 幅45cm | E12: =+[7]×積算書!E12 -> ｍ | F12: 191 | G12: 72.0+10.8+12.0+45.8+32.0+3.0*6=190.6m
B13: =+[7]×積算書!B13 -> (10) | C13: =+[7]×積算書!C13 -> 区画線工 | D13: =+[7]×積算書!D13 -> 融解式白 ゼブラ | E13: =+[7]×積算書!E13 -> ｍ | F13: 51 | G13: 12.3+38.8=51.1m
B14: =+[7]×積算書!B14 -> (11) | C14: =+[7]×積算書!C14 -> 区画線工 | D14: =+[7]×積算書!D14 -> 融解式白 文字 | E14: =+[7]×積算書!E14 -> ｍ | F14: 37 | G14: 18.64+18.64=37.28m
B15: =+[7]×積算書!B15 -> (12) | C15: =+[7]×積算書!C15 -> 地先境界ブロック | D15: =+[7]×積算書!D15 -> A | E15: =+[7]×積算書!E15 -> ｍ | F15: 28 | G15: 8.2+19.7=27.9m
B16: =+[7]×積算書!B16 -> (13) | C16: =+[7]×積算書!C16 -> プレキャスト集水桝 | D16: =+[7]×積算書!D16 -> 600kgを超え800以下 | E16: =+[7]×積算書!E16 -> 基 | F16: 3 | G16: 3基
B17: =+[7]×積算書!B17 -> (14) | C17: =+[7]×積算書!C17 -> U型側溝 | D17: =+[7]×積算書!D17 -> 450A | E17: =+[7]×積算書!E17 -> ｍ | F17: 15 | G17: 9.6+5.6=15.2m
B18: =+[7]×積算書!B18 -> (15) | C18: =+[7]×積算書!C18 -> U型側溝 | D18: =+[7]×積算書!D18 -> 200 | E18: =+[7]×積算書!E18 -> ｍ | F18: 8 | G18: 8.4m
B20: 2 | C20: 産業廃棄物処分費
B21: =+[7]×積算書!B34 -> (1) | C21: =+[7]×積算書!C34 -> 土砂 | D21: =[7]×積算書!D34 -> 運搬処理 | E21: =+[7]×積算書!E34 -> ㎥ | F21: =F4 -> 480 | G21: 上記1.(1)「掘削」と同じ
B22: =+[7]×積算書!B35 -> (2) | C22: =+[7]×積算書!C35 -> アスファルト | D22: =[7]×積算書!D35 -> 運搬処理 | E22: =+[7]×積算書!E35 -> ㎥ | F22: 152 | G22: (1394.3+910.1+908.4-178.8)*0.05=151.7㎥
I28: 1.5 | J28: 1
I29: 2 | J29: 2.5
I30: 2 | J30: 1.5
I31: 2 | J31: 2
I32: 2.5 | J32: 1.5
I33: 2 | J33: 1.5
I34: 2 | J34: 1.5
I35: 2 | J35: 1.5
I36: 2 | J36: 1.5
I37: =SUM(I4:I36) -> 23.5 | J37: =SUM(J4:J36) -> 19.5
B56: =IF(A56="","",VLOOKUP(A56,一位代価,2,0)) | C56: =IF(A56="","",VLOOKUP(A56,一位代価,4,0)) | D56: =IF(A56="","",VLOOKUP(A56,一位代価,5,0)) | E56: =IF(A56="","",VLOOKUP(A56,一位代価,6,0))
B57: =IF(A57="","",VLOOKUP(A57,一位代価,2,0)) | C57: =IF(A57="","",VLOOKUP(A57,一位代価,4,0)) | D57: =IF(A57="","",VLOOKUP(A57,一位代価,5,0)) | E57: =IF(A57="","",VLOOKUP(A57,一位代価,6,0))
B58: =IF(A58="","",VLOOKUP(A58,一位代価,2,0)) | C58: =IF(A58="","",VLOOKUP(A58,一位代価,4,0)) | D58: =IF(A58="","",VLOOKUP(A58,一位代価,5,0)) | E58: =IF(A58="","",VLOOKUP(A58,一位代価,6,0))
B59: =IF(A59="","",VLOOKUP(A59,一位代価,2,0)) | C59: =IF(A59="","",VLOOKUP(A59,一位代価,4,0)) | D59: =IF(A59="","",VLOOKUP(A59,一位代価,5,0)) | E59: =IF(A59="","",VLOOKUP(A59,一位代価,6,0))

Sheet 市価調査（総額）
A3: 市場価格調査票（総額）
A5: 件 名 ： | C5: 構内道路舗装改修工事
D7: 金 額
G9: 金額内訳
G10: 直接工事費
G11: 共通仮設費
G12: 現場管理費
G13: 一般管理費
G14: 産業廃棄物処分
A20: 分任契約担当官
A21: 陸上自衛隊滝ヶ原駐屯地
A22: 第４３３会計隊長 中田 道夫 殿
D26: 住所
D27: 会社名
D28: 代表者名
A34: 46304 | D34: =A34 -> 46304 | E34: 0.70833333 | G34: までにメールでの送付をお願いします。

Sheet 市価調査
B1: 市場価格調査票（内訳）
C3: 件名： | D3: 構内道路舗装改修工事
B4: 項目 | D4: 規格 | E4: 数量 | F4: 単位 | G4: 単価 | H4: 金額 | I4: 備考
B5: 1 | C5: 土木工事
B6: (1) | C6: 掘削 | D6: 路盤掘削 | E6: 480 | F6: ㎥
B7: (2) | C7: 舗装版切断 | D7: t=50 | E7: 148 | F7: ｍ
B8: (3) | C8: 舗装版破砕積込 | D8: 小規模 | E8: 3034 | F8: ㎡
B9: (4) | C9: 不陸整正 | D9: 補足材料無し | E9: 3213 | F9: ㎡
B10: (5) | C10: 下層路盤（車道・路肩部） | D10: RC-40 t=150 | E10: 1522 | F10: ㎡
B11: (6) | C11: 上層路盤（車道・路肩部） | D11: RM-40 t=100 | E11: 2432 | F11: ㎡
B12: (7) | C12: 表層（車道・路肩部） | D12: 再生密粒ｱｽｺﾝ(13) t=50 | E12: 3213 | F12: ㎡
B13: (8) | C13: 区画線工 | D13: 融解式白 幅15cm | E13: 294 | F13: ｍ
B14: (9) | C14: 区画線工 | D14: 融解式白 幅45cm | E14: 191 | F14: ｍ
B15: (10) | C15: 区画線工 | D15: 融解式白 ゼブラ | E15: 51 | F15: ｍ
B16: (11) | C16: 区画線工 | D16: 融解式白 文字 | E16: 37 | F16: ｍ
B17: (12) | C17: 地先境界ブロック | D17: A | E17: 28 | F17: ｍ
... B19: (14) | C19: U型側溝 | D19: 450A | E19: 15 | F19: ｍ
B20: (15) | C20: U型側溝 | D20: 200 | E20: 8 | F20: ｍ
B22: 2 | C22: 産業廃棄物処分費
B23: (1) | C23: 土砂 | D23: 運搬処理 | E23: 480 | F23: ㎥
B24: (2) | C24: アスファルト | D24: 運搬処理 | E24: 152 | F24: ㎥
B26: １ | C26: 本見積は部分見積（直接工事費のみ）です（共通仮設費、管理費等を除く）。
B27: ２ | C27: 公表価格ではなく実勢価格とします。
B28: ３ | C28: 本見積は消費税抜きの金額を記載してください。
B29: ４ | C29: 46304 | D29: １７：００迄に、メールでの送付をお願いします。
B31: 分任契約担当官
B32: 陸上自衛隊滝ヶ原駐屯地
B33: 第４３３会計隊長 中田 道夫 殿
D35: 住 所
D36: 会 社 名
D37: 代表者名

Sheet 入札書
B3: 入 札 書
B7: 件名（工事名） | D7: 構内道路舗装改修工事
B10: 入札金額 | H10: （税抜）
B14: 上記の入札に対して、公告の入札条件、陸上自衛隊「建設工事に係る入札心得書等」及び陸上自衛隊「建設工事に係る標準契約書」の条項及び特約条項等を承諾の上、入札します。 なお、「当社（私（個人の場合）、当団体（団体の場合））は、暴力団排除に関する誓約書に定める事項について制約いたします。」
B16: 履行期限 | D16: 46444
B17: 履行場所 | D17: 駒門駐屯地
B19: 令和 年 月 日
B23: 分任契約担当官
B24: 陸上自衛隊滝ヶ原駐屯地
B25: 第４３３会計隊長 中田 道夫 | F25: 殿
F31: 住所
F32: 商号又は名称
F33: 代表者氏名
F34: （代理人氏名）

Sheet 委任状
A1: ※ 代理人が入札を行う場合のみ、作成・提出してください。
A4: 委 任 状
A8: 当社は、 を代理人と定め、下記件名の入札に関する
A9: 一切の権限を委任します。
A11: 記
A13: 件 名
A18: 代理人使用印鑑
A22: 令和 年 月 日
A25: 分任契約担当官
A26: 陸上自衛隊滝ヶ原駐屯地
A27: 第４３３会計隊長 中田 道夫 殿
B33: 住 所
B35: 会 社 名
B37: 代 表 者 名

Sheet 別紙第７
F1: 別紙第７
B3: 業務従事者一覧
B5: 監理（主任・管理）技術者 | D5: 氏名
D6: 所属
D7: 役職
D8: 学歴 | E8: （中学校以降を記載）
D9: 職歴
D10: 業務経験 | E10: （特に海外での業務経験、情報保全に関する業務経験があれば積極的に記載）
D11: 研修実績その他の経歴 | E11: （特に海外業務に関する研修、情報保全に関する研修があれば積極的に記載）
D12: 専門的知識その他の知見 | E12: （特に海外業務に関する専門的知識、情報保全に関する専門的知識があれば積極的に記載）
D13: 資格 | E13: （特に海外業務に関する資格、情報保全に関する資格があれば積極的に記載）
D14: 母語及び外国語能力
D15: 国籍その他文化的背景
D16: 業績等 | E16: （特に海外業務に関する業績、情報保全に関する業績があれば積極的に記載）
B17: 現場代理人 | D17: 氏名
D18: 所属
D19: 役職
D20: 学歴
D21: 職歴
D22: 業務経験
D23: 研修実績その他の経歴
D24: 専門的知識その他の知見
D25: 資格
D26: 母語及び外国語能力
D27: 国籍その他文化的背景
D28: 業績等
B29: 担当技術者 | D29: 氏名
D30: 所属
D31: 役職
D32: 学歴
D33: 職歴
D34: 業務経験
D35: 研修実績その他の経歴
D36: 専門的知識その他の知見
D37: 資格
D38: 母語及び外国語能力
D39: 国籍その他文化的背景
D40: 業績等
A42: 注： | B42: 1 | C42: 不要な行は削除すること。
B43: 2 | C43: 記載する内容が特にない項目は、「特になし」と記載すること。
...

Sheet 別紙第８－１
F1: 別紙第８－１
B3: 取扱い制限情報に関する社内規則
B5: 項目 | E5: 内容
B6: 取扱い制限情報に関する社内規則 | E6: □ 社内規則がある
E7: □ 社内規則に類する資料がある
E8: □ 社内規則及びそれに類する資料がない
A10: 注： | B10: 1 | C10: いずれかの「□」に「■」を付す。
B11: 2 | C11: 社内規則若しくはそれに類する資料がある場合は、その写しを提出する。
B12: 3 | C12: 社内規則及びそれに類する資料がない場合は、別に定める申出書を提出する。

Sheet 別紙第９
F1: 別紙第９
B3: 指導・監督・業務支援・助言・監査等を行う者一覧
B5: 親会社 | D5: 会社名
D6: 代表者名
D7: 本社所在地
B8: 地域統括会社 | D8: 会社名
D9: 代表者名
D10: 本社所在地
B11: ブランド・ライセンサー | D11: 会社名
D12: 代表者名
D13: 本社所在地
B14: フランチャイザー | D14: 会社名
D15: 代表者名
D16: 本社所在地
B17: コンサルタント | D17: 会社名
D18: 代表者名
D19: 本社所在地
B20: □ 親会社等が存在しない
A22: 注： | B22: 1 | C22: 不要な行は削除すること。
B23: 2 | C23: 親会社にさらに親会社が存在する場合は、全ての親会社について記載すること。
B24: 3 | C24: 内容を証明する資料を提出すること。HP等出来合いの資料で可。

Sheet 別紙第１０－１
F1: 別紙第１０－１
B3: 取扱い制限情報が親会社等への報告等対象でないことがわかる資料
B5: 項目 | E5: 内容
B6: 取扱い制限情報に関する資料 | E6: □ 報告、共有又はその他情報提供の対象とならないことが明記された資料がある
E7: □ 上記に類する資料がある
E8: □ 資料がない
A10: 注： | B10: 1 | C10: いずれかの「□」に「■」を付す。
B11: 2 | C11: 資料がある場合は、その写しを提出する。
B12: 3 | C12: 資料がない場合は、別に定める申出書を提出する。
