Workbook
Name あ: #REF!
Name い: #REF!
Name 一位代価: #REF!
Name 一位代価統計: [5]一位代価!$S$1:$U$65536
Name 科目: #REF!
Name 基礎数値: [5]基礎数値!$A$1:$F$65536
Name 業者名: #REF!
Name 契約書: #REF!
Name 契約方式: #REF!
Name 公告: #REF!
Name 算定基礎: #REF!
Name 条項: #REF!
Name 説明会: #REF!
Name 入札: #REF!
Name 納地: #REF!
Name 冷媒管: [6]配管拾い!$C$11:$C$20
Name 労務単価表: #REF!

Sheet 数量算出書
A1: 数量算出表
A2: １４号隊舎外壁改修工事
A3: 名称等 | B3: 規格 | C3: 単位 | D3: 数量 | E3: 内訳 | V3: 備考
A4: =[7]種目!A9 -> 建築工事
A5: =[7]種目!A10 -> １ 仮設工事
A6: =[7]種目!A11 -> (1)養生整理清掃後片付け | C6: 式 | D6: 1 | E6: 1式
A7: =[7]種目!A12 -> (2)外部足場 | C7: ㎡ | D7: 3466.92 | E7: (74.5+2+2)*2*(14.4+2)+(16.3+2+2)*2*(14.4+2)=3,240.64㎡
E8: ﾍﾟﾄﾊｳｽ (9.05+2+2)*2*(3.25+2)+(6.5+2+2)*2*(3.25+2)=226.28㎡ 計3466.92㎡
A9: =[7]種目!A13 -> (3)養生シート張り | C9: ㎡ | D9: =SUM(D7) -> 3466.92 | E9: 外部足場と同一
A10: =[7]種目!A14 -> (4)昇降階段 | C10: 箇所 | D10: 4 | E10: 外部足場に4箇所
A11: =[7]種目!A15 -> (5)災害防止 | C11: 式 | D11: 1 | E11: 1式
A12: =[7]種目!A16 -> (6)仮設材運搬費 | C12: 式 | D12: 1 | E12: 1式
A13: =[7]種目!A17 -> (7)網戸取り外し・設置 | C13: 箇所 | D13: 129
A15: =[7]種目!A18 -> ２ 防水改修工事
A16: =[7]種目!A19 -> (1)屋上水洗い | C16: ㎡ | D16: 1209.2 | E16: (74.5-0.5)*(16.3-0.5)-5.3*7.05+6.5*9.05+3*1.1*2+1.95*6.1=1,209.16㎡
A17: =[7]種目!A20 -> (2)屋上防水（平場） | C17: ㎡ | D17: 1131.8 | E17: (74.5-0.5)*(16.3-0.5)-5.3*7.05=1,131.84㎡
A18: =[7]種目!A21 -> (3)塩ビ被膜鋼板 | C18: ｍ | D18: 223.7 | E18: (74.5*2)+(16.3*2)+(6.5*2)+(9.05*2)+(2.2*2)+6.6=223.7ｍ
A19: =[7]種目!A22 -> (4)屋上防水（側溝・立上り） | C19: ㎡ | D19: 181.6 | E19: (74.5*2+16.3*2)*1=181.6 計181.60㎡
A20: =[7]種目!A23 -> (5)屋上防水（架台） | C20: 箇所 | D20: 126 | E20: 手摺架台83箇所 物干し架台40箇所 アンテナ架台2箇所 用途不明架台 1箇所 計126箇所
A21: =[7]種目!A24 -> (6)下地調整 | C21: ㎡ | D21: 231.7 | E21: 予測数量
A22: =[7]種目!A25 -> (7)改修用ドレン | B22: φ100 | C22: 箇所 | D22: 16 | E22: 屋上14箇所 ＰＨ1箇所 正面庇1箇所
A23: =[7]種目!A26 -> (8)改修用ドレン | B23: φ75 | C23: 箇所 | D23: 2 | E23: 側面庇 2箇所
A24: =[7]種目!A27 -> (9)シーリング | C24: ｍ | D24: 2729.07 | E24: 建具周り1,705.87m 目地74.5*10+16.3*10+14.4*8＝1023.20ｍ 計2,729.07ｍ
A25: =[7]種目!A28 -> (10)シーリング撤去 | C25: ｍ | D25: =SUM(D24) -> 2729.07 | E25: シーリングと同一
A26: =[7]種目!A29 -> (11)既存シーリング分析調査 | C26: 式 | D26: 1 | E26: 1式
A27: =[7]種目!A30 -> (12)シーリング撤去材処分 | C27: 式 | D27: 1 | E27: 1式
A29: =[7]種目!A31 -> ３ 外壁改修工事
A30: =[7]種目!A32 -> (1)施工数量調査 | C30: ㎡ | D30: 2690.12 | E30: (74.5+16.3)*2*14.4=2,615.04㎡ ＰＨ (7.05+4.5)*2*3.25=75.08㎡ 計2,690.12㎡
A31: =[7]種目!A33 -> (2)ひび割れ部改修 | C31: ｍ | D31: 175 | E31: 予測数量
A32: =[7]種目!A34 -> (3)爆裂補修 | B32: 100×100×10程度 | C32: 箇所 | D32: 8 | E32: 予測数量
A33: =[7]種目!A35 -> (4)外壁高圧水洗浄 | C33: ㎡ | D33: =SUM(D30) -> 2690.12 | E33: 施工数量調査と同一
A34: =[7]種目!A36 -> (5)下地調整 | C34: ㎡ | D34: 175 | E34: 予測数量
A35: =[7]種目!A37 -> (6)仕上げ塗材塗り | C35: ㎡ | D35: =SUM(D33) -> 2690.12 | E35: 施工数量調査と同一
A36: =[7]種目!A38 -> (7)劣化塗膜除去 | C36: ㎡ | D36: 175 | E36: 予想数量
A37: =[7]種目!A39 -> (8)劣化塗膜処分 | C37: 式 | D37: 1 | E37: 1式
A39: =[7]種目!A40 -> ４ 庇・ＰＨ部防水改修工事
A40: =[7]種目!A41 -> (1)高圧洗浄 | C40: ㎡ | D40: 77.3 | E40: ＰＨ 6.5×9.05=58.83㎡ 庇 6.1*1.95+1.1*3*2=18.50㎡ 計77.33㎡
A41: =[7]種目!A42 -> (2)下地調整 | C41: ㎡ | D41: =SUM(D40) -> 77.3 | E41: 高圧洗浄と同一
A42: =[7]種目!A43 -> (3)ウレタン防水 | C42: ㎡ | D42: =SUM(D40) -> 77.3 | E42: 高圧洗浄と同一
A60: =[7]種目!A66 -> 0
...

Sheet 市価調査（総額）
A3: 市場価格調査票（総額）
A5: 件 名 ： | C5: １４号隊舎外壁改修工事
D7: 金 額
G9: 金額内訳
G10: 直接工事費
G11: 共通仮設費
G12: 現場管理費
G13: 一般管理費
G14: 産業廃棄物処分
A20: 分任契約担当官
A21: 陸上自衛隊滝ヶ原駐屯地
A22: 第４３３会計隊長 中田 道夫 殿
D26: 住所
D27: 会社名
D28: 代表者名
A34: 46300 | D34: =A34 -> 46300 | E34: 0.70833333 | G34: までにメールでの送付をお願いします。

Sheet 市価調査
B1: 市場価格調査票（内訳）
C3: 件名： | D3: １４号隊舎外壁改修工事
B4: 項目 | D4: 規格 | E4: 数量 | F4: 単位 | G4: 単価 | H4: 金額 | I4: 備考
B5: 1 | C5: 仮設工事
B6: -1 | C6: 養生整理清掃後片付け | E6: 1 | F6: 式
B7: =B6-1 -> -2 | C7: 外部足場 | E7: 3466.92 | F7: ㎡
B8: =B7-1 -> -3 | C8: 養生シート張り | E8: 3466.92 | F8: ㎡
B9: =B8-1 -> -4 | C9: 昇降階段 | E9: 4 | F9: 箇所
B10: =B9-1 -> -5 | C10: 災害防止 | E10: 1 | F10: 式
B11: =B10-1 -> -6 | C11: 仮設材運搬費 | E11: 1 | F11: 式
B12: =B11-1 -> -7 | C12: 網戸取り外し・設置 | E12: 129 | F12: 箇所
B13: 2 | C13: 防水改修工事
B14: -1 | C14: 屋上水洗い | E14: 1209.2 | F14: ㎡
B15: =B14-1 -> -2 | C15: 屋上防水（平場） | E15: 1131.8 | F15: ㎡
B16: =B15-1 -> -3 | C16: 塩ビ被膜鋼板 | E16: 223.7 | F16: ｍ
B17: =B16-1 -> -4 | C17: 屋上防水（側溝・立上り） | E17: 181.6 | F17: ㎡
B18: =B17-1 -> -5 | C18: 屋上防水（架台） | E18: 126 | F18: 箇所
B19: =B18-1 -> -6 | C19: 下地調整 | E19: 231.7 | F19: ㎡
B20: =B19-1 -> -7 | C20: 改修用ドレン | D20: φ100 | E20: 16 | F20: 箇所
B21: =B20-1 -> -8 | C21: 改修用ドレン | D21: φ75 | E21: 2 | F21: 箇所
B22: =B21-1 -> -9 | C22: シーリング | E22: 2729.07 | F22: ｍ
B23: =B22-1 -> -10 | C23: シーリング撤去 | E23: 2729.07 | F23: ｍ
B24: =B23-1 -> -11 | C24: 既存シーリング分析調査 | E24: 1 | F24: 式
B25: =B24-1 -> -12 | C25: シーリング撤去材処分 | E25: 1 | F25: 式
B26: 3 | C26: 外壁改修工事
B27: -1 | C27: 施工数量調査 | E27: 2690.12 | F27: ㎡
B28: =B27-1 -> -2 | C28: ひび割れ部改修 | E28: 175 | F28: ｍ
B29: =B28-1 -> -3 | C29: 爆裂補修 | D29: 100×100×10程度 | E29: 8 | F29: 箇所
B30: =B29-1 -> -4 | C30: 外壁高圧水洗浄 | E30: 2690.12 | F30: ㎡
B31: =B30-1 -> -5 | C31: 下地調整 | E31: 175 | F31: ㎡
B32: =B31-1 -> -6 | C32: 仕上げ塗材塗り | E32: 2690.12 | F32: ㎡
B33: =B32-1 -> -7 | C33: 劣化塗膜除去 | E33: 175 | F33: ㎡
B34: =B33-1 -> -8 | C34: 劣化塗膜処分 | E34: 1 | F34: 式
B35: 4 | C35: 庇・ＰＨ部防水改修工事
B36: -1 | C36: 高圧洗浄 | E36: 77.3 | F36: ㎡
B37: =B36-1 -> -2 | C37: 下地調整 | E37: 77.3 | F37: ㎡
B38: =B37-1 -> -3 | C38: ウレタン防水 | E38: 77.3 | F38: ㎡
C39: 合計
B41: １ | C41: 本見積は部分見積（直接工事費のみ）です（共通仮設費、管理費等を除く）。
B42: ２ | C42: 公表価格ではなく実勢価格とします。
...

Sheet 入札書
B3: 入 札 書
B7: 件名（工事名） | D7: １４号隊舎外壁改修工事
B10: 入札金額 | H10: （税抜）
B14: 上記の入札に対して、公告の入札条件、陸上自衛隊「建設工事に係る入札心得書等」及び陸上自衛隊「建設工事に係る標準契約書」の条項及び特約条項等を承諾の上、入札します。 なお、「当社（私（個人の場合）、当団体（団体の場合））は、暴力団排除に関する誓約書に定める事項について制約いたします。」
B16: 履行期限 | D16: 46112
B17: 履行場所 | D17: 板妻駐屯地
B19: 令和 年 月 日
B23: 分任契約担当官
B24: 陸上自衛隊滝ヶ原駐屯地
B25: 第４３３会計隊長 中田 道夫 | F25: 殿
F31: 住所
F32: 商号又は名称
F33: 代表者氏名
F34: （代理人氏名）

Sheet 委任状
A1: ※ 代理人が入札を行う場合のみ、作成・提出してください。
A4: 委 任 状
A8: 当社は、 を代理人と定め、下記件名の入札に関する
A9: 一切の権限を委任します。
A11: 記
A13: 件 名
A18: 代理人使用印鑑
A22: 令和 年 月 日
A25: 分任契約担当官
A26: 陸上自衛隊滝ヶ原駐屯地
A27: 第４３３会計隊長 中田 道夫 殿
B33: 住 所
B35: 会 社 名
B37: 代 表 者 名

Sheet 別紙第７
F1: 別紙第７
B3: 業務従事者一覧
B5: 監理（主任・管理）技術者 | D5: 氏名
D6: 所属
D7: 役職
D8: 学歴 | E8: （中学校以降を記載）
D9: 職歴
D10: 業務経験 | E10: （特に海外での業務経験、情報保全に関する業務経験があれば積極的に記載）
D11: 研修実績その他の経歴 | E11: （特に海外業務に関する研修、情報保全に関する研修があれば積極的に記載）
D12: 専門的知識その他の知見 | E12: （特に海外業務に関する専門的知識、情報保全に関する専門的知識があれば積極的に記載）
D13: 資格 | E13: （特に海外業務に関する資格、情報保全に関する資格があれば積極的に記載）
D14: 母語及び外国語能力
D15: 国籍その他文化的背景
D16: 業績等 | E16: （特に海外業務に関する業績、情報保全に関する業績があれば積極的に記載）
B17: 現場代理人 | D17: 氏名
D18: 所属
D19: 役職
D20: 学歴
D21: 職歴
D22: 業務経験
D23: 研修実績その他の経歴
D24: 専門的知識その他の知見
D25: 資格
D26: 母語及び外国語能力
D27: 国籍その他文化的背景
D28: 業績等
B29: 担当技術者 | D29: 氏名
D30: 所属
D31: 役職
D32: 学歴
D33: 職歴
D34: 業務経験
D35: 研修実績その他の経歴
D36: 専門的知識その他の知見
D37: 資格
D38: 母語及び外国語能力
D39: 国籍その他文化的背景
D40: 業績等
A42: 注： | B42: 1 | C42: 不要な行は削除すること。
B43: 2 | C43: 記載する内容が特にない項目は、「特になし」と記載すること。
...

Sheet 別紙第８－１
F1: 別紙第８－１
B3: 取扱い制限情報に関する社内規則
B5: 項目 | E5: 内容
B6: 取扱い制限情報に関する社内規則 | E6: □ 社内規則がある
E7: □ 社内規則に類する資料がある
E8: □ 社内規則及びそれに類する資料がない
A10: 注： | B10: 1 | C10: いずれかの「□」に「■」を付す。
B11: 2 | C11: 社内規則若しくはそれに類する資料がある場合は、その写しを提出する。
B12: 3 | C12: 社内規則及びそれに類する資料がない場合は、別に定める申出書を提出する。

Sheet 別紙第９
F1: 別紙第９
B3: 指導・監督・業務支援・助言・監査等を行う者一覧
B5: 親会社 | D5: 会社名
D6: 代表者名
D7: 本社所在地
B8: 地域統括会社 | D8: 会社名
D9: 代表者名
D10: 本社所在地
B11: ブランド・ライセンサー | D11: 会社名
D12: 代表者名
D13: 本社所在地
B14: フランチャイザー | D14: 会社名
D15: 代表者名
D16: 本社所在地
B17: コンサルタント | D17: 会社名
D18: 代表者名
D19: 本社所在地
B20: □ 親会社等が存在しない
A22: 注： | B22: 1 | C22: 不要な行は削除すること。
B23: 2 | C23: 親会社にさらに親会社が存在する場合は、全ての親会社について記載すること。
B24: 3 | C24: 内容を証明する資料を提出すること。HP等出来合いの資料で可。

Sheet 別紙第１０－１
F1: 別紙第１０－１
B3: 取扱い制限情報が親会社等への報告等対象でないことがわかる資料
B5: 項目 | E5: 内容
B6: 取扱い制限情報に関する資料 | E6: □ 報告、共有又はその他情報提供の対象とならないことが明記された資料がある
E7: □ 上記に類する資料がある
E8: □ 資料がない
A10: 注： | B10: 1 | C10: いずれかの「□」に「■」を付す。
B11: 2 | C11: 資料がある場合は、その写しを提出する。
B12: 3 | C12: 資料がない場合は、別に定める申出書を提出する。
