Workbook
Name _ｃ: #REF!
Name _ｃ: #REF!
Name _ｃ: #REF!
Name _ｃ: #REF!
Name _ｃ: #REF!
Name _ｃ: #REF!
Name _ｃ: #REF!
Name _ｃ: #REF!
Name _ｃ: #REF!
Name _ｃ: #REF!
Name _ｃ: #REF!
Name \A: #REF!
Name \A: #REF!
Name \A: #REF!
Name \A: #REF!
Name \A: #REF!
Name \A: #REF!
Name \A: #REF!
Name \B: #REF!
Name \B: #REF!
Name \B: #REF!
Name \B: #REF!
Name \B: #REF!
Name \B: #REF!
Name \B: #REF!
Name ａ: #REF!
Name ａ: #REF!
Name ａ: #REF!
Name ａ: #REF!
Name ａ: #REF!
Name ａ: #REF!
Name ａ: #REF!
Name ａ: #REF!
Name ａ: #REF!
Name ａ: #REF!
Name ａ: #REF!
Name A2庁舎１階: #REF!
Name A2庁舎１階: #REF!
Name A2庁舎１階: #REF!
Name A2庁舎１階: #REF!
Name A2庁舎１階: #REF!
Name A2庁舎１階: #REF!
Name A2庁舎１階: #REF!
Name A2庁舎１階: #REF!
Name A2庁舎１階: #REF!
Name A2庁舎１階: #REF!
Name A2庁舎１階: #REF!
Name A2庁舎3階: #REF!
Name A2庁舎3階: #REF!
Name A2庁舎3階: #REF!
Name A2庁舎3階: #REF!
Name A2庁舎3階: #REF!
Name A2庁舎3階: #REF!
Name A2庁舎3階: #REF!
Name A2庁舎3階: #REF!
Name A2庁舎3階: #REF!
Name A2庁舎3階: #REF!
Name A2庁舎3階: #REF!
Name ｂ: #REF!
Name ｂ: #REF!

Sheet A下見積書
B1: =[1]入力!U9&[1]入力!R9 -> GG315 | D1: 下 見 積 書 | L1: 令和 | M1: 年 月 日
B3: =[1]入力!A18 -> 分任契約担当官代理 陸上自衛隊朝霞駐屯地
B4: =CONCATENATE([1]入力!A19,[1]入力!I19) -> 東部方面会計隊本部業務科契約班長 門口 敏 殿 | E4: 住 所
E5: 会 社 名
B6: =M26 -> 0 | C6: =[1]入力!B3 -> （税抜） | E6: 代表者役職・氏名
E7: 担 当 者 氏 名
B8: 下記により下見積致します。 | E8: 連 絡 先
A9: 下記の公告又は通知に対して、「入札及び契約心得」及び「陸上自衛隊標準契約書」の特約条項等を承諾のうえ入札（見積）いたします。 （注） 押印を省略する場合には担当者名及び連絡先を記載すること。
A10: № | B10: 品 名 | C10: 規 格 | J10: 単位 | K10: 数量 | L10: 単 価 | M10: 金 額 | N10: 備考
B11: =[1]規格!C2&"ほか"&COUNTA([1]規格!C2:C1069)-1&"件 内訳書のとおり" -> プロフィットフラッシュタンクリンレイほか188件 内訳書のとおり | M11: =[1]規格!H2 -> 0
C12: 以下余白
A14: =IF([1]規格!C5="","",A13+1) -> 1
A15: =IF([1]規格!C6="","",A14+1) -> 2
A16: =IF([1]規格!C7="","",A15+1) -> 3
A17: =IF([1]規格!C8="","",A16+1) -> 4
A18: =IF([1]規格!C9="","",A17+1) -> 5
A19: =IF([1]規格!C10="","",A18+1) -> 6
A20: =IF([1]規格!C11="","",A19+1) -> 7
A21: =IF([1]規格!C12="","",A20+1) -> 8
A22: =IF([1]規格!C13="","",A21+1) -> 9
A23: =IF([1]規格!C14="","",A22+1) -> 10
A24: =IF([1]規格!C15="","",A23+1) -> 11
A25: =IF([1]規格!C16="","",A24+1) -> 12
B26: 合 計 | M26: =SUM(M11:M25) -> 0
A27: ＊ご回答について | N27: =IF([1]規格!O27="","",[1]規格!O27)
A28: =" 1 下見積りは "&[1]入力!J4&" １０時００分までにFAXにてご回答いただきます様、お願い申し上げます。" -> 1 下見積りは 令和8年9月24日 １０時００分までにFAXにてご回答いただきます様、お願い申し上げます。 | N28: =IF([1]規格!O28="","",[1]規格!O28)
A29: （FAX専用：０３－３９２４－４３１２）
A30: =[1]入力!A25 -> あて先 契約班 下山田 | N30: =IF([1]規格!O29="","",[1]規格!O29)

Sheet A入札書
B1: =[1]入力!U9&[1]入力!R9 -> GG315
H2: =[1]入力!W6 -> 令和8年9月30日
B3: =IF([1]入力!B5=1,"入 札 書","見 積 書") -> 入 札 書
C5: =[1]入力!A18 -> 分任契約担当官代理 陸上自衛隊朝霞駐屯地
C6: =CONCATENATE([1]入力!A19,[1]入力!I19) -> 東部方面会計隊本部業務科契約班長 門口 敏 殿
E7: 住 所
C8: =K30 -> 0 | D8: =[1]入力!B3 -> （税抜） | E8: 会 社 名
E9: 代表者役職・氏名
E10: 担 当 者 氏 名
C11: =IF([1]入力!B5=1,"下記により入札致します。","下記により見積致します。") -> 下記により入札致します。 | E11: 連 絡 先
C12: 下記の公告又は通知に対して、「入札及び契約心得」及び「陸上自衛隊標準契約書」の特約条項等を承諾のうえ入札（見積）いたします。 （注） 押印を省略する場合には担当者名及び連絡先を記載すること。
B14: № | C14: 品 名 | D14: 規 格 | F14: 単位 | G14: 数 量 | H14: 単 価 | K14: 金 額
B15: 1 | C15: =[1]規格!C2 -> プロフィットフラッシュタンクリンレイ | D15: =[1]規格!D2 -> ９７８７９２ ４５ｃｍ幅対応 ／又は同等品以上のもの（他社製品を含む） | F15: =[1]規格!E2 -> EA | G15: =[1]規格!F2 -> 1 | H15: =[1]規格!G2 -> 0 | K15: =[1]規格!H2 -> 0
B16: =IF([1]規格!C3="","",B15+1) -> 2 | C16: =[1]規格!C3 -> 外付ハードディスク | D16: =[1]規格!D3 -> ＥＬＤ－ＣＥＤ０４０ＵＢＫ／又は同等品以上のもの（他社製品を含む） | F16: =[1]規格!E3 -> UN | G16: =[1]規格!F3 -> 3 | H16: =[1]規格!G3 -> 0 | K16: =[1]規格!H3 -> 0
B17: =IF([1]規格!C4="","",B16+1) -> 3 | C17: =[1]規格!C4 -> ワイヤレスコンパクトキーボード（静音） | D17: =[1]規格!D4 -> １９６－５６２／又は同等品以上のもの（他社製品を含む） | F17: =[1]規格!E4 -> UN | G17: =[1]規格!F4 -> 3 | H17: =[1]規格!G4 -> 0 | K17: =[1]規格!H4 -> 0
B18: =IF([1]規格!C5="","",B17+1) -> 4 | C18: =[1]規格!C5 -> マウスパッド（黒） | D18: =[1]規格!D5 -> ３６３－５９５／又は同等品以上のもの（他社製品を含む） | F18: =[1]規格!E5 -> EA | G18: =[1]規格!F5 -> 6 | H18: =[1]規格!G5 -> 0 | K18: =[1]規格!H5 -> 0
B19: =IF([1]規格!C6="","",B18+1) -> 5 | C19: =[1]規格!C6 -> 外付けＨＤＤ | D19: =[1]規格!D6 -> ６６６２－４９６７／又は同等品以上のもの（他社製品を含む） | F19: =[1]規格!E6 -> EA | G19: =[1]規格!F6 -> 1 | H19: =[1]規格!G6 -> 0 | K19: =[1]規格!H6 -> 0
B20: =IF([1]規格!C7="","",B19+1) -> 6 | C20: =[1]規格!C7 -> 電気ポット | D20: =[1]規格!D7 -> ２１０７－８０８８／又は同等品以上のもの（他社製品を含む） | F20: =[1]規格!E7 -> EA | G20: =[1]規格!F7 -> 1 | H20: =[1]規格!G7 -> 0 | K20: =[1]規格!H7 -> 0
B21: =IF([1]規格!C8="","",B20+1) -> 7 | C21: =[1]規格!C8 -> デスクトレ―（Ａ４、茶） | D21: =[1]規格!D8 -> ４４１－２４７／又は同等品以上のもの（他社製品を含む） | F21: =[1]規格!E8 -> EA | G21: =[1]規格!F8 -> 2 | H21: =[1]規格!G8 -> 0 | K21: =[1]規格!H8 -> 0
B22: =IF([1]規格!C9="","",B21+1) -> 8 | C22: =[1]規格!C9 -> デスクトレ―（Ｂ５、茶） | D22: =[1]規格!D9 -> ４４０－２７８／又は同等品以上のもの（他社製品を含む） | F22: =[1]規格!E9 -> EA | G22: =[1]規格!F9 -> 2 | H22: =[1]規格!G9 -> 0 | K22: =[1]規格!H9 -> 0
B23: =IF([1]規格!C10="","",B22+1) -> 9 | C23: =[1]規格!C10 -> デスクトレ―（Ａ３、茶） | D23: =[1]規格!D10 -> ４４１－２５０／又は同等品以上のもの（他社製品を含む） | F23: =[1]規格!E10 -> EA | G23: =[1]規格!F10 -> 2 | H23: =[1]規格!G10 -> 0 | K23: =[1]規格!H10 -> 0
B24: =IF([1]規格!C11="","",B23+1) -> 10 | C24: =[1]規格!C11 -> 再生紙ノート罫線入 | D24: =[1]規格!D11 -> ３７１－９２３／又は同等品以上のもの（他社製品を含む） | F24: =[1]規格!E11 -> EA | G24: =[1]規格!F11 -> 5 | H24: =[1]規格!G11 -> 0 | K24: =[1]規格!H11 -> 0
B25: =IF([1]規格!C12="","",B24+1) -> 11 | C25: =[1]規格!C12 -> 水切りラック | D25: =[1]規格!D12 -> ２０２－４２７／又は同等品以上のもの（他社製品を含む） | F25: =[1]規格!E12 -> EA | G25: =[1]規格!F12 -> 1 | H25: =[1]規格!G12 -> 0 | K25: =[1]規格!H12 -> 0
B26: =IF([1]規格!C13="","",B25+1) -> 12 | C26: =[1]規格!C13 -> 掛時計 | D26: =[1]規格!D13 -> ８６２－９６６／又は同等品以上のもの（他社製品を含む） | F26: =[1]規格!E13 -> EA | G26: =[1]規格!F13 -> 1 | H26: =[1]規格!G13 -> 0 | K26: =[1]規格!H13 -> 0
B27: =IF([1]規格!C14="","",B26+1) -> 13 | C27: =[1]規格!C14 -> マイクロファイバーホイールクリーナー | D27: =[1]規格!D14 -> ＥＡ９２８ＡＧ－５５４／又は同等品以上のもの（他社製品を含む） | F27: =[1]規格!E14 -> EA | G27: =[1]規格!F14 -> 1 | H27: =[1]規格!G14 -> 0 | K27: =[1]規格!H14 -> 0
... B29: =IF([1]規格!C16="","",B28+1) -> 15 | C29: =[1]規格!C16 -> 撥水シャンプー | D29: =[1]規格!D16 -> Ｌｉｎｄａ ＢＥ２４／又は同等品以上のもの（他社製品を含む） | F29: =[1]規格!E16 -> EA | G29: =[1]規格!F16 -> 1 | H29: =[1]規格!G16 -> 0 | K29: =[1]規格!H16 -> 0
C30: 合 計 | K30: =SUM(K15:L29) -> 0
B31: 条 | C31: =[1]入力!J6 -> 納 地 ：朝霞駐屯地 | F31: ○ | G31: 令 和 年 月 日
C32: =[1]入力!J7 -> 納 期 ：令和8年10月30日 | G32: 隊 長 | I32: 班 長 | L32: 係
B33: 件 | C33: その他 | D33: 方 法 ・ （総 額） ・ 単 価 | F33: 決
F34: 定

Sheet A内訳書
A1: 連番 | B1: 品名 | C1: 規格 | D1: 単位 | E1: 数量 | F1: 単価 | G1: 金額
A2: 1 | B2: =[1]規格!C2 -> プロフィットフラッシュタンクリンレイ | C2: =[1]規格!D2 -> ９７８７９２ ４５ｃｍ幅対応 ／又は同等品以上のもの（他社製品を含む） | D2: =[1]規格!E2 -> EA | E2: =[1]規格!F2 -> 1 | F2: =[1]規格!G2 -> 0 | G2: =E2*F2 -> 0
A3: =IF([1]規格!C3="","",A2+1) -> 2 | B3: =[1]規格!C3 -> 外付ハードディスク | C3: =[1]規格!D3 -> ＥＬＤ－ＣＥＤ０４０ＵＢＫ／又は同等品以上のもの（他社製品を含む） | D3: =[1]規格!E3 -> UN | E3: =[1]規格!F3 -> 3 | F3: =[1]規格!G3 -> 0 | G3: =E3*F3 -> 0
A4: =IF([1]規格!C4="","",A3+1) -> 3 | B4: =[1]規格!C4 -> ワイヤレスコンパクトキーボード（静音） | C4: =[1]規格!D4 -> １９６－５６２／又は同等品以上のもの（他社製品を含む） | D4: =[1]規格!E4 -> UN | E4: =[1]規格!F4 -> 3 | F4: =[1]規格!G4 -> 0 | G4: =E4*F4 -> 0
A5: =IF([1]規格!C5="","",A4+1) -> 4 | B5: =[1]規格!C5 -> マウスパッド（黒） | C5: =[1]規格!D5 -> ３６３－５９５／又は同等品以上のもの（他社製品を含む） | D5: =[1]規格!E5 -> EA | E5: =[1]規格!F5 -> 6 | F5: =[1]規格!G5 -> 0 | G5: =E5*F5 -> 0
A6: =IF([1]規格!C6="","",A5+1) -> 5 | B6: =[1]規格!C6 -> 外付けＨＤＤ | C6: =[1]規格!D6 -> ６６６２－４９６７／又は同等品以上のもの（他社製品を含む） | D6: =[1]規格!E6 -> EA | E6: =[1]規格!F6 -> 1 | F6: =[1]規格!G6 -> 0 | G6: =E6*F6 -> 0
A7: =IF([1]規格!C7="","",A6+1) -> 6 | B7: =[1]規格!C7 -> 電気ポット | C7: =[1]規格!D7 -> ２１０７－８０８８／又は同等品以上のもの（他社製品を含む） | D7: =[1]規格!E7 -> EA | E7: =[1]規格!F7 -> 1 | F7: =[1]規格!G7 -> 0 | G7: =E7*F7 -> 0
A8: =IF([1]規格!C8="","",A7+1) -> 7 | B8: =[1]規格!C8 -> デスクトレ―（Ａ４、茶） | C8: =[1]規格!D8 -> ４４１－２４７／又は同等品以上のもの（他社製品を含む） | D8: =[1]規格!E8 -> EA | E8: =[1]規格!F8 -> 2 | F8: =[1]規格!G8 -> 0 | G8: =E8*F8 -> 0
A9: =IF([1]規格!C9="","",A8+1) -> 8 | B9: =[1]規格!C9 -> デスクトレ―（Ｂ５、茶） | C9: =[1]規格!D9 -> ４４０－２７８／又は同等品以上のもの（他社製品を含む） | D9: =[1]規格!E9 -> EA | E9: =[1]規格!F9 -> 2 | F9: =[1]規格!G9 -> 0 | G9: =E9*F9 -> 0
A10: =IF([1]規格!C10="","",A9+1) -> 9 | B10: =[1]規格!C10 -> デスクトレ―（Ａ３、茶） | C10: =[1]規格!D10 -> ４４１－２５０／又は同等品以上のもの（他社製品を含む） | D10: =[1]規格!E10 -> EA | E10: =[1]規格!F10 -> 2 | F10: =[1]規格!G10 -> 0 | G10: =E10*F10 -> 0
A11: =IF([1]規格!C11="","",A10+1) -> 10 | B11: =[1]規格!C11 -> 再生紙ノート罫線入 | C11: =[1]規格!D11 -> ３７１－９２３／又は同等品以上のもの（他社製品を含む） | D11: =[1]規格!E11 -> EA | E11: =[1]規格!F11 -> 5 | F11: =[1]規格!G11 -> 0 | G11: =E11*F11 -> 0
A12: =IF([1]規格!C12="","",A11+1) -> 11 | B12: =[1]規格!C12 -> 水切りラック | C12: =[1]規格!D12 -> ２０２－４２７／又は同等品以上のもの（他社製品を含む） | D12: =[1]規格!E12 -> EA | E12: =[1]規格!F12 -> 1 | F12: =[1]規格!G12 -> 0 | G12: =E12*F12 -> 0
A13: =IF([1]規格!C13="","",A12+1) -> 12 | B13: =[1]規格!C13 -> 掛時計 | C13: =[1]規格!D13 -> ８６２－９６６／又は同等品以上のもの（他社製品を含む） | D13: =[1]規格!E13 -> EA | E13: =[1]規格!F13 -> 1 | F13: =[1]規格!G13 -> 0 | G13: =E13*F13 -> 0
A14: =IF([1]規格!C14="","",A13+1) -> 13 | B14: =[1]規格!C14 -> マイクロファイバーホイールクリーナー | C14: =[1]規格!D14 -> ＥＡ９２８ＡＧ－５５４／又は同等品以上のもの（他社製品を含む） | D14: =[1]規格!E14 -> EA | E14: =[1]規格!F14 -> 1 | F14: =[1]規格!G14 -> 0 | G14: =E14*F14 -> 0
... A36: =IF([1]規格!C36="","",A35+1) -> 35 | B36: =[1]規格!C36 -> デジタルはかり | C36: =[1]規格!D36 -> ３３９－８６０（同等品） | D36: =[1]規格!E36 -> EA | E36: =[1]規格!F36 -> 1 | F36: =[1]規格!G36 -> 0 | G36: =E36*F36 -> 0
B37: 小計 | G37: =SUM(G2:G36) -> 0
A38: =IF([1]規格!C37="","",A36+1) -> 36 | B38: =[1]規格!C37 -> ハーフポケット厚口 | C38: =[1]規格!D37 -> ２１５－２１５（同等品） | D38: =[1]規格!E37 -> EA | E38: =[1]規格!F37 -> 3 | F38: =[1]規格!G37 -> 0 | G38: =E38*F38 -> 0
A39: =IF([1]規格!C38="","",A38+1) -> 37 | B39: =[1]規格!C38 -> ハーフポケット厚口 | C39: =[1]規格!D38 -> ２１５－２１４（同等品） | D39: =[1]規格!E38 -> EA | E39: =[1]規格!F38 -> 3 | F39: =[1]規格!G38 -> 0 | G39: =E39*F39 -> 0
A40: =IF([1]規格!C39="","",A39+1) -> 38 | B40: =[1]規格!C39 -> ハーフポケット厚口 | C40: =[1]規格!D39 -> ２１５－２１１（同等品） | D40: =[1]規格!E39 -> EA | E40: =[1]規格!F39 -> 3 | F40: =[1]規格!G39 -> 0 | G40: =E40*F40 -> 0
A41: =IF([1]規格!C40="","",A40+1) -> 39 | B41: =[1]規格!C40 -> ポスト・イット粘着ホップアップノート 付箋詰替用 | C41: =[1]規格!D40 -> ２９５－３９８（同等品） | D41: =[1]規格!E40 -> EA | E41: =[1]規格!F40 -> 15 | F41: =[1]規格!G40 -> 0 | G41: =E41*F41 -> 0
A42: =IF([1]規格!C41="","",A41+1) -> 40 | B42: =[1]規格!C41 -> エナージェル | C42: =[1]規格!D41 -> ３５９－６３２（同等品） | D42: =[1]規格!E41 -> EA | E42: =[1]規格!F41 -> 1 | F42: =[1]規格!G41 -> 0 | G42: =E42*F42 -> 0
A43: =IF([1]規格!C42="","",A42+1) -> 41 | B43: =[1]規格!C42 -> エナージェル | C43: =[1]規格!D42 -> ３５９－６３３（同等品） | D43: =[1]規格!E42 -> EA | E43: =[1]規格!F42 -> 1 | F43: =[1]規格!G42 -> 0 | G43: =E43*F43 -> 0
A44: =IF([1]規格!C43="","",A43+1) -> 42 | B44: =[1]規格!C43 -> エナージェル | C44: =[1]規格!D43 -> ３５９－６３４（同等品） | D44: =[1]規格!E43 -> EA | E44: =[1]規格!F43 -> 1 | F44: =[1]規格!G43 -> 0 | G44: =E44*F44 -> 0
A45: =IF([1]規格!C44="","",A44+1) -> 43 | B45: =[1]規格!C44 -> メガネが曇りにくいマスク＜個包装＞ | C45: =[1]規格!D44 -> ７５６－２５６（同等品） | D45: =[1]規格!E44 -> CA | E45: =[1]規格!F44 -> 10 | F45: =[1]規格!G44 -> 0 | G45: =E45*F45 -> 0
A46: =IF([1]規格!C45="","",A45+1) -> 44 | B46: =[1]規格!C45 -> ＨＯＭＥ＆ＨＯＭＥ棚下で使えるペダルダストボックス | C46: =[1]規格!D45 -> １２６－４０８（同等品） | D46: =[1]規格!E45 -> EA | E46: =[1]規格!F45 -> 1 | F46: =[1]規格!G45 -> 0 | G46: =E46*F46 -> 0
A47: =IF([1]規格!C46="","",A46+1) -> 45 | B47: =[1]規格!C46 -> プロ耐リール | C47: =[1]規格!D46 -> ＮＦ－２４９３－Ｄ（同等品） | D47: =[1]規格!E46 -> EA | E47: =[1]規格!F46 -> 30 | F47: =[1]規格!G46 -> 0 | G47: =E47*F47 -> 0
A48: =IF([1]規格!C47="","",A47+1) -> 46 | B48: =[1]規格!C47 -> 吊り下げひも ８ＭＭ幅 | C48: =[1]規格!D47 -> ナフーＬ６ー１０ＮＧ（同等品） | D48: =[1]規格!E47 -> EA | E48: =[1]規格!F47 -> 6 | F48: =[1]規格!G47 -> 0 | G48: =E48*F48 -> 0
A49: =IF([1]規格!C48="","",A48+1) -> 47 | B49: =[1]規格!C48 -> 防護メガネ安全メガネセーフティグラス草刈りＤＹＩ イエローレンズ ＩＹ | C49: =[1]規格!D48 -> イエローレンズｍｔ－００３６１５１（同等品） | D49: =[1]規格!E48 -> EA | E49: =[1]規格!F48 -> 5 | F49: =[1]規格!G48 -> 0 | G49: =E49*F49 -> 0
A50: =IF([1]規格!C49="","",A49+1) -> 48 | B50: =[1]規格!C49 -> 防護メガネ安全メガネセーフティグラス草刈りＤＹＩ ブラックレンズ ＩＹ | C50: =[1]規格!D49 -> ブラックレンズｍｔ－００３６１５１（同等品） | D50: =[1]規格!E49 -> EA | E50: =[1]規格!F49 -> 5 | F50: =[1]規格!G49 -> 0 | G50: =E50*F50 -> 0
... A72: =IF([1]規格!C71="","",A71+1) -> 70 | B72: =[1]規格!C71 -> ノートＰＣスタンドⅢ | C72: =[1]規格!D71 -> １３８－２８８（又は他社製品を含む同等品以上） | D72: =[1]規格!E71 -> EA | E72: =[1]規格!F71 -> 5 | F72: =[1]規格!G71 -> 0 | G72: =E72*F72 -> 0
B73: 小計 | G73: =SUM(G38:G72) -> 0
A74: =IF([1]規格!C72="","",A72+1) -> 71 | B74: =[1]規格!C72 -> タワー型タップ（１２個口） | C74: =[1]規格!D72 -> １３８－１０２（又は他社製品を含む同等品以上） | D74: =[1]規格!E72 -> EA | E74: =[1]規格!F72 -> 4 | F74: =[1]規格!G72 -> 0 | G74: =E74*F74 -> 0
A75: =IF([1]規格!C73="","",A74+1) -> 72 | B75: =[1]規格!C73 -> Ｂｌｕｅｔｏｏｔｈキーボード | C75: =[1]規格!D73 -> ＳＫＢ－ＷＢＴ４１ＢＫ（又は他社製品を含む同等品以上） | D75: =[1]規格!E73 -> EA | E75: =[1]規格!F73 -> 8 | F75: =[1]規格!G73 -> 0 | G75: =E75*F75 -> 0
A76: =IF([1]規格!C74="","",A75+1) -> 73 | B76: =[1]規格!C74 -> 静音ワイヤレスエルゴノミクスコンボマウス | C76: =[1]規格!D74 -> ＭＡーＥＷＢＢＳ５２８ＬＢＫ（又は他社製品を含む同等品以上） | D76: =[1]規格!E74 -> EA | E76: =[1]規格!F74 -> 10 | F76: =[1]規格!G74 -> 0 | G76: =E76*F76 -> 0
A77: =IF([1]規格!C75="","",A76+1) -> 74 | B77: =[1]規格!C75 -> リストレスト付きマウスパッド | C77: =[1]規格!D75 -> ＭＰＤ－ＭＵ１ＮＢＫ２（又は他社製品を含む同等品以上） | D77: =[1]規格!E75 -> EA | E77: =[1]規格!F75 -> 10 | F77: =[1]規格!G75 -> 0 | G77: =E77*F77 -> 0
A78: =IF([1]規格!C76="","",A77+1) -> 75 | B78: =[1]規格!C76 -> ＵＳＢハブ付きモニター台 | C78: =[1]規格!D76 -> ＭＲーＬＣ２１５ＢＫ（又は他社製品を含む同等品以上） | D78: =[1]規格!E76 -> UN | E78: =[1]規格!F76 -> 8 | F78: =[1]規格!G76 -> 0 | G78: =E78*F78 -> 0
A79: =IF([1]規格!C77="","",A78+1) -> 76 | B79: =[1]規格!C77 -> ＵＳＢ４ポートスリムハブ | C79: =[1]規格!D77 -> ＵＳＢ－５Ｈ２４ＧＭ（又は他社製品を含む同等品以上） | D79: =[1]規格!E77 -> EA | E79: =[1]規格!F77 -> 5 | F79: =[1]規格!G77 -> 0 | G79: =E79*F79 -> 0
A80: =IF([1]規格!C78="","",A79+1) -> 77 | B80: =[1]規格!C78 -> ＨＤＭＩポート搭載３ポートハブ | C80: =[1]規格!D78 -> ＵＨＳＢ－３Ｈ３３２ＢＫ（又は他社製品を含む同等品以上） | D80: =[1]規格!E78 -> EA | E80: =[1]規格!F78 -> 3 | F80: =[1]規格!G78 -> 0 | G80: =E80*F80 -> 0
A81: =IF([1]規格!C79="","",A80+1) -> 78 | B81: =[1]規格!C79 -> スイングミニタップ | C81: =[1]規格!D79 -> ＴＡＰ－ＡＣ１０ＢＫ（又は他社製品を含む同等品以上） | D81: =[1]規格!E79 -> EA | E81: =[1]規格!F79 -> 4 | F81: =[1]規格!G79 -> 0 | G81: =E81*F81 -> 0
A82: =IF([1]規格!C80="","",A81+1) -> 79 | B82: =[1]規格!C80 -> モバイルモニター | C82: =[1]規格!D80 -> ＤＰ－０７（又は他社製品を含む同等品以上） | D82: =[1]規格!E80 -> EA | E82: =[1]規格!F80 -> 4 | F82: =[1]規格!G80 -> 0 | G82: =E82*F82 -> 0
A83: =IF([1]規格!C81="","",A82+1) -> 80 | B83: =[1]規格!C81 -> ＷＥＢカメラ無線化キット | C83: =[1]規格!D81 -> ＣＭＳ－ＥＸＷ０１（又は他社製品を含む同等品以上） | D83: =[1]規格!E81 -> EA | E83: =[1]規格!F81 -> 1 | F83: =[1]規格!G81 -> 0 | G83: =E83*F83 -> 0
A84: =IF([1]規格!C82="","",A83+1) -> 81 | B84: =[1]規格!C82 -> ワイヤレス広角ＷＥＢカメラ | C84: =[1]規格!D82 -> ＣＭＳ－Ｖ６９ＢＫ（又は他社製品を含む同等品以上） | D84: =[1]規格!E82 -> EA | E84: =[1]規格!F82 -> 1 | F84: =[1]規格!G82 -> 0 | G84: =E84*F84 -> 0
A85: =IF([1]規格!C83="","",A84+1) -> 82 | B85: =[1]規格!C83 -> ＬＡＮケーブル隙間ケーブル | C85: =[1]規格!D83 -> ５００－ＬＡＮ５ＥーＦＬＦＦ（又は他社製品を含む同等品以上） | D85: =[1]規格!E83 -> EA | E85: =[1]規格!F83 -> 6 | F85: =[1]規格!G83 -> 0 | G85: =E85*F85 -> 0
A86: =IF([1]規格!C84="","",A85+1) -> 83 | B86: =[1]規格!C84 -> 折り畳みビジネスバック | C86: =[1]規格!D84 -> ＢＣダッフルＳ ＮＭ８２３６８（又は他社製品を含む同等品以上） | D86: =[1]規格!E84 -> EA | E86: =[1]規格!F84 -> 2 | F86: =[1]規格!G84 -> 0 | G86: =E86*F86 -> 0
... A108: =IF([1]規格!C106="","",A107+1) -> 105 | B108: =[1]規格!C106 -> 脱臭フィルター | C108: =[1]規格!D106 -> ＦＺ－Ｆ５０ＤＦ | D108: =[1]規格!E106 -> EA | E108: =[1]規格!F106 -> 1 | F108: =[1]規格!G106 -> 0 | G108: =E108*F108 -> 0
B109: 小計 | G109: =SUM(G74:G108) -> 0
A110: =IF([1]規格!C107="","",A108+1) -> 106 | B110: =[1]規格!C107 -> ＡＧ＋イオンカートリッジ | C110: =[1]規格!D107 -> ＦＺ－ＡＧ０１Ｋ４ | D110: =[1]規格!E107 -> EA | E110: =[1]規格!F107 -> 1 | F110: =[1]規格!G107 -> 0 | G110: =E110*F110 -> 0
A111: =IF([1]規格!C108="","",A110+1) -> 107 | B111: =[1]規格!C108 -> 突っ張りパワフルポール 大 | C111: =[1]規格!D108 -> 平安伸銅工業７６５－５２６「又は同等品以上のもの（他社製品を含む。）」 | D111: =[1]規格!E108 -> EA | E111: =[1]規格!F108 -> 6 | F111: =[1]規格!G108 -> 0 | G111: =E111*F111 -> 0
A112: =IF([1]規格!C109="","",A111+1) -> 108 | B112: =[1]規格!C109 -> ４極対応 ヘッドセット | C112: =[1]規格!D109 -> サンワサプライＭＭ－ＨＳ４０７ＢＫ／サンワサプライＭＭ－ＨＳＵ１８ＢＫ「又は同等品以上のもの（他社製品を含む。）」 | D112: =[1]規格!E109 -> EA | E112: =[1]規格!F109 -> 5 | F112: =[1]規格!G109 -> 0 | G112: =E112*F112 -> 0
A113: =IF([1]規格!C110="","",A112+1) -> 109 | B113: =[1]規格!C110 -> ＢｌｕｅｔｏｏｔｈブルーＬＥＤマウス | C113: =[1]規格!D110 -> サンワサプライＭＡ－ＢＢ３１２ＢＫ／サンワサプライＭＡ－ＢＢＲＣ３１２ＢＫ「又は同等品以上のもの（他社製品を含む。）」 | D113: =[1]規格!E110 -> EA | E113: =[1]規格!F110 -> 10 | F113: =[1]規格!G110 -> 0 | G113: =E113*F113 -> 0
A114: =IF([1]規格!C111="","",A113+1) -> 110 | B114: =[1]規格!C111 -> 全天候型チョーク 雨ん棒 | C114: =[1]規格!D111 -> 馬印Ｃ８０１Ｘ１０／寺西化学Ｂ－ＣＭＫ－Ｔ３０「又は同等品以上のもの（他社製品を含む。）」 | D114: =[1]規格!E111 -> CA | E114: =[1]規格!F111 -> 10 | F114: =[1]規格!G111 -> 0 | G114: =E114*F114 -> 0
A115: =IF([1]規格!C112="","",A114+1) -> 111 | B115: =[1]規格!C112 -> ドアストッパー先薄型 | C115: =[1]規格!D112 -> 光ＤＳ１４０－２０／光ＤＳ１２０－２０「又は同等品以上のもの（他社製品を含む。）」 | D115: =[1]規格!E112 -> EA | E115: =[1]規格!F112 -> 6 | F115: =[1]規格!G112 -> 0 | G115: =E115*F115 -> 0
A116: =IF([1]規格!C113="","",A115+1) -> 112 | B116: =[1]規格!C113 -> ブルーレイプレイヤー | C116: =[1]規格!D113 -> ＢＤＰ－Ｓ１７００ Ｋ | D116: =[1]規格!E113 -> EA | E116: =[1]規格!F113 -> 1 | F116: =[1]規格!G113 -> 0 | G116: =E116*F116 -> 0
A117: =IF([1]規格!C114="","",A116+1) -> 113 | B117: =[1]規格!C114 -> 不織布おしぼりパルプ | C117: =[1]規格!D114 -> ６５３７－６１６４／６５３７－６１９５「又は同等品以上のもの（他社製品を含む。）」 | D117: =[1]規格!E114 -> CA | E117: =[1]規格!F114 -> 1 | F117: =[1]規格!G114 -> 0 | G117: =E117*F117 -> 0
A118: =IF([1]規格!C115="","",A117+1) -> 114 | B118: =[1]規格!C115 -> ワイヤレス ＨＤＭＩ ｔｏ ＨＤＭＩ 「ＥＺＣａｓｔＰｏｃｋｅｔ」 | C118: =[1]規格!D115 -> ＥＺＣＡＳＴＰＯＣＫＥＴ－Ｈ１Ｒ１又は同等品以上（他社製品を含む。） | D118: =[1]規格!E115 -> EA | E118: =[1]規格!F115 -> 3 | F118: =[1]規格!G115 -> 0 | G118: =E118*F118 -> 0
A119: =IF([1]規格!C116="","",A118+1) -> 115 | B119: =[1]規格!C116 -> ＵＳＢ－Ａコネクター有線ＬＡＮアダプター | C119: =[1]規格!D116 -> ＥＤＣ－ＧＵＡ３Ｖ３－Ｂ又はＵＳＢ－ＣＶＬＡＮ１ＷＮ又は同等品以上（他社製品を含む。） | D119: =[1]規格!E116 -> EA | E119: =[1]規格!F116 -> 4 | F119: =[1]規格!G116 -> 0 | G119: =E119*F119 -> 0
A120: =IF([1]規格!C117="","",A119+1) -> 116 | B120: =[1]規格!C117 -> ＵＳＢ－Ｃ モバイルドッキングステーション ８－ｉｎ－１ | C120: =[1]規格!D117 -> ４００－ＤＫＭ２ＢＫ又はＵＤ－Ｃ０７ＧＹ又は同等品以上（他社製品を含む。） | D120: =[1]規格!E117 -> EA | E120: =[1]規格!F117 -> 2 | F120: =[1]規格!G117 -> 0 | G120: =E120*F120 -> 0
A121: =IF([1]規格!C118="","",A120+1) -> 117 | B121: =[1]規格!C118 -> １０００ＢＡＳＥ－Ｔ対応スイッチングハブ | C121: =[1]規格!D118 -> ＥＨＣ－ＢＧ０１－８ＭＷ又は同等品以上（他社製品を含む。） | D121: =[1]規格!E118 -> ST | E121: =[1]規格!F118 -> 2 | F121: =[1]規格!G118 -> 0 | G121: =E121*F121 -> 0
A122: =IF([1]規格!C119="","",A121+1) -> 118 | B122: =[1]規格!C119 -> ＰＲＯテープカートリッジ＜エコパック＞５個入り | C122: =[1]規格!D119 -> ２８６－８０２又は同等品以上のもの（他社製品を含む） | D122: =[1]規格!E119 -> CA | E122: =[1]規格!F119 -> 1 | F122: =[1]規格!G119 -> 0 | G122: =E122*F122 -> 0
... A144: =IF([1]規格!C141="","",A143+1) -> 140 | B144: =[1]規格!C141 -> スチール印箱 | C144: =[1]規格!D141 -> ＩＢＳ－０２（中型）又は同等品以上 | D144: =[1]規格!E141 -> EA | E144: =[1]規格!F141 -> 1 | F144: =[1]規格!G141 -> 0 | G144: =E144*F144 -> 0
B145: 小計 | G145: =SUM(G110:G144) -> 0
A146: =IF([1]規格!C142="","",A144+1) -> 141 | B146: =[1]規格!C142 -> フィットライトテープ | C146: =[1]規格!D142 -> Ｎ７３８（Ｔ）０４又は同等品以上 | D146: =[1]規格!E142 -> EA | E146: =[1]規格!F142 -> 40 | F146: =[1]規格!G142 -> 0 | G146: =E146*F146 -> 0
A147: =IF([1]規格!C143="","",A146+1) -> 142 | B147: =[1]規格!C143 -> フィットライトテープ | C147: =[1]規格!D143 -> Ｎ７３８（Ｍ）０４又は同等品以上 | D147: =[1]規格!E143 -> EA | E147: =[1]規格!F143 -> 40 | F147: =[1]規格!G143 -> 0 | G147: =E147*F147 -> 0
A148: =IF([1]規格!C144="","",A147+1) -> 143 | B148: =[1]規格!C144 -> 標識テープ | C148: =[1]規格!D144 -> ＡＴ－１０又は同等品以上 | D148: =[1]規格!E144 -> EA | E148: =[1]規格!F144 -> 3 | F148: =[1]規格!G144 -> 0 | G148: =E148*F148 -> 0
A149: =IF([1]規格!C145="","",A148+1) -> 144 | B149: =[1]規格!C145 -> バリアリール | C149: =[1]規格!D145 -> ＢＲＳ－６０６Ｂ又は同等品以上 | D149: =[1]規格!E145 -> EA | E149: =[1]規格!F145 -> 4 | F149: =[1]規格!G145 -> 0 | G149: =E149*F149 -> 0
A150: =IF([1]規格!C146="","",A149+1) -> 145 | B150: =[1]規格!C146 -> バリアリールコーンアタッチメント | C150: =[1]規格!D146 -> ＢＲＳーＡＴ５又は同等品以上 | D150: =[1]規格!E146 -> EA | E150: =[1]規格!F146 -> 10 | F150: =[1]規格!G146 -> 0 | G150: =E150*F150 -> 0
A151: =IF([1]規格!C147="","",A150+1) -> 146 | B151: =[1]規格!C147 -> 日付シート | C151: =[1]規格!D147 -> ＭＳＤ－３１Ｂ又は同等品以上 | D151: =[1]規格!E147 -> EA | E151: =[1]規格!F147 -> 2 | F151: =[1]規格!G147 -> 0 | G151: =E151*F151 -> 0
A152: =IF([1]規格!C148="","",A151+1) -> 147 | B152: =[1]規格!C148 -> スリッパ | C152: =[1]規格!D148 -> １０８３５４００又は同等品以上（他社製品を含む。） | D152: =[1]規格!E148 -> ST | E152: =[1]規格!F148 -> 4 | F152: =[1]規格!G148 -> 0 | G152: =E152*F152 -> 0
A153: =IF([1]規格!C149="","",A152+1) -> 148 | B153: =[1]規格!C149 -> 除菌ウェットティッシュ | C153: =[1]規格!D149 -> ６２２８－８２９３又は同等品以上（他社製品を含む。） | D153: =[1]規格!E149 -> EA | E153: =[1]規格!F149 -> 7 | F153: =[1]規格!G149 -> 0 | G153: =E153*F153 -> 0
A154: =IF([1]規格!C150="","",A153+1) -> 149 | B154: =[1]規格!C150 -> 除菌ウェットティッシュ詰替 | C154: =[1]規格!D150 -> ６２２８－８３０９又は同等品以上（他社製品を含む。） | D154: =[1]規格!E150 -> EA | E154: =[1]規格!F150 -> 30 | F154: =[1]規格!G150 -> 0 | G154: =E154*F154 -> 0
A155: =IF([1]規格!C151="","",A154+1) -> 150 | B155: =[1]規格!C151 -> ネームカードボックス | C155: =[1]規格!D151 -> ＣＢ－７００－００（４９９０）又は同等品以上（他社製品含む） | D155: =[1]規格!E151 -> EA | E155: =[1]規格!F151 -> 5 | F155: =[1]規格!G151 -> 0 | G155: =E155*F155 -> 0
A156: =IF([1]規格!C152="","",A155+1) -> 151 | B156: =[1]規格!C152 -> ツァイトベクタークリップファイル | C156: =[1]規格!D152 -> ＺＶＦ２９０Ｂ（２４７９０）又は同等品以上（他社製品含む） | D156: =[1]規格!E152 -> EA | E156: =[1]規格!F152 -> 5 | F156: =[1]規格!G152 -> 0 | G156: =E156*F156 -> 0
A157: =IF([1]規格!C153="","",A156+1) -> 152 | B157: =[1]規格!C153 -> ツァイトベクタークリップファイル | C157: =[1]規格!D153 -> ＺＶＦ２９０Ｋ（２４７９２）又は同等品以上（他社製品含む） | D157: =[1]規格!E153 -> EA | E157: =[1]規格!F153 -> 5 | F157: =[1]規格!G153 -> 0 | G157: =E157*F157 -> 0
A158: =IF([1]規格!C154="","",A157+1) -> 153 | B158: =[1]規格!C154 -> ツァイトベクタークリップファイル | C158: =[1]規格!D154 -> ＺＶＦ２９０Ｅ（２４７９３）又は同等品以上（他社製品含む） | D158: =[1]規格!E154 -> EA | E158: =[1]規格!F154 -> 5 | F158: =[1]規格!G154 -> 0 | G158: =E158*F158 -> 0
... A180: =IF([1]規格!C176="","",A179+1) -> 175 | B180: =[1]規格!C176 -> 水切りバット | C180: =[1]規格!D176 -> 中サイズ Ｋ５３２ＬＧ（８０４－３９０）又は同等品以上（他社の製品を含む。） | D180: =[1]規格!E176 -> EA | E180: =[1]規格!F176 -> 30 | F180: =[1]規格!G176 -> 0 | G180: =E180*F180 -> 0
B181: 小計 | G181: =SUM(G146:G180) -> 0
A182: =IF([1]規格!C177="","",A180+1) -> 176 | B182: =[1]規格!C177 -> ラップ | C182: =[1]規格!D177 -> ポリ塩化ビニリデン 業務用幅３０ｃｍ×５０ｍ（２０２－６４７）又は同等品以上（他社の製品を含む。） | D182: =[1]規格!E177 -> EA | E182: =[1]規格!F177 -> 5 | F182: =[1]規格!G177 -> 0 | G182: =E182*F182 -> 0
A183: =IF([1]規格!C178="","",A182+1) -> 177 | B183: =[1]規格!C178 -> 粘着式掃除用具 | C183: =[1]規格!D178 -> テープ幅１６０ｍｍ Ｃ３１３０（８７６－３７１）又は同等品以上（他社の製品を含む。） | D183: =[1]規格!E178 -> EA | E183: =[1]規格!F178 -> 6 | F183: =[1]規格!G178 -> 0 | G183: =E183*F183 -> 0
A184: =IF([1]規格!C179="","",A183+1) -> 178 | B184: =[1]規格!C179 -> 粘着式掃除用具（スペア） | C184: =[1]規格!D179 -> １０巻入 テープ幅１６０ｍｍ Ｃ２９６０（７０８－１２５）又は同等品以上（他社の製品を含む。） | D184: =[1]規格!E179 -> BG | E184: =[1]規格!F179 -> 12 | F184: =[1]規格!G179 -> 0 | G184: =E184*F184 -> 0
A185: =IF([1]規格!C180="","",A184+1) -> 179 | B185: =[1]規格!C180 -> 靴カバー | C185: =[1]規格!D180 -> 不織布１００枚入 底部滑り止め加工 ＳＣＭ－Ｓ（２２１－７６９）又は同等品以上（他社の製品を含む。） | D185: =[1]規格!E180 -> EA | E185: =[1]規格!F180 -> 5 | F185: =[1]規格!G180 -> 0 | G185: =E185*F185 -> 0
A186: =IF([1]規格!C181="","",A185+1) -> 180 | B186: =[1]規格!C181 -> アングルキャリー | C186: =[1]規格!D181 -> ４０～５０Ｌ用 ＳＳＬＢ－５０（２２８－７２５）又は同等品以上（他社の製品を含む。） | D186: =[1]規格!E181 -> EA | E186: =[1]規格!F181 -> 3 | F186: =[1]規格!G181 -> 0 | G186: =E186*F186 -> 0
A187: =IF([1]規格!C182="","",A186+1) -> 181 | B187: =[1]規格!C182 -> アングルキャリー | C187: =[1]規格!D182 -> ７５Ｌ用 ＳＳＬＢ－７５（２２８－７２６）又は同等品以上（他社の製品を含む。） | D187: =[1]規格!E182 -> EA | E187: =[1]規格!F182 -> 6 | F187: =[1]規格!G182 -> 0 | G187: =E187*F187 -> 0
A188: =IF([1]規格!C183="","",A187+1) -> 182 | B188: =[1]規格!C183 -> カモフラージュホルダー（オレンジ） | C188: =[1]規格!D183 -> 規格：Ａ４ 品番：ＦＬ－１２７ＣＨ－５Ｐ コード：３４３－７０４又は同等品以上 | D188: =[1]規格!E183 -> PK | E188: =[1]規格!F183 -> 2 | F188: =[1]規格!G183 -> 0 | G188: =E188*F188 -> 0
A189: =IF([1]規格!C184="","",A188+1) -> 183 | B189: =[1]規格!C184 -> 電源タップ＜１０個口＞３ｍ | C189: =[1]規格!D184 -> 品番：ＴＡＰ－２２１０－３Ｗ コード：１６８－５０７又は同等品以上 | D189: =[1]規格!E184 -> EA | E189: =[1]規格!F184 -> 10 | F189: =[1]規格!G184 -> 0 | G189: =E189*F189 -> 0
A190: =IF([1]規格!C185="","",A189+1) -> 184 | B190: =[1]規格!C185 -> 電源タップ＜１０個口＞５ｍ | C190: =[1]規格!D185 -> 品番：ＴＡＰ－２２１０－５Ｗ コード：１６８－５０８又は同等品以上 | D190: =[1]規格!E185 -> EA | E190: =[1]規格!F185 -> 10 | F190: =[1]規格!G185 -> 0 | G190: =E190*F190 -> 0
A191: =IF([1]規格!C186="","",A190+1) -> 185 | B191: =[1]規格!C186 -> グランドバリアテープ | C191: =[1]規格!D186 -> 品番：ＧＢＴ１０２０ コード：１２６－１４７又は同等品以上 | D191: =[1]規格!E186 -> EA | E191: =[1]規格!F186 -> 30 | F191: =[1]規格!G186 -> 0 | G191: =E191*F191 -> 0
A192: =IF([1]規格!C187="","",A191+1) -> 186 | B192: =[1]規格!C187 -> ボックスファイル | C192: =[1]規格!D187 -> 規格：Ａ４Ｅ 色：ブルー 品番：Ｄ０４４Ｊ－ＢＬ コード：７８－００２又は同等品以上 | D192: =[1]規格!E187 -> EA | E192: =[1]規格!F187 -> 3 | F192: =[1]規格!G187 -> 0 | G192: =E192*F192 -> 0
A193: =IF([1]規格!C188="","",A192+1) -> 187 | B193: =[1]規格!C188 -> 手袋 | C193: =[1]規格!D188 -> ③８３５－０７０ 又は同等品以上のもの（他社製品を含む） | D193: =[1]規格!E188 -> CA | E193: =[1]規格!F188 -> 2 | F193: =[1]規格!G188 -> 0 | G193: =E193*F193 -> 0
A194: =IF([1]規格!C189="","",A193+1) -> 188 | B194: =[1]規格!C189 -> 手袋 | C194: =[1]規格!D189 -> ④８３５－０７１ 又は同等品以上のもの（他社製品を含む） | D194: =[1]規格!E189 -> CA | E194: =[1]規格!F189 -> 2 | F194: =[1]規格!G189 -> 0 | G194: =E194*F194 -> 0
A195: =IF([1]規格!C190="","",A194+1) -> 189 | B195: =[1]規格!C190 -> 充電池 | C195: =[1]規格!D190 -> ボタン形アルカリ電池ＬＲ４１ １０個入（７６９－９２７）又は同等品以上（他社の製品を含む。） | D195: =[1]規格!E190 -> EA | E195: =[1]規格!F190 -> 4 | F195: =[1]規格!G190 -> 0 | G195: =E195*F195 -> 0
B196: 小計 | G196: =SUM(G182:G195) -> 0
B197: 合計 | G197: =G37+G73+G109+G145+G181+G196 -> 0
A198: =IF([1]規格!C191="","",A195+1) | B198: =[1]規格!C191 -> 0 | C198: =[1]規格!D191 -> 以 下 余 白 | D198: =[1]規格!E191 -> 0 | E198: =[1]規格!F191 -> 0 | F198: =[1]規格!G191 -> 0 | G198: =E198*F198 -> 0
A199: =IF([1]規格!C192="","",A198+1) | B199: =[1]規格!C192 -> 0 | C199: =[1]規格!D192 | D199: =[1]規格!E192 -> 0 | E199: =[1]規格!F192 -> 0 | F199: =[1]規格!G192 -> 0 | G199: =E199*F199 -> 0
A200: =IF([1]規格!C193="","",A199+1) | B200: =[1]規格!C193 -> 0 | C200: =[1]規格!D193 | D200: =[1]規格!E193 -> 0 | E200: =[1]規格!F193 -> 0 | F200: =[1]規格!G193 -> 0 | G200: =E200*F200 -> 0
A201: =IF([1]規格!C194="","",A200+1) | B201: =[1]規格!C194 -> 0 | C201: =[1]規格!D194 | D201: =[1]規格!E194 -> 0 | E201: =[1]規格!F194 -> 0 | F201: =[1]規格!G194 -> 0 | G201: =E201*F201 -> 0
A202: =IF([1]規格!C195="","",A201+1) | B202: =[1]規格!C195 -> 0 | C202: =[1]規格!D195 | D202: =[1]規格!E195 -> 0 | E202: =[1]規格!F195 -> 0 | F202: =[1]規格!G195 -> 0 | G202: =E202*F202 -> 0
A203: =IF([1]規格!C196="","",A202+1) | B203: =[1]規格!C196 -> 0 | C203: =[1]規格!D196 | D203: =[1]規格!E196 -> 0 | E203: =[1]規格!F196 -> 0 | F203: =[1]規格!G196 -> 0 | G203: =E203*F203 -> 0
A204: =IF([1]規格!C197="","",A203+1) | B204: =[1]規格!C197 -> 0 | C204: =[1]規格!D197 | D204: =[1]規格!E197 -> 0 | E204: =[1]規格!F197 -> 0 | F204: =[1]規格!G197 -> 0 | G204: =E204*F204 -> 0
A205: =IF([1]規格!C198="","",A204+1) | B205: =[1]規格!C198 -> 0 | C205: =[1]規格!D198 | D205: =[1]規格!E198 -> 0 | E205: =[1]規格!F198 -> 0 | F205: =[1]規格!G198 -> 0 | G205: =E205*F205 -> 0
...

Sheet B下見積書
B1: =[11]入力!U9&[11]入力!R9 -> GG316 | D1: 下 見 積 書 | L1: 令和 | M1: 年 月 日
B3: =[11]入力!A18 -> 分任契約担当官代理 陸上自衛隊朝霞駐屯地
B4: =CONCATENATE([11]入力!A19,[11]入力!I19) -> 東部方面会計隊本部業務科契約班長 門口 敏 殿 | E4: 住 所
E5: 会 社 名
B6: =M26 -> 0 | C6: =[11]入力!B3 -> （税抜） | E6: 代表者役職・氏名
E7: 担 当 者 氏 名
B8: 下記により下見積致します。 | E8: 連 絡 先
A9: 下記の公告又は通知に対して、「入札及び契約心得」及び「陸上自衛隊標準契約書」の特約条項等を承諾のうえ入札（見積）いたします。 （注） 押印を省略する場合には担当者名及び連絡先を記載すること。
A10: № | B10: 品 名 | C10: 規 格 | J10: 単位 | K10: 数量 | L10: 単 価 | M10: 金 額 | N10: 備考
A11: 1 | B11: =[11]規格!C2 -> 延長アンテナ | C11: =[11]規格!D2 -> ＢＴ０１７６－Ｗ２００２又は同等品以上（他社製品含む） | J11: =[11]規格!E2 -> EA | K11: =[11]規格!F2 -> 4 | L11: =[11]規格!G2 -> 0 | M11: =[11]規格!H2 -> 0
A12: =IF([11]規格!C3="","",A11+1) -> 2 | B12: =[11]規格!C3 -> 延長アンテナ | C12: =[11]規格!D3 -> ＢＴ０１７６－Ｗ２００１又は同等品以上（他社製品含む） | J12: =[11]規格!E3 -> EA | K12: =[11]規格!F3 -> 4 | L12: =[11]規格!G3 -> 0 | M12: =[11]規格!H3 -> 0
A13: =IF([11]規格!C4="","",A12+1) -> 3 | B13: =[11]規格!C4 -> 充電器 | C13: =[11]規格!D4 -> Ａ１６３８Ｎ１１ブラック又は同等品以上（他社製品含む） | J13: =[11]規格!E4 -> EA | K13: =[11]規格!F4 -> 30 | L13: =[11]規格!G4 -> 0 | M13: =[11]規格!H4 -> 0
A14: =IF([11]規格!C5="","",A13+1) -> 4 | B14: =[11]規格!C5 -> 充電器 | C14: =[11]規格!D5 -> Ａ１６９５Ｎ１１ブラック又は同等品以上（他社製品含む） | J14: =[11]規格!E5 -> EA | K14: =[11]規格!F5 -> 30 | L14: =[11]規格!G5 -> 0 | M14: =[11]規格!H5 -> 0
A15: =IF([11]規格!C6="","",A14+1) -> 5 | B15: =[11]規格!C6 -> 充電ケーブル | C15: =[11]規格!D6 -> Ａ２６５８Ｎ１１ブラック又は同等品以上（他社製品含む） | J15: =[11]規格!E6 -> EA | K15: =[11]規格!F6 -> 30 | L15: =[11]規格!G6 -> 0 | M15: =[11]規格!H6 -> 0
A16: =IF([11]規格!C7="","",A15+1) -> 6 | B16: =[11]規格!C7 -> イヤホン | C16: =[11]規格!D7 -> ＳＫＺ－ＥＰ－００００３０又は同等品以上（他社製品含む） | J16: =[11]規格!E7 -> EA | K16: =[11]規格!F7 -> 10 | L16: =[11]規格!G7 -> 0 | M16: =[11]規格!H7 -> 0
A17: =IF([11]規格!C8="","",A16+1) -> 7 | B17: =[11]規格!C8 -> ＰＬＣアダプター | C17: =[11]規格!D8 -> ＷＰＮ７１１１１又は同等品以上（他社製品含む） | J17: =[11]規格!E8 -> EA | K17: =[11]規格!F8 -> 5 | L17: =[11]規格!G8 -> 0 | M17: =[11]規格!H8 -> 0
A18: =IF([11]規格!C9="","",A17+1) -> 8 | B18: =[11]規格!C9 -> ＯＡタップ | C18: =[11]規格!D9 -> ＫＴ－１８０又は同等品以上（他社製品含む） | J18: =[11]規格!E9 -> EA | K18: =[11]規格!F9 -> 5 | L18: =[11]規格!G9 -> 0 | M18: =[11]規格!H9 -> 0
A19: =IF([11]規格!C10="","",A18+1) -> 9 | B19: =[11]規格!C10 -> アルコール検知器ＳＣ１０３ | C19: =[11]規格!D10 -> ＳＣ１０３又は同等品以上 | J19: =[11]規格!E10 -> EA | K19: =[11]規格!F10 -> 7 | L19: =[11]規格!G10 -> 0 | M19: =[11]規格!H10 -> 0
A20: =IF([11]規格!C11="","",A19+1) | B20: =[11]規格!C11 -> 0 | C20: =[11]規格!D11 -> 以 下 余 白 | J20: =[11]規格!E11 -> 0 | K20: =[11]規格!F11 -> 0 | L20: =[11]規格!G11 -> 0 | M20: =[11]規格!H11 -> 0
A21: =IF([11]規格!C12="","",A20+1) | B21: =[11]規格!C12 -> 0 | C21: =[11]規格!D12 | J21: =[11]規格!E12 -> 0 | K21: =[11]規格!F12 -> 0 | L21: =[11]規格!G12 -> 0 | M21: =[11]規格!H12 -> 0
A22: =IF([11]規格!C13="","",A21+1) | B22: =[11]規格!C13 -> 0 | C22: =[11]規格!D13 | J22: =[11]規格!E13 -> 0 | K22: =[11]規格!F13 -> 0 | L22: =[11]規格!G13 -> 0 | M22: =[11]規格!H13 -> 0
A23: =IF([11]規格!C14="","",A22+1) | B23: =[11]規格!C14 -> 0 | C23: =[11]規格!D14 | J23: =[11]規格!E14 -> 0 | K23: =[11]規格!F14 -> 0 | L23: =[11]規格!G14 -> 0 | M23: =[11]規格!H14 -> 0
... A25: =IF([11]規格!C16="","",A24+1) | B25: =[11]規格!C16 -> 0 | C25: =[11]規格!D16 | J25: =[11]規格!E16 -> 0 | K25: =[11]規格!F16 -> 0 | L25: =[11]規格!G16 -> 0 | M25: =[11]規格!H16 -> 0
B26: 合 計 | M26: =SUM(M11:M25) -> 0
A27: ＊ご回答について | N27: =IF([11]規格!O27="","",[11]規格!O27)
A28: =" 1 下見積りは "&[11]入力!J4&" １３時００分までにご回答いただきます様、お願い申し上げます。" -> 1 下見積りは 令和8年9月24日 １３時００分までにご回答いただきます様、お願い申し上げます。 | N28: =IF([11]規格!O28="","",[11]規格!O28)
A29: （FAX専用：０３－３９２４－４３１２）
A30: =[11]入力!A25 -> あて先 契約班 下山田 | N30: =IF([11]規格!O29="","",[11]規格!O29)

Sheet B入札書
B1: =[11]入力!U9&[11]入力!R9 -> GG316
H2: =[11]入力!W6 -> 令和8年9月30日
B3: =IF([11]入力!B5=1,"入 札 書","見 積 書") -> 入 札 書
C5: =[11]入力!A18 -> 分任契約担当官代理 陸上自衛隊朝霞駐屯地
C6: =CONCATENATE([11]入力!A19,[11]入力!I19) -> 東部方面会計隊本部業務科契約班長 門口 敏 殿
E7: 住 所
C8: =K30 -> 0 | D8: =[11]入力!B3 -> （税抜） | E8: 会 社 名
E9: 代表者役職・氏名
E10: 担 当 者 氏 名
C11: =IF([11]入力!B5=1,"下記により入札致します。","下記により見積致します。") -> 下記により入札致します。 | E11: 連 絡 先
C12: 下記の公告又は通知に対して、「入札及び契約心得」及び「陸上自衛隊標準契約書」の特約条項等を承諾のうえ入札（見積）いたします。 （注） 押印を省略する場合には担当者名及び連絡先を記載すること。
B14: № | C14: 品 名 | D14: 規 格 | F14: 単位 | G14: 数 量 | H14: 単 価 | K14: 金 額
B15: 1 | C15: =[11]規格!C2 -> 延長アンテナ | D15: =[11]規格!D2 -> ＢＴ０１７６－Ｗ２００２又は同等品以上（他社製品含む） | F15: =[11]規格!E2 -> EA | G15: =[11]規格!F2 -> 4 | H15: =[11]規格!G2 -> 0 | K15: =[11]規格!H2 -> 0
B16: =IF([11]規格!C3="","",B15+1) -> 2 | C16: =[11]規格!C3 -> 延長アンテナ | D16: =[11]規格!D3 -> ＢＴ０１７６－Ｗ２００１又は同等品以上（他社製品含む） | F16: =[11]規格!E3 -> EA | G16: =[11]規格!F3 -> 4 | H16: =[11]規格!G3 -> 0 | K16: =[11]規格!H3 -> 0
B17: =IF([11]規格!C4="","",B16+1) -> 3 | C17: =[11]規格!C4 -> 充電器 | D17: =[11]規格!D4 -> Ａ１６３８Ｎ１１ブラック又は同等品以上（他社製品含む） | F17: =[11]規格!E4 -> EA | G17: =[11]規格!F4 -> 30 | H17: =[11]規格!G4 -> 0 | K17: =[11]規格!H4 -> 0
B18: =IF([11]規格!C5="","",B17+1) -> 4 | C18: =[11]規格!C5 -> 充電器 | D18: =[11]規格!D5 -> Ａ１６９５Ｎ１１ブラック又は同等品以上（他社製品含む） | F18: =[11]規格!E5 -> EA | G18: =[11]規格!F5 -> 30 | H18: =[11]規格!G5 -> 0 | K18: =[11]規格!H5 -> 0
B19: =IF([11]規格!C6="","",B18+1) -> 5 | C19: =[11]規格!C6 -> 充電ケーブル | D19: =[11]規格!D6 -> Ａ２６５８Ｎ１１ブラック又は同等品以上（他社製品含む） | F19: =[11]規格!E6 -> EA | G19: =[11]規格!F6 -> 30 | H19: =[11]規格!G6 -> 0 | K19: =[11]規格!H6 -> 0
B20: =IF([11]規格!C7="","",B19+1) -> 6 | C20: =[11]規格!C7 -> イヤホン | D20: =[11]規格!D7 -> ＳＫＺ－ＥＰ－００００３０又は同等品以上（他社製品含む） | F20: =[11]規格!E7 -> EA | G20: =[11]規格!F7 -> 10 | H20: =[11]規格!G7 -> 0 | K20: =[11]規格!H7 -> 0
B21: =IF([11]規格!C8="","",B20+1) -> 7 | C21: =[11]規格!C8 -> ＰＬＣアダプター | D21: =[11]規格!D8 -> ＷＰＮ７１１１１又は同等品以上（他社製品含む） | F21: =[11]規格!E8 -> EA | G21: =[11]規格!F8 -> 5 | H21: =[11]規格!G8 -> 0 | K21: =[11]規格!H8 -> 0
B22: =IF([11]規格!C9="","",B21+1) -> 8 | C22: =[11]規格!C9 -> ＯＡタップ | D22: =[11]規格!D9 -> ＫＴ－１８０又は同等品以上（他社製品含む） | F22: =[11]規格!E9 -> EA | G22: =[11]規格!F9 -> 5 | H22: =[11]規格!G9 -> 0 | K22: =[11]規格!H9 -> 0
B23: =IF([11]規格!C10="","",B22+1) -> 9 | C23: =[11]規格!C10 -> アルコール検知器ＳＣ１０３ | D23: =[11]規格!D10 -> ＳＣ１０３又は同等品以上 | F23: =[11]規格!E10 -> EA | G23: =[11]規格!F10 -> 7 | H23: =[11]規格!G10 -> 0 | K23: =[11]規格!H10 -> 0
B24: =IF([11]規格!C11="","",B23+1) | C24: =[11]規格!C11 -> 0 | D24: =[11]規格!D11 -> 以 下 余 白 | F24: =[11]規格!E11 -> 0 | G24: =[11]規格!F11 -> 0 | H24: =[11]規格!G11 -> 0 | K24: =[11]規格!H11 -> 0
B25: =IF([11]規格!C12="","",B24+1) | C25: =[11]規格!C12 -> 0 | D25: =[11]規格!D12 | F25: =[11]規格!E12 -> 0 | G25: =[11]規格!F12 -> 0 | H25: =[11]規格!G12 -> 0 | K25: =[11]規格!H12 -> 0
B26: =IF([11]規格!C13="","",B25+1) | C26: =[11]規格!C13 -> 0 | D26: =[11]規格!D13 | F26: =[11]規格!E13 -> 0 | G26: =[11]規格!F13 -> 0 | H26: =[11]規格!G13 -> 0 | K26: =[11]規格!H13 -> 0
B27: =IF([11]規格!C14="","",B26+1) | C27: =[11]規格!C14 -> 0 | D27: =[11]規格!D14 | F27: =[11]規格!E14 -> 0 | G27: =[11]規格!F14 -> 0 | H27: =[11]規格!G14 -> 0 | K27: =[11]規格!H14 -> 0
... B29: =IF([11]規格!C16="","",B28+1) | C29: =[11]規格!C16 -> 0 | D29: =[11]規格!D16 | F29: =[11]規格!E16 -> 0 | G29: =[11]規格!F16 -> 0 | H29: =[11]規格!G16 -> 0 | K29: =[11]規格!H16 -> 0
C30: 合 計 | K30: =SUM(K15:L29) -> 0
B31: 条 | C31: =[11]入力!J6 -> 納 地 ：朝霞駐屯地 | F31: ○ | G31: 令 和 年 月 日
C32: =[11]入力!J7 -> 納 期 ：令和8年10月30日 | G32: 隊 長 | I32: 班 長 | L32: 係
B33: 件 | C33: その他 | D33: 方 法 ・ （総 額） ・ 単 価 | F33: 決
F34: 定

Sheet C下見積書
B1: =[12]入力!U9&[12]入力!R9 -> GG318 | D1: 下 見 積 書 | L1: 令和 | M1: 年 月 日
B3: =[12]入力!A18 -> 分任契約担当官代理 陸上自衛隊朝霞駐屯地
B4: =CONCATENATE([12]入力!A19,[12]入力!I19) -> 東部方面会計隊本部業務科契約班長 門口 敏 殿 | E4: 住 所
E5: 会 社 名
B6: =M26 -> 0 | C6: =[12]入力!B3 -> （税抜） | E6: 代表者役職・氏名
E7: 担 当 者 氏 名
B8: 下記により下見積致します。 | E8: 連 絡 先
A9: 下記の公告又は通知に対して、「入札及び契約心得」及び「陸上自衛隊標準契約書」の特約条項等を承諾のうえ入札（見積）いたします。 （注） 押印を省略する場合には担当者名及び連絡先を記載すること。
A10: № | B10: 品 名 | C10: 規 格 | J10: 単位 | K10: 数量 | L10: 単 価 | M10: 金 額 | N10: 備考
B11: =[12]規格!C2&"ほか"&COUNTA([12]規格!C2:C1069)-1&"件 内訳書のとおり" -> チェアハンガーほか110件 内訳書のとおり | M11: =[12]規格!H2 -> 0
C12: 以下余白
A14: =IF([12]規格!C5="","",A13+1) -> 1
A15: =IF([12]規格!C6="","",A14+1) -> 2
A16: =IF([12]規格!C7="","",A15+1) -> 3
A17: =IF([12]規格!C8="","",A16+1) -> 4
A18: =IF([12]規格!C9="","",A17+1) -> 5
A19: =IF([12]規格!C10="","",A18+1) -> 6
A20: =IF([12]規格!C11="","",A19+1) -> 7
A21: =IF([12]規格!C12="","",A20+1) -> 8
A22: =IF([12]規格!C13="","",A21+1) -> 9
A23: =IF([12]規格!C14="","",A22+1) -> 10
A24: =IF([12]規格!C15="","",A23+1) -> 11
A25: =IF([12]規格!C16="","",A24+1) -> 12
B26: 合 計 | M26: =SUM(M11:M25) -> 0
A27: ＊ご回答について | N27: =IF([12]規格!O27="","",[12]規格!O27)
A28: =" 1 下見積りは "&[12]入力!J4&" １０時００分までにFAXにてご回答いただきます様、お願い申し上げます。" -> 1 下見積りは 令和8年9月24日 １０時００分までにFAXにてご回答いただきます様、お願い申し上げます。 | N28: =IF([12]規格!O28="","",[12]規格!O28)
A29: （FAX専用：０３－３９２４－４３１２）
A30: =[12]入力!A25 -> あて先 契約班 下山田 | N30: =IF([12]規格!O29="","",[12]規格!O29)

Sheet C入札書
B1: =[12]入力!U9&[12]入力!R9 -> GG318
H2: =[12]入力!W6 -> 令和8年9月30日
B3: =IF([12]入力!B5=1,"入 札 書","見 積 書") -> 入 札 書
C5: =[12]入力!A18 -> 分任契約担当官代理 陸上自衛隊朝霞駐屯地
C6: =CONCATENATE([12]入力!A19,[12]入力!I19) -> 東部方面会計隊本部業務科契約班長 門口 敏 殿
E7: 住 所
C8: =K30 -> 0 | D8: =[12]入力!B3 -> （税抜） | E8: 会 社 名
E9: 代表者役職・氏名
E10: 担 当 者 氏 名
C11: =IF([12]入力!B5=1,"下記により入札致します。","下記により見積致します。") -> 下記により入札致します。 | E11: 連 絡 先
C12: 下記の公告又は通知に対して、「入札及び契約心得」及び「陸上自衛隊標準契約書」の特約条項等を承諾のうえ入札（見積）いたします。 （注） 押印を省略する場合には担当者名及び連絡先を記載すること。
B14: № | C14: 品 名 | D14: 規 格 | F14: 単位 | G14: 数 量 | H14: 単 価 | K14: 金 額
C15: =[12]規格!C2&"ほか"&COUNTA([12]規格!C2:C1069)-1&"件 内訳書のとおり" -> チェアハンガーほか110件 内訳書のとおり | H15: =[12]規格!G2 -> 0 | K15: =[12]規格!H2 -> 0
D16: 以下余白
A28: 1 本見積りは 令和５年 月 日（ ）１７時までにFAXにてご回答いただきます様、お願い申し上げます。 （FAX専用：０３－３９２４－４３１２） 2 本見積調査は、予算の都合上、実施するものであり、一般価格や標準価格を調査するものではございません。努めて、値引き等 を考慮した実勢価格によるお見積もりの提出にご協力をお願い致します。 ３ 契約締結日は令和５年４月１日となります。
C30: 合 計 | K30: =SUM(K15:L29) -> 0
B31: 条 | C31: =[12]入力!J6 -> 納 地 ：大井通信所 | F31: ○ | G31: 令 和 年 月 日
C32: =[12]入力!J7 -> 納 期 ：令和8年10月30日 | G32: 隊 長 | I32: 班 長 | L32: 係
B33: 件 | C33: その他 | D33: 方 法 ・ （総 額） ・ 単 価 | F33: 決
F34: 定

Sheet C内訳書
A1: 連番 | B1: 品名 | C1: 規格 | D1: 単位 | E1: 数量 | F1: 単価 | G1: 金額
A2: 1 | B2: =[12]規格!C2 -> チェアハンガー | C2: =[12]規格!D2 -> ＩＨＦ０８－Ｐ０１又は同等品以上のもの（他社製品を含む） | D2: =[12]規格!E2 -> EA | E2: =[12]規格!F2 -> 9 | F2: =[12]規格!G2 -> 0 | G2: =E2*F2 -> 0
A3: =IF([12]規格!C3="","",A2+1) -> 2 | B3: =[12]規格!C3 -> 空間除菌脱臭機用塩タブレット | C3: =[12]規格!D3 -> Ｆ－ＺＶＣ０３ 製品指定 | D3: =[12]規格!E3 -> EA | E3: =[12]規格!F3 -> 8 | F3: =[12]規格!G3 -> 0 | G3: =E3*F3 -> 0
A4: =IF([12]規格!C4="","",A3+1) -> 3 | B4: =[12]規格!C4 -> イオン発生ユニット | C4: =[12]規格!D4 -> ＩＺ－Ｃ９０ＭＲ製品指定 | D4: =[12]規格!E4 -> EA | E4: =[12]規格!F4 -> 9 | F4: =[12]規格!G4 -> 0 | G4: =E4*F4 -> 0
A5: =IF([12]規格!C5="","",A4+1) -> 4 | B5: =[12]規格!C5 -> 名札用替ケース | C5: =[12]規格!D5 -> ８３７－９４７又は同等品以上のもの（他社製品を含む） | D5: =[12]規格!E5 -> SH | E5: =[12]規格!F5 -> 10 | F5: =[12]規格!G5 -> 0 | G5: =E5*F5 -> 0
A6: =IF([12]規格!C6="","",A5+1) -> 5 | B6: =[12]規格!C6 -> 名札用ストラップ | C6: =[12]規格!D6 -> ３８６－７８９又は同等品以上のもの（他社製品を含む） | D6: =[12]規格!E6 -> PC | E6: =[12]規格!F6 -> 10 | F6: =[12]規格!G6 -> 0 | G6: =E6*F6 -> 0
A7: =IF([12]規格!C7="","",A6+1) -> 6 | B7: =[12]規格!C7 -> ハンドソープディスペンサー | C7: =[12]規格!D7 -> １０２－４６１又は同等品以上のもの（他社製品を含む） | D7: =[12]規格!E7 -> EA | E7: =[12]規格!F7 -> 3 | F7: =[12]規格!G7 -> 0 | G7: =E7*F7 -> 0
A8: =IF([12]規格!C8="","",A7+1) -> 7 | B8: =[12]規格!C8 -> 折りたたみ椅子 | C8: =[12]規格!D8 -> ２１１－５３０又は同等品以上のもの（他社製品を含む） | D8: =[12]規格!E8 -> EA | E8: =[12]規格!F8 -> 2 | F8: =[12]規格!G8 -> 0 | G8: =E8*F8 -> 0
A9: =IF([12]規格!C9="","",A8+1) -> 8 | B9: =[12]規格!C9 -> ペーパータオルケース | C9: =[12]規格!D9 -> ３５６－１６４又は同等品以上のもの（他社製品を含む） | D9: =[12]規格!E9 -> EA | E9: =[12]規格!F9 -> 5 | F9: =[12]規格!G9 -> 0 | G9: =E9*F9 -> 0
A10: =IF([12]規格!C10="","",A9+1) -> 9 | B10: =[12]規格!C10 -> 充電式クリーナ抗菌紙パック | C10: =[12]規格!D10 -> ７４３－８４９ 製品指定 | D10: =[12]規格!E10 -> ST | E10: =[12]規格!F10 -> 10 | F10: =[12]規格!G10 -> 0 | G10: =E10*F10 -> 0
A11: =IF([12]規格!C11="","",A10+1) -> 10 | B11: =[12]規格!C11 -> 充電式クリーナバッテリー | C11: =[12]規格!D11 -> ７２１－６６１ 製品指定 | D11: =[12]規格!E11 -> EA | E11: =[12]規格!F11 -> 5 | F11: =[12]規格!G11 -> 0 | G11: =E11*F11 -> 0
A12: =IF([12]規格!C12="","",A11+1) -> 11 | B12: =[12]規格!C12 -> スティッククリーナースタンド | C12: =[12]規格!D12 -> ７４３－４８８３２７５又は同等品以上のもの（他社製品を含む） | D12: =[12]規格!E12 -> UN | E12: =[12]規格!F12 -> 6 | F12: =[12]規格!G12 -> 0 | G12: =E12*F12 -> 0
A13: =IF([12]規格!C13="","",A12+1) -> 12 | B13: =[12]規格!C13 -> ノンスリップテープ | C13: =[12]規格!D13 -> １９７－１７８又は同等品以上のもの（他社製品を含む） | D13: =[12]規格!E13 -> SP | E13: =[12]規格!F13 -> 2 | F13: =[12]規格!G13 -> 0 | G13: =E13*F13 -> 0
A14: =IF([12]規格!C14="","",A13+1) -> 13 | B14: =[12]規格!C14 -> ビニールテープ 黄 | C14: =[12]規格!D14 -> ４６４－３０３又は同等品以上のもの（他社製品を含む） | D14: =[12]規格!E14 -> SP | E14: =[12]規格!F14 -> 2 | F14: =[12]規格!G14 -> 0 | G14: =E14*F14 -> 0
... A36: =IF([12]規格!C36="","",A35+1) -> 35 | B36: =[12]規格!C36 -> 蓋つき角バケツ | C36: =[12]規格!D36 -> ＥＡ９９１ＰＧ－１０又は同等品以上のもの（他社製品を含む） | D36: =[12]規格!E36 -> EA | E36: =[12]規格!F36 -> 1 | F36: =[12]規格!G36 -> 0 | G36: =E36*F36 -> 0
B37: 小計 | G37: =SUM(G2:G36) -> 0
A38: =IF([12]規格!C37="","",A36+1) -> 36 | B38: =[12]規格!C37 -> タイヤゲージ | C38: =[12]規格!D37 -> ＥＡ１２３ＣＧ－３２又は同等品以上のもの（他社製品を含む） | D38: =[12]規格!E37 -> EA | E38: =[12]規格!F37 -> 1 | F38: =[12]規格!G37 -> 0 | G38: =E38*F38 -> 0
A39: =IF([12]規格!C38="","",A38+1) -> 37 | B39: =[12]規格!C38 -> 伸縮型洗車ブラシ | C39: =[12]規格!D38 -> ＥＡ９２８ＡＧ－５６５又は同等品以上のもの（他社製品を含む） | D39: =[12]規格!E38 -> PC | E39: =[12]規格!F38 -> 1 | F39: =[12]規格!G38 -> 0 | G39: =E39*F39 -> 0
A40: =IF([12]規格!C39="","",A39+1) -> 38 | B40: =[12]規格!C39 -> 伸縮型洗車モップ | C40: =[12]規格!D39 -> ＥＡ９２８ＡＧ－５６２又は同等品以上のもの（他社製品を含む） | D40: =[12]規格!E39 -> PC | E40: =[12]規格!F39 -> 1 | F40: =[12]規格!G39 -> 0 | G40: =E40*F40 -> 0
A41: =IF([12]規格!C40="","",A40+1) -> 39 | B41: =[12]規格!C40 -> 洗車ブラシ ソフト | C41: =[12]規格!D40 -> ＥＡ９２８ＡＨ－６１又は同等品以上のもの（他社製品を含む） | D41: =[12]規格!E40 -> PC | E41: =[12]規格!F40 -> 1 | F41: =[12]規格!G40 -> 0 | G41: =E41*F41 -> 0
A42: =IF([12]規格!C41="","",A41+1) -> 40 | B42: =[12]規格!C41 -> 洗車ブラシ 馬毛 | C42: =[12]規格!D41 -> ＥＡ９２８ＡＨ－３１又は同等品以上のもの（他社製品を含む） | D42: =[12]規格!E41 -> PC | E42: =[12]規格!F41 -> 1 | F42: =[12]規格!G41 -> 0 | G42: =E42*F42 -> 0
A43: =IF([12]規格!C42="","",A42+1) -> 41 | B43: =[12]規格!C42 -> ホイールブラシ | C43: =[12]規格!D42 -> ＥＡ９２８ＡＧ－５５３又は同等品以上のもの（他社製品を含む） | D43: =[12]規格!E42 -> PC | E43: =[12]規格!F42 -> 1 | F43: =[12]規格!G42 -> 0 | G43: =E43*F43 -> 0
A44: =IF([12]規格!C43="","",A43+1) -> 42 | B44: =[12]規格!C43 -> タイヤ用スポンジ | C44: =[12]規格!D43 -> ＥＡ９２８ＡＧ－５１８又は同等品以上のもの（他社製品を含む） | D44: =[12]規格!E43 -> PC | E44: =[12]規格!F43 -> 1 | F44: =[12]規格!G43 -> 0 | G44: =E44*F44 -> 0
A45: =IF([12]規格!C44="","",A44+1) -> 43 | B45: =[12]規格!C44 -> タイヤコート用スポンジ | C45: =[12]規格!D44 -> ＥＡ９２８ＡＧ－５１９又は同等品以上のもの（他社製品を含む） | D45: =[12]規格!E44 -> EA | E45: =[12]規格!F44 -> 1 | F45: =[12]規格!G44 -> 0 | G45: =E45*F45 -> 0
A46: =IF([12]規格!C45="","",A45+1) -> 44 | B46: =[12]規格!C45 -> 洗車スポンジ 柄付 | C46: =[12]規格!D45 -> ＥＡ９２８ＡＨ－４１Ａ又は同等品以上のもの（他社製品を含む） | D46: =[12]規格!E45 -> PC | E46: =[12]規格!F45 -> 1 | F46: =[12]規格!G45 -> 0 | G46: =E46*F46 -> 0
A47: =IF([12]規格!C46="","",A46+1) -> 45 | B47: =[12]規格!C46 -> マイクロファイバーハンドモップ | C47: =[12]規格!D46 -> ＥＡ９２８ＡＧ－５８２又は同等品以上のもの（他社製品を含む） | D47: =[12]規格!E46 -> PC | E47: =[12]規格!F46 -> 1 | F47: =[12]規格!G46 -> 0 | G47: =E47*F47 -> 0
A48: =IF([12]規格!C47="","",A47+1) -> 46 | B48: =[12]規格!C47 -> マイクロファイバー吸水タオル | C48: =[12]規格!D47 -> ＥＡ９２８ＡＧ－５０９又は同等品以上のもの（他社製品を含む） | D48: =[12]規格!E47 -> ST | E48: =[12]規格!F47 -> 1 | F48: =[12]規格!G47 -> 0 | G48: =E48*F48 -> 0
A49: =IF([12]規格!C48="","",A48+1) -> 47 | B49: =[12]規格!C48 -> カーシャンプー | C49: =[12]規格!D48 -> ＥＡ９２２ＪＭ－１０又は同等品以上のもの（他社製品を含む） | D49: =[12]規格!E48 -> EA | E49: =[12]規格!F48 -> 1 | F49: =[12]規格!G48 -> 0 | G49: =E49*F49 -> 0
A50: =IF([12]規格!C49="","",A49+1) -> 48 | B50: =[12]規格!C49 -> ガラスコーティングスプレー | C50: =[12]規格!D49 -> ＥＡ９２２ＪＧ－４又は同等品以上のもの（他社製品を含む） | D50: =[12]規格!E49 -> PC | E50: =[12]規格!F49 -> 1 | F50: =[12]規格!G49 -> 0 | G50: =E50*F50 -> 0
... A72: =IF([12]規格!C71="","",A71+1) -> 70 | B72: =[12]規格!C71 -> ＴＹＰＥＣポート取付セキュリティ専用取付部品 | C72: =[12]規格!D71 -> ４９６９８８７ ４５０５４３又は同等品以上のもの（他社製品を含む） | D72: =[12]規格!E71 -> EA | E72: =[12]規格!F71 -> 20 | F72: =[12]規格!G71 -> 0 | G72: =E72*F72 -> 0
B73: 小計 | G73: =SUM(G38:G72) -> 0
A74: =IF([12]規格!C72="","",A72+1) -> 71 | B74: =[12]規格!C72 -> 事務用チェア | C74: =[12]規格!D72 -> ２２８－１４０又は同等以上のもの（他社の製品を含む。） | D74: =[12]規格!E72 -> UN | E74: =[12]規格!F72 -> 2 | F74: =[12]規格!G72 -> 0 | G74: =E74*F74 -> 0
A75: =IF([12]規格!C73="","",A74+1) -> 72 | B75: =[12]規格!C73 -> 事務用チェア ヘッドレスト | C75: =[12]規格!D73 -> １７１×６７０又は同等以上のもの（他社の製品を含む。） | D75: =[12]規格!E73 -> EA | E75: =[12]規格!F73 -> 2 | F75: =[12]規格!G73 -> 0 | G75: =E75*F75 -> 0
A76: =IF([12]規格!C74="","",A75+1) -> 73 | B76: =[12]規格!C74 -> スライド式ＵＳＢメモリー | C76: =[12]規格!D74 -> ６６１７－１２５６又は同等以上のもの（他社の製品を含む。） | D76: =[12]規格!E74 -> EA | E76: =[12]規格!F74 -> 3 | F76: =[12]規格!G74 -> 0 | G76: =E76*F76 -> 0
A77: =IF([12]規格!C75="","",A76+1) -> 74 | B77: =[12]規格!C75 -> ループクリップ | C77: =[12]規格!D75 -> ２３８３０又は同等以上のもの（他社の製品を含む。） | D77: =[12]規格!E75 -> PC | E77: =[12]規格!F75 -> 2 | F77: =[12]規格!G75 -> 0 | G77: =E77*F77 -> 0
A78: =IF([12]規格!C76="","",A77+1) -> 75 | B78: =[12]規格!C76 -> ワンタッチ式印鑑ホルダー 替朱肉 | C78: =[12]規格!D76 -> ７４１－０７９又は同等以上のもの（他社の製品を含む。） | D78: =[12]規格!E76 -> PK | E78: =[12]規格!F76 -> 5 | F78: =[12]規格!G76 -> 0 | G78: =E78*F78 -> 0
A79: =IF([12]規格!C77="","",A78+1) -> 76 | B79: =[12]規格!C77 -> ＰＰ製フラットファイルＡ４ タテ型 | C79: =[12]規格!D77 -> ８９２－５１３又は同等以上のもの（他社の製品を含む。） | D79: =[12]規格!E77 -> PK | E79: =[12]規格!F77 -> 2 | F79: =[12]規格!G77 -> 0 | G79: =E79*F79 -> 0
A80: =IF([12]規格!C78="","",A79+1) -> 77 | B80: =[12]規格!C78 -> 用箋挟 タテ型 | C80: =[12]規格!D78 -> ７０３－８４６又は同等以上のもの（他社の製品を含む。） | D80: =[12]規格!E78 -> CA | E80: =[12]規格!F78 -> 1 | F80: =[12]規格!G78 -> 0 | G80: =E80*F80 -> 0
A81: =IF([12]規格!C79="","",A80+1) -> 78 | B81: =[12]規格!C79 -> ラミネートフィルム Ａ４ | C81: =[12]規格!D79 -> １７９－６２４又は同等以上のもの（他社の製品を含む。） | D81: =[12]規格!E79 -> CA | E81: =[12]規格!F79 -> 1 | F81: =[12]規格!G79 -> 0 | G81: =E81*F81 -> 0
A82: =IF([12]規格!C80="","",A81+1) -> 79 | B82: =[12]規格!C80 -> ふせん ７５×７５ | C82: =[12]規格!D80 -> ２９５－３９８又は同等以上のもの（他社の製品を含む。） | D82: =[12]規格!E80 -> PK | E82: =[12]規格!F80 -> 2 | F82: =[12]規格!G80 -> 0 | G82: =E82*F82 -> 0
A83: =IF([12]規格!C81="","",A82+1) -> 80 | B83: =[12]規格!C81 -> クリアーポケットリフィール | C83: =[12]規格!D81 -> ８７－１８１又は同等以上のもの（他社の製品を含む。） | D83: =[12]規格!E81 -> PK | E83: =[12]規格!F81 -> 1 | F83: =[12]規格!G81 -> 0 | G83: =E83*F83 -> 0
A84: =IF([12]規格!C82="","",A83+1) -> 81 | B84: =[12]規格!C82 -> シュレッダー専用オイル | C84: =[12]規格!D82 -> １８２－６３０又は同等以上のもの（他社の製品を含む。） | D84: =[12]規格!E82 -> PC | E84: =[12]規格!F82 -> 10 | F84: =[12]規格!G82 -> 0 | G84: =E84*F84 -> 0
A85: =IF([12]規格!C83="","",A84+1) -> 82 | B85: =[12]規格!C83 -> ラミネートフィルム | C85: =[12]規格!D83 -> Ｋ００１Ｊ又は同等以上のもの（他社の製品を含む。） | D85: =[12]規格!E83 -> CA | E85: =[12]規格!F83 -> 1 | F85: =[12]規格!G83 -> 0 | G85: =E85*F85 -> 0
A86: =IF([12]規格!C84="","",A85+1) -> 83 | B86: =[12]規格!C84 -> マグネットシート | C86: =[12]規格!D84 -> ３３２－０１８又は同等以上のもの（他社の製品を含む。） | D86: =[12]規格!E84 -> PK | E86: =[12]規格!F84 -> 1 | F86: =[12]規格!G84 -> 0 | G86: =E86*F86 -> 0
... A108: =IF([12]規格!C106="","",A107+1) -> 105 | B108: =[12]規格!C106 -> 芯なしホッチキス | C108: =[12]規格!D106 -> ２０５２－６４７４又は同等以上のもの（他社の製品を含む。） | D108: =[12]規格!E106 -> EA | E108: =[12]規格!F106 -> 2 | F108: =[12]規格!G106 -> 0 | G108: =E108*F108 -> 0
B109: 小計 | G109: =SUM(G74:G108) -> 0
A110: =IF([12]規格!C107="","",A108+1) -> 106 | B110: =[12]規格!C107 -> 芯なしホッチキス | C110: =[12]規格!D107 -> ２０５２－６４９８又は同等以上のもの（他社の製品を含む。） | D110: =[12]規格!E107 -> EA | E110: =[12]規格!F107 -> 2 | F110: =[12]規格!G107 -> 0 | G110: =E110*F110 -> 0
A111: =IF([12]規格!C108="","",A110+1) -> 107 | B111: =[12]規格!C108 -> マグネット付きカードケース | C111: =[12]規格!D108 -> ２０５３－４２４０又は同等以上のもの（他社の製品を含む。） | D111: =[12]規格!E108 -> SH | E111: =[12]規格!F108 -> 8 | F111: =[12]規格!G108 -> 0 | G111: =E111*F111 -> 0
A112: =IF([12]規格!C109="","",A111+1) -> 108 | B112: =[12]規格!C109 -> マグネット付きカードケース | C112: =[12]規格!D109 -> ２０５３－４２５７又は同等以上のもの（他社の製品を含む。） | D112: =[12]規格!E109 -> SH | E112: =[12]規格!F109 -> 2 | F112: =[12]規格!G109 -> 0 | G112: =E112*F112 -> 0
A113: =IF([12]規格!C110="","",A112+1) -> 109 | B113: =[12]規格!C110 -> 印鑑ホルダー | C113: =[12]規格!D110 -> ６６２０－５３５７又は同等以上のもの（他社の製品を含む。） | D113: =[12]規格!E110 -> PC | E113: =[12]規格!F110 -> 3 | F113: =[12]規格!G110 -> 0 | G113: =E113*F113 -> 0
A114: =IF([12]規格!C111="","",A113+1) -> 110 | B114: =[12]規格!C111 -> 印鑑ホルダー | C114: =[12]規格!D111 -> ２１０７－６４２８又は同等以上のもの（他社の製品を含む。） | D114: =[12]規格!E111 -> PC | E114: =[12]規格!F111 -> 3 | F114: =[12]規格!G111 -> 0 | G114: =E114*F114 -> 0
A115: =IF([12]規格!C112="","",A114+1) -> 111 | B115: =[12]規格!C112 -> ペイントマーカー 白 | C115: =[12]規格!D112 -> ６５３４－８６７３又は同等以上のもの（他社の製品を含む。） | D115: =[12]規格!E112 -> PC | E115: =[12]規格!F112 -> 3 | F115: =[12]規格!G112 -> 0 | G115: =E115*F115 -> 0
B116: 小計 | G116: =SUM(G110:G115) -> 0
B117: 合計 | G117: =G37+G73+G109+G116 -> 0
A118: =IF([12]規格!C113="","",A115+1) | B118: =[12]規格!C113 -> 0 | C118: =[12]規格!D113 -> 以 下 余 白 | D118: =[12]規格!E113 -> 0 | E118: =[12]規格!F113 -> 0 | F118: =[12]規格!G113 -> 0 | G118: =E118*F118 -> 0
A119: =IF([12]規格!C114="","",A118+1) | B119: =[12]規格!C114 -> 0 | C119: =[12]規格!D114 | D119: =[12]規格!E114 -> 0 | E119: =[12]規格!F114 -> 0 | F119: =[12]規格!G114 -> 0 | G119: =E119*F119 -> 0
A120: =IF([12]規格!C115="","",A119+1) | B120: =[12]規格!C115 -> 0 | C120: =[12]規格!D115 | D120: =[12]規格!E115 -> 0 | E120: =[12]規格!F115 -> 0 | F120: =[12]規格!G115 -> 0 | G120: =E120*F120 -> 0
A121: =IF([12]規格!C116="","",A120+1) | B121: =[12]規格!C116 -> 0 | C121: =[12]規格!D116 | D121: =[12]規格!E116 -> 0 | E121: =[12]規格!F116 -> 0 | F121: =[12]規格!G116 -> 0 | G121: =E121*F121 -> 0
A122: =IF([12]規格!C117="","",A121+1) | B122: =[12]規格!C117 -> 0 | C122: =[12]規格!D117 | D122: =[12]規格!E117 -> 0 | E122: =[12]規格!F117 -> 0 | F122: =[12]規格!G117 -> 0 | G122: =E122*F122 -> 0
A123: =IF([12]規格!C118="","",A122+1) | B123: =[12]規格!C118 -> 0 | C123: =[12]規格!D118 | D123: =[12]規格!E118 -> 0 | E123: =[12]規格!F118 -> 0 | F123: =[12]規格!G118 -> 0 | G123: =E123*F123 -> 0
A124: =IF([12]規格!C119="","",A123+1) | B124: =[12]規格!C119 -> 0 | C124: =[12]規格!D119 | D124: =[12]規格!E119 -> 0 | E124: =[12]規格!F119 -> 0 | F124: =[12]規格!G119 -> 0 | G124: =E124*F124 -> 0
A125: =IF([12]規格!C120="","",A124+1) | B125: =[12]規格!C120 -> 0 | C125: =[12]規格!D120 | D125: =[12]規格!E120 -> 0 | E125: =[12]規格!F120 -> 0 | F125: =[12]規格!G120 -> 0 | G125: =E125*F125 -> 0
A126: =IF([12]規格!C121="","",A125+1) | B126: =[12]規格!C121 -> 0 | C126: =[12]規格!D121 | D126: =[12]規格!E121 -> 0 | E126: =[12]規格!F121 -> 0 | F126: =[12]規格!G121 -> 0 | G126: =E126*F126 -> 0
A127: =IF([12]規格!C122="","",A126+1) | B127: =[12]規格!C122 -> 0 | C127: =[12]規格!D122 | D127: =[12]規格!E122 -> 0 | E127: =[12]規格!F122 -> 0 | F127: =[12]規格!G122 -> 0 | G127: =E127*F127 -> 0
A128: =IF([12]規格!C123="","",A127+1) | B128: =[12]規格!C123 -> 0 | C128: =[12]規格!D123 | D128: =[12]規格!E123 -> 0 | E128: =[12]規格!F123 -> 0 | F128: =[12]規格!G123 -> 0 | G128: =E128*F128 -> 0
A129: =IF([12]規格!C124="","",A128+1) | B129: =[12]規格!C124 -> 0 | C129: =[12]規格!D124 | D129: =[12]規格!E124 -> 0 | E129: =[12]規格!F124 -> 0 | F129: =[12]規格!G124 -> 0 | G129: =E129*F129 -> 0
A130: =IF([12]規格!C125="","",A129+1) | B130: =[12]規格!C125 -> 0 | C130: =[12]規格!D125 | D130: =[12]規格!E125 -> 0 | E130: =[12]規格!F125 -> 0 | F130: =[12]規格!G125 -> 0 | G130: =E130*F130 -> 0
... A146: =IF([12]規格!C141="","",A145+1) | B146: =[12]規格!C141 -> 0 | C146: =[12]規格!D141 | D146: =[12]規格!E141 -> 0 | E146: =[12]規格!F141 -> 0 | F146: =[12]規格!G141 -> 0 | G146: =E146*F146 -> 0
B147: 小計 | G147: =SUM(G110:G146) -> 0
A148: =IF([12]規格!C142="","",A146+1) | B148: =[12]規格!C142 -> 0 | C148: =[12]規格!D142 | D148: =[12]規格!E142 -> 0 | E148: =[12]規格!F142 -> 0 | F148: =[12]規格!G142 -> 0 | G148: =E148*F148 -> 0
A149: =IF([12]規格!C143="","",A148+1) | B149: =[12]規格!C143 -> 0 | C149: =[12]規格!D143 | D149: =[12]規格!E143 -> 0 | E149: =[12]規格!F143 -> 0 | F149: =[12]規格!G143 -> 0 | G149: =E149*F149 -> 0
A150: =IF([12]規格!C144="","",A149+1) | B150: =[12]規格!C144 -> 0 | C150: =[12]規格!D144 | D150: =[12]規格!E144 -> 0 | E150: =[12]規格!F144 -> 0 | F150: =[12]規格!G144 -> 0 | G150: =E150*F150 -> 0
A151: =IF([12]規格!C145="","",A150+1) | B151: =[12]規格!C145 -> 0 | C151: =[12]規格!D145 | D151: =[12]規格!E145 -> 0 | E151: =[12]規格!F145 -> 0 | F151: =[12]規格!G145 -> 0 | G151: =E151*F151 -> 0
A152: =IF([12]規格!C146="","",A151+1) | B152: =[12]規格!C146 -> 0 | C152: =[12]規格!D146 | D152: =[12]規格!E146 -> 0 | E152: =[12]規格!F146 -> 0 | F152: =[12]規格!G146 -> 0 | G152: =E152*F152 -> 0
A153: =IF([12]規格!C147="","",A152+1) | B153: =[12]規格!C147 -> 0 | C153: =[12]規格!D147 | D153: =[12]規格!E147 -> 0 | E153: =[12]規格!F147 -> 0 | F153: =[12]規格!G147 -> 0 | G153: =E153*F153 -> 0
A154: =IF([12]規格!C148="","",A153+1) | B154: =[12]規格!C148 -> 0 | C154: =[12]規格!D148 | D154: =[12]規格!E148 -> 0 | E154: =[12]規格!F148 -> 0 | F154: =[12]規格!G148 -> 0 | G154: =E154*F154 -> 0
A155: =IF([12]規格!C149="","",A154+1) | B155: =[12]規格!C149 -> 0 | C155: =[12]規格!D149 | D155: =[12]規格!E149 -> 0 | E155: =[12]規格!F149 -> 0 | F155: =[12]規格!G149 -> 0 | G155: =E155*F155 -> 0
A156: =IF([12]規格!C150="","",A155+1) | B156: =[12]規格!C150 -> 0 | C156: =[12]規格!D150 | D156: =[12]規格!E150 -> 0 | E156: =[12]規格!F150 -> 0 | F156: =[12]規格!G150 -> 0 | G156: =E156*F156 -> 0
A157: =IF([12]規格!C151="","",A156+1) | B157: =[12]規格!C151 -> 0 | C157: =[12]規格!D151 | D157: =[12]規格!E151 -> 0 | E157: =[12]規格!F151 -> 0 | F157: =[12]規格!G151 -> 0 | G157: =E157*F157 -> 0
A158: =IF([12]規格!C152="","",A157+1) | B158: =[12]規格!C152 -> 0 | C158: =[12]規格!D152 | D158: =[12]規格!E152 -> 0 | E158: =[12]規格!F152 -> 0 | F158: =[12]規格!G152 -> 0 | G158: =E158*F158 -> 0
A159: =IF([12]規格!C153="","",A158+1) | B159: =[12]規格!C153 -> 0 | C159: =[12]規格!D153 | D159: =[12]規格!E153 -> 0 | E159: =[12]規格!F153 -> 0 | F159: =[12]規格!G153 -> 0 | G159: =E159*F159 -> 0
A160: =IF([12]規格!C154="","",A159+1) | B160: =[12]規格!C154 -> 0 | C160: =[12]規格!D154 | D160: =[12]規格!E154 -> 0 | E160: =[12]規格!F154 -> 0 | F160: =[12]規格!G154 -> 0 | G160: =E160*F160 -> 0
... A182: =IF([12]規格!C176="","",A181+1) | B182: =[12]規格!C176 -> 0 | C182: =[12]規格!D176 | D182: =[12]規格!E176 -> 0 | E182: =[12]規格!F176 -> 0 | F182: =[12]規格!G176 -> 0 | G182: =E182*F182 -> 0
B183: 小計 | G183: =SUM(G148:G182) -> 0
A184: =IF([12]規格!C177="","",A182+1) | B184: =[12]規格!C177 -> 0 | C184: =[12]規格!D177 | D184: =[12]規格!E177 -> 0 | E184: =[12]規格!F177 -> 0 | F184: =[12]規格!G177 -> 0 | G184: =E184*F184 -> 0
A185: =IF([12]規格!C178="","",A184+1) | B185: =[12]規格!C178 -> 0 | C185: =[12]規格!D178 | D185: =[12]規格!E178 -> 0 | E185: =[12]規格!F178 -> 0 | F185: =[12]規格!G178 -> 0 | G185: =E185*F185 -> 0
A186: =IF([12]規格!C179="","",A185+1) | B186: =[12]規格!C179 -> 0 | C186: =[12]規格!D179 | D186: =[12]規格!E179 -> 0 | E186: =[12]規格!F179 -> 0 | F186: =[12]規格!G179 -> 0 | G186: =E186*F186 -> 0
A187: =IF([12]規格!C180="","",A186+1) | B187: =[12]規格!C180 -> 0 | C187: =[12]規格!D180 | D187: =[12]規格!E180 -> 0 | E187: =[12]規格!F180 -> 0 | F187: =[12]規格!G180 -> 0 | G187: =E187*F187 -> 0
A188: =IF([12]規格!C181="","",A187+1) | B188: =[12]規格!C181 -> 0 | C188: =[12]規格!D181 | D188: =[12]規格!E181 -> 0 | E188: =[12]規格!F181 -> 0 | F188: =[12]規格!G181 -> 0 | G188: =E188*F188 -> 0
A189: =IF([12]規格!C182="","",A188+1) | B189: =[12]規格!C182 -> 0 | C189: =[12]規格!D182 | D189: =[12]規格!E182 -> 0 | E189: =[12]規格!F182 -> 0 | F189: =[12]規格!G182 -> 0 | G189: =E189*F189 -> 0
A190: =IF([12]規格!C183="","",A189+1) | B190: =[12]規格!C183 -> 0 | C190: =[12]規格!D183 | D190: =[12]規格!E183 -> 0 | E190: =[12]規格!F183 -> 0 | F190: =[12]規格!G183 -> 0 | G190: =E190*F190 -> 0
A191: =IF([12]規格!C184="","",A190+1) | B191: =[12]規格!C184 -> 0 | C191: =[12]規格!D184 | D191: =[12]規格!E184 -> 0 | E191: =[12]規格!F184 -> 0 | F191: =[12]規格!G184 -> 0 | G191: =E191*F191 -> 0
A192: =IF([12]規格!C185="","",A191+1) | B192: =[12]規格!C185 -> 0 | C192: =[12]規格!D185 | D192: =[12]規格!E185 -> 0 | E192: =[12]規格!F185 -> 0 | F192: =[12]規格!G185 -> 0 | G192: =E192*F192 -> 0
A193: =IF([12]規格!C186="","",A192+1) | B193: =[12]規格!C186 -> 0 | C193: =[12]規格!D186 | D193: =[12]規格!E186 -> 0 | E193: =[12]規格!F186 -> 0 | F193: =[12]規格!G186 -> 0 | G193: =E193*F193 -> 0
A194: =IF([12]規格!C187="","",A193+1) | B194: =[12]規格!C187 -> 0 | C194: =[12]規格!D187 | D194: =[12]規格!E187 -> 0 | E194: =[12]規格!F187 -> 0 | F194: =[12]規格!G187 -> 0 | G194: =E194*F194 -> 0
A195: =IF([12]規格!C188="","",A194+1) | B195: =[12]規格!C188 -> 0 | C195: =[12]規格!D188 | D195: =[12]規格!E188 -> 0 | E195: =[12]規格!F188 -> 0 | F195: =[12]規格!G188 -> 0 | G195: =E195*F195 -> 0
A196: =IF([12]規格!C189="","",A195+1) | B196: =[12]規格!C189 -> 0 | C196: =[12]規格!D189 | D196: =[12]規格!E189 -> 0 | E196: =[12]規格!F189 -> 0 | F196: =[12]規格!G189 -> 0 | G196: =E196*F196 -> 0
... A218: =IF([12]規格!C211="","",A217+1) | B218: =[12]規格!C211 -> 0 | C218: =[12]規格!D211 | D218: =[12]規格!E211 -> 0 | E218: =[12]規格!F211 -> 0 | F218: =[12]規格!G211 -> 0 | G218: =E218*F218 -> 0
B219: 小計 | G219: =SUM(G184:G218) -> 0
A220: =IF([12]規格!C212="","",A218+1) | B220: =[12]規格!C212 -> 0 | C220: =[12]規格!D212 | D220: =[12]規格!E212 -> 0 | E220: =[12]規格!F212 -> 0 | F220: =[12]規格!G212 -> 0 | G220: =E220*F220 -> 0
...

Sheet D下見積書
B1: =[13]入力!U9&[13]入力!R9 -> GG319 | D1: 下 見 積 書 | L1: 令和 | M1: 年 月 日
B3: =[13]入力!A18 -> 分任契約担当官代理 陸上自衛隊朝霞駐屯地
B4: =CONCATENATE([13]入力!A19,[13]入力!I19) -> 東部方面会計隊本部業務科契約班長 門口 敏 殿 | E4: 住 所
E5: 会 社 名
B6: =M26 -> 0 | C6: =[13]入力!B3 -> （税抜） | E6: 代表者役職・氏名
E7: 担 当 者 氏 名
B8: 下記により下見積致します。 | E8: 連 絡 先
A9: 下記の公告又は通知に対して、「入札及び契約心得」及び「陸上自衛隊標準契約書」の特約条項等を承諾のうえ入札（見積）いたします。 （注） 押印を省略する場合には担当者名及び連絡先を記載すること。
A10: № | B10: 品 名 | C10: 規 格 | J10: 単位 | K10: 数量 | L10: 単 価 | M10: 金 額 | N10: 備考
A11: 1 | B11: =[13]規格!C2 -> 事務用チェア | C11: =[13]規格!D2 -> ５－３０１－１５０１ 製品指定 | J11: =[13]規格!E2 -> EA | K11: =[13]規格!F2 -> 49 | L11: =[13]規格!G2 -> 0 | M11: =[13]規格!H2 -> 0
A12: =IF([13]規格!C3="","",A11+1) -> 2 | B12: =[13]規格!C3 -> 平机８００×７００ | C12: =[13]規格!D3 -> ５－１１０－４２１３製品指定組立設置込み | J12: =[13]規格!E3 -> UN | K12: =[13]規格!F3 -> 36 | L12: =[13]規格!G3 -> 0 | M12: =[13]規格!H3 -> 0
A13: =IF([13]規格!C4="","",A12+1) -> 3 | B13: =[13]規格!C4 -> 平机１２００×７００ | C13: =[13]規格!D4 -> ５－１１０－４２４３製品指定組立設置込み | J13: =[13]規格!E4 -> UN | K13: =[13]規格!F4 -> 10 | L13: =[13]規格!G4 -> 0 | M13: =[13]規格!H4 -> 0
A14: =IF([13]規格!C5="","",A13+1) -> 4 | B14: =[13]規格!C5 -> 平机ロングタイプ１８００×７００ | C14: =[13]規格!D5 -> ５－１１０－４２７３製品指定組立設置込み | J14: =[13]規格!E5 -> UN | K14: =[13]規格!F5 -> 3 | L14: =[13]規格!G5 -> 0 | M14: =[13]規格!H5 -> 0
A15: =IF([13]規格!C6="","",A14+1) -> 5 | B15: =[13]規格!C6 -> セキュリティワイヤー取付金具 | C15: =[13]規格!D6 -> ５－１１０－７６１１製品指定 | J15: =[13]規格!E6 -> EA | K15: =[13]規格!F6 -> 49 | L15: =[13]規格!G6 -> 0 | M15: =[13]規格!H6 -> 0
A16: =IF([13]規格!C7="","",A15+1) -> 6 | B16: =[13]規格!C7 -> 事務用机１８００×１４００ | C16: =[13]規格!D7 -> ５－１５８－１５３３製品指定組立設置込み | J16: =[13]規格!E7 -> UN | K16: =[13]規格!F7 -> 1 | L16: =[13]規格!G7 -> 0 | M16: =[13]規格!H7 -> 0
A17: =IF([13]規格!C8="","",A16+1) -> 7 | B17: =[13]規格!C8 -> 事務用机 拡張用１８００×１４００ | C17: =[13]規格!D8 -> ５－１５８－４５３３製品指定組立設置込み | J17: =[13]規格!E8 -> UN | K17: =[13]規格!F8 -> 1 | L17: =[13]規格!G8 -> 0 | M17: =[13]規格!H8 -> 0
A18: =IF([13]規格!C9="","",A17+1) -> 8 | B18: =[13]規格!C9 -> ケースウェイカバー | C18: =[13]規格!D9 -> ５－１５５－２７４３製品指定組立設置込み | J18: =[13]規格!E9 -> EA | K18: =[13]規格!F9 -> 2 | L18: =[13]規格!G9 -> 0 | M18: =[13]規格!H9 -> 0
A19: =IF([13]規格!C10="","",A18+1) -> 9 | B19: =[13]規格!C10 -> 事務用チェア | C19: =[13]規格!D10 -> ５－３７２－２３２Ａ又は同等以上のもの（他社の製品を含む。） | J19: =[13]規格!E10 -> EA | K19: =[13]規格!F10 -> 2 | L19: =[13]規格!G10 -> 0 | M19: =[13]規格!H10 -> 0
A20: =IF([13]規格!C11="","",A19+1) -> 10 | B20: =[13]規格!C11 -> 事務用チェア | C20: =[13]規格!D11 -> ５－３０１－４８６５又は同等以上のもの（他社の製品を含む。） | J20: =[13]規格!E11 -> UN | K20: =[13]規格!F11 -> 14 | L20: =[13]規格!G11 -> 0 | M20: =[13]規格!H11 -> 0
A21: =IF([13]規格!C12="","",A20+1) -> 11 | B21: =[13]規格!C12 -> 脇机 | C21: =[13]規格!D12 -> ２０９－８８８又は同等以上のもの（他社の製品を含む。） | J21: =[13]規格!E12 -> UN | K21: =[13]規格!F12 -> 1 | L21: =[13]規格!G12 -> 0 | M21: =[13]規格!H12 -> 0
A22: =IF([13]規格!C13="","",A21+1) -> 12 | B22: =[13]規格!C13 -> シューズボックス | C22: =[13]規格!D13 -> １６－８９８又は同等以上のもの（他社の製品を含む。） | J22: =[13]規格!E13 -> UN | K22: =[13]規格!F13 -> 2 | L22: =[13]規格!G13 -> 0 | M22: =[13]規格!H13 -> 0
A23: =IF([13]規格!C14="","",A22+1) -> 13 | B23: =[13]規格!C14 -> （組立設置込）本棚 | C23: =[13]規格!D14 -> ＴＮＬ－１５８７ＮＡ又は同等以上のもの（他社の製品を含む。） | J23: =[13]規格!E14 -> UN | K23: =[13]規格!F14 -> 5 | L23: =[13]規格!G14 -> 0 | M23: =[13]規格!H14 -> 0
... A25: =IF([13]規格!C16="","",A24+1) | B25: =[13]規格!C16 -> 0 | C25: =[13]規格!D16 | J25: =[13]規格!E16 -> 0 | K25: =[13]規格!F16 -> 0 | L25: =[13]規格!G16 -> 0 | M25: =[13]規格!H16 -> 0
B26: 合 計 | M26: =SUM(M11:M25) -> 0
A27: ＊ご回答について | N27: =IF([13]規格!O27="","",[13]規格!O27)
A28: =" 1 下見積りは "&[13]入力!J4&" １３時００分までにご回答いただきます様、お願い申し上げます。" -> 1 下見積りは 令和8年9月24日 １３時００分までにご回答いただきます様、お願い申し上げます。 | N28: =IF([13]規格!O28="","",[13]規格!O28)
A29: （FAX専用：０３－３９２４－４３１２）
A30: =[13]入力!A25 -> あて先 契約班 下山田 | N30: =IF([13]規格!O29="","",[13]規格!O29)

Sheet D入札書
B1: =[13]入力!U9&[13]入力!R9 -> GG319
H2: =[13]入力!W6 -> 令和8年9月30日
B3: =IF([13]入力!B5=1,"入 札 書","見 積 書") -> 入 札 書
C5: =[13]入力!A18 -> 分任契約担当官代理 陸上自衛隊朝霞駐屯地
C6: =CONCATENATE([13]入力!A19,[13]入力!I19) -> 東部方面会計隊本部業務科契約班長 門口 敏 殿
E7: 住 所
C8: =K30 -> 0 | D8: =[13]入力!B3 -> （税抜） | E8: 会 社 名
E9: 代表者役職・氏名
E10: 担 当 者 氏 名
C11: =IF([13]入力!B5=1,"下記により入札致します。","下記により見積致します。") -> 下記により入札致します。 | E11: 連 絡 先
C12: 下記の公告又は通知に対して、「入札及び契約心得」及び「陸上自衛隊標準契約書」の特約条項等を承諾のうえ入札（見積）いたします。 （注） 押印を省略する場合には担当者名及び連絡先を記載すること。
B14: № | C14: 品 名 | D14: 規 格 | F14: 単位 | G14: 数 量 | H14: 単 価 | K14: 金 額
B15: 1 | C15: =[13]規格!C2 -> 事務用チェア | D15: =[13]規格!D2 -> ５－３０１－１５０１ 製品指定 | F15: =[13]規格!E2 -> EA | G15: =[13]規格!F2 -> 49 | H15: =[13]規格!G2 -> 0 | K15: =[13]規格!H2 -> 0
B16: =IF([13]規格!C3="","",B15+1) -> 2 | C16: =[13]規格!C3 -> 平机８００×７００ | D16: =[13]規格!D3 -> ５－１１０－４２１３製品指定組立設置込み | F16: =[13]規格!E3 -> UN | G16: =[13]規格!F3 -> 36 | H16: =[13]規格!G3 -> 0 | K16: =[13]規格!H3 -> 0
B17: =IF([13]規格!C4="","",B16+1) -> 3 | C17: =[13]規格!C4 -> 平机１２００×７００ | D17: =[13]規格!D4 -> ５－１１０－４２４３製品指定組立設置込み | F17: =[13]規格!E4 -> UN | G17: =[13]規格!F4 -> 10 | H17: =[13]規格!G4 -> 0 | K17: =[13]規格!H4 -> 0
B18: =IF([13]規格!C5="","",B17+1) -> 4 | C18: =[13]規格!C5 -> 平机ロングタイプ１８００×７００ | D18: =[13]規格!D5 -> ５－１１０－４２７３製品指定組立設置込み | F18: =[13]規格!E5 -> UN | G18: =[13]規格!F5 -> 3 | H18: =[13]規格!G5 -> 0 | K18: =[13]規格!H5 -> 0
B19: =IF([13]規格!C6="","",B18+1) -> 5 | C19: =[13]規格!C6 -> セキュリティワイヤー取付金具 | D19: =[13]規格!D6 -> ５－１１０－７６１１製品指定 | F19: =[13]規格!E6 -> EA | G19: =[13]規格!F6 -> 49 | H19: =[13]規格!G6 -> 0 | K19: =[13]規格!H6 -> 0
B20: =IF([13]規格!C7="","",B19+1) -> 6 | C20: =[13]規格!C7 -> 事務用机１８００×１４００ | D20: =[13]規格!D7 -> ５－１５８－１５３３製品指定組立設置込み | F20: =[13]規格!E7 -> UN | G20: =[13]規格!F7 -> 1 | H20: =[13]規格!G7 -> 0 | K20: =[13]規格!H7 -> 0
B21: =IF([13]規格!C8="","",B20+1) -> 7 | C21: =[13]規格!C8 -> 事務用机 拡張用１８００×１４００ | D21: =[13]規格!D8 -> ５－１５８－４５３３製品指定組立設置込み | F21: =[13]規格!E8 -> UN | G21: =[13]規格!F8 -> 1 | H21: =[13]規格!G8 -> 0 | K21: =[13]規格!H8 -> 0
B22: =IF([13]規格!C9="","",B21+1) -> 8 | C22: =[13]規格!C9 -> ケースウェイカバー | D22: =[13]規格!D9 -> ５－１５５－２７４３製品指定組立設置込み | F22: =[13]規格!E9 -> EA | G22: =[13]規格!F9 -> 2 | H22: =[13]規格!G9 -> 0 | K22: =[13]規格!H9 -> 0
B23: =IF([13]規格!C10="","",B22+1) -> 9 | C23: =[13]規格!C10 -> 事務用チェア | D23: =[13]規格!D10 -> ５－３７２－２３２Ａ又は同等以上のもの（他社の製品を含む。） | F23: =[13]規格!E10 -> EA | G23: =[13]規格!F10 -> 2 | H23: =[13]規格!G10 -> 0 | K23: =[13]規格!H10 -> 0
B24: =IF([13]規格!C11="","",B23+1) -> 10 | C24: =[13]規格!C11 -> 事務用チェア | D24: =[13]規格!D11 -> ５－３０１－４８６５又は同等以上のもの（他社の製品を含む。） | F24: =[13]規格!E11 -> UN | G24: =[13]規格!F11 -> 14 | H24: =[13]規格!G11 -> 0 | K24: =[13]規格!H11 -> 0
B25: =IF([13]規格!C12="","",B24+1) -> 11 | C25: =[13]規格!C12 -> 脇机 | D25: =[13]規格!D12 -> ２０９－８８８又は同等以上のもの（他社の製品を含む。） | F25: =[13]規格!E12 -> UN | G25: =[13]規格!F12 -> 1 | H25: =[13]規格!G12 -> 0 | K25: =[13]規格!H12 -> 0
B26: =IF([13]規格!C13="","",B25+1) -> 12 | C26: =[13]規格!C13 -> シューズボックス | D26: =[13]規格!D13 -> １６－８９８又は同等以上のもの（他社の製品を含む。） | F26: =[13]規格!E13 -> UN | G26: =[13]規格!F13 -> 2 | H26: =[13]規格!G13 -> 0 | K26: =[13]規格!H13 -> 0
B27: =IF([13]規格!C14="","",B26+1) -> 13 | C27: =[13]規格!C14 -> （組立設置込）本棚 | D27: =[13]規格!D14 -> ＴＮＬ－１５８７ＮＡ又は同等以上のもの（他社の製品を含む。） | F27: =[13]規格!E14 -> UN | G27: =[13]規格!F14 -> 5 | H27: =[13]規格!G14 -> 0 | K27: =[13]規格!H14 -> 0
... B29: =IF([13]規格!C16="","",B28+1) | C29: =[13]規格!C16 -> 0 | D29: =[13]規格!D16 | F29: =[13]規格!E16 -> 0 | G29: =[13]規格!F16 -> 0 | H29: =[13]規格!G16 -> 0 | K29: =[13]規格!H16 -> 0
C30: 合 計 | K30: =SUM(K15:L29) -> 0
B31: 条 | C31: =[13]入力!J6 -> 納 地 ：大井通信所 | F31: ○ | G31: 令 和 年 月 日
C32: =[13]入力!J7 -> 納 期 ：令和8年12月18日 | G32: 隊 長 | I32: 班 長 | L32: 係
B33: 件 | C33: その他 | D33: 方 法 ・ （総 額） ・ 単 価 | F33: 決
F34: 定
