Workbook

Sheet 見積書
A1: 見 積 書
K2: Ｏ Ｃ 第２７６号
K3: 令和 年 月 日
B4: 支出負担行為担当官
B5: 防衛省情報本部総務部長 殿
E7: 住 所
E8: 会 社 名
E9: 代表者名
E10: 担当者名
E11: 連 絡 先
E13: ￥ －
A15: 内 訳
A16: 番号 | B16: 品 名 | D16: 規 格 | G16: 単位 | H16: 数量 | I16: 単 価 | J16: 金 額 | K16: 備 考
A17: 1 | B17: 民間データベースの利用（その５４） | D17: 仕様書のとおり(DIH-LB-26096) | G17: 式 | H17: 1
A18: 2 | B18: 以下余白
A19: 3
A20: 4
A21: 5
A22: 6
A23: 7
A24: 合 計 | J24: =SUM(J17:J23) -> 0
A25: 履 行 期 限： | C25: 契約締結日～令和9年3月31日 | F25: 履行場所： | I25: 情報本部（市ヶ谷）
B26: ・「暴力団排除に関し、入札及び契約心得を承諾しております。」
B27: ・「暴力団排除に関する特約条項を承諾しております。」
B29: ※ 見積価格は、（ 税 込 ・ 税 抜 ）の価格で計上

Sheet 参考見積書
A1: 参 考 見 積 書
K2: =見積書!K2 -> Ｏ Ｃ 第２７６号
K3: 令和 年 月 日
B4: 支出負担行為担当官
B5: 防衛省情報本部総務部長 殿
E7: 住 所
E8: 会 社 名
E9: 代表者名
E10: 担当者名
E11: 連 絡 先
E13: ￥ －
A15: 内 訳
A16: 番号 | B16: 品 名 | D16: 規 格 | G16: 単位 | H16: 数量 | I16: 単 価 | J16: 金 額 | K16: 備 考
A17: 1 | B17: =見積書!B17 -> 民間データベースの利用（その５４） | D17: =見積書!D17 -> 仕様書のとおり(DIH-LB-26096) | G17: =見積書!G17 -> 式 | H17: =見積書!H17 -> 1 | J17: =H17*I17 -> 0 | K17: =見積書!K17 -> 0
A18: 2 | B18: =見積書!B18 -> 以下余白 | D18: =見積書!D18 -> 0 | G18: =見積書!G18 -> 0 | H18: =見積書!H18 -> 0 | J18: =H18*I18 -> 0 | K18: =見積書!K18 -> 0
A19: 3 | B19: =見積書!B19 -> 0 | D19: =見積書!D19 -> 0 | G19: =見積書!G19 -> 0 | H19: =見積書!H19 -> 0 | J19: =H19*I19 -> 0 | K19: =見積書!K19 -> 0
A20: 4 | B20: =見積書!B20 -> 0 | D20: =見積書!D20 -> 0 | G20: =見積書!G20 -> 0 | H20: =見積書!H20 -> 0 | J20: =H20*I20 -> 0 | K20: =見積書!K20 -> 0
A21: 5 | B21: =見積書!B21 -> 0 | D21: =見積書!D21 -> 0 | G21: =見積書!G21 -> 0 | H21: =見積書!H21 -> 0 | J21: =H21*I21 -> 0 | K21: =見積書!K21 -> 0
A22: 6 | B22: =見積書!B22 -> 0 | D22: =見積書!D22 -> 0 | G22: =見積書!G22 -> 0 | H22: =見積書!H22 -> 0 | J22: =H22*I22 -> 0 | K22: =見積書!K22 -> 0
A23: 7 | B23: =見積書!B23 -> 0 | D23: =見積書!D23 -> 0 | G23: =見積書!G23 -> 0 | H23: =見積書!H23 -> 0 | J23: =H23*I23 -> 0 | K23: =見積書!K23 -> 0
A24: 合 計 | J24: =SUM(J17:J23) -> 0
A25: 履 行 期 限： | C25: =見積書!C25 -> 契約締結日～令和9年3月31日 | F25: 履行場所： | I25: =見積書!I25 -> 情報本部（市ヶ谷）
B26: ・「暴力団排除に関し、入札及び契約心得を承諾しております。」
B27: ・「暴力団排除に関する特約条項を承諾しております。」
B29: ※ 見積価格は、（ 税 込 ・ 税 抜 ）の価格で計上
