Workbook

Sheet 見積書
A1: 見 積 書
K2: Ｏ Ｃ 第２９０号
K3: 令和 年 月 日
B4: 支出負担行為担当官
B5: 防衛省情報本部総務部長 殿
E7: 住 所
E8: 会 社 名
E9: 代表者名
E10: 担当者名
E11: 連 絡 先
E13: ￥ －
A15: 内 訳
A16: 番号 | B16: 品 名 | D16: 規 格 | G16: 単位 | H16: 数量 | I16: 単 価 | J16: 金 額 | K16: 備 考
A17: 1 | B17: 車両法定点検等役務 | D17: 仕様書のとおり(DIH-LS-23082) | G17: 式 | H17: 1 | K17: 調達要求番号：BP-25D1-114426
A18: 2 | B18: 以下余白
A19: 3
A20: 4
A21: 5
A22: 6
A23: 7
A24: 合 計 | J24: =SUM(J17:J23) -> 0
A25: 履 行 期 限： | C25: 46374 | F25: 履行場所： | I25: 契約の相手方の工場
B26: ・「暴力団排除に関し、入札及び契約心得を承諾しております。」
B27: ・「暴力団排除に関する特約条項を承諾しております。」
B29: ※ 見積価格は、（ 税 込 ・ 税 抜 ）の価格で計上

Sheet 参考見積書
A1: 参 考 見 積 書
K2: =見積書!K2 -> Ｏ Ｃ 第２９０号
K3: 令和 年 月 日
B4: 支出負担行為担当官
B5: 防衛省情報本部総務部長 殿
E7: 住 所
E8: 会 社 名
E9: 代表者名
E10: 担当者名
E11: 連 絡 先
E13: ￥ －
A15: 内 訳
A16: 番号 | B16: 品 名 | D16: 規 格 | G16: 単位 | H16: 数量 | I16: 単 価 | J16: 金 額 | K16: 備 考
A17: 1 | B17: =見積書!B17 -> 車両法定点検等役務 | D17: =見積書!D17 -> 仕様書のとおり(DIH-LS-23082) | G17: =見積書!G17 -> 式 | H17: =見積書!H17 -> 1 | J17: =H17*I17 -> 0 | K17: =見積書!K17 -> 調達要求番号：BP-25D1-114426
A18: 2 | B18: =見積書!B18 -> 以下余白 | D18: =見積書!D18 -> 0 | G18: =見積書!G18 -> 0 | H18: =見積書!H18 -> 0 | J18: =H18*I18 -> 0 | K18: =見積書!K18 -> 0
A19: 3 | B19: =見積書!B19 -> 0 | D19: =見積書!D19 -> 0 | G19: =見積書!G19 -> 0 | H19: =見積書!H19 -> 0 | J19: =H19*I19 -> 0 | K19: =見積書!K19 -> 0
A20: 4 | B20: =見積書!B20 -> 0 | D20: =見積書!D20 -> 0 | G20: =見積書!G20 -> 0 | H20: =見積書!H20 -> 0 | J20: =H20*I20 -> 0 | K20: =見積書!K20 -> 0
A21: 5 | B21: =見積書!B21 -> 0 | D21: =見積書!D21 -> 0 | G21: =見積書!G21 -> 0 | H21: =見積書!H21 -> 0 | J21: =H21*I21 -> 0 | K21: =見積書!K21 -> 0
A22: 6 | B22: =見積書!B22 -> 0 | D22: =見積書!D22 -> 0 | G22: =見積書!G22 -> 0 | H22: =見積書!H22 -> 0 | J22: =H22*I22 -> 0 | K22: =見積書!K22 -> 0
A23: 7 | B23: =見積書!B23 -> 0 | D23: =見積書!D23 -> 0 | G23: =見積書!G23 -> 0 | H23: =見積書!H23 -> 0 | J23: =H23*I23 -> 0 | K23: =見積書!K23 -> 0
A24: 合 計 | J24: =SUM(J17:J23) -> 0
A25: 履 行 期 限： | C25: =見積書!C25 -> 46374 | F25: 履行場所： | I25: =見積書!I25 -> 契約の相手方の工場
B26: ・「暴力団排除に関し、入札及び契約心得を承諾しております。」
B27: ・「暴力団排除に関する特約条項を承諾しております。」
B29: ※ 見積価格は、（ 税 込 ・ 税 抜 ）の価格で計上

Sheet 同等品申請
A1: 同等品審査申請書
H3: 令和 年 月 日
B4: 防衛省情報本部
B5: 支出負担行為担当官 殿
E7: 住所
E8: 社名
B11: 標記について、下記の物品等を同等品として審査を申請する。
B12: Ｏ Ｃ 第２９０号
B13: 件 名： | D13: 車両法定点検等役務
B14: 規 格 等： | D14: =見積書!D17 -> 仕様書のとおり(DIH-LS-23082)
C15: 要求番号 | D15: 要求品名 | E15: 規格 | G15: 同等品規格 | H15: 備考
B16: 1
B17: 2
B18: 3
B19: 4
B20: 5
C21: １ 同等品審査に時間を要するので、カタログ・関連資料等審査の参考となる資料を
C22: 添付し、余裕をもって支出負担行為担当官に提出されたい。
C23: ２ 件数が多い場合は、別紙様式にて作成添付とする。
A26: 同等品審査結果通知書
F28: 令和 年 月 日
B30: =G8 -> 0 | E30: 殿
B31: =G9 -> 0 | F31: 防衛省情報本部
B32: =G10 -> 0 | F32: 支出負担行為担当官
C34: 上記申請について、下記のとおり通知する。
B36: № | C36: 審査結果 | E36: 不許可の理由等
B37: 1 | C37: 許可 | D37: 不許可
B38: 2 | C38: 許可 | D38: 不許可
B39: 3 | C39: 許可 | D39: 不許可
B40: 4 | C40: 許可 | D40: 不許可
B41: 5 | C41: 許可 | D41: 不許可
C45: 調達要求番号 | D45: BP-25D1-114426
E47: 上記商品を同等品と審査した。
E49: 上記商品を不許可と審査した。
F51: 分任物品管理官
