Workbook

Sheet 見積書
A1: 見 積 書
K2: Ｏ Ｃ 第２８３号
K3: 令和 年 月 日
B4: 支出負担行為担当官
B5: 防衛省情報本部総務部長 殿
E7: 住 所
E8: 会 社 名
E9: 代表者名
E10: 担当者名
E11: 連 絡 先
E13: ￥ －
A15: 内 訳
A16: 番号 | B16: 品 名 | D16: 規 格 | G16: 単位 | H16: 数量 | I16: 単 価 | J16: 金 額 | K16: 備 考
A17: 1 | B17: 国内委託教育 デジタル関連（ＡＤＰＳ：アプリケーション開発） | D17: Microsoft Office研修～Excel応用編（（株）インソース） | G17: 人 | H17: 1 | K17: 同等品条件項目のとおり (付紙)
A18: 2 | B18: 以下余白
A19: 3
A20: 4
A21: 5
A22: 6
A23: 7
A24: 合 計 | J24: =SUM(J17:J23) -> 0
A25: 履 行 期 限： | C25: 契約締結日～令和9年3月31日 | F25: 履行場所： | I25: オンライン
B26: ・「暴力団排除に関し、入札及び契約心得を承諾しております。」
B27: ・「暴力団排除に関する特約条項を承諾しております。」
B29: ※ 見積価格は、（ 税 込 ・ 税 抜 ）の価格で計上

Sheet 参考見積書
A1: 参 考 見 積 書
K2: =見積書!K2 -> Ｏ Ｃ 第２８３号
K3: 令和 年 月 日
B4: 支出負担行為担当官
B5: 防衛省情報本部総務部長 殿
E7: 住 所
E8: 会 社 名
E9: 代表者名
E10: 担当者名
E11: 連 絡 先
E13: ￥ －
A15: 内 訳
A16: 番号 | B16: 品 名 | D16: 規 格 | G16: 単位 | H16: 数量 | I16: 単 価 | J16: 金 額 | K16: 備 考
A17: 1 | B17: =見積書!B17 -> 国内委託教育 デジタル関連（ＡＤＰＳ：アプリケーション開発） | D17: =見積書!D17 -> Microsoft Office研修～Excel応用編（（株）インソース） | G17: =見積書!G17 -> 人 | H17: =見積書!H17 -> 1 | J17: =H17*I17 -> 0 | K17: =見積書!K17 -> 同等品条件項目のとおり (付紙)
A18: 2 | B18: =見積書!B18 -> 以下余白 | D18: =見積書!D18 -> 0 | G18: =見積書!G18 -> 0 | H18: =見積書!H18 -> 0 | J18: =H18*I18 -> 0 | K18: =見積書!K18 -> 0
A19: 3 | B19: =見積書!B19 -> 0 | D19: =見積書!D19 -> 0 | G19: =見積書!G19 -> 0 | H19: =見積書!H19 -> 0 | J19: =H19*I19 -> 0 | K19: =見積書!K19 -> 0
A20: 4 | B20: =見積書!B20 -> 0 | D20: =見積書!D20 -> 0 | G20: =見積書!G20 -> 0 | H20: =見積書!H20 -> 0 | J20: =H20*I20 -> 0 | K20: =見積書!K20 -> 0
A21: 5 | B21: =見積書!B21 -> 0 | D21: =見積書!D21 -> 0 | G21: =見積書!G21 -> 0 | H21: =見積書!H21 -> 0 | J21: =H21*I21 -> 0 | K21: =見積書!K21 -> 0
A22: 6 | B22: =見積書!B22 -> 0 | D22: =見積書!D22 -> 0 | G22: =見積書!G22 -> 0 | H22: =見積書!H22 -> 0 | J22: =H22*I22 -> 0 | K22: =見積書!K22 -> 0
A23: 7 | B23: =見積書!B23 -> 0 | D23: =見積書!D23 -> 0 | G23: =見積書!G23 -> 0 | H23: =見積書!H23 -> 0 | J23: =H23*I23 -> 0 | K23: =見積書!K23 -> 0
A24: 合 計 | J24: =SUM(J17:J23) -> 0
A25: 履 行 期 限： | C25: =見積書!C25 -> 契約締結日～令和9年3月31日 | F25: 履行場所： | I25: =見積書!I25 -> オンライン
B26: ・「暴力団排除に関し、入札及び契約心得を承諾しております。」
B27: ・「暴力団排除に関する特約条項を承諾しております。」
B29: ※ 見積価格は、（ 税 込 ・ 税 抜 ）の価格で計上

Sheet 申請書
B1: 同等品審査申請書
I2: =参考見積書!K2 -> Ｏ Ｃ 第２８３号
I3: 令和 年 月 日
C4: 防衛省情報本部
C5: 支出負担行為担当官 殿
F7: 住所
F8: 社名
F9: 代表者名
C11: 標記について、下記の教育を同等の教育として審査を申請する。
C13: 件 名： | E13: 国内委託教育 デジタル関連（ＡＤＰＳ：アプリケーション開発）
C15: № | D15: 要求番号 | E15: 品名 | F15: 同等品条件項目付紙番号 | H15: 同等品規格 | I15: 備考
A17: ※一枚に入らない場合は「別紙内訳書」を添付し、記載して下さい。
C21: 注： | D21: １ 同等品審査に時間を要するので、カタログ・関連資料等審査の参考となる資料を添付し、
D22: 余裕をもって支出負担行為担当官に提出されたい。
D23: ２ 件数が多い場合は、別紙様式にて作成添付とする。
B26: 同等品審査結果通知書
G28: 令和 年 月 日
C30: 殿
G32: 防衛省情報本部
G33: 支出負担行為担当官
D35: 上記申請について、下記のとおり通知する。
C37: № | D37: 審査結果 | F37: 不許可の理由等
D38: 許可 | E38: 不許可
D39: 許可 | E39: 不許可
D40: 許可 | E40: 不許可
D41: 許可 | E41: 不許可
D42: 許可 | E42: 不許可
F46: 上記教育を同等の教育と審査した。
F47: 上記教育を不許可と審査した。
F48: 防衛省情報本部
H49: 総務部長
