Workbook
Name _1215: #REF!
Name _1215: #REF!
Name _1列: #REF!
Name _1列: #REF!
Name _2_08_2007_010B_E__0102: #REF!
Name _2_08_2007_010B_E__0102: #REF!
Name _I1: #REF!
Name _I2: #REF!
Name _I3: #REF!
Name _KEI1: #REF!
Name _KEI1: #REF!
Name _KEI10: #REF!
Name _KEI10: #REF!
Name _KEI11: #REF!
Name _KEI11: #REF!
Name _KEI12: #REF!
Name _KEI12: #REF!
Name _KEI13: #REF!
Name _KEI13: #REF!
Name _KEI14: #REF!
Name _KEI14: #REF!
Name _KEI2: #REF!
Name _KEI2: #REF!
Name _KEI3: #REF!
Name _KEI3: #REF!
Name _KEI4: #REF!
Name _KEI4: #REF!
Name _KEI5: #REF!
Name _KEI5: #REF!
Name _KEI6: #REF!
Name _KEI6: #REF!
Name _KEI7: #REF!
Name _KEI7: #REF!
Name _KEI8: #REF!
Name _KEI8: #REF!
Name _KEI9: #REF!
Name _KEI9: #REF!
Name _KRI7: #REF!
Name _KRI7: #REF!
Name _ML12: #REF!
Name _ML12: #REF!
Name _N1: #REF!
Name _N2: #REF!
Name _N3: #REF!
Name _N4: #REF!
Name _N5: #REF!
Name _N6: #REF!
Name _N7: #REF!
Name _O1: #REF!
Name _O2: #REF!
Name _O3: #REF!
Name _P1: #REF!
Name _P2: #REF!
Name _P3: #REF!
Name _P4: #REF!
Name _TBL1: #N/A
Name _TBL10: #N/A
Name _TBL2: #N/A
Name _TBL3: #N/A
Name _TBL4: #N/A

Sheet 見積依頼
D2: ＯＣ | E2: 302
D3: 46314
A5: 防衛省情報本部におけるオープンカウンター方式による見積り依頼について
A7: １ 本リストは、オープンカウンター方式実施要領
A8: (https://www.mod.go.jp/dih/opencounterR8.4.1.pdf)に基づく手続きが必要です。
A10: ２ 本方式は随意契約を前提とした見積依頼であり、有効な見積書を持って申し込みをした
A11: 者のうち、予定価格の制限の範囲内で最低の価格の見積書をもって申し込みをした者を
A12: 契約相手方とします。
A14: ３ 見積書提出者は「オープンカウンター方式実施要領」のほか「入札及び契約心得」 （https://www.mod.go.jp/dih/kokoroeR7.8.7.pdf）ならびに４「件名等」に示す 基本契約条項・特約条項（https://www.mod.go.jp/dih/supply/contract.html）を確認し、 すべてに同意したものとして取り扱いますので、見積書提出前に必ずご確認ください。
A16: ４ 見積書提出後の納入品規格の変更（同等品を含む）は、誤記、欠品その他いかなる事由 であっても認められません。また契約決定後に上記事由が明らかとなり、納入ができない場合 においては、納入不能品目を契約解除とします。
A18: ５ 件名等
A19: 件 名 | B19: 毛布ほか３件
A20: 規 格 | B20: 別添見積書参照
A21: 数 量 | B21: 別添見積書参照
A22: 納期（履行期限） | B22: 46374
A23: 納地（履行場所） | B23: 情報本部（市ヶ谷）
A24: 添付書類 | B24: 見積書、参考見積書
A25: 同等品審査申請書 提出期限 | B25: 46317 | C25: =TEXT(B25,"(aaa)") -> (木) | D25: 0.5
A26: 見積書・参考見積書 提出期限 | B26: 46325 | C26: =TEXT(B26,"(aaa)") -> (金) | D26: 0.375
A27: 見積合わせ日時 | B27: =B26 -> 46325 | C27: =C26 -> (金) | D27: 0.41666667
A28: 適用する契約条項 | B28: 基本契約条項： | C28: 「売買」
B29: 特約条項： | C29: 「暴力団排除」「談合等防止」
A30: 参加資格 | B30: なし
A31: 決定方式 | B31: 総価
A33: ６ 仕様書の交付場所、契約条項等を示す場所、問合せ先及び提出先
A34: 防衛省情報本部ホームページ(https://www.mod.go.jp/dih/service.html)
A35: 〒162-8806 東京都新宿区市谷本村町５番１号
A36: 防衛省情報本部総務部会計課（担当：第１契約係）
A37: 電話：03-3268-3111(内線31753) 直通ＦＡＸ:03-5225-9641
A38: メール：dih-keikei@ext.dih.mod.go.jp

Sheet 見積書
B1: 見 積 書
J2: 令和 年 月 日
B3: 支出負担行為担当官
B4: 防 衛 省 情 報 本 部 | I4: =見積依頼!D2 -> ＯＣ | J4: =見積依頼!E2 -> 302
B5: 総 務 部 長 殿
E7: 住 所
E8: 会 社 名
E9: 代表者名
E10: 担当者名 | K10: ← 押印を省略する場合は、担当者名・連絡先を記載してください。
E11: 連 絡 先 | K11: （代表者と担当者が同一の場合も担当者として氏名を記載してください）
E13: =I24 -> 0 | I13: （税抜）
B14: 内 訳
B15: 品 名 | D15: 規 格 | F15: 単位 | G15: 数量 | H15: 単 価 | I15: 金 額 | J15: 備 考
B16: 毛布 | D16: ニトリ 毛布 シングル(なめらかタッチ グレー S A2501) 2115100065076 又は同等品以上のもの（他社製品を含む） | F16: 個 | G16: 100 | I16: 0 | J16: 0
B17: 枕 | D17: ニトリ 通気性のよいウレタンまくら (Nクール P2522) 2115100114187 又は同等品以上のもの（他社製品を含む） | F17: 個 | G17: 100 | J17: 0
B18: 掛布団 | D18: ニトリ 人工羽毛掛布団 シングル (AD) 5600976 又は同等品以上のもの（他社製品を含む） | F18: 個 | G18: 100 | J18: 0
B19: ゴミ箱 | D19: ニトリ シャッター式50L自動開閉ゴミ箱(TU) 5690799 又は同等品以上のもの（他社製品を含む） | F19: 個 | G19: 6 | J19: 0
B20: 0 | D20: 以下余白 | F20: 0 | G20: 0 | J20: 0
B21: 0 | D21: 0 | F21: 0 | G21: 0 | J21: 0
B22: 0 | D22: 0 | F22: 0 | G22: 0 | J22: 0
B23: 0 | D23: 0 | F23: 0 | G23: 0 | J23: 0
B24: 合 計 | I24: =SUM($I$16:$I$23) -> 0
B25: 納期 | C25: =見積依頼!$B$22 -> 46374 | F25: 納地： | H25: =見積依頼!$B$23 -> 情報本部（市ヶ谷）
B26: ・「暴力団排除に関し、入札及び契約心得を承諾しております。」
B27: ・「暴力団排除に関する特約条項を承諾しております。」
B28: ・認定済同等品にて見積合わせに参加する場合は、見積書に納入する品目の名称
B29: 及び規格等を明記すること。
B30: ※ 見積価格は、（ 税 込 ・ 税 抜 ）の価格で計上

Sheet 参考見積書
B1: 参 考 見 積 書
J2: 令和 年 月 日
B3: 支出負担行為担当官
B4: 防 衛 省 情 報 本 部 | I4: =見積依頼!D2 -> ＯＣ | J4: =見積依頼!E2 -> 302
B5: 総 務 部 長 殿
E7: 住 所
E8: 会 社 名
E9: 代表者名
E10: 担当者名 | K10: ← 押印を省略する場合は、担当者名・連絡先を記載してください。
E11: 連 絡 先 | K11: （代表者と担当者が同一の場合も担当者として氏名を記載してください）
E13: =I24 -> 0 | I13: （税抜）
B14: 内 訳
B15: 品 名 | D15: 規 格 | F15: 単位 | G15: 数量 | H15: 単 価 | I15: 金 額 | J15: 備 考
B16: 毛布 | D16: ニトリ 毛布 シングル(なめらかタッチ グレー S A2501) 2115100065076 又は同等品以上のもの（他社製品を含む） | F16: 個 | G16: 100 | I16: 0 | J16: 0
B17: 枕 | D17: ニトリ 通気性のよいウレタンまくら (Nクール P2522) 2115100114187 又は同等品以上のもの（他社製品を含む） | F17: 個 | G17: 100 | J17: 0
B18: 掛布団 | D18: ニトリ 人工羽毛掛布団 シングル (AD) 5600976 又は同等品以上のもの（他社製品を含む） | F18: 個 | G18: 100 | J18: 0
B19: ゴミ箱 | D19: ニトリ シャッター式50L自動開閉ゴミ箱(TU) 5690799 又は同等品以上のもの（他社製品を含む） | F19: 個 | G19: 6 | J19: 0
B20: 0 | D20: 以下余白 | F20: 0 | G20: 0 | J20: 0
B21: 0 | D21: 0 | F21: 0 | G21: 0 | J21: 0
B22: 0 | D22: 0 | F22: 0 | G22: 0 | J22: 0
B23: 0 | D23: 0 | F23: 0 | G23: 0 | J23: 0
B24: 合 計 | I24: =SUM($I$16:$I$23) -> 0
B25: 納期 | C25: =見積依頼!$B$22 -> 46374 | F25: 納地： | H25: =見積依頼!$B$23 -> 情報本部（市ヶ谷）
B26: ・「暴力団排除に関し、入札及び契約心得を承諾しております。」
B27: ・「暴力団排除に関する特約条項を承諾しております。」
B28: ・認定済同等品にて見積合わせに参加する場合は、見積書に納入する品目の名称
B29: 及び規格等を明記すること。
B30: ※ 見積価格は、（ 税 込 ・ 税 抜 ）の価格で計上

Sheet 同等品申請
A1: 同等品審査申請書
H3: 令和 年 月 日
B4: 防衛省情報本部
B5: 支出負担行為担当官 殿
E7: 住所
E8: 社名
B11: 標記について、下記の物品等を同等品として審査を申請する。
B12: Ｏ Ｃ: | D12: =見積依頼!E2 -> 302
B13: 件 名： | D13: =見積依頼!B19 -> 毛布ほか３件
B14: 調達要求番号： | D14: ＢＰ-２５Ｄ１-１１２４１７
C15: 要求番号 | D15: 要求品名 | E15: 規格 | G15: 同等品規格 | H15: 備考
B16: 1
B17: 2
B18: 3
B19: 4
B20: 5
C21: １ 同等品審査に時間を要するので、カタログ・関連資料等審査の参考となる資料を
C22: 添付し、余裕をもって支出負担行為担当官に提出されたい。
C23: ２ 件数が多い場合は、別紙様式にて作成添付とする。
A26: 同等品審査結果通知書
F28: 令和 年 月 日
B30: =G8 -> 0 | E30: 殿
B31: =G9 -> 0 | F31: 防衛省情報本部
B32: =G10 -> 0 | F32: 支出負担行為担当官
C34: 上記申請について、下記のとおり通知する。
B36: № | C36: 審査結果 | E36: 不許可の理由等
B37: 1 | C37: 許可 | D37: 不許可
B38: 2 | C38: 許可 | D38: 不許可
B39: 3 | C39: 許可 | D39: 不許可
B40: 4 | C40: 許可 | D40: 不許可
B41: 5 | C41: 許可 | D41: 不許可
C45: 調達要求番号
E47: 上記商品を同等品と審査した。
E49: 上記商品を不許可と審査した。
F51: 分任物品管理官

Sheet 同等品申請（内訳）
H1: 別紙
A2: OC | B2: =同等品申請!D12 -> 302
A3: № | B3: 要求番号 | C3: 要求品名 | D3: 規格 | F3: 同等品規格 | G3: 審査結果 | H3: 不許可理由
A4: 1 | G4: 許可 ・ 不許可
A5: 2 | G5: 許可 ・ 不許可
A6: 3 | G6: 許可 ・ 不許可
A7: 4 | G7: 許可 ・ 不許可
A8: 5 | G8: 許可 ・ 不許可
A9: 6 | G9: 許可 ・ 不許可
A10: 7 | G10: 許可 ・ 不許可
A11: 8 | G11: 許可 ・ 不許可
A12: 9 | G12: 許可 ・ 不許可
A13: 10 | G13: 許可 ・ 不許可
A14: 11 | G14: 許可 ・ 不許可
A15: 12 | G15: 許可 ・ 不許可
... A23: 20 | G23: 許可 ・ 不許可
