Workbook
Name hg: #REF!
Name ｌｋ: #REF!
Name あざ: #REF!
Name あざ: #REF!
Name チェック: [2]ﾁｪｯｸ3!$K$11:$K$12
Name ﾃﾞｰﾀ: [3]ﾃﾞｰﾀ!$A$1:$AF$122
Name ナンバー: #REF!
Name 一位代価表: #REF!
Name 一位代価表: #REF!
Name 屋外キュービクル盤: #REF!
Name 屋外キュービクル盤: #REF!
Name 基礎代価: #REF!
Name 基礎代価: #REF!
Name 計: #REF!
Name 計: #REF!
Name 公告: [4]抽出個所!#REF!
Name 控除: '[5]支決(隊員)'!#REF!
Name 控除決議: '[6]支決(隊員)'!#REF!
Name 合計人数: #REF!
Name 債権金額: #REF!
Name 債権者: #REF!
Name 債権者名前: #REF!
Name 支決別紙: #REF!
Name 種別: [7]日付等!$F$3
Name 集計表: #REF!
Name 集計別紙: #REF!
Name 職種: [8]リスト!$I$2:$I$23
Name 人数: #REF!
Name 人数総計: #REF!
Name 図22: #REF!
Name 図22: #REF!
Name 代_１: #REF!
Name 代_１: #REF!
Name 代価屋根: #REF!
Name 代価屋根: #REF!
Name 代表者_新崎_健一: #REF!
Name 天候: [8]リスト!$G$2:$G$4
Name 入札書２: #REF!
Name 入札書４: #REF!
Name 負債: #REF!
Name 負債者: #REF!
Name 平成12年6月30日: [9]抽出個所!#REF!
Name 平成8年3月15日: [10]抽出個所!#REF!
Name 名___称: #REF!
Name 名___称: #REF!
Name 目: [8]リスト!$A$2:$A$3
Name 予内訳: #REF!
Name 糧食購入要求書: #REF!
Name 臨時支決: '[6]支決(隊員)'!#REF!

Sheet 市価入札内訳
A1: 内訳書
A2: NO | B2: 品 名 | C2: 規 格 | D2: 単位 | E2: 予定 数量 | F2: 単 価 | G2: 金 額 | H2: 摘 要 | J2: 予定価格 | K2: ページ番号 | L2: 端数 | M2: 端数 （単価） | N2: 文字数（規格） | O2: 表外規格判別 | P2: ２０文字超
A3: =IF(COUNTA([2]品名マスター!$B$2:$B$501)>=COUNTA(B$3:$B3),COUNTA(B$3:$B3),"") -> 1 | B3: =IF(B2="","",IF(B2="以下余白","",IF([2]品名マスター!B2=0,"以下余白",[2]品名マスター!B2))) -> もちきび | C3: =IF(IF([2]品名マスター!C2=0,"以下余白",[2]品名マスター!C2)="以下余白","",[2]品名マスター!C2) -> 国内産 | D3: =IF(IF([2]品名マスター!D2=0,"以下余白",[2]品名マスター!D2)="以下余白","",[2]品名マスター!D2) -> kg | E3: =IF(IF([2]品名マスター!E2=0,"以下余白",[2]品名マスター!E2)="以下余白","",[2]品名マスター!E2) -> 23 | H3: =IF(A3<=COUNTA([2]品名マスター!$B$2:$B$501),IF(F3="","予価未定",IF(F3<=0,"予価未定","")),"") -> 予価未定 | J3: =IF(A3<=COUNTA([2]品名マスター!$B$2:$B$501),IFERROR(ROUND(ABS(E3*F3*-1),0),0),"") -> 0 | K3: =ROUNDUP(COUNTA(B$3:$B3)/30,0) -> 1 | L3: =IFERROR(IF(E3-INT(E3)=0,"",E3-INT(E3)),"") | M3: =IFERROR(IF(F3-INT(F3)=0,"",F3-INT(F3)),"") | N3: =IF(LEN(C3)=0,"",LEN(C3)) -> 3 | O3: =LEFT(C3,3) -> 国内産 | P3: =IF(N3="","",IF(N3>=20,"フォント縮小",""))
A4: =IF(COUNTA([2]品名マスター!$B$2:$B$501)>=COUNTA(B$3:$B4),COUNTA(B$3:$B4),"") -> 2 | B4: =IF(B3="","",IF(B3="以下余白","",IF([2]品名マスター!B3=0,"以下余白",[2]品名マスター!B3))) -> もち麦 | C4: =IF(IF([2]品名マスター!C3=0,"以下余白",[2]品名マスター!C3)="以下余白","",[2]品名マスター!C3) -> イーゼン・はくばく又は同等品以上（他社製品含む）１ｋｇ入り | D4: =IF(IF([2]品名マスター!D3=0,"以下余白",[2]品名マスター!D3)="以下余白","",[2]品名マスター!D3) -> KG | E4: =IF(IF([2]品名マスター!E3=0,"以下余白",[2]品名マスター!E3)="以下余白","",[2]品名マスター!E3) -> 24 | H4: =IF(A4<=COUNTA([2]品名マスター!$B$2:$B$501),IF(F4="","予価未定",IF(F4<=0,"予価未定","")),"") -> 予価未定 | J4: =IF(A4<=COUNTA([2]品名マスター!$B$2:$B$501),IFERROR(ROUND(ABS(E4*F4*-1),0),0),"") -> 0 | K4: =ROUNDUP(COUNTA(B$3:$B4)/30,0) -> 1 | L4: =IFERROR(IF(E4-INT(E4)=0,"",E4-INT(E4)),"") | M4: =IFERROR(IF(F4-INT(F4)=0,"",F4-INT(F4)),"") | N4: =IF(LEN(C4)=0,"",LEN(C4)) -> 29 | O4: =LEFT(C4,3) -> イーゼ | P4: =IF(N4="","",IF(N4>=20,"フォント縮小","")) -> フォント縮小
A5: =IF(COUNTA([2]品名マスター!$B$2:$B$501)>=COUNTA(B$3:$B5),COUNTA(B$3:$B5),"") -> 3 | B5: =IF(B4="","",IF(B4="以下余白","",IF([2]品名マスター!B4=0,"以下余白",[2]品名マスター!B4))) -> 折詰弁当Ｂ | C5: =IF(IF([2]品名マスター!C4=0,"以下余白",[2]品名マスター!C4)="以下余白","",[2]品名マスター!C4) -> 仕様書のとおり | D5: =IF(IF([2]品名マスター!D4=0,"以下余白",[2]品名マスター!D4)="以下余白","",[2]品名マスター!D4) -> 個 | E5: =IF(IF([2]品名マスター!E4=0,"以下余白",[2]品名マスター!E4)="以下余白","",[2]品名マスター!E4) -> 28 | H5: =IF(A5<=COUNTA([2]品名マスター!$B$2:$B$501),IF(F5="","予価未定",IF(F5<=0,"予価未定","")),"") -> 予価未定 | J5: =IF(A5<=COUNTA([2]品名マスター!$B$2:$B$501),IFERROR(ROUND(ABS(E5*F5*-1),0),0),"") -> 0 | K5: =ROUNDUP(COUNTA(B$3:$B5)/30,0) -> 1 | L5: =IFERROR(IF(E5-INT(E5)=0,"",E5-INT(E5)),"") | M5: =IFERROR(IF(F5-INT(F5)=0,"",F5-INT(F5)),"") | N5: =IF(LEN(C5)=0,"",LEN(C5)) -> 7 | O5: =LEFT(C5,3) -> 仕様書 | P5: =IF(N5="","",IF(N5>=20,"フォント縮小",""))
A6: =IF(COUNTA([2]品名マスター!$B$2:$B$501)>=COUNTA(B$3:$B6),COUNTA(B$3:$B6),"") -> 4 | B6: =IF(B5="","",IF(B5="以下余白","",IF([2]品名マスター!B5=0,"以下余白",[2]品名マスター!B5))) -> 手巻おにぎり | C6: =IF(IF([2]品名マスター!C5=0,"以下余白",[2]品名マスター!C5)="以下余白","",[2]品名マスター!C5) -> 規格表１７－１のとおり | D6: =IF(IF([2]品名マスター!D5=0,"以下余白",[2]品名マスター!D5)="以下余白","",[2]品名マスター!D5) -> 個 | E6: =IF(IF([2]品名マスター!E5=0,"以下余白",[2]品名マスター!E5)="以下余白","",[2]品名マスター!E5) -> 2361 | H6: =IF(A6<=COUNTA([2]品名マスター!$B$2:$B$501),IF(F6="","予価未定",IF(F6<=0,"予価未定","")),"") -> 予価未定 | J6: =IF(A6<=COUNTA([2]品名マスター!$B$2:$B$501),IFERROR(ROUND(ABS(E6*F6*-1),0),0),"") -> 0 | K6: =ROUNDUP(COUNTA(B$3:$B6)/30,0) -> 1 | L6: =IFERROR(IF(E6-INT(E6)=0,"",E6-INT(E6)),"") | M6: =IFERROR(IF(F6-INT(F6)=0,"",F6-INT(F6)),"") | N6: =IF(LEN(C6)=0,"",LEN(C6)) -> 11 | O6: =LEFT(C6,3) -> 規格表 | P6: =IF(N6="","",IF(N6>=20,"フォント縮小",""))
A7: =IF(COUNTA([2]品名マスター!$B$2:$B$501)>=COUNTA(B$3:$B7),COUNTA(B$3:$B7),"") -> 5 | B7: =IF(B6="","",IF(B6="以下余白","",IF([2]品名マスター!B6=0,"以下余白",[2]品名マスター!B6))) -> 折詰弁当Ｃ | C7: =IF(IF([2]品名マスター!C6=0,"以下余白",[2]品名マスター!C6)="以下余白","",[2]品名マスター!C6) -> 仕様書のとおり | D7: =IF(IF([2]品名マスター!D6=0,"以下余白",[2]品名マスター!D6)="以下余白","",[2]品名マスター!D6) -> 個 | E7: =IF(IF([2]品名マスター!E6=0,"以下余白",[2]品名マスター!E6)="以下余白","",[2]品名マスター!E6) -> 679 | H7: =IF(A7<=COUNTA([2]品名マスター!$B$2:$B$501),IF(F7="","予価未定",IF(F7<=0,"予価未定","")),"") -> 予価未定 | J7: =IF(A7<=COUNTA([2]品名マスター!$B$2:$B$501),IFERROR(ROUND(ABS(E7*F7*-1),0),0),"") -> 0 | K7: =ROUNDUP(COUNTA(B$3:$B7)/30,0) -> 1 | L7: =IFERROR(IF(E7-INT(E7)=0,"",E7-INT(E7)),"") | M7: =IFERROR(IF(F7-INT(F7)=0,"",F7-INT(F7)),"") | N7: =IF(LEN(C7)=0,"",LEN(C7)) -> 7 | O7: =LEFT(C7,3) -> 仕様書 | P7: =IF(N7="","",IF(N7>=20,"フォント縮小",""))
A8: =IF(COUNTA([2]品名マスター!$B$2:$B$501)>=COUNTA(B$3:$B8),COUNTA(B$3:$B8),"") -> 6 | B8: =IF(B7="","",IF(B7="以下余白","",IF([2]品名マスター!B7=0,"以下余白",[2]品名マスター!B7))) -> 折詰弁当Ｄ | C8: =IF(IF([2]品名マスター!C7=0,"以下余白",[2]品名マスター!C7)="以下余白","",[2]品名マスター!C7) -> 仕様書のとおり | D8: =IF(IF([2]品名マスター!D7=0,"以下余白",[2]品名マスター!D7)="以下余白","",[2]品名マスター!D7) -> 個 | E8: =IF(IF([2]品名マスター!E7=0,"以下余白",[2]品名マスター!E7)="以下余白","",[2]品名マスター!E7) -> 28 | H8: =IF(A8<=COUNTA([2]品名マスター!$B$2:$B$501),IF(F8="","予価未定",IF(F8<=0,"予価未定","")),"") -> 予価未定 | J8: =IF(A8<=COUNTA([2]品名マスター!$B$2:$B$501),IFERROR(ROUND(ABS(E8*F8*-1),0),0),"") -> 0 | K8: =ROUNDUP(COUNTA(B$3:$B8)/30,0) -> 1 | L8: =IFERROR(IF(E8-INT(E8)=0,"",E8-INT(E8)),"") | M8: =IFERROR(IF(F8-INT(F8)=0,"",F8-INT(F8)),"") | N8: =IF(LEN(C8)=0,"",LEN(C8)) -> 7 | O8: =LEFT(C8,3) -> 仕様書 | P8: =IF(N8="","",IF(N8>=20,"フォント縮小",""))
A9: =IF(COUNTA([2]品名マスター!$B$2:$B$501)>=COUNTA(B$3:$B9),COUNTA(B$3:$B9),"") -> 7 | B9: =IF(B8="","",IF(B8="以下余白","",IF([2]品名マスター!B8=0,"以下余白",[2]品名マスター!B8))) -> 折詰弁当Ｅ | C9: =IF(IF([2]品名マスター!C8=0,"以下余白",[2]品名マスター!C8)="以下余白","",[2]品名マスター!C8) -> 仕様書のとおり | D9: =IF(IF([2]品名マスター!D8=0,"以下余白",[2]品名マスター!D8)="以下余白","",[2]品名マスター!D8) -> 個 | E9: =IF(IF([2]品名マスター!E8=0,"以下余白",[2]品名マスター!E8)="以下余白","",[2]品名マスター!E8) -> 678 | H9: =IF(A9<=COUNTA([2]品名マスター!$B$2:$B$501),IF(F9="","予価未定",IF(F9<=0,"予価未定","")),"") -> 予価未定 | J9: =IF(A9<=COUNTA([2]品名マスター!$B$2:$B$501),IFERROR(ROUND(ABS(E9*F9*-1),0),0),"") -> 0 | K9: =ROUNDUP(COUNTA(B$3:$B9)/30,0) -> 1 | L9: =IFERROR(IF(E9-INT(E9)=0,"",E9-INT(E9)),"") | M9: =IFERROR(IF(F9-INT(F9)=0,"",F9-INT(F9)),"") | N9: =IF(LEN(C9)=0,"",LEN(C9)) -> 7 | O9: =LEFT(C9,3) -> 仕様書 | P9: =IF(N9="","",IF(N9>=20,"フォント縮小",""))
A10: =IF(COUNTA([2]品名マスター!$B$2:$B$501)>=COUNTA(B$3:$B10),COUNTA(B$3:$B10),"") -> 8 | B10: =IF(B9="","",IF(B9="以下余白","",IF([2]品名マスター!B9=0,"以下余白",[2]品名マスター!B9))) -> 折詰弁当Ｆ | C10: =IF(IF([2]品名マスター!C9=0,"以下余白",[2]品名マスター!C9)="以下余白","",[2]品名マスター!C9) -> 仕様書のとおり | D10: =IF(IF([2]品名マスター!D9=0,"以下余白",[2]品名マスター!D9)="以下余白","",[2]品名マスター!D9) -> 個 | E10: =IF(IF([2]品名マスター!E9=0,"以下余白",[2]品名マスター!E9)="以下余白","",[2]品名マスター!E9) -> 33 | H10: =IF(A10<=COUNTA([2]品名マスター!$B$2:$B$501),IF(F10="","予価未定",IF(F10<=0,"予価未定","")),"") -> 予価未定 | J10: =IF(A10<=COUNTA([2]品名マスター!$B$2:$B$501),IFERROR(ROUND(ABS(E10*F10*-1),0),0),"") -> 0 | K10: =ROUNDUP(COUNTA(B$3:$B10)/30,0) -> 1 | L10: =IFERROR(IF(E10-INT(E10)=0,"",E10-INT(E10)),"") | M10: =IFERROR(IF(F10-INT(F10)=0,"",F10-INT(F10)),"") | N10: =IF(LEN(C10)=0,"",LEN(C10)) -> 7 | O10: =LEFT(C10,3) -> 仕様書 | P10: =IF(N10="","",IF(N10>=20,"フォント縮小",""))
A11: =IF(COUNTA([2]品名マスター!$B$2:$B$501)>=COUNTA(B$3:$B11),COUNTA(B$3:$B11),"") -> 9 | B11: =IF(B10="","",IF(B10="以下余白","",IF([2]品名マスター!B10=0,"以下余白",[2]品名マスター!B10))) -> 折詰弁当Ｇ | C11: =IF(IF([2]品名マスター!C10=0,"以下余白",[2]品名マスター!C10)="以下余白","",[2]品名マスター!C10) -> 仕様書のとおり | D11: =IF(IF([2]品名マスター!D10=0,"以下余白",[2]品名マスター!D10)="以下余白","",[2]品名マスター!D10) -> 個 | E11: =IF(IF([2]品名マスター!E10=0,"以下余白",[2]品名マスター!E10)="以下余白","",[2]品名マスター!E10) -> 20 | H11: =IF(A11<=COUNTA([2]品名マスター!$B$2:$B$501),IF(F11="","予価未定",IF(F11<=0,"予価未定","")),"") -> 予価未定 | J11: =IF(A11<=COUNTA([2]品名マスター!$B$2:$B$501),IFERROR(ROUND(ABS(E11*F11*-1),0),0),"") -> 0 | K11: =ROUNDUP(COUNTA(B$3:$B11)/30,0) -> 1 | L11: =IFERROR(IF(E11-INT(E11)=0,"",E11-INT(E11)),"") | M11: =IFERROR(IF(F11-INT(F11)=0,"",F11-INT(F11)),"") | N11: =IF(LEN(C11)=0,"",LEN(C11)) -> 7 | O11: =LEFT(C11,3) -> 仕様書 | P11: =IF(N11="","",IF(N11>=20,"フォント縮小",""))
A12: =IF(COUNTA([2]品名マスター!$B$2:$B$501)>=COUNTA(B$3:$B12),COUNTA(B$3:$B12),"") -> 10 | B12: =IF(B11="","",IF(B11="以下余白","",IF([2]品名マスター!B11=0,"以下余白",[2]品名マスター!B11))) -> 折詰弁当Ｈ | C12: =IF(IF([2]品名マスター!C11=0,"以下余白",[2]品名マスター!C11)="以下余白","",[2]品名マスター!C11) -> 仕様書のとおり | D12: =IF(IF([2]品名マスター!D11=0,"以下余白",[2]品名マスター!D11)="以下余白","",[2]品名マスター!D11) -> 個 | E12: =IF(IF([2]品名マスター!E11=0,"以下余白",[2]品名マスター!E11)="以下余白","",[2]品名マスター!E11) -> 20 | H12: =IF(A12<=COUNTA([2]品名マスター!$B$2:$B$501),IF(F12="","予価未定",IF(F12<=0,"予価未定","")),"") -> 予価未定 | J12: =IF(A12<=COUNTA([2]品名マスター!$B$2:$B$501),IFERROR(ROUND(ABS(E12*F12*-1),0),0),"") -> 0 | K12: =ROUNDUP(COUNTA(B$3:$B12)/30,0) -> 1 | L12: =IFERROR(IF(E12-INT(E12)=0,"",E12-INT(E12)),"") | M12: =IFERROR(IF(F12-INT(F12)=0,"",F12-INT(F12)),"") | N12: =IF(LEN(C12)=0,"",LEN(C12)) -> 7 | O12: =LEFT(C12,3) -> 仕様書 | P12: =IF(N12="","",IF(N12>=20,"フォント縮小",""))
A13: =IF(COUNTA([2]品名マスター!$B$2:$B$501)>=COUNTA(B$3:$B13),COUNTA(B$3:$B13),"") -> 11 | B13: =IF(B12="","",IF(B12="以下余白","",IF([2]品名マスター!B12=0,"以下余白",[2]品名マスター!B12))) -> 折詰弁当Ｉ | C13: =IF(IF([2]品名マスター!C12=0,"以下余白",[2]品名マスター!C12)="以下余白","",[2]品名マスター!C12) -> 仕様書のとおり | D13: =IF(IF([2]品名マスター!D12=0,"以下余白",[2]品名マスター!D12)="以下余白","",[2]品名マスター!D12) -> 個 | E13: =IF(IF([2]品名マスター!E12=0,"以下余白",[2]品名マスター!E12)="以下余白","",[2]品名マスター!E12) -> 20 | H13: =IF(A13<=COUNTA([2]品名マスター!$B$2:$B$501),IF(F13="","予価未定",IF(F13<=0,"予価未定","")),"") -> 予価未定 | J13: =IF(A13<=COUNTA([2]品名マスター!$B$2:$B$501),IFERROR(ROUND(ABS(E13*F13*-1),0),0),"") -> 0 | K13: =ROUNDUP(COUNTA(B$3:$B13)/30,0) -> 1 | L13: =IFERROR(IF(E13-INT(E13)=0,"",E13-INT(E13)),"") | M13: =IFERROR(IF(F13-INT(F13)=0,"",F13-INT(F13)),"") | N13: =IF(LEN(C13)=0,"",LEN(C13)) -> 7 | O13: =LEFT(C13,3) -> 仕様書 | P13: =IF(N13="","",IF(N13>=20,"フォント縮小",""))
A14: =IF(COUNTA([2]品名マスター!$B$2:$B$501)>=COUNTA(B$3:$B14),COUNTA(B$3:$B14),"") -> 12 | B14: =IF(B13="","",IF(B13="以下余白","",IF([2]品名マスター!B13=0,"以下余白",[2]品名マスター!B13))) -> クルトン | C14: =IF(IF([2]品名マスター!C13=0,"以下余白",[2]品名マスター!C13)="以下余白","",[2]品名マスター!C13) -> 規格表１－２７のとおり | D14: =IF(IF([2]品名マスター!D13=0,"以下余白",[2]品名マスター!D13)="以下余白","",[2]品名マスター!D13) -> 個 | E14: =IF(IF([2]品名マスター!E13=0,"以下余白",[2]品名マスター!E13)="以下余白","",[2]品名マスター!E13) -> 28 | H14: =IF(A14<=COUNTA([2]品名マスター!$B$2:$B$501),IF(F14="","予価未定",IF(F14<=0,"予価未定","")),"") -> 予価未定 | J14: =IF(A14<=COUNTA([2]品名マスター!$B$2:$B$501),IFERROR(ROUND(ABS(E14*F14*-1),0),0),"") -> 0 | K14: =ROUNDUP(COUNTA(B$3:$B14)/30,0) -> 1 | L14: =IFERROR(IF(E14-INT(E14)=0,"",E14-INT(E14)),"") | M14: =IFERROR(IF(F14-INT(F14)=0,"",F14-INT(F14)),"") | N14: =IF(LEN(C14)=0,"",LEN(C14)) -> 11 | O14: =LEFT(C14,3) -> 規格表 | P14: =IF(N14="","",IF(N14>=20,"フォント縮小",""))
... A502: =IF(COUNTA([2]品名マスター!$B$2:$B$501)>=COUNTA(B$3:$B502),COUNTA(B$3:$B502),"") | B502: =IF(B501="","",IF(B501="以下余白","",IF([2]品名マスター!B501=0,"以下余白",[2]品名マスター!B501))) | C502: =IF(IF([2]品名マスター!C501=0,"以下余白",[2]品名マスター!C501)="以下余白","",[2]品名マスター!C501) | D502: =IF(IF([2]品名マスター!D501=0,"以下余白",[2]品名マスター!D501)="以下余白","",[2]品名マスター!D501) | E502: =IF(IF([2]品名マスター!E501=0,"以下余白",[2]品名マスター!E501)="以下余白","",[2]品名マスター!E501) | H502: =IF(A502<=COUNTA([2]品名マスター!$B$2:$B$501),IF(F502="","予価未定",IF(F502<=0,"予価未定","")),"") | J502: =IF(A502<=COUNTA([2]品名マスター!$B$2:$B$501),IFERROR(ROUND(ABS(E502*F502*-1),0),0),"") | K502: =ROUNDUP(COUNTA(B$3:$B502)/30,0) -> 17 | L502: =IFERROR(IF(E502-INT(E502)=0,"",E502-INT(E502)),"") | M502: =IFERROR(IF(F502-INT(F502)=0,"",F502-INT(F502)),"") | N502: =IF(LEN(C502)=0,"",LEN(C502)) | O502: =LEFT(C502,3) | P502: =IF(N502="","",IF(N502>=20,"フォント縮小",""))
B503: =COUNTA([2]品名マスター!$B$2:$B$497)&"品目" -> 439品目 | C503: ="仕様書"&COUNTIF(O3:O502,"仕様書")&"品目、"& "規格表"&COUNTIF(O3:O502,"規格表")&"品目、"& "その他"&COUNTA(O3:O502)-COUNTIF(O3:O502,"仕様書")-COUNTIF(O3:O502,"規格表")-COUNTBLANK(O3:O502)&"品目" -> 仕様書8品目、規格表392品目、その他39品目 | G503: =SUM($G$3:$G$502) -> 0 | H503: ="札なし"&COUNTIF($H$3:$H$502,"予価未定")&"品目" -> 札なし439品目 | P503: =IF(N503="","",IF(N503>=20,"フォント縮小",""))
P504: =IF(N504="","",IF(N504>=20,"フォント縮小",""))
P505: =IF(N505="","",IF(N505>=20,"フォント縮小",""))
P506: =IF(N506="","",IF(N506>=20,"フォント縮小",""))
P507: =IF(N507="","",IF(N507>=20,"フォント縮小",""))
P508: =IF(N508="","",IF(N508>=20,"フォント縮小",""))
